{"text_format":"1","workbook":"xlsx","n_sheets":3,"sheets":["CONSULTA","baseEXPEDIDAS","rel.EXPEDIDAS.portal"],"not_rendered":{"charts":0,"images":0,"macros":1,"external_links":0,"defined_names":22,"comments":1,"pivot_tables":0},"unopened":[],"bounds":{"document_bytes":16777216,"sheet_cells":100000,"rows_first":2000,"rows_last":500,"rows_between":2000,"halvings":0,"cell_chars":16384,"cell_head_chars":4096},"cells_cut":0,"cells_raw":0,"read":"whole","date_system":"1900"}

{"sheet":"CONSULTA","index":0,"n_rows":6728,"n_cols":17,"rows_kept":6728,"cut":false,"hidden":false,"merged":[[47,4,47,22],[10,4,10,5],[7,4,8,16],[18,5,18,8],[20,5,20,8],[24,5,24,8],[22,5,22,8],[14,4,15,8],[14,10,14,11],[15,10,15,11],[14,13,14,14],[10,10,10,13],[11,10,11,13],[11,7,11,8],[15,13,15,14],[4,4,4,16],[6,13,6,16],[44,0,46,1]]}
[]
[]
[]
[]
[null,null,null,null,"Superior Tribunal de Justiça"]
[]
[null,null,null,null,"Coordenadoria de Execução Judicial",null,null,null,null,null,null,null,null,"Seção de Precatórios e RPVs"]
[null,null,null,null,{"$f":"IF(E12>baseEXPEDIDAS!DU10,\"R P V       N Ã O     A U T U A D A\",\"RPVs  - controle de pagamento + Relatórios\")","v":"RPVs  - controle de pagamento + Relatórios"}]
[]
[{"$f":"A11-1","v":7870}]
[{"$f":"E12","v":7871},null,null,null,"R P V",null,null,"AUTUADA EM",null,null,"SITUAÇÃO",null,null,null,"ORIGEM","EXECUÇÃO","NATUREZA"]
[{"$f":"A11+1","v":7872},null,null,null,7871,null,null,{"$f":"IF(E12=0,\"\",IF(E12>A34,\"\",VLOOKUP(E12,expedidas,5)))","v":"2019-07-01"},null,null,{"$f":"IF(E12=0,\"\",IF(E12>A34,\"\",VLOOKUP(E12,expedidas,8)))","v":"sem verba para pgto"},null,null,null,{"$f":"IF(E12=0,\"\",IF(E12>A34,\"\",VLOOKUP(E12,expedidas,13)))","v":"MS 6.864/DF"},{"$f":"IF(E12>A34,\"\",IF(E12=0,\"\",IF(E12>A34,\"\",VLOOKUP(E12,expedidas,23))))","v":"2007/0253286-7"},{"$f":"IF(E12=0,\"\",IF(E12>A34,\"\",UPPER(VLOOKUP(E12,expedidas,30))))","v":"ALIMENTAR"}]
[null,null,null,null,null,null,{"$f":"IF(OR(E12>A34,E12<2378),\" RPV  NÃO CONSTA DO BANCO DE DADOS\"&\"   ( Informe maior que   2378 \"&\" e menor que \"&A34&\" )\",\"\")","v":""}]
[]
[null,null,null,null,"Beneficiários",null,null,null,null,null,"VALOR REQUISITADO",null,null,"VALOR ATUALIZADO"]
[null,null,null,null,null,null,null,null,null,null,{"$f":"IF(E12=0,\"\",IF(E12>A34,\"\",VLOOKUP(E12,expedidas,39)))","v":"2019-06-01"},null,null,{"$f":"IF(K12=0,\"\",IF(K12>C34,\"\",VLOOKUP(K12,expedidas,39)))","v":""}]
[null,null,null,null,null,null,null,null,null,null,"liberado","bloquear",null,"liberado","bloquear"]
[]
[null,null,null,null,"Requerente    :",{"$f":"IF(E12=0,\"\",IF(E12>A34,\"\",VLOOKUP(E12,expedidas,26)))","v":"Sebastiao de Souza Lima "},null,null,null,null,{"$f":"IF(E12=\"\",\"\",IF(E12>A34,\"\",VLOOKUP(E12,expedidas,52)))","v":22096.53},{"$f":"IF(E12=\"\",\"\",IF(E12>A34,\"\",VLOOKUP(E12,expedidas,51)))","v":15092.52},null,{"$f":"IF(K12=\"\",\"\",IF(K12>C34,\"\",VLOOKUP(K12,expedidas,52)))","v":""},{"$f":"IF(K12=\"\",\"\",IF(K12>C34,\"\",VLOOKUP(K12,expedidas,51)))","v":""}]
[]
[null,null,null,null,{"$f":"IF(F21=\"\",\"\",\"Advogado  I   :\")","v":"Advogado  I   :"},{"$f":"IF(E12=0,\"\",IF(E12>A34,\"\",VLOOKUP(E12,expedidas,32)))","v":"Mota & Advogados Associados"},null,null,null,null,{"$f":"IF(E12=\"\",\"\",IF(E12>A34,\"\",VLOOKUP(E12,expedidas,46)))","v":1410.41},{"$f":"IF(E12=\"\",\"\",IF(E12>A34,\"\",VLOOKUP(E12,expedidas,45)))","v":963.35000000000014},null,{"$f":"IF(K12=\"\",\"\",IF(K12>C34,\"\",VLOOKUP(K12,expedidas,46)))","v":""},{"$f":"IF(K12=\"\",\"\",IF(K12>C34,\"\",VLOOKUP(K12,expedidas,45)))","v":""}]
[]
[null,null,null,null,{"$f":"IF(F23=\"\",\"\",\"Advogado  II  :\")","v":"Advogado  II  :"},{"$f":"IF(E12=0,\"\",IF(E12>A34,\"\",IF(VLOOKUP(E12,expedidas,34)=0,\"x x x\",VLOOKUP(E12,expedidas,34))))","v":"x x x"},null,null,null,null,{"$f":"IF(E12=\"\",\"\",IF(E12>A34,\"\",VLOOKUP(E12,expedidas,49)))","v":0},{"$f":"IF(E12=\"\",\"\",IF(E12>A34,\"\",VLOOKUP(E12,expedidas,48)))","v":0},null,{"$f":"IF(K12=\"\",\"\",IF(K12>C34,\"\",VLOOKUP(K12,expedidas,49)))","v":""},{"$f":"IF(K12=\"\",\"\",IF(K12>C34,\"\",VLOOKUP(K12,expedidas,48)))","v":""}]
[]
[null,null,null,null,null,null,null,null,null,null,{"$f":"IF(E12=\"\",\"\",IF(E12>A34,\"\",K19+K21+K23))","v":23506.94},{"$f":"IF(E12=\"\",\"\",IF(E12>A34,\"\",L19+L21+L23))","v":16055.87},null,{"$f":"IF(K12=\"\",\"\",IF(K12>C34,\"\",N19+N21+N23))","v":""},{"$f":"IF(K12=\"\",\"\",IF(K12>C34,\"\",O19+O21+O23))","v":""}]
[]
[null,null,null,null,"RESUMO GERAL"]
[null,null,null,null,"Valores totais requisitados"]
[null,null,null,null,"Valores totais pagos"]
[null,null,null,null,"Valores totais pagos"]
[]
["SEQUENCIA DA BUSCA",{"$f":"B79","v":{"$error":"#REF!"}}]
[]
[{"$f":"baseEXPEDIDAS!DU10","v":9141}]
[]
[]
[]
[]
[]
[]
[]
[]
[]
[]
[{"$f":"A33+1","v":1}]
[]
[]
[]
[]
[]
[]
[]
[]
[]
[]
[]
[]
[]
[]
[]
[]
[]
[]
[]
[]
[]
[]
[]
[]
[]
[]
[]
[]
[]
[]
[]
[]
[]
["rpv consultada",{"$f":"SUM(B80:B6728)","v":{"$error":"#REF!"}}]
[{"$f":"#REF!","v":{"$error":"#REF!"}},{"$f":"IF(A80=\"\",\"\",IF(VLOOKUP(A80,base_rpvs_pagas,2)=A$11,A80,0))","v":{"$error":"#REF!"}}]
[{"$f":"#REF!","v":{"$error":"#REF!"}},{"$error":"#REF!"}]
[{"$f":"#REF!","v":{"$error":"#REF!"}},{"$error":"#REF!"}]
[{"$f":"#REF!","v":{"$error":"#REF!"}},{"$error":"#REF!"}]
[{"$f":"#REF!","v":{"$error":"#REF!"}},{"$error":"#REF!"}]
[{"$f":"#REF!","v":{"$error":"#REF!"}},{"$error":"#REF!"}]
[{"$f":"#REF!","v":{"$error":"#REF!"}},{"$error":"#REF!"}]
[{"$f":"#REF!","v":{"$error":"#REF!"}},{"$error":"#REF!"}]
[{"$f":"#REF!","v":{"$error":"#REF!"}},{"$error":"#REF!"}]
[{"$f":"#REF!","v":{"$error":"#REF!"}},{"$error":"#REF!"}]
[{"$f":"#REF!","v":{"$error":"#REF!"}},{"$error":"#REF!"}]
[{"$f":"#REF!","v":{"$error":"#REF!"}},{"$error":"#REF!"}]
[{"$f":"#REF!","v":{"$error":"#REF!"}},{"$error":"#REF!"}]
[{"$f":"#REF!","v":{"$error":"#REF!"}},{"$error":"#REF!"}]
[{"$f":"#REF!","v":{"$error":"#REF!"}},{"$error":"#REF!"}]
[{"$f":"#REF!","v":{"$error":"#REF!"}},{"$error":"#REF!"}]
[{"$f":"#REF!","v":{"$error":"#REF!"}},{"$error":"#REF!"}]
[{"$f":"#REF!","v":{"$error":"#REF!"}},{"$error":"#REF!"}]
[{"$f":"#REF!","v":{"$error":"#REF!"}},{"$error":"#REF!"}]
[{"$f":"#REF!","v":{"$error":"#REF!"}},{"$error":"#REF!"}]
[{"$f":"#REF!","v":{"$error":"#REF!"}},{"$error":"#REF!"}]
[{"$f":"#REF!","v":{"$error":"#REF!"}},{"$error":"#REF!"}]
[{"$f":"#REF!","v":{"$error":"#REF!"}},{"$error":"#REF!"}]
[{"$f":"#REF!","v":{"$error":"#REF!"}},{"$error":"#REF!"}]
[{"$f":"#REF!","v":{"$error":"#REF!"}},{"$error":"#REF!"}]
[{"$f":"#REF!","v":{"$error":"#REF!"}},{"$error":"#REF!"}]
[{"$f":"#REF!","v":{"$error":"#REF!"}},{"$error":"#REF!"}]
[{"$f":"#REF!","v":{"$error":"#REF!"}},{"$error":"#REF!"}]
[{"$f":"#REF!","v":{"$error":"#REF!"}},{"$error":"#REF!"}]
[{"$f":"#REF!","v":{"$error":"#REF!"}},{"$error":"#REF!"}]
[{"$f":"#REF!","v":{"$error":"#REF!"}},{"$error":"#REF!"}]
[{"$f":"#REF!","v":{"$error":"#REF!"}},{"$error":"#REF!"}]
[{"$f":"#REF!","v":{"$error":"#REF!"}},{"$error":"#REF!"}]
[{"$f":"#REF!","v":{"$error":"#REF!"}},{"$error":"#REF!"}]
[{"$f":"#REF!","v":{"$error":"#REF!"}},{"$error":"#REF!"}]
[{"$f":"#REF!","v":{"$error":"#REF!"}},{"$error":"#REF!"}]
[{"$f":"#REF!","v":{"$error":"#REF!"}},{"$error":"#REF!"}]
[{"$f":"#REF!","v":{"$error":"#REF!"}},{"$error":"#REF!"}]
[{"$f":"#REF!","v":{"$error":"#REF!"}},{"$error":"#REF!"}]
[{"$f":"#REF!","v":{"$error":"#REF!"}},{"$error":"#REF!"}]
[{"$f":"#REF!","v":{"$error":"#REF!"}},{"$error":"#REF!"}]
[{"$f":"#REF!","v":{"$error":"#REF!"}},{"$error":"#REF!"}]
[{"$f":"#REF!","v":{"$error":"#REF!"}},{"$error":"#REF!"}]
[{"$f":"#REF!","v":{"$error":"#REF!"}},{"$error":"#REF!"}]
[{"$f":"#REF!","v":{"$error":"#REF!"}},{"$error":"#REF!"}]
[{"$f":"#REF!","v":{"$error":"#REF!"}},{"$error":"#REF!"}]
[{"$f":"#REF!","v":{"$error":"#REF!"}},{"$error":"#REF!"}]
[{"$f":"#REF!","v":{"$error":"#REF!"}},{"$error":"#REF!"}]
[{"$f":"#REF!","v":{"$error":"#REF!"}},{"$error":"#REF!"}]
[{"$f":"#REF!","v":{"$error":"#REF!"}},{"$error":"#REF!"}]
[{"$f":"#REF!","v":{"$error":"#REF!"}},{"$error":"#REF!"}]
[{"$f":"#REF!","v":{"$error":"#REF!"}},{"$error":"#REF!"}]
[{"$f":"#REF!","v":{"$error":"#REF!"}},{"$error":"#REF!"}]
[{"$f":"#REF!","v":{"$error":"#REF!"}},{"$error":"#REF!"}]
[{"$f":"#REF!","v":{"$error":"#REF!"}},{"$error":"#REF!"}]
[{"$f":"#REF!","v":{"$error":"#REF!"}},{"$error":"#REF!"}]
[{"$f":"#REF!","v":{"$error":"#REF!"}},{"$error":"#REF!"}]
[{"$f":"#REF!","v":{"$error":"#REF!"}},{"$error":"#REF!"}]
[{"$f":"#REF!","v":{"$error":"#REF!"}},{"$error":"#REF!"}]
[{"$f":"#REF!","v":{"$error":"#REF!"}},{"$error":"#REF!"}]
[{"$f":"#REF!","v":{"$error":"#REF!"}},{"$error":"#REF!"}]
[{"$f":"#REF!","v":{"$error":"#REF!"}},{"$error":"#REF!"}]
[{"$f":"#REF!","v":{"$error":"#REF!"}},{"$error":"#REF!"}]
[{"$f":"#REF!","v":{"$error":"#REF!"}},{"$error":"#REF!"}]
[{"$f":"#REF!","v":{"$error":"#REF!"}},{"$f":"IF(A144=\"\",\"\",IF(VLOOKUP(A144,base_rpvs_pagas,2)=A$11,A144,0))","v":{"$error":"#REF!"}}]
[{"$f":"#REF!","v":{"$error":"#REF!"}},{"$error":"#REF!"}]
[{"$f":"#REF!","v":{"$error":"#REF!"}},{"$error":"#REF!"}]
[{"$f":"#REF!","v":{"$error":"#REF!"}},{"$error":"#REF!"}]
[{"$f":"#REF!","v":{"$error":"#REF!"}},{"$error":"#REF!"}]
[{"$f":"#REF!","v":{"$error":"#REF!"}},{"$error":"#REF!"}]
[{"$f":"#REF!","v":{"$error":"#REF!"}},{"$error":"#REF!"}]
[{"$f":"#REF!","v":{"$error":"#REF!"}},{"$error":"#REF!"}]
[{"$f":"#REF!","v":{"$error":"#REF!"}},{"$error":"#REF!"}]
[{"$f":"#REF!","v":{"$error":"#REF!"}},{"$error":"#REF!"}]
[{"$f":"#REF!","v":{"$error":"#REF!"}},{"$error":"#REF!"}]
[{"$f":"#REF!","v":{"$error":"#REF!"}},{"$error":"#REF!"}]
[{"$f":"#REF!","v":{"$error":"#REF!"}},{"$error":"#REF!"}]
[{"$f":"#REF!","v":{"$error":"#REF!"}},{"$error":"#REF!"}]
[{"$f":"#REF!","v":{"$error":"#REF!"}},{"$error":"#REF!"}]
[{"$f":"#REF!","v":{"$error":"#REF!"}},{"$error":"#REF!"}]
[{"$f":"#REF!","v":{"$error":"#REF!"}},{"$error":"#REF!"}]
[{"$f":"#REF!","v":{"$error":"#REF!"}},{"$error":"#REF!"}]
[{"$f":"#REF!","v":{"$error":"#REF!"}},{"$error":"#REF!"}]
[{"$f":"#REF!","v":{"$error":"#REF!"}},{"$error":"#REF!"}]
[{"$f":"#REF!","v":{"$error":"#REF!"}},{"$error":"#REF!"}]
[{"$f":"#REF!","v":{"$error":"#REF!"}},{"$error":"#REF!"}]
[{"$f":"#REF!","v":{"$error":"#REF!"}},{"$error":"#REF!"}]
[{"$f":"#REF!","v":{"$error":"#REF!"}},{"$error":"#REF!"}]
[{"$f":"#REF!","v":{"$error":"#REF!"}},{"$error":"#REF!"}]
[{"$f":"#REF!","v":{"$error":"#REF!"}},{"$error":"#REF!"}]
[{"$f":"#REF!","v":{"$error":"#REF!"}},{"$error":"#REF!"}]
[{"$f":"#REF!","v":{"$error":"#REF!"}},{"$error":"#REF!"}]
[{"$f":"#REF!","v":{"$error":"#REF!"}},{"$error":"#REF!"}]
[{"$f":"#REF!","v":{"$error":"#REF!"}},{"$error":"#REF!"}]
[{"$f":"#REF!","v":{"$error":"#REF!"}},{"$error":"#REF!"}]
[{"$f":"#REF!","v":{"$error":"#REF!"}},{"$error":"#REF!"}]
[{"$f":"#REF!","v":{"$error":"#REF!"}},{"$error":"#REF!"}]
[{"$f":"#REF!","v":{"$error":"#REF!"}},{"$error":"#REF!"}]
[{"$f":"#REF!","v":{"$error":"#REF!"}},{"$error":"#REF!"}]
[{"$f":"#REF!","v":{"$error":"#REF!"}},{"$error":"#REF!"}]
[{"$f":"#REF!","v":{"$error":"#REF!"}},{"$error":"#REF!"}]
[{"$f":"#REF!","v":{"$error":"#REF!"}},{"$error":"#REF!"}]
[{"$f":"#REF!","v":{"$error":"#REF!"}},{"$error":"#REF!"}]
[{"$f":"#REF!","v":{"$error":"#REF!"}},{"$error":"#REF!"}]
[{"$f":"#REF!","v":{"$error":"#REF!"}},{"$error":"#REF!"}]
[{"$f":"#REF!","v":{"$error":"#REF!"}},{"$error":"#REF!"}]
[{"$f":"#REF!","v":{"$error":"#REF!"}},{"$error":"#REF!"}]
[{"$f":"#REF!","v":{"$error":"#REF!"}},{"$error":"#REF!"}]
[{"$f":"#REF!","v":{"$error":"#REF!"}},{"$error":"#REF!"}]
[{"$f":"#REF!","v":{"$error":"#REF!"}},{"$error":"#REF!"}]
[{"$f":"#REF!","v":{"$error":"#REF!"}},{"$error":"#REF!"}]
[{"$f":"#REF!","v":{"$error":"#REF!"}},{"$error":"#REF!"}]
[{"$f":"#REF!","v":{"$error":"#REF!"}},{"$error":"#REF!"}]
[{"$f":"#REF!","v":{"$error":"#REF!"}},{"$error":"#REF!"}]
[{"$f":"#REF!","v":{"$error":"#REF!"}},{"$error":"#REF!"}]
[{"$f":"#REF!","v":{"$error":"#REF!"}},{"$error":"#REF!"}]
[{"$f":"#REF!","v":{"$error":"#REF!"}},{"$error":"#REF!"}]
[{"$f":"#REF!","v":{"$error":"#REF!"}},{"$error":"#REF!"}]
[{"$f":"#REF!","v":{"$error":"#REF!"}},{"$error":"#REF!"}]
[{"$f":"#REF!","v":{"$error":"#REF!"}},{"$error":"#REF!"}]
[{"$f":"#REF!","v":{"$error":"#REF!"}},{"$error":"#REF!"}]
[{"$f":"#REF!","v":{"$error":"#REF!"}},{"$error":"#REF!"}]
[{"$f":"#REF!","v":{"$error":"#REF!"}},{"$error":"#REF!"}]
[{"$f":"#REF!","v":{"$error":"#REF!"}},{"$error":"#REF!"}]
[{"$f":"#REF!","v":{"$error":"#REF!"}},{"$error":"#REF!"}]
[{"$f":"#REF!","v":{"$error":"#REF!"}},{"$error":"#REF!"}]
[{"$f":"#REF!","v":{"$error":"#REF!"}},{"$error":"#REF!"}]
[{"$f":"#REF!","v":{"$error":"#REF!"}},{"$error":"#REF!"}]
[{"$f":"#REF!","v":{"$error":"#REF!"}},{"$f":"IF(A208=\"\",\"\",IF(VLOOKUP(A208,base_rpvs_pagas,2)=A$11,A208,0))","v":{"$error":"#REF!"}}]
[{"$f":"#REF!","v":{"$error":"#REF!"}},{"$error":"#REF!"}]
[{"$f":"#REF!","v":{"$error":"#REF!"}},{"$error":"#REF!"}]
[{"$f":"#REF!","v":{"$error":"#REF!"}},{"$error":"#REF!"}]
[{"$f":"#REF!","v":{"$error":"#REF!"}},{"$error":"#REF!"}]
[{"$f":"#REF!","v":{"$error":"#REF!"}},{"$error":"#REF!"}]
[{"$f":"#REF!","v":{"$error":"#REF!"}},{"$error":"#REF!"}]
[{"$f":"#REF!","v":{"$error":"#REF!"}},{"$error":"#REF!"}]
[{"$f":"#REF!","v":{"$error":"#REF!"}},{"$error":"#REF!"}]
[{"$f":"#REF!","v":{"$error":"#REF!"}},{"$error":"#REF!"}]
[{"$f":"#REF!","v":{"$error":"#REF!"}},{"$error":"#REF!"}]
[{"$f":"#REF!","v":{"$error":"#REF!"}},{"$error":"#REF!"}]
[{"$f":"#REF!","v":{"$error":"#REF!"}},{"$error":"#REF!"}]
[{"$f":"#REF!","v":{"$error":"#REF!"}},{"$error":"#REF!"}]
[{"$f":"#REF!","v":{"$error":"#REF!"}},{"$error":"#REF!"}]
[{"$f":"#REF!","v":{"$error":"#REF!"}},{"$error":"#REF!"}]
[{"$f":"#REF!","v":{"$error":"#REF!"}},{"$error":"#REF!"}]
[{"$f":"#REF!","v":{"$error":"#REF!"}},{"$error":"#REF!"}]
[{"$f":"#REF!","v":{"$error":"#REF!"}},{"$error":"#REF!"}]
[{"$f":"#REF!","v":{"$error":"#REF!"}},{"$error":"#REF!"}]
[{"$f":"#REF!","v":{"$error":"#REF!"}},{"$error":"#REF!"}]
[{"$f":"#REF!","v":{"$error":"#REF!"}},{"$error":"#REF!"}]
[{"$f":"#REF!","v":{"$error":"#REF!"}},{"$error":"#REF!"}]
[{"$f":"#REF!","v":{"$error":"#REF!"}},{"$error":"#REF!"}]
[{"$f":"#REF!","v":{"$error":"#REF!"}},{"$error":"#REF!"}]
[{"$f":"#REF!","v":{"$error":"#REF!"}},{"$error":"#REF!"}]
[{"$f":"#REF!","v":{"$error":"#REF!"}},{"$error":"#REF!"}]
[{"$f":"#REF!","v":{"$error":"#REF!"}},{"$error":"#REF!"}]
[{"$f":"#REF!","v":{"$error":"#REF!"}},{"$error":"#REF!"}]
[{"$f":"#REF!","v":{"$error":"#REF!"}},{"$error":"#REF!"}]
[{"$f":"#REF!","v":{"$error":"#REF!"}},{"$error":"#REF!"}]
[{"$f":"#REF!","v":{"$error":"#REF!"}},{"$error":"#REF!"}]
[{"$f":"#REF!","v":{"$error":"#REF!"}},{"$error":"#REF!"}]
[{"$f":"#REF!","v":{"$error":"#REF!"}},{"$error":"#REF!"}]
[{"$f":"#REF!","v":{"$error":"#REF!"}},{"$error":"#REF!"}]
[{"$f":"#REF!","v":{"$error":"#REF!"}},{"$error":"#REF!"}]
[{"$f":"#REF!","v":{"$error":"#REF!"}},{"$error":"#REF!"}]
[{"$f":"#REF!","v":{"$error":"#REF!"}},{"$error":"#REF!"}]
[{"$f":"#REF!","v":{"$error":"#REF!"}},{"$error":"#REF!"}]
[{"$f":"#REF!","v":{"$error":"#REF!"}},{"$error":"#REF!"}]
[{"$f":"#REF!","v":{"$error":"#REF!"}},{"$error":"#REF!"}]
[{"$f":"#REF!","v":{"$error":"#REF!"}},{"$error":"#REF!"}]
[{"$f":"#REF!","v":{"$error":"#REF!"}},{"$error":"#REF!"}]
[{"$f":"#REF!","v":{"$error":"#REF!"}},{"$error":"#REF!"}]
[{"$f":"#REF!","v":{"$error":"#REF!"}},{"$error":"#REF!"}]
[{"$f":"#REF!","v":{"$error":"#REF!"}},{"$error":"#REF!"}]
[{"$f":"#REF!","v":{"$error":"#REF!"}},{"$error":"#REF!"}]
[{"$f":"#REF!","v":{"$error":"#REF!"}},{"$error":"#REF!"}]
[{"$f":"#REF!","v":{"$error":"#REF!"}},{"$error":"#REF!"}]
[{"$f":"#REF!","v":{"$error":"#REF!"}},{"$error":"#REF!"}]
[{"$f":"#REF!","v":{"$error":"#REF!"}},{"$error":"#REF!"}]
[{"$f":"#REF!","v":{"$error":"#REF!"}},{"$error":"#REF!"}]
[{"$f":"#REF!","v":{"$error":"#REF!"}},{"$error":"#REF!"}]
[{"$f":"#REF!","v":{"$error":"#REF!"}},{"$error":"#REF!"}]
[{"$f":"#REF!","v":{"$error":"#REF!"}},{"$error":"#REF!"}]
[{"$f":"#REF!","v":{"$error":"#REF!"}},{"$error":"#REF!"}]
[{"$f":"#REF!","v":{"$error":"#REF!"}},{"$error":"#REF!"}]
[{"$f":"#REF!","v":{"$error":"#REF!"}},{"$error":"#REF!"}]
[{"$f":"#REF!","v":{"$error":"#REF!"}},{"$error":"#REF!"}]
[{"$f":"#REF!","v":{"$error":"#REF!"}},{"$error":"#REF!"}]
[{"$f":"#REF!","v":{"$error":"#REF!"}},{"$error":"#REF!"}]
[{"$f":"#REF!","v":{"$error":"#REF!"}},{"$error":"#REF!"}]
[{"$f":"#REF!","v":{"$error":"#REF!"}},{"$error":"#REF!"}]
[{"$f":"#REF!","v":{"$error":"#REF!"}},{"$error":"#REF!"}]
[{"$f":"#REF!","v":{"$error":"#REF!"}},{"$f":"IF(A272=\"\",\"\",IF(VLOOKUP(A272,base_rpvs_pagas,2)=A$11,A272,0))","v":{"$error":"#REF!"}}]
[{"$f":"#REF!","v":{"$error":"#REF!"}},{"$error":"#REF!"}]
[{"$f":"#REF!","v":{"$error":"#REF!"}},{"$error":"#REF!"}]
[{"$f":"#REF!","v":{"$error":"#REF!"}},{"$error":"#REF!"}]
[{"$f":"#REF!","v":{"$error":"#REF!"}},{"$error":"#REF!"}]
[{"$f":"#REF!","v":{"$error":"#REF!"}},{"$error":"#REF!"}]
[{"$f":"#REF!","v":{"$error":"#REF!"}},{"$error":"#REF!"}]
[{"$f":"#REF!","v":{"$error":"#REF!"}},{"$error":"#REF!"}]
[{"$f":"#REF!","v":{"$error":"#REF!"}},{"$error":"#REF!"}]
[{"$f":"#REF!","v":{"$error":"#REF!"}},{"$error":"#REF!"}]
[{"$f":"#REF!","v":{"$error":"#REF!"}},{"$error":"#REF!"}]
[{"$f":"#REF!","v":{"$error":"#REF!"}},{"$error":"#REF!"}]
[{"$f":"#REF!","v":{"$error":"#REF!"}},{"$error":"#REF!"}]
[{"$f":"#REF!","v":{"$error":"#REF!"}},{"$error":"#REF!"}]
[{"$f":"#REF!","v":{"$error":"#REF!"}},{"$error":"#REF!"}]
[{"$f":"#REF!","v":{"$error":"#REF!"}},{"$error":"#REF!"}]
[{"$f":"#REF!","v":{"$error":"#REF!"}},{"$error":"#REF!"}]
[{"$f":"#REF!","v":{"$error":"#REF!"}},{"$error":"#REF!"}]
[{"$f":"#REF!","v":{"$error":"#REF!"}},{"$error":"#REF!"}]
[{"$f":"#REF!","v":{"$error":"#REF!"}},{"$error":"#REF!"}]
[{"$f":"#REF!","v":{"$error":"#REF!"}},{"$error":"#REF!"}]
[{"$f":"#REF!","v":{"$error":"#REF!"}},{"$error":"#REF!"}]
[{"$f":"#REF!","v":{"$error":"#REF!"}},{"$error":"#REF!"}]
[{"$f":"#REF!","v":{"$error":"#REF!"}},{"$error":"#REF!"}]
[{"$f":"#REF!","v":{"$error":"#REF!"}},{"$error":"#REF!"}]
[{"$f":"#REF!","v":{"$error":"#REF!"}},{"$error":"#REF!"}]
[{"$f":"#REF!","v":{"$error":"#REF!"}},{"$error":"#REF!"}]
[{"$f":"#REF!","v":{"$error":"#REF!"}},{"$error":"#REF!"}]
[{"$f":"#REF!","v":{"$error":"#REF!"}},{"$error":"#REF!"}]
[{"$f":"#REF!","v":{"$error":"#REF!"}},{"$error":"#REF!"}]
[{"$f":"#REF!","v":{"$error":"#REF!"}},{"$error":"#REF!"}]
[{"$f":"#REF!","v":{"$error":"#REF!"}},{"$error":"#REF!"}]
[{"$f":"#REF!","v":{"$error":"#REF!"}},{"$error":"#REF!"}]
[{"$f":"#REF!","v":{"$error":"#REF!"}},{"$error":"#REF!"}]
[{"$f":"#REF!","v":{"$error":"#REF!"}},{"$error":"#REF!"}]
[{"$f":"#REF!","v":{"$error":"#REF!"}},{"$error":"#REF!"}]
[{"$f":"#REF!","v":{"$error":"#REF!"}},{"$error":"#REF!"}]
[{"$f":"#REF!","v":{"$error":"#REF!"}},{"$error":"#REF!"}]
[{"$f":"#REF!","v":{"$error":"#REF!"}},{"$error":"#REF!"}]
[{"$f":"#REF!","v":{"$error":"#REF!"}},{"$error":"#REF!"}]
[{"$f":"#REF!","v":{"$error":"#REF!"}},{"$error":"#REF!"}]
[{"$f":"#REF!","v":{"$error":"#REF!"}},{"$error":"#REF!"}]
[{"$f":"#REF!","v":{"$error":"#REF!"}},{"$error":"#REF!"}]
[{"$f":"#REF!","v":{"$error":"#REF!"}},{"$error":"#REF!"}]
[{"$f":"#REF!","v":{"$error":"#REF!"}},{"$error":"#REF!"}]
[{"$f":"#REF!","v":{"$error":"#REF!"}},{"$error":"#REF!"}]
[{"$f":"#REF!","v":{"$error":"#REF!"}},{"$error":"#REF!"}]
[{"$f":"#REF!","v":{"$error":"#REF!"}},{"$error":"#REF!"}]
[{"$f":"#REF!","v":{"$error":"#REF!"}},{"$error":"#REF!"}]
[{"$f":"#REF!","v":{"$error":"#REF!"}},{"$error":"#REF!"}]
[{"$f":"#REF!","v":{"$error":"#REF!"}},{"$error":"#REF!"}]
[{"$f":"#REF!","v":{"$error":"#REF!"}},{"$error":"#REF!"}]
[{"$f":"#REF!","v":{"$error":"#REF!"}},{"$error":"#REF!"}]
[{"$f":"#REF!","v":{"$error":"#REF!"}},{"$error":"#REF!"}]
[{"$f":"#REF!","v":{"$error":"#REF!"}},{"$error":"#REF!"}]
[{"$f":"#REF!","v":{"$error":"#REF!"}},{"$error":"#REF!"}]
[{"$f":"#REF!","v":{"$error":"#REF!"}},{"$error":"#REF!"}]
[{"$f":"#REF!","v":{"$error":"#REF!"}},{"$error":"#REF!"}]
[{"$f":"#REF!","v":{"$error":"#REF!"}},{"$error":"#REF!"}]
[{"$f":"#REF!","v":{"$error":"#REF!"}},{"$error":"#REF!"}]
[{"$f":"#REF!","v":{"$error":"#REF!"}},{"$error":"#REF!"}]
[{"$f":"#REF!","v":{"$error":"#REF!"}},{"$error":"#REF!"}]
[{"$f":"#REF!","v":{"$error":"#REF!"}},{"$error":"#REF!"}]
[{"$f":"#REF!","v":{"$error":"#REF!"}},{"$error":"#REF!"}]
[{"$f":"#REF!","v":{"$error":"#REF!"}},{"$f":"IF(A336=\"\",\"\",IF(VLOOKUP(A336,base_rpvs_pagas,2)=A$11,A336,0))","v":{"$error":"#REF!"}}]
[{"$f":"#REF!","v":{"$error":"#REF!"}},{"$error":"#REF!"}]
[{"$f":"#REF!","v":{"$error":"#REF!"}},{"$error":"#REF!"}]
[{"$f":"#REF!","v":{"$error":"#REF!"}},{"$error":"#REF!"}]
[{"$f":"#REF!","v":{"$error":"#REF!"}},{"$error":"#REF!"}]
[{"$f":"#REF!","v":{"$error":"#REF!"}},{"$error":"#REF!"}]
[{"$f":"#REF!","v":{"$error":"#REF!"}},{"$error":"#REF!"}]
[{"$f":"#REF!","v":{"$error":"#REF!"}},{"$error":"#REF!"}]
[{"$f":"#REF!","v":{"$error":"#REF!"}},{"$error":"#REF!"}]
[{"$f":"#REF!","v":{"$error":"#REF!"}},{"$error":"#REF!"}]
[{"$f":"#REF!","v":{"$error":"#REF!"}},{"$error":"#REF!"}]
[{"$f":"#REF!","v":{"$error":"#REF!"}},{"$error":"#REF!"}]
[{"$f":"#REF!","v":{"$error":"#REF!"}},{"$error":"#REF!"}]
[{"$f":"#REF!","v":{"$error":"#REF!"}},{"$error":"#REF!"}]
[{"$f":"#REF!","v":{"$error":"#REF!"}},{"$error":"#REF!"}]
[{"$f":"#REF!","v":{"$error":"#REF!"}},{"$error":"#REF!"}]
[{"$f":"#REF!","v":{"$error":"#REF!"}},{"$error":"#REF!"}]
[{"$f":"#REF!","v":{"$error":"#REF!"}},{"$error":"#REF!"}]
[{"$f":"#REF!","v":{"$error":"#REF!"}},{"$error":"#REF!"}]
[{"$f":"#REF!","v":{"$error":"#REF!"}},{"$error":"#REF!"}]
[{"$f":"#REF!","v":{"$error":"#REF!"}},{"$error":"#REF!"}]
[{"$f":"#REF!","v":{"$error":"#REF!"}},{"$error":"#REF!"}]
[{"$f":"#REF!","v":{"$error":"#REF!"}},{"$error":"#REF!"}]
[{"$f":"#REF!","v":{"$error":"#REF!"}},{"$error":"#REF!"}]
[{"$f":"#REF!","v":{"$error":"#REF!"}},{"$error":"#REF!"}]
[{"$f":"#REF!","v":{"$error":"#REF!"}},{"$error":"#REF!"}]
[{"$f":"#REF!","v":{"$error":"#REF!"}},{"$error":"#REF!"}]
[{"$f":"#REF!","v":{"$error":"#REF!"}},{"$error":"#REF!"}]
[{"$f":"#REF!","v":{"$error":"#REF!"}},{"$error":"#REF!"}]
[{"$f":"#REF!","v":{"$error":"#REF!"}},{"$error":"#REF!"}]
[{"$f":"#REF!","v":{"$error":"#REF!"}},{"$error":"#REF!"}]
[{"$f":"#REF!","v":{"$error":"#REF!"}},{"$error":"#REF!"}]
[{"$f":"#REF!","v":{"$error":"#REF!"}},{"$error":"#REF!"}]
[{"$f":"#REF!","v":{"$error":"#REF!"}},{"$error":"#REF!"}]
[{"$f":"#REF!","v":{"$error":"#REF!"}},{"$error":"#REF!"}]
[{"$f":"#REF!","v":{"$error":"#REF!"}},{"$error":"#REF!"}]
[{"$f":"#REF!","v":{"$error":"#REF!"}},{"$error":"#REF!"}]
[{"$f":"#REF!","v":{"$error":"#REF!"}},{"$error":"#REF!"}]
[{"$f":"#REF!","v":{"$error":"#REF!"}},{"$error":"#REF!"}]
[{"$f":"#REF!","v":{"$error":"#REF!"}},{"$error":"#REF!"}]
[{"$f":"#REF!","v":{"$error":"#REF!"}},{"$error":"#REF!"}]
[{"$f":"#REF!","v":{"$error":"#REF!"}},{"$error":"#REF!"}]
[{"$f":"#REF!","v":{"$error":"#REF!"}},{"$error":"#REF!"}]
[{"$f":"#REF!","v":{"$error":"#REF!"}},{"$error":"#REF!"}]
[{"$f":"#REF!","v":{"$error":"#REF!"}},{"$error":"#REF!"}]
[{"$f":"#REF!","v":{"$error":"#REF!"}},{"$error":"#REF!"}]
[{"$f":"#REF!","v":{"$error":"#REF!"}},{"$error":"#REF!"}]
[{"$f":"#REF!","v":{"$error":"#REF!"}},{"$error":"#REF!"}]
[{"$f":"#REF!","v":{"$error":"#REF!"}},{"$error":"#REF!"}]
[{"$f":"#REF!","v":{"$error":"#REF!"}},{"$error":"#REF!"}]
[{"$f":"#REF!","v":{"$error":"#REF!"}},{"$error":"#REF!"}]
[{"$f":"#REF!","v":{"$error":"#REF!"}},{"$error":"#REF!"}]
[{"$f":"#REF!","v":{"$error":"#REF!"}},{"$error":"#REF!"}]
[{"$f":"#REF!","v":{"$error":"#REF!"}},{"$error":"#REF!"}]
[{"$f":"#REF!","v":{"$error":"#REF!"}},{"$error":"#REF!"}]
[{"$f":"#REF!","v":{"$error":"#REF!"}},{"$error":"#REF!"}]
[{"$f":"#REF!","v":{"$error":"#REF!"}},{"$error":"#REF!"}]
[{"$f":"#REF!","v":{"$error":"#REF!"}},{"$error":"#REF!"}]
[{"$f":"#REF!","v":{"$error":"#REF!"}},{"$error":"#REF!"}]
[{"$f":"#REF!","v":{"$error":"#REF!"}},{"$error":"#REF!"}]
[{"$f":"#REF!","v":{"$error":"#REF!"}},{"$error":"#REF!"}]
[{"$f":"#REF!","v":{"$error":"#REF!"}},{"$error":"#REF!"}]
[{"$f":"#REF!","v":{"$error":"#REF!"}},{"$error":"#REF!"}]
[{"$f":"#REF!","v":{"$error":"#REF!"}},{"$error":"#REF!"}]
[{"$f":"#REF!","v":{"$error":"#REF!"}},{"$f":"IF(A400=\"\",\"\",IF(VLOOKUP(A400,base_rpvs_pagas,2)=A$11,A400,0))","v":{"$error":"#REF!"}}]
[{"$f":"#REF!","v":{"$error":"#REF!"}},{"$error":"#REF!"}]
[{"$f":"#REF!","v":{"$error":"#REF!"}},{"$error":"#REF!"}]
[{"$f":"#REF!","v":{"$error":"#REF!"}},{"$error":"#REF!"}]
[{"$f":"#REF!","v":{"$error":"#REF!"}},{"$error":"#REF!"}]
[{"$f":"#REF!","v":{"$error":"#REF!"}},{"$error":"#REF!"}]
[{"$f":"#REF!","v":{"$error":"#REF!"}},{"$error":"#REF!"}]
[{"$f":"#REF!","v":{"$error":"#REF!"}},{"$error":"#REF!"}]
[{"$f":"#REF!","v":{"$error":"#REF!"}},{"$error":"#REF!"}]
[{"$f":"#REF!","v":{"$error":"#REF!"}},{"$error":"#REF!"}]
[{"$f":"#REF!","v":{"$error":"#REF!"}},{"$error":"#REF!"}]
[{"$f":"#REF!","v":{"$error":"#REF!"}},{"$error":"#REF!"}]
[{"$f":"#REF!","v":{"$error":"#REF!"}},{"$error":"#REF!"}]
[{"$f":"#REF!","v":{"$error":"#REF!"}},{"$error":"#REF!"}]
[{"$f":"#REF!","v":{"$error":"#REF!"}},{"$error":"#REF!"}]
[{"$f":"#REF!","v":{"$error":"#REF!"}},{"$error":"#REF!"}]
[{"$f":"#REF!","v":{"$error":"#REF!"}},{"$error":"#REF!"}]
[{"$f":"#REF!","v":{"$error":"#REF!"}},{"$error":"#REF!"}]
[{"$f":"#REF!","v":{"$error":"#REF!"}},{"$error":"#REF!"}]
[{"$f":"#REF!","v":{"$error":"#REF!"}},{"$error":"#REF!"}]
[{"$f":"#REF!","v":{"$error":"#REF!"}},{"$error":"#REF!"}]
[{"$f":"#REF!","v":{"$error":"#REF!"}},{"$error":"#REF!"}]
[{"$f":"#REF!","v":{"$error":"#REF!"}},{"$error":"#REF!"}]
[{"$f":"#REF!","v":{"$error":"#REF!"}},{"$error":"#REF!"}]
[{"$f":"#REF!","v":{"$error":"#REF!"}},{"$error":"#REF!"}]
[{"$f":"#REF!","v":{"$error":"#REF!"}},{"$error":"#REF!"}]
[{"$f":"#REF!","v":{"$error":"#REF!"}},{"$error":"#REF!"}]
[{"$f":"#REF!","v":{"$error":"#REF!"}},{"$error":"#REF!"}]
[{"$f":"#REF!","v":{"$error":"#REF!"}},{"$error":"#REF!"}]
[{"$f":"#REF!","v":{"$error":"#REF!"}},{"$error":"#REF!"}]
[{"$f":"#REF!","v":{"$error":"#REF!"}},{"$error":"#REF!"}]
[{"$f":"#REF!","v":{"$error":"#REF!"}},{"$error":"#REF!"}]
[{"$f":"#REF!","v":{"$error":"#REF!"}},{"$error":"#REF!"}]
[{"$f":"#REF!","v":{"$error":"#REF!"}},{"$error":"#REF!"}]
[{"$f":"#REF!","v":{"$error":"#REF!"}},{"$error":"#REF!"}]
[{"$f":"#REF!","v":{"$error":"#REF!"}},{"$error":"#REF!"}]
[{"$f":"#REF!","v":{"$error":"#REF!"}},{"$error":"#REF!"}]
[{"$f":"#REF!","v":{"$error":"#REF!"}},{"$error":"#REF!"}]
[{"$f":"#REF!","v":{"$error":"#REF!"}},{"$error":"#REF!"}]
[{"$f":"#REF!","v":{"$error":"#REF!"}},{"$error":"#REF!"}]
[{"$f":"#REF!","v":{"$error":"#REF!"}},{"$error":"#REF!"}]
[{"$f":"#REF!","v":{"$error":"#REF!"}},{"$error":"#REF!"}]
[{"$f":"#REF!","v":{"$error":"#REF!"}},{"$error":"#REF!"}]
[{"$f":"#REF!","v":{"$error":"#REF!"}},{"$error":"#REF!"}]
[{"$f":"#REF!","v":{"$error":"#REF!"}},{"$error":"#REF!"}]
[{"$f":"#REF!","v":{"$error":"#REF!"}},{"$error":"#REF!"}]
[{"$f":"#REF!","v":{"$error":"#REF!"}},{"$error":"#REF!"}]
[{"$f":"#REF!","v":{"$error":"#REF!"}},{"$error":"#REF!"}]
[{"$f":"#REF!","v":{"$error":"#REF!"}},{"$error":"#REF!"}]
[{"$f":"#REF!","v":{"$error":"#REF!"}},{"$error":"#REF!"}]
[{"$f":"#REF!","v":{"$error":"#REF!"}},{"$error":"#REF!"}]
[{"$f":"#REF!","v":{"$error":"#REF!"}},{"$error":"#REF!"}]
[{"$f":"#REF!","v":{"$error":"#REF!"}},{"$error":"#REF!"}]
[{"$f":"#REF!","v":{"$error":"#REF!"}},{"$error":"#REF!"}]
[{"$f":"#REF!","v":{"$error":"#REF!"}},{"$error":"#REF!"}]
[{"$f":"#REF!","v":{"$error":"#REF!"}},{"$error":"#REF!"}]
[{"$f":"#REF!","v":{"$error":"#REF!"}},{"$error":"#REF!"}]
[{"$f":"#REF!","v":{"$error":"#REF!"}},{"$error":"#REF!"}]
[{"$f":"#REF!","v":{"$error":"#REF!"}},{"$error":"#REF!"}]
[{"$f":"#REF!","v":{"$error":"#REF!"}},{"$error":"#REF!"}]
[{"$f":"#REF!","v":{"$error":"#REF!"}},{"$error":"#REF!"}]
[{"$f":"#REF!","v":{"$error":"#REF!"}},{"$error":"#REF!"}]
[{"$f":"#REF!","v":{"$error":"#REF!"}},{"$error":"#REF!"}]
[{"$f":"#REF!","v":{"$error":"#REF!"}},{"$error":"#REF!"}]
[{"$f":"#REF!","v":{"$error":"#REF!"}},{"$f":"IF(A464=\"\",\"\",IF(VLOOKUP(A464,base_rpvs_pagas,2)=A$11,A464,0))","v":{"$error":"#REF!"}}]
[{"$f":"#REF!","v":{"$error":"#REF!"}},{"$error":"#REF!"}]
[{"$f":"#REF!","v":{"$error":"#REF!"}},{"$error":"#REF!"}]
[{"$f":"#REF!","v":{"$error":"#REF!"}},{"$error":"#REF!"}]
[{"$f":"#REF!","v":{"$error":"#REF!"}},{"$error":"#REF!"}]
[{"$f":"#REF!","v":{"$error":"#REF!"}},{"$error":"#REF!"}]
[{"$f":"#REF!","v":{"$error":"#REF!"}},{"$error":"#REF!"}]
[{"$f":"#REF!","v":{"$error":"#REF!"}},{"$error":"#REF!"}]
[{"$f":"#REF!","v":{"$error":"#REF!"}},{"$error":"#REF!"}]
[{"$f":"#REF!","v":{"$error":"#REF!"}},{"$error":"#REF!"}]
[{"$f":"#REF!","v":{"$error":"#REF!"}},{"$error":"#REF!"}]
[{"$f":"#REF!","v":{"$error":"#REF!"}},{"$error":"#REF!"}]
[{"$f":"#REF!","v":{"$error":"#REF!"}},{"$error":"#REF!"}]
[{"$f":"#REF!","v":{"$error":"#REF!"}},{"$error":"#REF!"}]
[{"$f":"#REF!","v":{"$error":"#REF!"}},{"$error":"#REF!"}]
[{"$f":"#REF!","v":{"$error":"#REF!"}},{"$error":"#REF!"}]
[{"$f":"#REF!","v":{"$error":"#REF!"}},{"$error":"#REF!"}]
[{"$f":"#REF!","v":{"$error":"#REF!"}},{"$error":"#REF!"}]
[{"$f":"#REF!","v":{"$error":"#REF!"}},{"$error":"#REF!"}]
[{"$f":"#REF!","v":{"$error":"#REF!"}},{"$error":"#REF!"}]
[{"$f":"#REF!","v":{"$error":"#REF!"}},{"$error":"#REF!"}]
[{"$f":"#REF!","v":{"$error":"#REF!"}},{"$error":"#REF!"}]
[{"$f":"#REF!","v":{"$error":"#REF!"}},{"$error":"#REF!"}]
[{"$f":"#REF!","v":{"$error":"#REF!"}},{"$error":"#REF!"}]
[{"$f":"#REF!","v":{"$error":"#REF!"}},{"$error":"#REF!"}]
[{"$f":"#REF!","v":{"$error":"#REF!"}},{"$error":"#REF!"}]
[{"$f":"#REF!","v":{"$error":"#REF!"}},{"$error":"#REF!"}]
[{"$f":"#REF!","v":{"$error":"#REF!"}},{"$error":"#REF!"}]
[{"$f":"#REF!","v":{"$error":"#REF!"}},{"$error":"#REF!"}]
[{"$f":"#REF!","v":{"$error":"#REF!"}},{"$error":"#REF!"}]
[{"$f":"#REF!","v":{"$error":"#REF!"}},{"$error":"#REF!"}]
[{"$f":"#REF!","v":{"$error":"#REF!"}},{"$error":"#REF!"}]
[{"$f":"#REF!","v":{"$error":"#REF!"}},{"$error":"#REF!"}]
[{"$f":"#REF!","v":{"$error":"#REF!"}},{"$error":"#REF!"}]
[{"$f":"#REF!","v":{"$error":"#REF!"}},{"$error":"#REF!"}]
[{"$f":"#REF!","v":{"$error":"#REF!"}},{"$error":"#REF!"}]
[{"$f":"#REF!","v":{"$error":"#REF!"}},{"$error":"#REF!"}]
[{"$f":"#REF!","v":{"$error":"#REF!"}},{"$error":"#REF!"}]
[{"$f":"#REF!","v":{"$error":"#REF!"}},{"$error":"#REF!"}]
[{"$f":"#REF!","v":{"$error":"#REF!"}},{"$error":"#REF!"}]
[{"$f":"#REF!","v":{"$error":"#REF!"}},{"$error":"#REF!"}]
[{"$f":"#REF!","v":{"$error":"#REF!"}},{"$error":"#REF!"}]
[{"$f":"#REF!","v":{"$error":"#REF!"}},{"$error":"#REF!"}]
[{"$f":"#REF!","v":{"$error":"#REF!"}},{"$error":"#REF!"}]
[{"$f":"#REF!","v":{"$error":"#REF!"}},{"$error":"#REF!"}]
[{"$f":"#REF!","v":{"$error":"#REF!"}},{"$error":"#REF!"}]
[{"$f":"#REF!","v":{"$error":"#REF!"}},{"$error":"#REF!"}]
[{"$f":"#REF!","v":{"$error":"#REF!"}},{"$error":"#REF!"}]
[{"$f":"#REF!","v":{"$error":"#REF!"}},{"$error":"#REF!"}]
[{"$f":"#REF!","v":{"$error":"#REF!"}},{"$error":"#REF!"}]
[{"$f":"#REF!","v":{"$error":"#REF!"}},{"$error":"#REF!"}]
[{"$f":"#REF!","v":{"$error":"#REF!"}},{"$error":"#REF!"}]
[{"$f":"#REF!","v":{"$error":"#REF!"}},{"$error":"#REF!"}]
[{"$f":"#REF!","v":{"$error":"#REF!"}},{"$error":"#REF!"}]
[{"$f":"#REF!","v":{"$error":"#REF!"}},{"$error":"#REF!"}]
[{"$f":"#REF!","v":{"$error":"#REF!"}},{"$error":"#REF!"}]
[{"$f":"#REF!","v":{"$error":"#REF!"}},{"$error":"#REF!"}]
[{"$f":"#REF!","v":{"$error":"#REF!"}},{"$error":"#REF!"}]
[{"$f":"#REF!","v":{"$error":"#REF!"}},{"$error":"#REF!"}]
[{"$f":"#REF!","v":{"$error":"#REF!"}},{"$error":"#REF!"}]
[{"$f":"#REF!","v":{"$error":"#REF!"}},{"$error":"#REF!"}]
[{"$f":"#REF!","v":{"$error":"#REF!"}},{"$error":"#REF!"}]
[{"$f":"#REF!","v":{"$error":"#REF!"}},{"$error":"#REF!"}]
[{"$f":"#REF!","v":{"$error":"#REF!"}},{"$error":"#REF!"}]
[{"$f":"#REF!","v":{"$error":"#REF!"}},{"$f":"IF(A528=\"\",\"\",IF(VLOOKUP(A528,base_rpvs_pagas,2)=A$11,A528,0))","v":{"$error":"#REF!"}}]
[{"$f":"#REF!","v":{"$error":"#REF!"}},{"$error":"#REF!"}]
[{"$f":"#REF!","v":{"$error":"#REF!"}},{"$error":"#REF!"}]
[{"$f":"#REF!","v":{"$error":"#REF!"}},{"$error":"#REF!"}]
[{"$f":"#REF!","v":{"$error":"#REF!"}},{"$error":"#REF!"}]
[{"$f":"#REF!","v":{"$error":"#REF!"}},{"$error":"#REF!"}]
[{"$f":"#REF!","v":{"$error":"#REF!"}},{"$error":"#REF!"}]
[{"$f":"#REF!","v":{"$error":"#REF!"}},{"$error":"#REF!"}]
[{"$f":"#REF!","v":{"$error":"#REF!"}},{"$error":"#REF!"}]
[{"$f":"#REF!","v":{"$error":"#REF!"}},{"$error":"#REF!"}]
[{"$f":"#REF!","v":{"$error":"#REF!"}},{"$error":"#REF!"}]
[{"$f":"#REF!","v":{"$error":"#REF!"}},{"$error":"#REF!"}]
[{"$f":"#REF!","v":{"$error":"#REF!"}},{"$error":"#REF!"}]
[{"$f":"#REF!","v":{"$error":"#REF!"}},{"$error":"#REF!"}]
[{"$f":"#REF!","v":{"$error":"#REF!"}},{"$error":"#REF!"}]
[{"$f":"#REF!","v":{"$error":"#REF!"}},{"$error":"#REF!"}]
[{"$f":"#REF!","v":{"$error":"#REF!"}},{"$error":"#REF!"}]
[{"$f":"#REF!","v":{"$error":"#REF!"}},{"$error":"#REF!"}]
[{"$f":"#REF!","v":{"$error":"#REF!"}},{"$error":"#REF!"}]
[{"$f":"#REF!","v":{"$error":"#REF!"}},{"$error":"#REF!"}]
[{"$f":"#REF!","v":{"$error":"#REF!"}},{"$error":"#REF!"}]
[{"$f":"#REF!","v":{"$error":"#REF!"}},{"$error":"#REF!"}]
[{"$f":"#REF!","v":{"$error":"#REF!"}},{"$error":"#REF!"}]
[{"$f":"#REF!","v":{"$error":"#REF!"}},{"$error":"#REF!"}]
[{"$f":"#REF!","v":{"$error":"#REF!"}},{"$error":"#REF!"}]
[{"$f":"#REF!","v":{"$error":"#REF!"}},{"$error":"#REF!"}]
[{"$f":"#REF!","v":{"$error":"#REF!"}},{"$error":"#REF!"}]
[{"$f":"#REF!","v":{"$error":"#REF!"}},{"$error":"#REF!"}]
[{"$f":"#REF!","v":{"$error":"#REF!"}},{"$error":"#REF!"}]
[{"$f":"#REF!","v":{"$error":"#REF!"}},{"$error":"#REF!"}]
[{"$f":"#REF!","v":{"$error":"#REF!"}},{"$error":"#REF!"}]
[{"$f":"#REF!","v":{"$error":"#REF!"}},{"$error":"#REF!"}]
[{"$f":"#REF!","v":{"$error":"#REF!"}},{"$error":"#REF!"}]
[{"$f":"#REF!","v":{"$error":"#REF!"}},{"$error":"#REF!"}]
[{"$f":"#REF!","v":{"$error":"#REF!"}},{"$error":"#REF!"}]
[{"$f":"#REF!","v":{"$error":"#REF!"}},{"$error":"#REF!"}]
[{"$f":"#REF!","v":{"$error":"#REF!"}},{"$error":"#REF!"}]
[{"$f":"#REF!","v":{"$error":"#REF!"}},{"$error":"#REF!"}]
[{"$f":"#REF!","v":{"$error":"#REF!"}},{"$error":"#REF!"}]
[{"$f":"#REF!","v":{"$error":"#REF!"}},{"$error":"#REF!"}]
[{"$f":"#REF!","v":{"$error":"#REF!"}},{"$error":"#REF!"}]
[{"$f":"#REF!","v":{"$error":"#REF!"}},{"$error":"#REF!"}]
[{"$f":"#REF!","v":{"$error":"#REF!"}},{"$error":"#REF!"}]
[{"$f":"#REF!","v":{"$error":"#REF!"}},{"$error":"#REF!"}]
[{"$f":"#REF!","v":{"$error":"#REF!"}},{"$error":"#REF!"}]
[{"$f":"#REF!","v":{"$error":"#REF!"}},{"$error":"#REF!"}]
[{"$f":"#REF!","v":{"$error":"#REF!"}},{"$error":"#REF!"}]
[{"$f":"#REF!","v":{"$error":"#REF!"}},{"$error":"#REF!"}]
[{"$f":"#REF!","v":{"$error":"#REF!"}},{"$error":"#REF!"}]
[{"$f":"#REF!","v":{"$error":"#REF!"}},{"$error":"#REF!"}]
[{"$f":"#REF!","v":{"$error":"#REF!"}},{"$error":"#REF!"}]
[{"$f":"#REF!","v":{"$error":"#REF!"}},{"$error":"#REF!"}]
[{"$f":"#REF!","v":{"$error":"#REF!"}},{"$error":"#REF!"}]
[{"$f":"#REF!","v":{"$error":"#REF!"}},{"$error":"#REF!"}]
[{"$f":"#REF!","v":{"$error":"#REF!"}},{"$error":"#REF!"}]
[{"$f":"#REF!","v":{"$error":"#REF!"}},{"$error":"#REF!"}]
[{"$f":"#REF!","v":{"$error":"#REF!"}},{"$error":"#REF!"}]
[{"$f":"#REF!","v":{"$error":"#REF!"}},{"$error":"#REF!"}]
[{"$f":"#REF!","v":{"$error":"#REF!"}},{"$error":"#REF!"}]
[{"$f":"#REF!","v":{"$error":"#REF!"}},{"$error":"#REF!"}]
[{"$f":"#REF!","v":{"$error":"#REF!"}},{"$error":"#REF!"}]
[{"$f":"#REF!","v":{"$error":"#REF!"}},{"$error":"#REF!"}]
[{"$f":"#REF!","v":{"$error":"#REF!"}},{"$error":"#REF!"}]
[{"$f":"#REF!","v":{"$error":"#REF!"}},{"$error":"#REF!"}]
[{"$f":"#REF!","v":{"$error":"#REF!"}},{"$f":"IF(A592=\"\",\"\",IF(VLOOKUP(A592,base_rpvs_pagas,2)=A$11,A592,0))","v":{"$error":"#REF!"}}]
[{"$f":"#REF!","v":{"$error":"#REF!"}},{"$error":"#REF!"}]
[{"$f":"#REF!","v":{"$error":"#REF!"}},{"$error":"#REF!"}]
[{"$f":"#REF!","v":{"$error":"#REF!"}},{"$error":"#REF!"}]
[{"$f":"#REF!","v":{"$error":"#REF!"}},{"$error":"#REF!"}]
[{"$f":"#REF!","v":{"$error":"#REF!"}},{"$error":"#REF!"}]
[{"$f":"#REF!","v":{"$error":"#REF!"}},{"$error":"#REF!"}]
[{"$f":"#REF!","v":{"$error":"#REF!"}},{"$error":"#REF!"}]
[{"$f":"#REF!","v":{"$error":"#REF!"}},{"$error":"#REF!"}]
[{"$f":"#REF!","v":{"$error":"#REF!"}},{"$error":"#REF!"}]
[{"$f":"#REF!","v":{"$error":"#REF!"}},{"$error":"#REF!"}]
[{"$f":"#REF!","v":{"$error":"#REF!"}},{"$error":"#REF!"}]
[{"$f":"#REF!","v":{"$error":"#REF!"}},{"$error":"#REF!"}]
[{"$f":"#REF!","v":{"$error":"#REF!"}},{"$error":"#REF!"}]
[{"$f":"#REF!","v":{"$error":"#REF!"}},{"$error":"#REF!"}]
[{"$f":"#REF!","v":{"$error":"#REF!"}},{"$error":"#REF!"}]
[{"$f":"#REF!","v":{"$error":"#REF!"}},{"$error":"#REF!"}]
[{"$f":"#REF!","v":{"$error":"#REF!"}},{"$error":"#REF!"}]
[{"$f":"#REF!","v":{"$error":"#REF!"}},{"$error":"#REF!"}]
[{"$f":"#REF!","v":{"$error":"#REF!"}},{"$error":"#REF!"}]
[{"$f":"#REF!","v":{"$error":"#REF!"}},{"$error":"#REF!"}]
[{"$f":"#REF!","v":{"$error":"#REF!"}},{"$error":"#REF!"}]
[{"$f":"#REF!","v":{"$error":"#REF!"}},{"$error":"#REF!"}]
[{"$f":"#REF!","v":{"$error":"#REF!"}},{"$error":"#REF!"}]
[{"$f":"#REF!","v":{"$error":"#REF!"}},{"$error":"#REF!"}]
[{"$f":"#REF!","v":{"$error":"#REF!"}},{"$error":"#REF!"}]
[{"$f":"#REF!","v":{"$error":"#REF!"}},{"$error":"#REF!"}]
[{"$f":"#REF!","v":{"$error":"#REF!"}},{"$error":"#REF!"}]
[{"$f":"#REF!","v":{"$error":"#REF!"}},{"$error":"#REF!"}]
[{"$f":"#REF!","v":{"$error":"#REF!"}},{"$error":"#REF!"}]
[{"$f":"#REF!","v":{"$error":"#REF!"}},{"$error":"#REF!"}]
[{"$f":"#REF!","v":{"$error":"#REF!"}},{"$error":"#REF!"}]
[{"$f":"#REF!","v":{"$error":"#REF!"}},{"$error":"#REF!"}]
[{"$f":"#REF!","v":{"$error":"#REF!"}},{"$error":"#REF!"}]
[{"$f":"#REF!","v":{"$error":"#REF!"}},{"$error":"#REF!"}]
[{"$f":"#REF!","v":{"$error":"#REF!"}},{"$error":"#REF!"}]
[{"$f":"#REF!","v":{"$error":"#REF!"}},{"$error":"#REF!"}]
[{"$f":"#REF!","v":{"$error":"#REF!"}},{"$error":"#REF!"}]
[{"$f":"#REF!","v":{"$error":"#REF!"}},{"$error":"#REF!"}]
[{"$f":"#REF!","v":{"$error":"#REF!"}},{"$error":"#REF!"}]
[{"$f":"#REF!","v":{"$error":"#REF!"}},{"$error":"#REF!"}]
[{"$f":"#REF!","v":{"$error":"#REF!"}},{"$error":"#REF!"}]
[{"$f":"#REF!","v":{"$error":"#REF!"}},{"$error":"#REF!"}]
[{"$f":"#REF!","v":{"$error":"#REF!"}},{"$error":"#REF!"}]
[{"$f":"#REF!","v":{"$error":"#REF!"}},{"$error":"#REF!"}]
[{"$f":"#REF!","v":{"$error":"#REF!"}},{"$error":"#REF!"}]
[{"$f":"#REF!","v":{"$error":"#REF!"}},{"$error":"#REF!"}]
[{"$f":"#REF!","v":{"$error":"#REF!"}},{"$error":"#REF!"}]
[{"$f":"#REF!","v":{"$error":"#REF!"}},{"$error":"#REF!"}]
[{"$f":"#REF!","v":{"$error":"#REF!"}},{"$error":"#REF!"}]
[{"$f":"#REF!","v":{"$error":"#REF!"}},{"$error":"#REF!"}]
[{"$f":"#REF!","v":{"$error":"#REF!"}},{"$error":"#REF!"}]
[{"$f":"#REF!","v":{"$error":"#REF!"}},{"$error":"#REF!"}]
[{"$f":"#REF!","v":{"$error":"#REF!"}},{"$error":"#REF!"}]
[{"$f":"#REF!","v":{"$error":"#REF!"}},{"$error":"#REF!"}]
[{"$f":"#REF!","v":{"$error":"#REF!"}},{"$error":"#REF!"}]
[{"$f":"#REF!","v":{"$error":"#REF!"}},{"$error":"#REF!"}]
[{"$f":"#REF!","v":{"$error":"#REF!"}},{"$error":"#REF!"}]
[{"$f":"#REF!","v":{"$error":"#REF!"}},{"$error":"#REF!"}]
[{"$f":"#REF!","v":{"$error":"#REF!"}},{"$error":"#REF!"}]
[{"$f":"#REF!","v":{"$error":"#REF!"}},{"$error":"#REF!"}]
[{"$f":"#REF!","v":{"$error":"#REF!"}},{"$error":"#REF!"}]
[{"$f":"#REF!","v":{"$error":"#REF!"}},{"$error":"#REF!"}]
[{"$f":"#REF!","v":{"$error":"#REF!"}},{"$error":"#REF!"}]
[{"$f":"#REF!","v":{"$error":"#REF!"}},{"$f":"IF(A656=\"\",\"\",IF(VLOOKUP(A656,base_rpvs_pagas,2)=A$11,A656,0))","v":{"$error":"#REF!"}}]
[{"$f":"#REF!","v":{"$error":"#REF!"}},{"$error":"#REF!"}]
[{"$f":"#REF!","v":{"$error":"#REF!"}},{"$error":"#REF!"}]
[{"$f":"#REF!","v":{"$error":"#REF!"}},{"$error":"#REF!"}]
[{"$f":"#REF!","v":{"$error":"#REF!"}},{"$error":"#REF!"}]
[{"$f":"#REF!","v":{"$error":"#REF!"}},{"$error":"#REF!"}]
[{"$f":"#REF!","v":{"$error":"#REF!"}},{"$error":"#REF!"}]
[{"$f":"#REF!","v":{"$error":"#REF!"}},{"$error":"#REF!"}]
[{"$f":"#REF!","v":{"$error":"#REF!"}},{"$error":"#REF!"}]
[{"$f":"#REF!","v":{"$error":"#REF!"}},{"$error":"#REF!"}]
[{"$f":"#REF!","v":{"$error":"#REF!"}},{"$error":"#REF!"}]
[{"$f":"#REF!","v":{"$error":"#REF!"}},{"$error":"#REF!"}]
[{"$f":"#REF!","v":{"$error":"#REF!"}},{"$error":"#REF!"}]
[{"$f":"#REF!","v":{"$error":"#REF!"}},{"$error":"#REF!"}]
[{"$f":"#REF!","v":{"$error":"#REF!"}},{"$error":"#REF!"}]
[{"$f":"#REF!","v":{"$error":"#REF!"}},{"$error":"#REF!"}]
[{"$f":"#REF!","v":{"$error":"#REF!"}},{"$error":"#REF!"}]
[{"$f":"#REF!","v":{"$error":"#REF!"}},{"$error":"#REF!"}]
[{"$f":"#REF!","v":{"$error":"#REF!"}},{"$error":"#REF!"}]
[{"$f":"#REF!","v":{"$error":"#REF!"}},{"$error":"#REF!"}]
[{"$f":"#REF!","v":{"$error":"#REF!"}},{"$error":"#REF!"}]
[{"$f":"#REF!","v":{"$error":"#REF!"}},{"$error":"#REF!"}]
[{"$f":"#REF!","v":{"$error":"#REF!"}},{"$error":"#REF!"}]
[{"$f":"#REF!","v":{"$error":"#REF!"}},{"$error":"#REF!"}]
[{"$f":"#REF!","v":{"$error":"#REF!"}},{"$error":"#REF!"}]
[{"$f":"#REF!","v":{"$error":"#REF!"}},{"$error":"#REF!"}]
[{"$f":"#REF!","v":{"$error":"#REF!"}},{"$error":"#REF!"}]
[{"$f":"#REF!","v":{"$error":"#REF!"}},{"$error":"#REF!"}]
[{"$f":"#REF!","v":{"$error":"#REF!"}},{"$error":"#REF!"}]
[{"$f":"#REF!","v":{"$error":"#REF!"}},{"$error":"#REF!"}]
[{"$f":"#REF!","v":{"$error":"#REF!"}},{"$error":"#REF!"}]
[{"$f":"#REF!","v":{"$error":"#REF!"}},{"$error":"#REF!"}]
[{"$f":"#REF!","v":{"$error":"#REF!"}},{"$error":"#REF!"}]
[{"$f":"#REF!","v":{"$error":"#REF!"}},{"$error":"#REF!"}]
[{"$f":"#REF!","v":{"$error":"#REF!"}},{"$error":"#REF!"}]
[{"$f":"#REF!","v":{"$error":"#REF!"}},{"$error":"#REF!"}]
[{"$f":"#REF!","v":{"$error":"#REF!"}},{"$error":"#REF!"}]
[{"$f":"#REF!","v":{"$error":"#REF!"}},{"$error":"#REF!"}]
[{"$f":"#REF!","v":{"$error":"#REF!"}},{"$error":"#REF!"}]
[{"$f":"#REF!","v":{"$error":"#REF!"}},{"$error":"#REF!"}]
[{"$f":"#REF!","v":{"$error":"#REF!"}},{"$error":"#REF!"}]
[{"$f":"#REF!","v":{"$error":"#REF!"}},{"$error":"#REF!"}]
[{"$f":"#REF!","v":{"$error":"#REF!"}},{"$error":"#REF!"}]
[{"$f":"#REF!","v":{"$error":"#REF!"}},{"$error":"#REF!"}]
[{"$f":"#REF!","v":{"$error":"#REF!"}},{"$error":"#REF!"}]
[{"$f":"#REF!","v":{"$error":"#REF!"}},{"$error":"#REF!"}]
[{"$f":"#REF!","v":{"$error":"#REF!"}},{"$error":"#REF!"}]
[{"$f":"#REF!","v":{"$error":"#REF!"}},{"$error":"#REF!"}]
[{"$f":"#REF!","v":{"$error":"#REF!"}},{"$error":"#REF!"}]
[{"$f":"#REF!","v":{"$error":"#REF!"}},{"$error":"#REF!"}]
[{"$f":"#REF!","v":{"$error":"#REF!"}},{"$error":"#REF!"}]
[{"$f":"#REF!","v":{"$error":"#REF!"}},{"$error":"#REF!"}]
[{"$f":"#REF!","v":{"$error":"#REF!"}},{"$error":"#REF!"}]
[{"$f":"#REF!","v":{"$error":"#REF!"}},{"$error":"#REF!"}]
[{"$f":"#REF!","v":{"$error":"#REF!"}},{"$error":"#REF!"}]
[{"$f":"#REF!","v":{"$error":"#REF!"}},{"$error":"#REF!"}]
[{"$f":"#REF!","v":{"$error":"#REF!"}},{"$error":"#REF!"}]
[{"$f":"#REF!","v":{"$error":"#REF!"}},{"$error":"#REF!"}]
[{"$f":"#REF!","v":{"$error":"#REF!"}},{"$error":"#REF!"}]
[{"$f":"#REF!","v":{"$error":"#REF!"}},{"$error":"#REF!"}]
[{"$f":"#REF!","v":{"$error":"#REF!"}},{"$error":"#REF!"}]
[{"$f":"#REF!","v":{"$error":"#REF!"}},{"$error":"#REF!"}]
[{"$f":"#REF!","v":{"$error":"#REF!"}},{"$error":"#REF!"}]
[{"$f":"#REF!","v":{"$error":"#REF!"}},{"$error":"#REF!"}]
[{"$f":"#REF!","v":{"$error":"#REF!"}},{"$f":"IF(A720=\"\",\"\",IF(VLOOKUP(A720,base_rpvs_pagas,2)=A$11,A720,0))","v":{"$error":"#REF!"}}]
[{"$f":"#REF!","v":{"$error":"#REF!"}},{"$error":"#REF!"}]
[{"$f":"#REF!","v":{"$error":"#REF!"}},{"$error":"#REF!"}]
[{"$f":"#REF!","v":{"$error":"#REF!"}},{"$error":"#REF!"}]
[{"$f":"#REF!","v":{"$error":"#REF!"}},{"$error":"#REF!"}]
[{"$f":"#REF!","v":{"$error":"#REF!"}},{"$error":"#REF!"}]
[{"$f":"#REF!","v":{"$error":"#REF!"}},{"$error":"#REF!"}]
[{"$f":"#REF!","v":{"$error":"#REF!"}},{"$error":"#REF!"}]
[{"$f":"#REF!","v":{"$error":"#REF!"}},{"$error":"#REF!"}]
[{"$f":"#REF!","v":{"$error":"#REF!"}},{"$error":"#REF!"}]
[{"$f":"#REF!","v":{"$error":"#REF!"}},{"$error":"#REF!"}]
[{"$f":"#REF!","v":{"$error":"#REF!"}},{"$error":"#REF!"}]
[{"$f":"#REF!","v":{"$error":"#REF!"}},{"$error":"#REF!"}]
[{"$f":"#REF!","v":{"$error":"#REF!"}},{"$error":"#REF!"}]
[{"$f":"#REF!","v":{"$error":"#REF!"}},{"$error":"#REF!"}]
[{"$f":"#REF!","v":{"$error":"#REF!"}},{"$error":"#REF!"}]
[{"$f":"#REF!","v":{"$error":"#REF!"}},{"$error":"#REF!"}]
[{"$f":"#REF!","v":{"$error":"#REF!"}},{"$error":"#REF!"}]
[{"$f":"#REF!","v":{"$error":"#REF!"}},{"$error":"#REF!"}]
[{"$f":"#REF!","v":{"$error":"#REF!"}},{"$error":"#REF!"}]
[{"$f":"#REF!","v":{"$error":"#REF!"}},{"$error":"#REF!"}]
[{"$f":"#REF!","v":{"$error":"#REF!"}},{"$error":"#REF!"}]
[{"$f":"#REF!","v":{"$error":"#REF!"}},{"$error":"#REF!"}]
[{"$f":"#REF!","v":{"$error":"#REF!"}},{"$error":"#REF!"}]
[{"$f":"#REF!","v":{"$error":"#REF!"}},{"$error":"#REF!"}]
[{"$f":"#REF!","v":{"$error":"#REF!"}},{"$error":"#REF!"}]
[{"$f":"#REF!","v":{"$error":"#REF!"}},{"$error":"#REF!"}]
[{"$f":"#REF!","v":{"$error":"#REF!"}},{"$error":"#REF!"}]
[{"$f":"#REF!","v":{"$error":"#REF!"}},{"$error":"#REF!"}]
[{"$f":"#REF!","v":{"$error":"#REF!"}},{"$error":"#REF!"}]
[{"$f":"#REF!","v":{"$error":"#REF!"}},{"$error":"#REF!"}]
[{"$f":"#REF!","v":{"$error":"#REF!"}},{"$error":"#REF!"}]
[{"$f":"#REF!","v":{"$error":"#REF!"}},{"$error":"#REF!"}]
[{"$f":"#REF!","v":{"$error":"#REF!"}},{"$error":"#REF!"}]
[{"$f":"#REF!","v":{"$error":"#REF!"}},{"$error":"#REF!"}]
[{"$f":"#REF!","v":{"$error":"#REF!"}},{"$error":"#REF!"}]
[{"$f":"#REF!","v":{"$error":"#REF!"}},{"$error":"#REF!"}]
[{"$f":"#REF!","v":{"$error":"#REF!"}},{"$error":"#REF!"}]
[{"$f":"#REF!","v":{"$error":"#REF!"}},{"$error":"#REF!"}]
[{"$f":"#REF!","v":{"$error":"#REF!"}},{"$error":"#REF!"}]
[{"$f":"#REF!","v":{"$error":"#REF!"}},{"$error":"#REF!"}]
[{"$f":"#REF!","v":{"$error":"#REF!"}},{"$error":"#REF!"}]
[{"$f":"#REF!","v":{"$error":"#REF!"}},{"$error":"#REF!"}]
[{"$f":"#REF!","v":{"$error":"#REF!"}},{"$error":"#REF!"}]
[{"$f":"#REF!","v":{"$error":"#REF!"}},{"$error":"#REF!"}]
[{"$f":"#REF!","v":{"$error":"#REF!"}},{"$error":"#REF!"}]
[{"$f":"#REF!","v":{"$error":"#REF!"}},{"$error":"#REF!"}]
[{"$f":"#REF!","v":{"$error":"#REF!"}},{"$error":"#REF!"}]
[{"$f":"#REF!","v":{"$error":"#REF!"}},{"$error":"#REF!"}]
[{"$f":"#REF!","v":{"$error":"#REF!"}},{"$error":"#REF!"}]
[{"$f":"#REF!","v":{"$error":"#REF!"}},{"$error":"#REF!"}]
[{"$f":"#REF!","v":{"$error":"#REF!"}},{"$error":"#REF!"}]
[{"$f":"#REF!","v":{"$error":"#REF!"}},{"$error":"#REF!"}]
[{"$f":"#REF!","v":{"$error":"#REF!"}},{"$error":"#REF!"}]
[{"$f":"#REF!","v":{"$error":"#REF!"}},{"$error":"#REF!"}]
[{"$f":"#REF!","v":{"$error":"#REF!"}},{"$error":"#REF!"}]
[{"$f":"#REF!","v":{"$error":"#REF!"}},{"$error":"#REF!"}]
[{"$f":"#REF!","v":{"$error":"#REF!"}},{"$error":"#REF!"}]
[{"$f":"#REF!","v":{"$error":"#REF!"}},{"$error":"#REF!"}]
[{"$f":"#REF!","v":{"$error":"#REF!"}},{"$error":"#REF!"}]
[{"$f":"#REF!","v":{"$error":"#REF!"}},{"$error":"#REF!"}]
[{"$f":"#REF!","v":{"$error":"#REF!"}},{"$error":"#REF!"}]
[{"$f":"#REF!","v":{"$error":"#REF!"}},{"$error":"#REF!"}]
[{"$f":"#REF!","v":{"$error":"#REF!"}},{"$error":"#REF!"}]
[{"$f":"#REF!","v":{"$error":"#REF!"}},{"$f":"IF(A784=\"\",\"\",IF(VLOOKUP(A784,base_rpvs_pagas,2)=A$11,A784,0))","v":{"$error":"#REF!"}}]
[{"$f":"#REF!","v":{"$error":"#REF!"}},{"$error":"#REF!"}]
[{"$f":"#REF!","v":{"$error":"#REF!"}},{"$error":"#REF!"}]
[{"$f":"#REF!","v":{"$error":"#REF!"}},{"$error":"#REF!"}]
[{"$f":"#REF!","v":{"$error":"#REF!"}},{"$error":"#REF!"}]
[{"$f":"#REF!","v":{"$error":"#REF!"}},{"$error":"#REF!"}]
[{"$f":"#REF!","v":{"$error":"#REF!"}},{"$error":"#REF!"}]
[{"$f":"#REF!","v":{"$error":"#REF!"}},{"$error":"#REF!"}]
[{"$f":"#REF!","v":{"$error":"#REF!"}},{"$error":"#REF!"}]
[{"$f":"#REF!","v":{"$error":"#REF!"}},{"$error":"#REF!"}]
[{"$f":"#REF!","v":{"$error":"#REF!"}},{"$error":"#REF!"}]
[{"$f":"#REF!","v":{"$error":"#REF!"}},{"$error":"#REF!"}]
[{"$f":"#REF!","v":{"$error":"#REF!"}},{"$error":"#REF!"}]
[{"$f":"#REF!","v":{"$error":"#REF!"}},{"$error":"#REF!"}]
[{"$f":"#REF!","v":{"$error":"#REF!"}},{"$error":"#REF!"}]
[{"$f":"#REF!","v":{"$error":"#REF!"}},{"$error":"#REF!"}]
[{"$f":"#REF!","v":{"$error":"#REF!"}},{"$error":"#REF!"}]
[{"$f":"#REF!","v":{"$error":"#REF!"}},{"$error":"#REF!"}]
[{"$f":"#REF!","v":{"$error":"#REF!"}},{"$error":"#REF!"}]
[{"$f":"#REF!","v":{"$error":"#REF!"}},{"$error":"#REF!"}]
[{"$f":"#REF!","v":{"$error":"#REF!"}},{"$error":"#REF!"}]
[{"$f":"#REF!","v":{"$error":"#REF!"}},{"$error":"#REF!"}]
[{"$f":"#REF!","v":{"$error":"#REF!"}},{"$error":"#REF!"}]
[{"$f":"#REF!","v":{"$error":"#REF!"}},{"$error":"#REF!"}]
[{"$f":"#REF!","v":{"$error":"#REF!"}},{"$error":"#REF!"}]
[{"$f":"#REF!","v":{"$error":"#REF!"}},{"$error":"#REF!"}]
[{"$f":"#REF!","v":{"$error":"#REF!"}},{"$error":"#REF!"}]
[{"$f":"#REF!","v":{"$error":"#REF!"}},{"$error":"#REF!"}]
[{"$f":"#REF!","v":{"$error":"#REF!"}},{"$error":"#REF!"}]
[{"$f":"#REF!","v":{"$error":"#REF!"}},{"$error":"#REF!"}]
[{"$f":"#REF!","v":{"$error":"#REF!"}},{"$error":"#REF!"}]
[{"$f":"#REF!","v":{"$error":"#REF!"}},{"$error":"#REF!"}]
[{"$f":"#REF!","v":{"$error":"#REF!"}},{"$error":"#REF!"}]
[{"$f":"#REF!","v":{"$error":"#REF!"}},{"$error":"#REF!"}]
[{"$f":"#REF!","v":{"$error":"#REF!"}},{"$error":"#REF!"}]
[{"$f":"#REF!","v":{"$error":"#REF!"}},{"$error":"#REF!"}]
[{"$f":"#REF!","v":{"$error":"#REF!"}},{"$error":"#REF!"}]
[{"$f":"#REF!","v":{"$error":"#REF!"}},{"$error":"#REF!"}]
[{"$f":"#REF!","v":{"$error":"#REF!"}},{"$error":"#REF!"}]
[{"$f":"#REF!","v":{"$error":"#REF!"}},{"$error":"#REF!"}]
[{"$f":"#REF!","v":{"$error":"#REF!"}},{"$error":"#REF!"}]
[{"$f":"#REF!","v":{"$error":"#REF!"}},{"$error":"#REF!"}]
[{"$f":"#REF!","v":{"$error":"#REF!"}},{"$error":"#REF!"}]
[{"$f":"#REF!","v":{"$error":"#REF!"}},{"$error":"#REF!"}]
[{"$f":"#REF!","v":{"$error":"#REF!"}},{"$error":"#REF!"}]
[{"$f":"#REF!","v":{"$error":"#REF!"}},{"$error":"#REF!"}]
[{"$f":"#REF!","v":{"$error":"#REF!"}},{"$error":"#REF!"}]
[{"$f":"#REF!","v":{"$error":"#REF!"}},{"$error":"#REF!"}]
[{"$f":"#REF!","v":{"$error":"#REF!"}},{"$error":"#REF!"}]
[{"$f":"#REF!","v":{"$error":"#REF!"}},{"$error":"#REF!"}]
[{"$f":"#REF!","v":{"$error":"#REF!"}},{"$error":"#REF!"}]
[{"$f":"#REF!","v":{"$error":"#REF!"}},{"$error":"#REF!"}]
[{"$f":"#REF!","v":{"$error":"#REF!"}},{"$error":"#REF!"}]
[{"$f":"#REF!","v":{"$error":"#REF!"}},{"$error":"#REF!"}]
[{"$f":"#REF!","v":{"$error":"#REF!"}},{"$error":"#REF!"}]
[{"$f":"#REF!","v":{"$error":"#REF!"}},{"$error":"#REF!"}]
[{"$f":"#REF!","v":{"$error":"#REF!"}},{"$error":"#REF!"}]
[{"$f":"#REF!","v":{"$error":"#REF!"}},{"$error":"#REF!"}]
[{"$f":"#REF!","v":{"$error":"#REF!"}},{"$error":"#REF!"}]
[{"$f":"#REF!","v":{"$error":"#REF!"}},{"$error":"#REF!"}]
[{"$f":"#REF!","v":{"$error":"#REF!"}},{"$error":"#REF!"}]
[{"$f":"#REF!","v":{"$error":"#REF!"}},{"$error":"#REF!"}]
[{"$f":"#REF!","v":{"$error":"#REF!"}},{"$error":"#REF!"}]
[{"$f":"#REF!","v":{"$error":"#REF!"}},{"$error":"#REF!"}]
[{"$f":"#REF!","v":{"$error":"#REF!"}},{"$f":"IF(A848=\"\",\"\",IF(VLOOKUP(A848,base_rpvs_pagas,2)=A$11,A848,0))","v":{"$error":"#REF!"}}]
[{"$f":"#REF!","v":{"$error":"#REF!"}},{"$error":"#REF!"}]
[{"$f":"#REF!","v":{"$error":"#REF!"}},{"$error":"#REF!"}]
[{"$f":"#REF!","v":{"$error":"#REF!"}},{"$error":"#REF!"}]
[{"$f":"#REF!","v":{"$error":"#REF!"}},{"$error":"#REF!"}]
[{"$f":"#REF!","v":{"$error":"#REF!"}},{"$error":"#REF!"}]
[{"$f":"#REF!","v":{"$error":"#REF!"}},{"$error":"#REF!"}]
[{"$f":"#REF!","v":{"$error":"#REF!"}},{"$error":"#REF!"}]
[{"$f":"#REF!","v":{"$error":"#REF!"}},{"$error":"#REF!"}]
[{"$f":"#REF!","v":{"$error":"#REF!"}},{"$error":"#REF!"}]
[{"$f":"#REF!","v":{"$error":"#REF!"}},{"$error":"#REF!"}]
[{"$f":"#REF!","v":{"$error":"#REF!"}},{"$error":"#REF!"}]
[{"$f":"#REF!","v":{"$error":"#REF!"}},{"$error":"#REF!"}]
[{"$f":"#REF!","v":{"$error":"#REF!"}},{"$error":"#REF!"}]
[{"$f":"#REF!","v":{"$error":"#REF!"}},{"$error":"#REF!"}]
[{"$f":"#REF!","v":{"$error":"#REF!"}},{"$error":"#REF!"}]
[{"$f":"#REF!","v":{"$error":"#REF!"}},{"$error":"#REF!"}]
[{"$f":"#REF!","v":{"$error":"#REF!"}},{"$error":"#REF!"}]
[{"$f":"#REF!","v":{"$error":"#REF!"}},{"$error":"#REF!"}]
[{"$f":"#REF!","v":{"$error":"#REF!"}},{"$error":"#REF!"}]
[{"$f":"#REF!","v":{"$error":"#REF!"}},{"$error":"#REF!"}]
[{"$f":"#REF!","v":{"$error":"#REF!"}},{"$error":"#REF!"}]
[{"$f":"#REF!","v":{"$error":"#REF!"}},{"$error":"#REF!"}]
[{"$f":"#REF!","v":{"$error":"#REF!"}},{"$error":"#REF!"}]
[{"$f":"#REF!","v":{"$error":"#REF!"}},{"$error":"#REF!"}]
[{"$f":"#REF!","v":{"$error":"#REF!"}},{"$error":"#REF!"}]
[{"$f":"#REF!","v":{"$error":"#REF!"}},{"$error":"#REF!"}]
[{"$f":"#REF!","v":{"$error":"#REF!"}},{"$error":"#REF!"}]
[{"$f":"#REF!","v":{"$error":"#REF!"}},{"$error":"#REF!"}]
[{"$f":"#REF!","v":{"$error":"#REF!"}},{"$error":"#REF!"}]
[{"$f":"#REF!","v":{"$error":"#REF!"}},{"$error":"#REF!"}]
[{"$f":"#REF!","v":{"$error":"#REF!"}},{"$error":"#REF!"}]
[{"$f":"#REF!","v":{"$error":"#REF!"}},{"$error":"#REF!"}]
[{"$f":"#REF!","v":{"$error":"#REF!"}},{"$error":"#REF!"}]
[{"$f":"#REF!","v":{"$error":"#REF!"}},{"$error":"#REF!"}]
[{"$f":"#REF!","v":{"$error":"#REF!"}},{"$error":"#REF!"}]
[{"$f":"#REF!","v":{"$error":"#REF!"}},{"$error":"#REF!"}]
[{"$f":"#REF!","v":{"$error":"#REF!"}},{"$error":"#REF!"}]
[{"$f":"#REF!","v":{"$error":"#REF!"}},{"$error":"#REF!"}]
[{"$f":"#REF!","v":{"$error":"#REF!"}},{"$error":"#REF!"}]
[{"$f":"#REF!","v":{"$error":"#REF!"}},{"$error":"#REF!"}]
[{"$f":"#REF!","v":{"$error":"#REF!"}},{"$error":"#REF!"}]
[{"$f":"#REF!","v":{"$error":"#REF!"}},{"$error":"#REF!"}]
[{"$f":"#REF!","v":{"$error":"#REF!"}},{"$error":"#REF!"}]
[{"$f":"#REF!","v":{"$error":"#REF!"}},{"$error":"#REF!"}]
[{"$f":"#REF!","v":{"$error":"#REF!"}},{"$error":"#REF!"}]
[{"$f":"#REF!","v":{"$error":"#REF!"}},{"$error":"#REF!"}]
[{"$f":"#REF!","v":{"$error":"#REF!"}},{"$error":"#REF!"}]
[{"$f":"#REF!","v":{"$error":"#REF!"}},{"$error":"#REF!"}]
[{"$f":"#REF!","v":{"$error":"#REF!"}},{"$error":"#REF!"}]
[{"$f":"#REF!","v":{"$error":"#REF!"}},{"$error":"#REF!"}]
[{"$f":"#REF!","v":{"$error":"#REF!"}},{"$error":"#REF!"}]
[{"$f":"#REF!","v":{"$error":"#REF!"}},{"$error":"#REF!"}]
[{"$f":"#REF!","v":{"$error":"#REF!"}},{"$error":"#REF!"}]
[{"$f":"#REF!","v":{"$error":"#REF!"}},{"$error":"#REF!"}]
[{"$f":"#REF!","v":{"$error":"#REF!"}},{"$error":"#REF!"}]
[{"$f":"#REF!","v":{"$error":"#REF!"}},{"$error":"#REF!"}]
[{"$f":"#REF!","v":{"$error":"#REF!"}},{"$error":"#REF!"}]
[{"$f":"#REF!","v":{"$error":"#REF!"}},{"$error":"#REF!"}]
[{"$f":"#REF!","v":{"$error":"#REF!"}},{"$error":"#REF!"}]
[{"$f":"#REF!","v":{"$error":"#REF!"}},{"$error":"#REF!"}]
[{"$f":"#REF!","v":{"$error":"#REF!"}},{"$error":"#REF!"}]
[{"$f":"#REF!","v":{"$error":"#REF!"}},{"$error":"#REF!"}]
[{"$f":"#REF!","v":{"$error":"#REF!"}},{"$error":"#REF!"}]
[{"$f":"#REF!","v":{"$error":"#REF!"}},{"$f":"IF(A912=\"\",\"\",IF(VLOOKUP(A912,base_rpvs_pagas,2)=A$11,A912,0))","v":{"$error":"#REF!"}}]
[{"$f":"#REF!","v":{"$error":"#REF!"}},{"$error":"#REF!"}]
[{"$f":"#REF!","v":{"$error":"#REF!"}},{"$error":"#REF!"}]
[{"$f":"#REF!","v":{"$error":"#REF!"}},{"$error":"#REF!"}]
[{"$f":"#REF!","v":{"$error":"#REF!"}},{"$error":"#REF!"}]
[{"$f":"#REF!","v":{"$error":"#REF!"}},{"$error":"#REF!"}]
[{"$f":"#REF!","v":{"$error":"#REF!"}},{"$error":"#REF!"}]
[{"$f":"#REF!","v":{"$error":"#REF!"}},{"$error":"#REF!"}]
[{"$f":"#REF!","v":{"$error":"#REF!"}},{"$error":"#REF!"}]
[{"$f":"#REF!","v":{"$error":"#REF!"}},{"$error":"#REF!"}]
[{"$f":"#REF!","v":{"$error":"#REF!"}},{"$error":"#REF!"}]
[{"$f":"#REF!","v":{"$error":"#REF!"}},{"$error":"#REF!"}]
[{"$f":"#REF!","v":{"$error":"#REF!"}},{"$error":"#REF!"}]
[{"$f":"#REF!","v":{"$error":"#REF!"}},{"$error":"#REF!"}]
[{"$f":"#REF!","v":{"$error":"#REF!"}},{"$error":"#REF!"}]
[{"$f":"#REF!","v":{"$error":"#REF!"}},{"$error":"#REF!"}]
[{"$f":"#REF!","v":{"$error":"#REF!"}},{"$error":"#REF!"}]
[{"$f":"#REF!","v":{"$error":"#REF!"}},{"$error":"#REF!"}]
[{"$f":"#REF!","v":{"$error":"#REF!"}},{"$error":"#REF!"}]
[{"$f":"#REF!","v":{"$error":"#REF!"}},{"$error":"#REF!"}]
[{"$f":"#REF!","v":{"$error":"#REF!"}},{"$error":"#REF!"}]
[{"$f":"#REF!","v":{"$error":"#REF!"}},{"$error":"#REF!"}]
[{"$f":"#REF!","v":{"$error":"#REF!"}},{"$error":"#REF!"}]
[{"$f":"#REF!","v":{"$error":"#REF!"}},{"$error":"#REF!"}]
[{"$f":"#REF!","v":{"$error":"#REF!"}},{"$error":"#REF!"}]
[{"$f":"#REF!","v":{"$error":"#REF!"}},{"$error":"#REF!"}]
[{"$f":"#REF!","v":{"$error":"#REF!"}},{"$error":"#REF!"}]
[{"$f":"#REF!","v":{"$error":"#REF!"}},{"$error":"#REF!"}]
[{"$f":"#REF!","v":{"$error":"#REF!"}},{"$error":"#REF!"}]
[{"$f":"#REF!","v":{"$error":"#REF!"}},{"$error":"#REF!"}]
[{"$f":"#REF!","v":{"$error":"#REF!"}},{"$error":"#REF!"}]
[{"$f":"#REF!","v":{"$error":"#REF!"}},{"$error":"#REF!"}]
[{"$f":"#REF!","v":{"$error":"#REF!"}},{"$error":"#REF!"}]
[{"$f":"#REF!","v":{"$error":"#REF!"}},{"$error":"#REF!"}]
[{"$f":"#REF!","v":{"$error":"#REF!"}},{"$error":"#REF!"}]
[{"$f":"#REF!","v":{"$error":"#REF!"}},{"$error":"#REF!"}]
[{"$f":"#REF!","v":{"$error":"#REF!"}},{"$error":"#REF!"}]
[{"$f":"#REF!","v":{"$error":"#REF!"}},{"$error":"#REF!"}]
[{"$f":"#REF!","v":{"$error":"#REF!"}},{"$error":"#REF!"}]
[{"$f":"#REF!","v":{"$error":"#REF!"}},{"$error":"#REF!"}]
[{"$f":"#REF!","v":{"$error":"#REF!"}},{"$error":"#REF!"}]
[{"$f":"#REF!","v":{"$error":"#REF!"}},{"$error":"#REF!"}]
[{"$f":"#REF!","v":{"$error":"#REF!"}},{"$error":"#REF!"}]
[{"$f":"#REF!","v":{"$error":"#REF!"}},{"$error":"#REF!"}]
[{"$f":"#REF!","v":{"$error":"#REF!"}},{"$error":"#REF!"}]
[{"$f":"#REF!","v":{"$error":"#REF!"}},{"$error":"#REF!"}]
[{"$f":"#REF!","v":{"$error":"#REF!"}},{"$error":"#REF!"}]
[{"$f":"#REF!","v":{"$error":"#REF!"}},{"$error":"#REF!"}]
[{"$f":"#REF!","v":{"$error":"#REF!"}},{"$error":"#REF!"}]
[{"$f":"#REF!","v":{"$error":"#REF!"}},{"$error":"#REF!"}]
[{"$f":"#REF!","v":{"$error":"#REF!"}},{"$error":"#REF!"}]
[{"$f":"#REF!","v":{"$error":"#REF!"}},{"$error":"#REF!"}]
[{"$f":"#REF!","v":{"$error":"#REF!"}},{"$error":"#REF!"}]
[{"$f":"#REF!","v":{"$error":"#REF!"}},{"$error":"#REF!"}]
[{"$f":"#REF!","v":{"$error":"#REF!"}},{"$error":"#REF!"}]
[{"$f":"#REF!","v":{"$error":"#REF!"}},{"$error":"#REF!"}]
[{"$f":"#REF!","v":{"$error":"#REF!"}},{"$error":"#REF!"}]
[{"$f":"#REF!","v":{"$error":"#REF!"}},{"$error":"#REF!"}]
[{"$f":"#REF!","v":{"$error":"#REF!"}},{"$error":"#REF!"}]
[{"$f":"#REF!","v":{"$error":"#REF!"}},{"$error":"#REF!"}]
[{"$f":"#REF!","v":{"$error":"#REF!"}},{"$error":"#REF!"}]
[{"$f":"#REF!","v":{"$error":"#REF!"}},{"$error":"#REF!"}]
[{"$f":"#REF!","v":{"$error":"#REF!"}},{"$error":"#REF!"}]
[{"$f":"#REF!","v":{"$error":"#REF!"}},{"$error":"#REF!"}]
[{"$f":"#REF!","v":{"$error":"#REF!"}},{"$f":"IF(A976=\"\",\"\",IF(VLOOKUP(A976,base_rpvs_pagas,2)=A$11,A976,0))","v":{"$error":"#REF!"}}]
[{"$f":"#REF!","v":{"$error":"#REF!"}},{"$error":"#REF!"}]
[{"$f":"#REF!","v":{"$error":"#REF!"}},{"$error":"#REF!"}]
[{"$f":"#REF!","v":{"$error":"#REF!"}},{"$error":"#REF!"}]
[{"$f":"#REF!","v":{"$error":"#REF!"}},{"$error":"#REF!"}]
[{"$f":"#REF!","v":{"$error":"#REF!"}},{"$error":"#REF!"}]
[{"$f":"#REF!","v":{"$error":"#REF!"}},{"$error":"#REF!"}]
[{"$f":"#REF!","v":{"$error":"#REF!"}},{"$error":"#REF!"}]
[{"$f":"#REF!","v":{"$error":"#REF!"}},{"$error":"#REF!"}]
[{"$f":"#REF!","v":{"$error":"#REF!"}},{"$error":"#REF!"}]
[{"$f":"#REF!","v":{"$error":"#REF!"}},{"$error":"#REF!"}]
[{"$f":"#REF!","v":{"$error":"#REF!"}},{"$error":"#REF!"}]
[{"$f":"#REF!","v":{"$error":"#REF!"}},{"$error":"#REF!"}]
[{"$f":"#REF!","v":{"$error":"#REF!"}},{"$error":"#REF!"}]
[{"$f":"#REF!","v":{"$error":"#REF!"}},{"$error":"#REF!"}]
[{"$f":"#REF!","v":{"$error":"#REF!"}},{"$error":"#REF!"}]
[{"$f":"#REF!","v":{"$error":"#REF!"}},{"$error":"#REF!"}]
[{"$f":"#REF!","v":{"$error":"#REF!"}},{"$error":"#REF!"}]
[{"$f":"#REF!","v":{"$error":"#REF!"}},{"$error":"#REF!"}]
[{"$f":"#REF!","v":{"$error":"#REF!"}},{"$error":"#REF!"}]
[{"$f":"#REF!","v":{"$error":"#REF!"}},{"$error":"#REF!"}]
[{"$f":"#REF!","v":{"$error":"#REF!"}},{"$error":"#REF!"}]
[{"$f":"#REF!","v":{"$error":"#REF!"}},{"$error":"#REF!"}]
[{"$f":"#REF!","v":{"$error":"#REF!"}},{"$error":"#REF!"}]
[{"$f":"#REF!","v":{"$error":"#REF!"}},{"$error":"#REF!"}]
[{"$f":"#REF!","v":{"$error":"#REF!"}},{"$error":"#REF!"}]
[{"$f":"#REF!","v":{"$error":"#REF!"}},{"$error":"#REF!"}]
[{"$f":"#REF!","v":{"$error":"#REF!"}},{"$error":"#REF!"}]
[{"$f":"#REF!","v":{"$error":"#REF!"}},{"$error":"#REF!"}]
[{"$f":"#REF!","v":{"$error":"#REF!"}},{"$error":"#REF!"}]
[{"$f":"#REF!","v":{"$error":"#REF!"}},{"$error":"#REF!"}]
[{"$f":"#REF!","v":{"$error":"#REF!"}},{"$error":"#REF!"}]
[{"$f":"#REF!","v":{"$error":"#REF!"}},{"$error":"#REF!"}]
[{"$f":"#REF!","v":{"$error":"#REF!"}},{"$error":"#REF!"}]
[{"$f":"#REF!","v":{"$error":"#REF!"}},{"$error":"#REF!"}]
[{"$f":"#REF!","v":{"$error":"#REF!"}},{"$error":"#REF!"}]
[{"$f":"#REF!","v":{"$error":"#REF!"}},{"$error":"#REF!"}]
[{"$f":"#REF!","v":{"$error":"#REF!"}},{"$error":"#REF!"}]
[{"$f":"#REF!","v":{"$error":"#REF!"}},{"$error":"#REF!"}]
[{"$f":"#REF!","v":{"$error":"#REF!"}},{"$error":"#REF!"}]
[{"$f":"#REF!","v":{"$error":"#REF!"}},{"$error":"#REF!"}]
[{"$f":"#REF!","v":{"$error":"#REF!"}},{"$error":"#REF!"}]
[{"$f":"#REF!","v":{"$error":"#REF!"}},{"$error":"#REF!"}]
[{"$f":"#REF!","v":{"$error":"#REF!"}},{"$error":"#REF!"}]
[{"$f":"#REF!","v":{"$error":"#REF!"}},{"$error":"#REF!"}]
[{"$f":"#REF!","v":{"$error":"#REF!"}},{"$error":"#REF!"}]
[{"$f":"#REF!","v":{"$error":"#REF!"}},{"$error":"#REF!"}]
[{"$f":"#REF!","v":{"$error":"#REF!"}},{"$error":"#REF!"}]
[{"$f":"#REF!","v":{"$error":"#REF!"}},{"$error":"#REF!"}]
[{"$f":"#REF!","v":{"$error":"#REF!"}},{"$error":"#REF!"}]
[{"$f":"#REF!","v":{"$error":"#REF!"}},{"$error":"#REF!"}]
[{"$f":"#REF!","v":{"$error":"#REF!"}},{"$error":"#REF!"}]
[{"$f":"#REF!","v":{"$error":"#REF!"}},{"$error":"#REF!"}]
[{"$f":"#REF!","v":{"$error":"#REF!"}},{"$error":"#REF!"}]
[{"$f":"#REF!","v":{"$error":"#REF!"}},{"$error":"#REF!"}]
[{"$f":"#REF!","v":{"$error":"#REF!"}},{"$error":"#REF!"}]
[{"$f":"#REF!","v":{"$error":"#REF!"}},{"$error":"#REF!"}]
[{"$f":"#REF!","v":{"$error":"#REF!"}},{"$error":"#REF!"}]
[{"$f":"#REF!","v":{"$error":"#REF!"}},{"$error":"#REF!"}]
[{"$f":"#REF!","v":{"$error":"#REF!"}},{"$error":"#REF!"}]
[{"$f":"#REF!","v":{"$error":"#REF!"}},{"$error":"#REF!"}]
[{"$f":"#REF!","v":{"$error":"#REF!"}},{"$error":"#REF!"}]
[{"$f":"#REF!","v":{"$error":"#REF!"}},{"$error":"#REF!"}]
[{"$f":"#REF!","v":{"$error":"#REF!"}},{"$error":"#REF!"}]
[{"$f":"#REF!","v":{"$error":"#REF!"}},{"$f":"IF(A1040=\"\",\"\",IF(VLOOKUP(A1040,base_rpvs_pagas,2)=A$11,A1040,0))","v":{"$error":"#REF!"}}]
[{"$f":"#REF!","v":{"$error":"#REF!"}},{"$error":"#REF!"}]
[{"$f":"#REF!","v":{"$error":"#REF!"}},{"$error":"#REF!"}]
[{"$f":"#REF!","v":{"$error":"#REF!"}},{"$error":"#REF!"}]
[{"$f":"#REF!","v":{"$error":"#REF!"}},{"$error":"#REF!"}]
[{"$f":"#REF!","v":{"$error":"#REF!"}},{"$error":"#REF!"}]
[{"$f":"#REF!","v":{"$error":"#REF!"}},{"$error":"#REF!"}]
[{"$f":"#REF!","v":{"$error":"#REF!"}},{"$error":"#REF!"}]
[{"$f":"#REF!","v":{"$error":"#REF!"}},{"$error":"#REF!"}]
[{"$f":"#REF!","v":{"$error":"#REF!"}},{"$error":"#REF!"}]
[{"$f":"#REF!","v":{"$error":"#REF!"}},{"$error":"#REF!"}]
[{"$f":"#REF!","v":{"$error":"#REF!"}},{"$error":"#REF!"}]
[{"$f":"#REF!","v":{"$error":"#REF!"}},{"$error":"#REF!"}]
[{"$f":"#REF!","v":{"$error":"#REF!"}},{"$error":"#REF!"}]
[{"$f":"#REF!","v":{"$error":"#REF!"}},{"$error":"#REF!"}]
[{"$f":"#REF!","v":{"$error":"#REF!"}},{"$error":"#REF!"}]
[{"$f":"#REF!","v":{"$error":"#REF!"}},{"$error":"#REF!"}]
[{"$f":"#REF!","v":{"$error":"#REF!"}},{"$error":"#REF!"}]
[{"$f":"#REF!","v":{"$error":"#REF!"}},{"$error":"#REF!"}]
[{"$f":"#REF!","v":{"$error":"#REF!"}},{"$error":"#REF!"}]
[{"$f":"#REF!","v":{"$error":"#REF!"}},{"$error":"#REF!"}]
[{"$f":"#REF!","v":{"$error":"#REF!"}},{"$error":"#REF!"}]
[{"$f":"#REF!","v":{"$error":"#REF!"}},{"$error":"#REF!"}]
[{"$f":"#REF!","v":{"$error":"#REF!"}},{"$error":"#REF!"}]
[{"$f":"#REF!","v":{"$error":"#REF!"}},{"$error":"#REF!"}]
[{"$f":"#REF!","v":{"$error":"#REF!"}},{"$error":"#REF!"}]
[{"$f":"#REF!","v":{"$error":"#REF!"}},{"$error":"#REF!"}]
[{"$f":"#REF!","v":{"$error":"#REF!"}},{"$error":"#REF!"}]
[{"$f":"#REF!","v":{"$error":"#REF!"}},{"$error":"#REF!"}]
[{"$f":"#REF!","v":{"$error":"#REF!"}},{"$error":"#REF!"}]
[{"$f":"#REF!","v":{"$error":"#REF!"}},{"$error":"#REF!"}]
[{"$f":"#REF!","v":{"$error":"#REF!"}},{"$error":"#REF!"}]
[{"$f":"#REF!","v":{"$error":"#REF!"}},{"$error":"#REF!"}]
[{"$f":"#REF!","v":{"$error":"#REF!"}},{"$error":"#REF!"}]
[{"$f":"#REF!","v":{"$error":"#REF!"}},{"$error":"#REF!"}]
[{"$f":"#REF!","v":{"$error":"#REF!"}},{"$error":"#REF!"}]
[{"$f":"#REF!","v":{"$error":"#REF!"}},{"$error":"#REF!"}]
[{"$f":"#REF!","v":{"$error":"#REF!"}},{"$error":"#REF!"}]
[{"$f":"#REF!","v":{"$error":"#REF!"}},{"$error":"#REF!"}]
[{"$f":"#REF!","v":{"$error":"#REF!"}},{"$error":"#REF!"}]
[{"$f":"#REF!","v":{"$error":"#REF!"}},{"$error":"#REF!"}]
[{"$f":"#REF!","v":{"$error":"#REF!"}},{"$error":"#REF!"}]
[{"$f":"#REF!","v":{"$error":"#REF!"}},{"$error":"#REF!"}]
[{"$f":"#REF!","v":{"$error":"#REF!"}},{"$error":"#REF!"}]
[{"$f":"#REF!","v":{"$error":"#REF!"}},{"$error":"#REF!"}]
[{"$f":"#REF!","v":{"$error":"#REF!"}},{"$error":"#REF!"}]
[{"$f":"#REF!","v":{"$error":"#REF!"}},{"$error":"#REF!"}]
[{"$f":"#REF!","v":{"$error":"#REF!"}},{"$error":"#REF!"}]
[{"$f":"#REF!","v":{"$error":"#REF!"}},{"$error":"#REF!"}]
[{"$f":"#REF!","v":{"$error":"#REF!"}},{"$error":"#REF!"}]
[{"$f":"#REF!","v":{"$error":"#REF!"}},{"$error":"#REF!"}]
[{"$f":"#REF!","v":{"$error":"#REF!"}},{"$error":"#REF!"}]
[{"$f":"#REF!","v":{"$error":"#REF!"}},{"$error":"#REF!"}]
[{"$f":"#REF!","v":{"$error":"#REF!"}},{"$error":"#REF!"}]
[{"$f":"#REF!","v":{"$error":"#REF!"}},{"$error":"#REF!"}]
[{"$f":"#REF!","v":{"$error":"#REF!"}},{"$error":"#REF!"}]
[{"$f":"#REF!","v":{"$error":"#REF!"}},{"$error":"#REF!"}]
[{"$f":"#REF!","v":{"$error":"#REF!"}},{"$error":"#REF!"}]
[{"$f":"#REF!","v":{"$error":"#REF!"}},{"$error":"#REF!"}]
[{"$f":"#REF!","v":{"$error":"#REF!"}},{"$error":"#REF!"}]
[{"$f":"#REF!","v":{"$error":"#REF!"}},{"$error":"#REF!"}]
[{"$f":"#REF!","v":{"$error":"#REF!"}},{"$error":"#REF!"}]
[{"$f":"#REF!","v":{"$error":"#REF!"}},{"$error":"#REF!"}]
[{"$f":"#REF!","v":{"$error":"#REF!"}},{"$error":"#REF!"}]
[{"$f":"#REF!","v":{"$error":"#REF!"}},{"$f":"IF(A1104=\"\",\"\",IF(VLOOKUP(A1104,base_rpvs_pagas,2)=A$11,A1104,0))","v":{"$error":"#REF!"}}]
[{"$f":"#REF!","v":{"$error":"#REF!"}},{"$error":"#REF!"}]
[{"$f":"#REF!","v":{"$error":"#REF!"}},{"$error":"#REF!"}]
[{"$f":"#REF!","v":{"$error":"#REF!"}},{"$error":"#REF!"}]
[{"$f":"#REF!","v":{"$error":"#REF!"}},{"$error":"#REF!"}]
[{"$f":"#REF!","v":{"$error":"#REF!"}},{"$error":"#REF!"}]
[{"$f":"#REF!","v":{"$error":"#REF!"}},{"$error":"#REF!"}]
[{"$f":"#REF!","v":{"$error":"#REF!"}},{"$error":"#REF!"}]
[{"$f":"#REF!","v":{"$error":"#REF!"}},{"$error":"#REF!"}]
[{"$f":"#REF!","v":{"$error":"#REF!"}},{"$error":"#REF!"}]
[{"$f":"#REF!","v":{"$error":"#REF!"}},{"$error":"#REF!"}]
[{"$f":"#REF!","v":{"$error":"#REF!"}},{"$error":"#REF!"}]
[{"$f":"#REF!","v":{"$error":"#REF!"}},{"$error":"#REF!"}]
[{"$f":"#REF!","v":{"$error":"#REF!"}},{"$error":"#REF!"}]
[{"$f":"#REF!","v":{"$error":"#REF!"}},{"$error":"#REF!"}]
[{"$f":"#REF!","v":{"$error":"#REF!"}},{"$error":"#REF!"}]
[{"$f":"#REF!","v":{"$error":"#REF!"}},{"$error":"#REF!"}]
[{"$f":"#REF!","v":{"$error":"#REF!"}},{"$error":"#REF!"}]
[{"$f":"#REF!","v":{"$error":"#REF!"}},{"$error":"#REF!"}]
[{"$f":"#REF!","v":{"$error":"#REF!"}},{"$error":"#REF!"}]
[{"$f":"#REF!","v":{"$error":"#REF!"}},{"$error":"#REF!"}]
[{"$f":"#REF!","v":{"$error":"#REF!"}},{"$error":"#REF!"}]
[{"$f":"#REF!","v":{"$error":"#REF!"}},{"$error":"#REF!"}]
[{"$f":"#REF!","v":{"$error":"#REF!"}},{"$error":"#REF!"}]
[{"$f":"#REF!","v":{"$error":"#REF!"}},{"$error":"#REF!"}]
[{"$f":"#REF!","v":{"$error":"#REF!"}},{"$error":"#REF!"}]
[{"$f":"#REF!","v":{"$error":"#REF!"}},{"$error":"#REF!"}]
[{"$f":"#REF!","v":{"$error":"#REF!"}},{"$error":"#REF!"}]
[{"$f":"#REF!","v":{"$error":"#REF!"}},{"$error":"#REF!"}]
[{"$f":"#REF!","v":{"$error":"#REF!"}},{"$error":"#REF!"}]
[{"$f":"#REF!","v":{"$error":"#REF!"}},{"$error":"#REF!"}]
[{"$f":"#REF!","v":{"$error":"#REF!"}},{"$error":"#REF!"}]
[{"$f":"#REF!","v":{"$error":"#REF!"}},{"$error":"#REF!"}]
[{"$f":"#REF!","v":{"$error":"#REF!"}},{"$error":"#REF!"}]
[{"$f":"#REF!","v":{"$error":"#REF!"}},{"$error":"#REF!"}]
[{"$f":"#REF!","v":{"$error":"#REF!"}},{"$error":"#REF!"}]
[{"$f":"#REF!","v":{"$error":"#REF!"}},{"$error":"#REF!"}]
[{"$f":"#REF!","v":{"$error":"#REF!"}},{"$error":"#REF!"}]
[{"$f":"#REF!","v":{"$error":"#REF!"}},{"$error":"#REF!"}]
[{"$f":"#REF!","v":{"$error":"#REF!"}},{"$error":"#REF!"}]
[{"$f":"#REF!","v":{"$error":"#REF!"}},{"$error":"#REF!"}]
[{"$f":"#REF!","v":{"$error":"#REF!"}},{"$error":"#REF!"}]
[{"$f":"#REF!","v":{"$error":"#REF!"}},{"$error":"#REF!"}]
[{"$f":"#REF!","v":{"$error":"#REF!"}},{"$error":"#REF!"}]
[{"$f":"#REF!","v":{"$error":"#REF!"}},{"$error":"#REF!"}]
[{"$f":"#REF!","v":{"$error":"#REF!"}},{"$error":"#REF!"}]
[{"$f":"#REF!","v":{"$error":"#REF!"}},{"$error":"#REF!"}]
[{"$f":"#REF!","v":{"$error":"#REF!"}},{"$error":"#REF!"}]
[{"$f":"#REF!","v":{"$error":"#REF!"}},{"$error":"#REF!"}]
[{"$f":"#REF!","v":{"$error":"#REF!"}},{"$error":"#REF!"}]
[{"$f":"#REF!","v":{"$error":"#REF!"}},{"$error":"#REF!"}]
[{"$f":"#REF!","v":{"$error":"#REF!"}},{"$error":"#REF!"}]
[{"$f":"#REF!","v":{"$error":"#REF!"}},{"$error":"#REF!"}]
[{"$f":"#REF!","v":{"$error":"#REF!"}},{"$error":"#REF!"}]
[{"$f":"#REF!","v":{"$error":"#REF!"}},{"$error":"#REF!"}]
[{"$f":"#REF!","v":{"$error":"#REF!"}},{"$error":"#REF!"}]
[{"$f":"#REF!","v":{"$error":"#REF!"}},{"$error":"#REF!"}]
[{"$f":"#REF!","v":{"$error":"#REF!"}},{"$error":"#REF!"}]
[{"$f":"#REF!","v":{"$error":"#REF!"}},{"$error":"#REF!"}]
[{"$f":"#REF!","v":{"$error":"#REF!"}},{"$error":"#REF!"}]
[{"$f":"#REF!","v":{"$error":"#REF!"}},{"$error":"#REF!"}]
[{"$f":"#REF!","v":{"$error":"#REF!"}},{"$error":"#REF!"}]
[{"$f":"#REF!","v":{"$error":"#REF!"}},{"$error":"#REF!"}]
[{"$f":"#REF!","v":{"$error":"#REF!"}},{"$error":"#REF!"}]
[{"$f":"#REF!","v":{"$error":"#REF!"}},{"$f":"IF(A1168=\"\",\"\",IF(VLOOKUP(A1168,base_rpvs_pagas,2)=A$11,A1168,0))","v":{"$error":"#REF!"}}]
[{"$f":"#REF!","v":{"$error":"#REF!"}},{"$error":"#REF!"}]
[{"$f":"#REF!","v":{"$error":"#REF!"}},{"$error":"#REF!"}]
[{"$f":"#REF!","v":{"$error":"#REF!"}},{"$error":"#REF!"}]
[{"$f":"#REF!","v":{"$error":"#REF!"}},{"$error":"#REF!"}]
[{"$f":"#REF!","v":{"$error":"#REF!"}},{"$error":"#REF!"}]
[{"$f":"#REF!","v":{"$error":"#REF!"}},{"$error":"#REF!"}]
[{"$f":"#REF!","v":{"$error":"#REF!"}},{"$error":"#REF!"}]
[{"$f":"#REF!","v":{"$error":"#REF!"}},{"$error":"#REF!"}]
[{"$f":"#REF!","v":{"$error":"#REF!"}},{"$error":"#REF!"}]
[{"$f":"#REF!","v":{"$error":"#REF!"}},{"$error":"#REF!"}]
[{"$f":"#REF!","v":{"$error":"#REF!"}},{"$error":"#REF!"}]
[{"$f":"#REF!","v":{"$error":"#REF!"}},{"$error":"#REF!"}]
[{"$f":"#REF!","v":{"$error":"#REF!"}},{"$error":"#REF!"}]
[{"$f":"#REF!","v":{"$error":"#REF!"}},{"$error":"#REF!"}]
[{"$f":"#REF!","v":{"$error":"#REF!"}},{"$error":"#REF!"}]
[{"$f":"#REF!","v":{"$error":"#REF!"}},{"$error":"#REF!"}]
[{"$f":"#REF!","v":{"$error":"#REF!"}},{"$error":"#REF!"}]
[{"$f":"#REF!","v":{"$error":"#REF!"}},{"$error":"#REF!"}]
[{"$f":"#REF!","v":{"$error":"#REF!"}},{"$error":"#REF!"}]
[{"$f":"#REF!","v":{"$error":"#REF!"}},{"$error":"#REF!"}]
[{"$f":"#REF!","v":{"$error":"#REF!"}},{"$error":"#REF!"}]
[{"$f":"#REF!","v":{"$error":"#REF!"}},{"$error":"#REF!"}]
[{"$f":"#REF!","v":{"$error":"#REF!"}},{"$error":"#REF!"}]
[{"$f":"#REF!","v":{"$error":"#REF!"}},{"$error":"#REF!"}]
[{"$f":"#REF!","v":{"$error":"#REF!"}},{"$error":"#REF!"}]
[{"$f":"#REF!","v":{"$error":"#REF!"}},{"$error":"#REF!"}]
[{"$f":"#REF!","v":{"$error":"#REF!"}},{"$error":"#REF!"}]
[{"$f":"#REF!","v":{"$error":"#REF!"}},{"$error":"#REF!"}]
[{"$f":"#REF!","v":{"$error":"#REF!"}},{"$error":"#REF!"}]
[{"$f":"#REF!","v":{"$error":"#REF!"}},{"$error":"#REF!"}]
[{"$f":"#REF!","v":{"$error":"#REF!"}},{"$error":"#REF!"}]
[{"$f":"#REF!","v":{"$error":"#REF!"}},{"$error":"#REF!"}]
[{"$f":"#REF!","v":{"$error":"#REF!"}},{"$error":"#REF!"}]
[{"$f":"#REF!","v":{"$error":"#REF!"}},{"$error":"#REF!"}]
[{"$f":"#REF!","v":{"$error":"#REF!"}},{"$error":"#REF!"}]
[{"$f":"#REF!","v":{"$error":"#REF!"}},{"$error":"#REF!"}]
[{"$f":"#REF!","v":{"$error":"#REF!"}},{"$error":"#REF!"}]
[{"$f":"#REF!","v":{"$error":"#REF!"}},{"$error":"#REF!"}]
[{"$f":"#REF!","v":{"$error":"#REF!"}},{"$error":"#REF!"}]
[{"$f":"#REF!","v":{"$error":"#REF!"}},{"$error":"#REF!"}]
[{"$f":"#REF!","v":{"$error":"#REF!"}},{"$error":"#REF!"}]
[{"$f":"#REF!","v":{"$error":"#REF!"}},{"$error":"#REF!"}]
[{"$f":"#REF!","v":{"$error":"#REF!"}},{"$error":"#REF!"}]
[{"$f":"#REF!","v":{"$error":"#REF!"}},{"$error":"#REF!"}]
[{"$f":"#REF!","v":{"$error":"#REF!"}},{"$error":"#REF!"}]
[{"$f":"#REF!","v":{"$error":"#REF!"}},{"$error":"#REF!"}]
[{"$f":"#REF!","v":{"$error":"#REF!"}},{"$error":"#REF!"}]
[{"$f":"#REF!","v":{"$error":"#REF!"}},{"$error":"#REF!"}]
[{"$f":"#REF!","v":{"$error":"#REF!"}},{"$error":"#REF!"}]
[{"$f":"#REF!","v":{"$error":"#REF!"}},{"$error":"#REF!"}]
[{"$f":"#REF!","v":{"$error":"#REF!"}},{"$error":"#REF!"}]
[{"$f":"#REF!","v":{"$error":"#REF!"}},{"$error":"#REF!"}]
[{"$f":"#REF!","v":{"$error":"#REF!"}},{"$error":"#REF!"}]
[{"$f":"#REF!","v":{"$error":"#REF!"}},{"$error":"#REF!"}]
[{"$f":"#REF!","v":{"$error":"#REF!"}},{"$error":"#REF!"}]
[{"$f":"#REF!","v":{"$error":"#REF!"}},{"$error":"#REF!"}]
[{"$f":"#REF!","v":{"$error":"#REF!"}},{"$error":"#REF!"}]
[{"$f":"#REF!","v":{"$error":"#REF!"}},{"$error":"#REF!"}]
[{"$f":"#REF!","v":{"$error":"#REF!"}},{"$error":"#REF!"}]
[{"$f":"#REF!","v":{"$error":"#REF!"}},{"$error":"#REF!"}]
[{"$f":"#REF!","v":{"$error":"#REF!"}},{"$error":"#REF!"}]
[{"$f":"#REF!","v":{"$error":"#REF!"}},{"$error":"#REF!"}]
[{"$f":"#REF!","v":{"$error":"#REF!"}},{"$error":"#REF!"}]
[{"$f":"#REF!","v":{"$error":"#REF!"}},{"$f":"IF(A1232=\"\",\"\",IF(VLOOKUP(A1232,base_rpvs_pagas,2)=A$11,A1232,0))","v":{"$error":"#REF!"}}]
[{"$f":"#REF!","v":{"$error":"#REF!"}},{"$error":"#REF!"}]
[{"$f":"#REF!","v":{"$error":"#REF!"}},{"$error":"#REF!"}]
[{"$f":"#REF!","v":{"$error":"#REF!"}},{"$error":"#REF!"}]
[{"$f":"#REF!","v":{"$error":"#REF!"}},{"$error":"#REF!"}]
[{"$f":"#REF!","v":{"$error":"#REF!"}},{"$error":"#REF!"}]
[{"$f":"#REF!","v":{"$error":"#REF!"}},{"$error":"#REF!"}]
[{"$f":"#REF!","v":{"$error":"#REF!"}},{"$error":"#REF!"}]
[{"$f":"#REF!","v":{"$error":"#REF!"}},{"$error":"#REF!"}]
[{"$f":"#REF!","v":{"$error":"#REF!"}},{"$error":"#REF!"}]
[{"$f":"#REF!","v":{"$error":"#REF!"}},{"$error":"#REF!"}]
[{"$f":"#REF!","v":{"$error":"#REF!"}},{"$error":"#REF!"}]
[{"$f":"#REF!","v":{"$error":"#REF!"}},{"$error":"#REF!"}]
[{"$f":"#REF!","v":{"$error":"#REF!"}},{"$error":"#REF!"}]
[{"$f":"#REF!","v":{"$error":"#REF!"}},{"$error":"#REF!"}]
[{"$f":"#REF!","v":{"$error":"#REF!"}},{"$error":"#REF!"}]
[{"$f":"#REF!","v":{"$error":"#REF!"}},{"$error":"#REF!"}]
[{"$f":"#REF!","v":{"$error":"#REF!"}},{"$error":"#REF!"}]
[{"$f":"#REF!","v":{"$error":"#REF!"}},{"$error":"#REF!"}]
[{"$f":"#REF!","v":{"$error":"#REF!"}},{"$error":"#REF!"}]
[{"$f":"#REF!","v":{"$error":"#REF!"}},{"$error":"#REF!"}]
[{"$f":"#REF!","v":{"$error":"#REF!"}},{"$error":"#REF!"}]
[{"$f":"#REF!","v":{"$error":"#REF!"}},{"$error":"#REF!"}]
[{"$f":"#REF!","v":{"$error":"#REF!"}},{"$error":"#REF!"}]
[{"$f":"#REF!","v":{"$error":"#REF!"}},{"$error":"#REF!"}]
[{"$f":"#REF!","v":{"$error":"#REF!"}},{"$error":"#REF!"}]
[{"$f":"#REF!","v":{"$error":"#REF!"}},{"$error":"#REF!"}]
[{"$f":"#REF!","v":{"$error":"#REF!"}},{"$error":"#REF!"}]
[{"$f":"#REF!","v":{"$error":"#REF!"}},{"$error":"#REF!"}]
[{"$f":"#REF!","v":{"$error":"#REF!"}},{"$error":"#REF!"}]
[{"$f":"#REF!","v":{"$error":"#REF!"}},{"$error":"#REF!"}]
[{"$f":"#REF!","v":{"$error":"#REF!"}},{"$error":"#REF!"}]
[{"$f":"#REF!","v":{"$error":"#REF!"}},{"$error":"#REF!"}]
[{"$f":"#REF!","v":{"$error":"#REF!"}},{"$error":"#REF!"}]
[{"$f":"#REF!","v":{"$error":"#REF!"}},{"$error":"#REF!"}]
[{"$f":"#REF!","v":{"$error":"#REF!"}},{"$error":"#REF!"}]
[{"$f":"#REF!","v":{"$error":"#REF!"}},{"$error":"#REF!"}]
[{"$f":"#REF!","v":{"$error":"#REF!"}},{"$error":"#REF!"}]
[{"$f":"#REF!","v":{"$error":"#REF!"}},{"$error":"#REF!"}]
[{"$f":"#REF!","v":{"$error":"#REF!"}},{"$error":"#REF!"}]
[{"$f":"#REF!","v":{"$error":"#REF!"}},{"$error":"#REF!"}]
[{"$f":"#REF!","v":{"$error":"#REF!"}},{"$error":"#REF!"}]
[{"$f":"#REF!","v":{"$error":"#REF!"}},{"$error":"#REF!"}]
[{"$f":"#REF!","v":{"$error":"#REF!"}},{"$error":"#REF!"}]
[{"$f":"#REF!","v":{"$error":"#REF!"}},{"$error":"#REF!"}]
[{"$f":"#REF!","v":{"$error":"#REF!"}},{"$error":"#REF!"}]
[{"$f":"#REF!","v":{"$error":"#REF!"}},{"$error":"#REF!"}]
[{"$f":"#REF!","v":{"$error":"#REF!"}},{"$error":"#REF!"}]
[{"$f":"#REF!","v":{"$error":"#REF!"}},{"$error":"#REF!"}]
[{"$f":"#REF!","v":{"$error":"#REF!"}},{"$error":"#REF!"}]
[{"$f":"#REF!","v":{"$error":"#REF!"}},{"$error":"#REF!"}]
[{"$f":"#REF!","v":{"$error":"#REF!"}},{"$error":"#REF!"}]
[{"$f":"#REF!","v":{"$error":"#REF!"}},{"$error":"#REF!"}]
[{"$f":"#REF!","v":{"$error":"#REF!"}},{"$error":"#REF!"}]
[{"$f":"#REF!","v":{"$error":"#REF!"}},{"$error":"#REF!"}]
[{"$f":"#REF!","v":{"$error":"#REF!"}},{"$error":"#REF!"}]
[{"$f":"#REF!","v":{"$error":"#REF!"}},{"$error":"#REF!"}]
[{"$f":"#REF!","v":{"$error":"#REF!"}},{"$error":"#REF!"}]
[{"$f":"#REF!","v":{"$error":"#REF!"}},{"$error":"#REF!"}]
[{"$f":"#REF!","v":{"$error":"#REF!"}},{"$error":"#REF!"}]
[{"$f":"#REF!","v":{"$error":"#REF!"}},{"$error":"#REF!"}]
[{"$f":"#REF!","v":{"$error":"#REF!"}},{"$error":"#REF!"}]
[{"$f":"#REF!","v":{"$error":"#REF!"}},{"$error":"#REF!"}]
[{"$f":"#REF!","v":{"$error":"#REF!"}},{"$error":"#REF!"}]
[{"$f":"#REF!","v":{"$error":"#REF!"}},{"$f":"IF(A1296=\"\",\"\",IF(VLOOKUP(A1296,base_rpvs_pagas,2)=A$11,A1296,0))","v":{"$error":"#REF!"}}]
[{"$f":"#REF!","v":{"$error":"#REF!"}},{"$error":"#REF!"}]
[{"$f":"#REF!","v":{"$error":"#REF!"}},{"$error":"#REF!"}]
[{"$f":"#REF!","v":{"$error":"#REF!"}},{"$error":"#REF!"}]
[{"$f":"#REF!","v":{"$error":"#REF!"}},{"$error":"#REF!"}]
[{"$f":"#REF!","v":{"$error":"#REF!"}},{"$error":"#REF!"}]
[{"$f":"#REF!","v":{"$error":"#REF!"}},{"$error":"#REF!"}]
[{"$f":"#REF!","v":{"$error":"#REF!"}},{"$error":"#REF!"}]
[{"$f":"#REF!","v":{"$error":"#REF!"}},{"$error":"#REF!"}]
[{"$f":"#REF!","v":{"$error":"#REF!"}},{"$error":"#REF!"}]
[{"$f":"#REF!","v":{"$error":"#REF!"}},{"$error":"#REF!"}]
[{"$f":"#REF!","v":{"$error":"#REF!"}},{"$error":"#REF!"}]
[{"$f":"#REF!","v":{"$error":"#REF!"}},{"$error":"#REF!"}]
[{"$f":"#REF!","v":{"$error":"#REF!"}},{"$error":"#REF!"}]
[{"$f":"#REF!","v":{"$error":"#REF!"}},{"$error":"#REF!"}]
[{"$f":"#REF!","v":{"$error":"#REF!"}},{"$error":"#REF!"}]
[{"$f":"#REF!","v":{"$error":"#REF!"}},{"$error":"#REF!"}]
[{"$f":"#REF!","v":{"$error":"#REF!"}},{"$error":"#REF!"}]
[{"$f":"#REF!","v":{"$error":"#REF!"}},{"$error":"#REF!"}]
[{"$f":"#REF!","v":{"$error":"#REF!"}},{"$error":"#REF!"}]
[{"$f":"#REF!","v":{"$error":"#REF!"}},{"$error":"#REF!"}]
[{"$f":"#REF!","v":{"$error":"#REF!"}},{"$error":"#REF!"}]
[{"$f":"#REF!","v":{"$error":"#REF!"}},{"$error":"#REF!"}]
[{"$f":"#REF!","v":{"$error":"#REF!"}},{"$error":"#REF!"}]
[{"$f":"#REF!","v":{"$error":"#REF!"}},{"$error":"#REF!"}]
[{"$f":"#REF!","v":{"$error":"#REF!"}},{"$error":"#REF!"}]
[{"$f":"#REF!","v":{"$error":"#REF!"}},{"$error":"#REF!"}]
[{"$f":"#REF!","v":{"$error":"#REF!"}},{"$error":"#REF!"}]
[{"$f":"#REF!","v":{"$error":"#REF!"}},{"$error":"#REF!"}]
[{"$f":"#REF!","v":{"$error":"#REF!"}},{"$error":"#REF!"}]
[{"$f":"#REF!","v":{"$error":"#REF!"}},{"$error":"#REF!"}]
[{"$f":"#REF!","v":{"$error":"#REF!"}},{"$error":"#REF!"}]
[{"$f":"#REF!","v":{"$error":"#REF!"}},{"$error":"#REF!"}]
[{"$f":"#REF!","v":{"$error":"#REF!"}},{"$error":"#REF!"}]
[{"$f":"#REF!","v":{"$error":"#REF!"}},{"$error":"#REF!"}]
[{"$f":"#REF!","v":{"$error":"#REF!"}},{"$error":"#REF!"}]
[{"$f":"#REF!","v":{"$error":"#REF!"}},{"$error":"#REF!"}]
[{"$f":"#REF!","v":{"$error":"#REF!"}},{"$error":"#REF!"}]
[{"$f":"#REF!","v":{"$error":"#REF!"}},{"$error":"#REF!"}]
[{"$f":"#REF!","v":{"$error":"#REF!"}},{"$error":"#REF!"}]
[{"$f":"#REF!","v":{"$error":"#REF!"}},{"$error":"#REF!"}]
[{"$f":"#REF!","v":{"$error":"#REF!"}},{"$error":"#REF!"}]
[{"$f":"#REF!","v":{"$error":"#REF!"}},{"$error":"#REF!"}]
[{"$f":"#REF!","v":{"$error":"#REF!"}},{"$error":"#REF!"}]
[{"$f":"#REF!","v":{"$error":"#REF!"}},{"$error":"#REF!"}]
[{"$f":"#REF!","v":{"$error":"#REF!"}},{"$error":"#REF!"}]
[{"$f":"#REF!","v":{"$error":"#REF!"}},{"$error":"#REF!"}]
[{"$f":"#REF!","v":{"$error":"#REF!"}},{"$error":"#REF!"}]
[{"$f":"#REF!","v":{"$error":"#REF!"}},{"$error":"#REF!"}]
[{"$f":"#REF!","v":{"$error":"#REF!"}},{"$error":"#REF!"}]
[{"$f":"#REF!","v":{"$error":"#REF!"}},{"$error":"#REF!"}]
[{"$f":"#REF!","v":{"$error":"#REF!"}},{"$error":"#REF!"}]
[{"$f":"#REF!","v":{"$error":"#REF!"}},{"$error":"#REF!"}]
[{"$f":"#REF!","v":{"$error":"#REF!"}},{"$error":"#REF!"}]
[{"$f":"#REF!","v":{"$error":"#REF!"}},{"$error":"#REF!"}]
[{"$f":"#REF!","v":{"$error":"#REF!"}},{"$error":"#REF!"}]
[{"$f":"#REF!","v":{"$error":"#REF!"}},{"$error":"#REF!"}]
[{"$f":"#REF!","v":{"$error":"#REF!"}},{"$error":"#REF!"}]
[{"$f":"#REF!","v":{"$error":"#REF!"}},{"$error":"#REF!"}]
[{"$f":"#REF!","v":{"$error":"#REF!"}},{"$error":"#REF!"}]
[{"$f":"#REF!","v":{"$error":"#REF!"}},{"$error":"#REF!"}]
[{"$f":"#REF!","v":{"$error":"#REF!"}},{"$error":"#REF!"}]
[{"$f":"#REF!","v":{"$error":"#REF!"}},{"$error":"#REF!"}]
[{"$f":"#REF!","v":{"$error":"#REF!"}},{"$error":"#REF!"}]
[{"$f":"#REF!","v":{"$error":"#REF!"}},{"$f":"IF(A1360=\"\",\"\",IF(VLOOKUP(A1360,base_rpvs_pagas,2)=A$11,A1360,0))","v":{"$error":"#REF!"}}]
[{"$f":"#REF!","v":{"$error":"#REF!"}},{"$error":"#REF!"}]
[{"$f":"#REF!","v":{"$error":"#REF!"}},{"$error":"#REF!"}]
[{"$f":"#REF!","v":{"$error":"#REF!"}},{"$error":"#REF!"}]
[{"$f":"#REF!","v":{"$error":"#REF!"}},{"$error":"#REF!"}]
[{"$f":"#REF!","v":{"$error":"#REF!"}},{"$error":"#REF!"}]
[{"$f":"#REF!","v":{"$error":"#REF!"}},{"$error":"#REF!"}]
[{"$f":"#REF!","v":{"$error":"#REF!"}},{"$error":"#REF!"}]
[{"$f":"#REF!","v":{"$error":"#REF!"}},{"$error":"#REF!"}]
[{"$f":"#REF!","v":{"$error":"#REF!"}},{"$error":"#REF!"}]
[{"$f":"#REF!","v":{"$error":"#REF!"}},{"$error":"#REF!"}]
[{"$f":"#REF!","v":{"$error":"#REF!"}},{"$error":"#REF!"}]
[{"$f":"#REF!","v":{"$error":"#REF!"}},{"$error":"#REF!"}]
[{"$f":"#REF!","v":{"$error":"#REF!"}},{"$error":"#REF!"}]
[{"$f":"#REF!","v":{"$error":"#REF!"}},{"$error":"#REF!"}]
[{"$f":"#REF!","v":{"$error":"#REF!"}},{"$error":"#REF!"}]
[{"$f":"#REF!","v":{"$error":"#REF!"}},{"$error":"#REF!"}]
[{"$f":"#REF!","v":{"$error":"#REF!"}},{"$error":"#REF!"}]
[{"$f":"#REF!","v":{"$error":"#REF!"}},{"$error":"#REF!"}]
[{"$f":"#REF!","v":{"$error":"#REF!"}},{"$error":"#REF!"}]
[{"$f":"#REF!","v":{"$error":"#REF!"}},{"$error":"#REF!"}]
[{"$f":"#REF!","v":{"$error":"#REF!"}},{"$error":"#REF!"}]
[{"$f":"#REF!","v":{"$error":"#REF!"}},{"$error":"#REF!"}]
[{"$f":"#REF!","v":{"$error":"#REF!"}},{"$error":"#REF!"}]
[{"$f":"#REF!","v":{"$error":"#REF!"}},{"$error":"#REF!"}]
[{"$f":"#REF!","v":{"$error":"#REF!"}},{"$error":"#REF!"}]
[{"$f":"#REF!","v":{"$error":"#REF!"}},{"$error":"#REF!"}]
[{"$f":"#REF!","v":{"$error":"#REF!"}},{"$error":"#REF!"}]
[{"$f":"#REF!","v":{"$error":"#REF!"}},{"$error":"#REF!"}]
[{"$f":"#REF!","v":{"$error":"#REF!"}},{"$error":"#REF!"}]
[{"$f":"#REF!","v":{"$error":"#REF!"}},{"$error":"#REF!"}]
[{"$f":"#REF!","v":{"$error":"#REF!"}},{"$error":"#REF!"}]
[{"$f":"#REF!","v":{"$error":"#REF!"}},{"$error":"#REF!"}]
[{"$f":"#REF!","v":{"$error":"#REF!"}},{"$error":"#REF!"}]
[{"$f":"#REF!","v":{"$error":"#REF!"}},{"$error":"#REF!"}]
[{"$f":"#REF!","v":{"$error":"#REF!"}},{"$error":"#REF!"}]
[{"$f":"#REF!","v":{"$error":"#REF!"}},{"$error":"#REF!"}]
[{"$f":"#REF!","v":{"$error":"#REF!"}},{"$error":"#REF!"}]
[{"$f":"#REF!","v":{"$error":"#REF!"}},{"$error":"#REF!"}]
[{"$f":"#REF!","v":{"$error":"#REF!"}},{"$error":"#REF!"}]
[{"$f":"#REF!","v":{"$error":"#REF!"}},{"$error":"#REF!"}]
[{"$f":"#REF!","v":{"$error":"#REF!"}},{"$error":"#REF!"}]
[{"$f":"#REF!","v":{"$error":"#REF!"}},{"$error":"#REF!"}]
[{"$f":"#REF!","v":{"$error":"#REF!"}},{"$error":"#REF!"}]
[{"$f":"#REF!","v":{"$error":"#REF!"}},{"$error":"#REF!"}]
[{"$f":"#REF!","v":{"$error":"#REF!"}},{"$error":"#REF!"}]
[{"$f":"#REF!","v":{"$error":"#REF!"}},{"$error":"#REF!"}]
[{"$f":"#REF!","v":{"$error":"#REF!"}},{"$error":"#REF!"}]
[{"$f":"#REF!","v":{"$error":"#REF!"}},{"$error":"#REF!"}]
[{"$f":"#REF!","v":{"$error":"#REF!"}},{"$error":"#REF!"}]
[{"$f":"#REF!","v":{"$error":"#REF!"}},{"$error":"#REF!"}]
[{"$f":"#REF!","v":{"$error":"#REF!"}},{"$error":"#REF!"}]
[{"$f":"#REF!","v":{"$error":"#REF!"}},{"$error":"#REF!"}]
[{"$f":"#REF!","v":{"$error":"#REF!"}},{"$error":"#REF!"}]
[{"$f":"#REF!","v":{"$error":"#REF!"}},{"$error":"#REF!"}]
[{"$f":"#REF!","v":{"$error":"#REF!"}},{"$error":"#REF!"}]
[{"$f":"#REF!","v":{"$error":"#REF!"}},{"$error":"#REF!"}]
[{"$f":"#REF!","v":{"$error":"#REF!"}},{"$error":"#REF!"}]
[{"$f":"#REF!","v":{"$error":"#REF!"}},{"$error":"#REF!"}]
[{"$f":"#REF!","v":{"$error":"#REF!"}},{"$error":"#REF!"}]
[{"$f":"#REF!","v":{"$error":"#REF!"}},{"$error":"#REF!"}]
[{"$f":"#REF!","v":{"$error":"#REF!"}},{"$error":"#REF!"}]
[{"$f":"#REF!","v":{"$error":"#REF!"}},{"$error":"#REF!"}]
[{"$f":"#REF!","v":{"$error":"#REF!"}},{"$error":"#REF!"}]
[{"$f":"#REF!","v":{"$error":"#REF!"}},{"$f":"IF(A1424=\"\",\"\",IF(VLOOKUP(A1424,base_rpvs_pagas,2)=A$11,A1424,0))","v":{"$error":"#REF!"}}]
[{"$f":"#REF!","v":{"$error":"#REF!"}},{"$error":"#REF!"}]
[{"$f":"#REF!","v":{"$error":"#REF!"}},{"$error":"#REF!"}]
[{"$f":"#REF!","v":{"$error":"#REF!"}},{"$error":"#REF!"}]
[{"$f":"#REF!","v":{"$error":"#REF!"}},{"$error":"#REF!"}]
[{"$f":"#REF!","v":{"$error":"#REF!"}},{"$error":"#REF!"}]
[{"$f":"#REF!","v":{"$error":"#REF!"}},{"$error":"#REF!"}]
[{"$f":"#REF!","v":{"$error":"#REF!"}},{"$error":"#REF!"}]
[{"$f":"#REF!","v":{"$error":"#REF!"}},{"$error":"#REF!"}]
[{"$f":"#REF!","v":{"$error":"#REF!"}},{"$error":"#REF!"}]
[{"$f":"#REF!","v":{"$error":"#REF!"}},{"$error":"#REF!"}]
[{"$f":"#REF!","v":{"$error":"#REF!"}},{"$error":"#REF!"}]
[{"$f":"#REF!","v":{"$error":"#REF!"}},{"$error":"#REF!"}]
[{"$f":"#REF!","v":{"$error":"#REF!"}},{"$error":"#REF!"}]
[{"$f":"#REF!","v":{"$error":"#REF!"}},{"$error":"#REF!"}]
[{"$f":"#REF!","v":{"$error":"#REF!"}},{"$error":"#REF!"}]
[{"$f":"#REF!","v":{"$error":"#REF!"}},{"$error":"#REF!"}]
[{"$f":"#REF!","v":{"$error":"#REF!"}},{"$error":"#REF!"}]
[{"$f":"#REF!","v":{"$error":"#REF!"}},{"$error":"#REF!"}]
[{"$f":"#REF!","v":{"$error":"#REF!"}},{"$error":"#REF!"}]
[{"$f":"#REF!","v":{"$error":"#REF!"}},{"$error":"#REF!"}]
[{"$f":"#REF!","v":{"$error":"#REF!"}},{"$error":"#REF!"}]
[{"$f":"#REF!","v":{"$error":"#REF!"}},{"$error":"#REF!"}]
[{"$f":"#REF!","v":{"$error":"#REF!"}},{"$error":"#REF!"}]
[{"$f":"#REF!","v":{"$error":"#REF!"}},{"$error":"#REF!"}]
[{"$f":"#REF!","v":{"$error":"#REF!"}},{"$error":"#REF!"}]
[{"$f":"#REF!","v":{"$error":"#REF!"}},{"$error":"#REF!"}]
[{"$f":"#REF!","v":{"$error":"#REF!"}},{"$error":"#REF!"}]
[{"$f":"#REF!","v":{"$error":"#REF!"}},{"$error":"#REF!"}]
[{"$f":"#REF!","v":{"$error":"#REF!"}},{"$error":"#REF!"}]
[{"$f":"#REF!","v":{"$error":"#REF!"}},{"$error":"#REF!"}]
[{"$f":"#REF!","v":{"$error":"#REF!"}},{"$error":"#REF!"}]
[{"$f":"#REF!","v":{"$error":"#REF!"}},{"$error":"#REF!"}]
[{"$f":"#REF!","v":{"$error":"#REF!"}},{"$error":"#REF!"}]
[{"$f":"#REF!","v":{"$error":"#REF!"}},{"$error":"#REF!"}]
[{"$f":"#REF!","v":{"$error":"#REF!"}},{"$error":"#REF!"}]
[{"$f":"#REF!","v":{"$error":"#REF!"}},{"$error":"#REF!"}]
[{"$f":"#REF!","v":{"$error":"#REF!"}},{"$error":"#REF!"}]
[{"$f":"#REF!","v":{"$error":"#REF!"}},{"$error":"#REF!"}]
[{"$f":"#REF!","v":{"$error":"#REF!"}},{"$error":"#REF!"}]
[{"$f":"#REF!","v":{"$error":"#REF!"}},{"$error":"#REF!"}]
[{"$f":"#REF!","v":{"$error":"#REF!"}},{"$error":"#REF!"}]
[{"$f":"#REF!","v":{"$error":"#REF!"}},{"$error":"#REF!"}]
[{"$f":"#REF!","v":{"$error":"#REF!"}},{"$error":"#REF!"}]
[{"$f":"#REF!","v":{"$error":"#REF!"}},{"$error":"#REF!"}]
[{"$f":"#REF!","v":{"$error":"#REF!"}},{"$error":"#REF!"}]
[{"$f":"#REF!","v":{"$error":"#REF!"}},{"$error":"#REF!"}]
[{"$f":"#REF!","v":{"$error":"#REF!"}},{"$error":"#REF!"}]
[{"$f":"#REF!","v":{"$error":"#REF!"}},{"$error":"#REF!"}]
[{"$f":"#REF!","v":{"$error":"#REF!"}},{"$error":"#REF!"}]
[{"$f":"#REF!","v":{"$error":"#REF!"}},{"$error":"#REF!"}]
[{"$f":"#REF!","v":{"$error":"#REF!"}},{"$error":"#REF!"}]
[{"$f":"#REF!","v":{"$error":"#REF!"}},{"$error":"#REF!"}]
[{"$f":"#REF!","v":{"$error":"#REF!"}},{"$error":"#REF!"}]
[{"$f":"#REF!","v":{"$error":"#REF!"}},{"$error":"#REF!"}]
[{"$f":"#REF!","v":{"$error":"#REF!"}},{"$error":"#REF!"}]
[{"$f":"#REF!","v":{"$error":"#REF!"}},{"$error":"#REF!"}]
[{"$f":"#REF!","v":{"$error":"#REF!"}},{"$error":"#REF!"}]
[{"$f":"#REF!","v":{"$error":"#REF!"}},{"$error":"#REF!"}]
[{"$f":"#REF!","v":{"$error":"#REF!"}},{"$error":"#REF!"}]
[{"$f":"#REF!","v":{"$error":"#REF!"}},{"$error":"#REF!"}]
[{"$f":"#REF!","v":{"$error":"#REF!"}},{"$error":"#REF!"}]
[{"$f":"#REF!","v":{"$error":"#REF!"}},{"$error":"#REF!"}]
[{"$f":"#REF!","v":{"$error":"#REF!"}},{"$error":"#REF!"}]
[{"$f":"#REF!","v":{"$error":"#REF!"}},{"$f":"IF(A1488=\"\",\"\",IF(VLOOKUP(A1488,base_rpvs_pagas,2)=A$11,A1488,0))","v":{"$error":"#REF!"}}]
[{"$f":"#REF!","v":{"$error":"#REF!"}},{"$error":"#REF!"}]
[{"$f":"#REF!","v":{"$error":"#REF!"}},{"$error":"#REF!"}]
[{"$f":"#REF!","v":{"$error":"#REF!"}},{"$error":"#REF!"}]
[{"$f":"#REF!","v":{"$error":"#REF!"}},{"$error":"#REF!"}]
[{"$f":"#REF!","v":{"$error":"#REF!"}},{"$error":"#REF!"}]
[{"$f":"#REF!","v":{"$error":"#REF!"}},{"$error":"#REF!"}]
[{"$f":"#REF!","v":{"$error":"#REF!"}},{"$error":"#REF!"}]
[{"$f":"#REF!","v":{"$error":"#REF!"}},{"$error":"#REF!"}]
[{"$f":"#REF!","v":{"$error":"#REF!"}},{"$error":"#REF!"}]
[{"$f":"#REF!","v":{"$error":"#REF!"}},{"$error":"#REF!"}]
[{"$f":"#REF!","v":{"$error":"#REF!"}},{"$error":"#REF!"}]
[{"$f":"#REF!","v":{"$error":"#REF!"}},{"$error":"#REF!"}]
[{"$f":"#REF!","v":{"$error":"#REF!"}},{"$error":"#REF!"}]
[{"$f":"#REF!","v":{"$error":"#REF!"}},{"$error":"#REF!"}]
[{"$f":"#REF!","v":{"$error":"#REF!"}},{"$error":"#REF!"}]
[{"$f":"#REF!","v":{"$error":"#REF!"}},{"$error":"#REF!"}]
[{"$f":"#REF!","v":{"$error":"#REF!"}},{"$error":"#REF!"}]
[{"$f":"#REF!","v":{"$error":"#REF!"}},{"$error":"#REF!"}]
[{"$f":"#REF!","v":{"$error":"#REF!"}},{"$error":"#REF!"}]
[{"$f":"#REF!","v":{"$error":"#REF!"}},{"$error":"#REF!"}]
[{"$f":"#REF!","v":{"$error":"#REF!"}},{"$error":"#REF!"}]
[{"$f":"#REF!","v":{"$error":"#REF!"}},{"$error":"#REF!"}]
[{"$f":"#REF!","v":{"$error":"#REF!"}},{"$error":"#REF!"}]
[{"$f":"#REF!","v":{"$error":"#REF!"}},{"$error":"#REF!"}]
[{"$f":"#REF!","v":{"$error":"#REF!"}},{"$error":"#REF!"}]
[{"$f":"#REF!","v":{"$error":"#REF!"}},{"$error":"#REF!"}]
[{"$f":"#REF!","v":{"$error":"#REF!"}},{"$error":"#REF!"}]
[{"$f":"#REF!","v":{"$error":"#REF!"}},{"$error":"#REF!"}]
[{"$f":"#REF!","v":{"$error":"#REF!"}},{"$error":"#REF!"}]
[{"$f":"#REF!","v":{"$error":"#REF!"}},{"$error":"#REF!"}]
[{"$f":"#REF!","v":{"$error":"#REF!"}},{"$error":"#REF!"}]
[{"$f":"#REF!","v":{"$error":"#REF!"}},{"$error":"#REF!"}]
[{"$f":"#REF!","v":{"$error":"#REF!"}},{"$error":"#REF!"}]
[{"$f":"#REF!","v":{"$error":"#REF!"}},{"$error":"#REF!"}]
[{"$f":"#REF!","v":{"$error":"#REF!"}},{"$error":"#REF!"}]
[{"$f":"#REF!","v":{"$error":"#REF!"}},{"$error":"#REF!"}]
[{"$f":"#REF!","v":{"$error":"#REF!"}},{"$error":"#REF!"}]
[{"$f":"#REF!","v":{"$error":"#REF!"}},{"$error":"#REF!"}]
[{"$f":"#REF!","v":{"$error":"#REF!"}},{"$error":"#REF!"}]
[{"$f":"#REF!","v":{"$error":"#REF!"}},{"$error":"#REF!"}]
[{"$f":"#REF!","v":{"$error":"#REF!"}},{"$error":"#REF!"}]
[{"$f":"#REF!","v":{"$error":"#REF!"}},{"$error":"#REF!"}]
[{"$f":"#REF!","v":{"$error":"#REF!"}},{"$error":"#REF!"}]
[{"$f":"#REF!","v":{"$error":"#REF!"}},{"$error":"#REF!"}]
[{"$f":"#REF!","v":{"$error":"#REF!"}},{"$error":"#REF!"}]
[{"$f":"#REF!","v":{"$error":"#REF!"}},{"$error":"#REF!"}]
[{"$f":"#REF!","v":{"$error":"#REF!"}},{"$error":"#REF!"}]
[{"$f":"#REF!","v":{"$error":"#REF!"}},{"$error":"#REF!"}]
[{"$f":"#REF!","v":{"$error":"#REF!"}},{"$error":"#REF!"}]
[{"$f":"#REF!","v":{"$error":"#REF!"}},{"$error":"#REF!"}]
[{"$f":"#REF!","v":{"$error":"#REF!"}},{"$error":"#REF!"}]
[{"$f":"#REF!","v":{"$error":"#REF!"}},{"$error":"#REF!"}]
[{"$f":"#REF!","v":{"$error":"#REF!"}},{"$error":"#REF!"}]
[{"$f":"#REF!","v":{"$error":"#REF!"}},{"$error":"#REF!"}]
[{"$f":"#REF!","v":{"$error":"#REF!"}},{"$error":"#REF!"}]
[{"$f":"#REF!","v":{"$error":"#REF!"}},{"$error":"#REF!"}]
[{"$f":"#REF!","v":{"$error":"#REF!"}},{"$error":"#REF!"}]
[{"$f":"#REF!","v":{"$error":"#REF!"}},{"$error":"#REF!"}]
[{"$f":"#REF!","v":{"$error":"#REF!"}},{"$error":"#REF!"}]
[{"$f":"#REF!","v":{"$error":"#REF!"}},{"$error":"#REF!"}]
[{"$f":"#REF!","v":{"$error":"#REF!"}},{"$error":"#REF!"}]
[{"$f":"#REF!","v":{"$error":"#REF!"}},{"$error":"#REF!"}]
[{"$f":"#REF!","v":{"$error":"#REF!"}},{"$error":"#REF!"}]
[{"$f":"#REF!","v":{"$error":"#REF!"}},{"$f":"IF(A1552=\"\",\"\",IF(VLOOKUP(A1552,base_rpvs_pagas,2)=A$11,A1552,0))","v":{"$error":"#REF!"}}]
[{"$f":"#REF!","v":{"$error":"#REF!"}},{"$error":"#REF!"}]
[{"$f":"#REF!","v":{"$error":"#REF!"}},{"$error":"#REF!"}]
[{"$f":"#REF!","v":{"$error":"#REF!"}},{"$error":"#REF!"}]
[{"$f":"#REF!","v":{"$error":"#REF!"}},{"$error":"#REF!"}]
[{"$f":"#REF!","v":{"$error":"#REF!"}},{"$error":"#REF!"}]
[{"$f":"#REF!","v":{"$error":"#REF!"}},{"$error":"#REF!"}]
[{"$f":"#REF!","v":{"$error":"#REF!"}},{"$error":"#REF!"}]
[{"$f":"#REF!","v":{"$error":"#REF!"}},{"$error":"#REF!"}]
[{"$f":"#REF!","v":{"$error":"#REF!"}},{"$error":"#REF!"}]
[{"$f":"#REF!","v":{"$error":"#REF!"}},{"$error":"#REF!"}]
[{"$f":"#REF!","v":{"$error":"#REF!"}},{"$error":"#REF!"}]
[{"$f":"#REF!","v":{"$error":"#REF!"}},{"$error":"#REF!"}]
[{"$f":"#REF!","v":{"$error":"#REF!"}},{"$error":"#REF!"}]
[{"$f":"#REF!","v":{"$error":"#REF!"}},{"$error":"#REF!"}]
[{"$f":"#REF!","v":{"$error":"#REF!"}},{"$error":"#REF!"}]
[{"$f":"#REF!","v":{"$error":"#REF!"}},{"$error":"#REF!"}]
[{"$f":"#REF!","v":{"$error":"#REF!"}},{"$error":"#REF!"}]
[{"$f":"#REF!","v":{"$error":"#REF!"}},{"$error":"#REF!"}]
[{"$f":"#REF!","v":{"$error":"#REF!"}},{"$error":"#REF!"}]
[{"$f":"#REF!","v":{"$error":"#REF!"}},{"$error":"#REF!"}]
[{"$f":"#REF!","v":{"$error":"#REF!"}},{"$error":"#REF!"}]
[{"$f":"#REF!","v":{"$error":"#REF!"}},{"$error":"#REF!"}]
[{"$f":"#REF!","v":{"$error":"#REF!"}},{"$error":"#REF!"}]
[{"$f":"#REF!","v":{"$error":"#REF!"}},{"$error":"#REF!"}]
[{"$f":"#REF!","v":{"$error":"#REF!"}},{"$error":"#REF!"}]
[{"$f":"#REF!","v":{"$error":"#REF!"}},{"$error":"#REF!"}]
[{"$f":"#REF!","v":{"$error":"#REF!"}},{"$error":"#REF!"}]
[{"$f":"#REF!","v":{"$error":"#REF!"}},{"$error":"#REF!"}]
[{"$f":"#REF!","v":{"$error":"#REF!"}},{"$error":"#REF!"}]
[{"$f":"#REF!","v":{"$error":"#REF!"}},{"$error":"#REF!"}]
[{"$f":"#REF!","v":{"$error":"#REF!"}},{"$error":"#REF!"}]
[{"$f":"#REF!","v":{"$error":"#REF!"}},{"$error":"#REF!"}]
[{"$f":"#REF!","v":{"$error":"#REF!"}},{"$error":"#REF!"}]
[{"$f":"#REF!","v":{"$error":"#REF!"}},{"$error":"#REF!"}]
[{"$f":"#REF!","v":{"$error":"#REF!"}},{"$error":"#REF!"}]
[{"$f":"#REF!","v":{"$error":"#REF!"}},{"$error":"#REF!"}]
[{"$f":"#REF!","v":{"$error":"#REF!"}},{"$error":"#REF!"}]
[{"$f":"#REF!","v":{"$error":"#REF!"}},{"$error":"#REF!"}]
[{"$f":"#REF!","v":{"$error":"#REF!"}},{"$error":"#REF!"}]
[{"$f":"#REF!","v":{"$error":"#REF!"}},{"$error":"#REF!"}]
[{"$f":"#REF!","v":{"$error":"#REF!"}},{"$error":"#REF!"}]
[{"$f":"#REF!","v":{"$error":"#REF!"}},{"$error":"#REF!"}]
[{"$f":"#REF!","v":{"$error":"#REF!"}},{"$error":"#REF!"}]
[{"$f":"#REF!","v":{"$error":"#REF!"}},{"$error":"#REF!"}]
[{"$f":"#REF!","v":{"$error":"#REF!"}},{"$error":"#REF!"}]
[{"$f":"#REF!","v":{"$error":"#REF!"}},{"$error":"#REF!"}]
[{"$f":"#REF!","v":{"$error":"#REF!"}},{"$error":"#REF!"}]
[{"$f":"#REF!","v":{"$error":"#REF!"}},{"$error":"#REF!"}]
[{"$f":"#REF!","v":{"$error":"#REF!"}},{"$error":"#REF!"}]
[{"$f":"#REF!","v":{"$error":"#REF!"}},{"$error":"#REF!"}]
[{"$f":"#REF!","v":{"$error":"#REF!"}},{"$error":"#REF!"}]
[{"$f":"#REF!","v":{"$error":"#REF!"}},{"$error":"#REF!"}]
[{"$f":"#REF!","v":{"$error":"#REF!"}},{"$error":"#REF!"}]
[{"$f":"#REF!","v":{"$error":"#REF!"}},{"$error":"#REF!"}]
[{"$f":"#REF!","v":{"$error":"#REF!"}},{"$error":"#REF!"}]
[{"$f":"#REF!","v":{"$error":"#REF!"}},{"$error":"#REF!"}]
[{"$f":"#REF!","v":{"$error":"#REF!"}},{"$error":"#REF!"}]
[{"$f":"#REF!","v":{"$error":"#REF!"}},{"$error":"#REF!"}]
[{"$f":"#REF!","v":{"$error":"#REF!"}},{"$error":"#REF!"}]
[{"$f":"#REF!","v":{"$error":"#REF!"}},{"$error":"#REF!"}]
[{"$f":"#REF!","v":{"$error":"#REF!"}},{"$error":"#REF!"}]
[{"$f":"#REF!","v":{"$error":"#REF!"}},{"$error":"#REF!"}]
[{"$f":"#REF!","v":{"$error":"#REF!"}},{"$error":"#REF!"}]
[{"$f":"#REF!","v":{"$error":"#REF!"}},{"$f":"IF(A1616=\"\",\"\",IF(VLOOKUP(A1616,base_rpvs_pagas,2)=A$11,A1616,0))","v":{"$error":"#REF!"}}]
[{"$f":"#REF!","v":{"$error":"#REF!"}},{"$error":"#REF!"}]
[{"$f":"#REF!","v":{"$error":"#REF!"}},{"$error":"#REF!"}]
[{"$f":"#REF!","v":{"$error":"#REF!"}},{"$error":"#REF!"}]
[{"$f":"#REF!","v":{"$error":"#REF!"}},{"$error":"#REF!"}]
[{"$f":"#REF!","v":{"$error":"#REF!"}},{"$error":"#REF!"}]
[{"$f":"#REF!","v":{"$error":"#REF!"}},{"$error":"#REF!"}]
[{"$f":"#REF!","v":{"$error":"#REF!"}},{"$error":"#REF!"}]
[{"$f":"#REF!","v":{"$error":"#REF!"}},{"$error":"#REF!"}]
[{"$f":"#REF!","v":{"$error":"#REF!"}},{"$error":"#REF!"}]
[{"$f":"#REF!","v":{"$error":"#REF!"}},{"$error":"#REF!"}]
[{"$f":"#REF!","v":{"$error":"#REF!"}},{"$error":"#REF!"}]
[{"$f":"#REF!","v":{"$error":"#REF!"}},{"$error":"#REF!"}]
[{"$f":"#REF!","v":{"$error":"#REF!"}},{"$error":"#REF!"}]
[{"$f":"#REF!","v":{"$error":"#REF!"}},{"$error":"#REF!"}]
[{"$f":"#REF!","v":{"$error":"#REF!"}},{"$error":"#REF!"}]
[{"$f":"#REF!","v":{"$error":"#REF!"}},{"$error":"#REF!"}]
[{"$f":"#REF!","v":{"$error":"#REF!"}},{"$error":"#REF!"}]
[{"$f":"#REF!","v":{"$error":"#REF!"}},{"$error":"#REF!"}]
[{"$f":"#REF!","v":{"$error":"#REF!"}},{"$error":"#REF!"}]
[{"$f":"#REF!","v":{"$error":"#REF!"}},{"$error":"#REF!"}]
[{"$f":"#REF!","v":{"$error":"#REF!"}},{"$error":"#REF!"}]
[{"$f":"#REF!","v":{"$error":"#REF!"}},{"$error":"#REF!"}]
[{"$f":"#REF!","v":{"$error":"#REF!"}},{"$error":"#REF!"}]
[{"$f":"#REF!","v":{"$error":"#REF!"}},{"$error":"#REF!"}]
[{"$f":"#REF!","v":{"$error":"#REF!"}},{"$error":"#REF!"}]
[{"$f":"#REF!","v":{"$error":"#REF!"}},{"$error":"#REF!"}]
[{"$f":"#REF!","v":{"$error":"#REF!"}},{"$error":"#REF!"}]
[{"$f":"#REF!","v":{"$error":"#REF!"}},{"$error":"#REF!"}]
[{"$f":"#REF!","v":{"$error":"#REF!"}},{"$error":"#REF!"}]
[{"$f":"#REF!","v":{"$error":"#REF!"}},{"$error":"#REF!"}]
[{"$f":"#REF!","v":{"$error":"#REF!"}},{"$error":"#REF!"}]
[{"$f":"#REF!","v":{"$error":"#REF!"}},{"$error":"#REF!"}]
[{"$f":"#REF!","v":{"$error":"#REF!"}},{"$error":"#REF!"}]
[{"$f":"#REF!","v":{"$error":"#REF!"}},{"$error":"#REF!"}]
[{"$f":"#REF!","v":{"$error":"#REF!"}},{"$error":"#REF!"}]
[{"$f":"#REF!","v":{"$error":"#REF!"}},{"$error":"#REF!"}]
[{"$f":"#REF!","v":{"$error":"#REF!"}},{"$error":"#REF!"}]
[{"$f":"#REF!","v":{"$error":"#REF!"}},{"$error":"#REF!"}]
[{"$f":"#REF!","v":{"$error":"#REF!"}},{"$error":"#REF!"}]
[{"$f":"#REF!","v":{"$error":"#REF!"}},{"$error":"#REF!"}]
[{"$f":"#REF!","v":{"$error":"#REF!"}},{"$error":"#REF!"}]
[{"$f":"#REF!","v":{"$error":"#REF!"}},{"$error":"#REF!"}]
[{"$f":"#REF!","v":{"$error":"#REF!"}},{"$error":"#REF!"}]
[{"$f":"#REF!","v":{"$error":"#REF!"}},{"$error":"#REF!"}]
[{"$f":"#REF!","v":{"$error":"#REF!"}},{"$error":"#REF!"}]
[{"$f":"#REF!","v":{"$error":"#REF!"}},{"$error":"#REF!"}]
[{"$f":"#REF!","v":{"$error":"#REF!"}},{"$error":"#REF!"}]
[{"$f":"#REF!","v":{"$error":"#REF!"}},{"$error":"#REF!"}]
[{"$f":"#REF!","v":{"$error":"#REF!"}},{"$error":"#REF!"}]
[{"$f":"#REF!","v":{"$error":"#REF!"}},{"$error":"#REF!"}]
[{"$f":"#REF!","v":{"$error":"#REF!"}},{"$error":"#REF!"}]
[{"$f":"#REF!","v":{"$error":"#REF!"}},{"$error":"#REF!"}]
[{"$f":"#REF!","v":{"$error":"#REF!"}},{"$error":"#REF!"}]
[{"$f":"#REF!","v":{"$error":"#REF!"}},{"$error":"#REF!"}]
[{"$f":"#REF!","v":{"$error":"#REF!"}},{"$error":"#REF!"}]
[{"$f":"#REF!","v":{"$error":"#REF!"}},{"$error":"#REF!"}]
[{"$f":"#REF!","v":{"$error":"#REF!"}},{"$error":"#REF!"}]
[{"$f":"#REF!","v":{"$error":"#REF!"}},{"$error":"#REF!"}]
[{"$f":"#REF!","v":{"$error":"#REF!"}},{"$error":"#REF!"}]
[{"$f":"#REF!","v":{"$error":"#REF!"}},{"$error":"#REF!"}]
[{"$f":"#REF!","v":{"$error":"#REF!"}},{"$error":"#REF!"}]
[{"$f":"#REF!","v":{"$error":"#REF!"}},{"$error":"#REF!"}]
[{"$f":"#REF!","v":{"$error":"#REF!"}},{"$error":"#REF!"}]
[{"$f":"#REF!","v":{"$error":"#REF!"}},{"$f":"IF(A1680=\"\",\"\",IF(VLOOKUP(A1680,base_rpvs_pagas,2)=A$11,A1680,0))","v":{"$error":"#REF!"}}]
[{"$f":"#REF!","v":{"$error":"#REF!"}},{"$error":"#REF!"}]
[{"$f":"#REF!","v":{"$error":"#REF!"}},{"$error":"#REF!"}]
[{"$f":"#REF!","v":{"$error":"#REF!"}},{"$error":"#REF!"}]
[{"$f":"#REF!","v":{"$error":"#REF!"}},{"$error":"#REF!"}]
[{"$f":"#REF!","v":{"$error":"#REF!"}},{"$error":"#REF!"}]
[{"$f":"#REF!","v":{"$error":"#REF!"}},{"$error":"#REF!"}]
[{"$f":"#REF!","v":{"$error":"#REF!"}},{"$error":"#REF!"}]
[{"$f":"#REF!","v":{"$error":"#REF!"}},{"$error":"#REF!"}]
[{"$f":"#REF!","v":{"$error":"#REF!"}},{"$error":"#REF!"}]
[{"$f":"#REF!","v":{"$error":"#REF!"}},{"$error":"#REF!"}]
[{"$f":"#REF!","v":{"$error":"#REF!"}},{"$error":"#REF!"}]
[{"$f":"#REF!","v":{"$error":"#REF!"}},{"$error":"#REF!"}]
[{"$f":"#REF!","v":{"$error":"#REF!"}},{"$error":"#REF!"}]
[{"$f":"#REF!","v":{"$error":"#REF!"}},{"$error":"#REF!"}]
[{"$f":"#REF!","v":{"$error":"#REF!"}},{"$error":"#REF!"}]
[{"$f":"#REF!","v":{"$error":"#REF!"}},{"$error":"#REF!"}]
[{"$f":"#REF!","v":{"$error":"#REF!"}},{"$error":"#REF!"}]
[{"$f":"#REF!","v":{"$error":"#REF!"}},{"$error":"#REF!"}]
[{"$f":"#REF!","v":{"$error":"#REF!"}},{"$error":"#REF!"}]
[{"$f":"#REF!","v":{"$error":"#REF!"}},{"$error":"#REF!"}]
[{"$f":"#REF!","v":{"$error":"#REF!"}},{"$error":"#REF!"}]
[{"$f":"#REF!","v":{"$error":"#REF!"}},{"$error":"#REF!"}]
[{"$f":"#REF!","v":{"$error":"#REF!"}},{"$error":"#REF!"}]
[{"$f":"#REF!","v":{"$error":"#REF!"}},{"$error":"#REF!"}]
[{"$f":"#REF!","v":{"$error":"#REF!"}},{"$error":"#REF!"}]
[{"$f":"#REF!","v":{"$error":"#REF!"}},{"$error":"#REF!"}]
[{"$f":"#REF!","v":{"$error":"#REF!"}},{"$error":"#REF!"}]
[{"$f":"#REF!","v":{"$error":"#REF!"}},{"$error":"#REF!"}]
[{"$f":"#REF!","v":{"$error":"#REF!"}},{"$error":"#REF!"}]
[{"$f":"#REF!","v":{"$error":"#REF!"}},{"$error":"#REF!"}]
[{"$f":"#REF!","v":{"$error":"#REF!"}},{"$error":"#REF!"}]
[{"$f":"#REF!","v":{"$error":"#REF!"}},{"$error":"#REF!"}]
[{"$f":"#REF!","v":{"$error":"#REF!"}},{"$error":"#REF!"}]
[{"$f":"#REF!","v":{"$error":"#REF!"}},{"$error":"#REF!"}]
[{"$f":"#REF!","v":{"$error":"#REF!"}},{"$error":"#REF!"}]
[{"$f":"#REF!","v":{"$error":"#REF!"}},{"$error":"#REF!"}]
[{"$f":"#REF!","v":{"$error":"#REF!"}},{"$error":"#REF!"}]
[{"$f":"#REF!","v":{"$error":"#REF!"}},{"$error":"#REF!"}]
[{"$f":"#REF!","v":{"$error":"#REF!"}},{"$error":"#REF!"}]
[{"$f":"#REF!","v":{"$error":"#REF!"}},{"$error":"#REF!"}]
[{"$f":"#REF!","v":{"$error":"#REF!"}},{"$error":"#REF!"}]
[{"$f":"#REF!","v":{"$error":"#REF!"}},{"$error":"#REF!"}]
[{"$f":"#REF!","v":{"$error":"#REF!"}},{"$error":"#REF!"}]
[{"$f":"#REF!","v":{"$error":"#REF!"}},{"$error":"#REF!"}]
[{"$f":"#REF!","v":{"$error":"#REF!"}},{"$error":"#REF!"}]
[{"$f":"#REF!","v":{"$error":"#REF!"}},{"$error":"#REF!"}]
[{"$f":"#REF!","v":{"$error":"#REF!"}},{"$error":"#REF!"}]
[{"$f":"#REF!","v":{"$error":"#REF!"}},{"$error":"#REF!"}]
[{"$f":"#REF!","v":{"$error":"#REF!"}},{"$error":"#REF!"}]
[{"$f":"#REF!","v":{"$error":"#REF!"}},{"$error":"#REF!"}]
[{"$f":"#REF!","v":{"$error":"#REF!"}},{"$error":"#REF!"}]
[{"$f":"#REF!","v":{"$error":"#REF!"}},{"$error":"#REF!"}]
[{"$f":"#REF!","v":{"$error":"#REF!"}},{"$error":"#REF!"}]
[{"$f":"#REF!","v":{"$error":"#REF!"}},{"$error":"#REF!"}]
[{"$f":"#REF!","v":{"$error":"#REF!"}},{"$error":"#REF!"}]
[{"$f":"#REF!","v":{"$error":"#REF!"}},{"$error":"#REF!"}]
[{"$f":"#REF!","v":{"$error":"#REF!"}},{"$error":"#REF!"}]
[{"$f":"#REF!","v":{"$error":"#REF!"}},{"$error":"#REF!"}]
[{"$f":"#REF!","v":{"$error":"#REF!"}},{"$error":"#REF!"}]
[{"$f":"#REF!","v":{"$error":"#REF!"}},{"$error":"#REF!"}]
[{"$f":"#REF!","v":{"$error":"#REF!"}},{"$error":"#REF!"}]
[{"$f":"#REF!","v":{"$error":"#REF!"}},{"$error":"#REF!"}]
[{"$f":"#REF!","v":{"$error":"#REF!"}},{"$error":"#REF!"}]
[{"$f":"#REF!","v":{"$error":"#REF!"}},{"$f":"IF(A1744=\"\",\"\",IF(VLOOKUP(A1744,base_rpvs_pagas,2)=A$11,A1744,0))","v":{"$error":"#REF!"}}]
[{"$f":"#REF!","v":{"$error":"#REF!"}},{"$error":"#REF!"}]
[{"$f":"#REF!","v":{"$error":"#REF!"}},{"$error":"#REF!"}]
[{"$f":"#REF!","v":{"$error":"#REF!"}},{"$error":"#REF!"}]
[{"$f":"#REF!","v":{"$error":"#REF!"}},{"$error":"#REF!"}]
[{"$f":"#REF!","v":{"$error":"#REF!"}},{"$error":"#REF!"}]
[{"$f":"#REF!","v":{"$error":"#REF!"}},{"$error":"#REF!"}]
[{"$f":"#REF!","v":{"$error":"#REF!"}},{"$error":"#REF!"}]
[{"$f":"#REF!","v":{"$error":"#REF!"}},{"$error":"#REF!"}]
[{"$f":"#REF!","v":{"$error":"#REF!"}},{"$error":"#REF!"}]
[{"$f":"#REF!","v":{"$error":"#REF!"}},{"$error":"#REF!"}]
[{"$f":"#REF!","v":{"$error":"#REF!"}},{"$error":"#REF!"}]
[{"$f":"#REF!","v":{"$error":"#REF!"}},{"$error":"#REF!"}]
[{"$f":"#REF!","v":{"$error":"#REF!"}},{"$error":"#REF!"}]
[{"$f":"#REF!","v":{"$error":"#REF!"}},{"$error":"#REF!"}]
[{"$f":"#REF!","v":{"$error":"#REF!"}},{"$error":"#REF!"}]
[{"$f":"#REF!","v":{"$error":"#REF!"}},{"$error":"#REF!"}]
[{"$f":"#REF!","v":{"$error":"#REF!"}},{"$error":"#REF!"}]
[{"$f":"#REF!","v":{"$error":"#REF!"}},{"$error":"#REF!"}]
[{"$f":"#REF!","v":{"$error":"#REF!"}},{"$error":"#REF!"}]
[{"$f":"#REF!","v":{"$error":"#REF!"}},{"$error":"#REF!"}]
[{"$f":"#REF!","v":{"$error":"#REF!"}},{"$error":"#REF!"}]
[{"$f":"#REF!","v":{"$error":"#REF!"}},{"$error":"#REF!"}]
[{"$f":"#REF!","v":{"$error":"#REF!"}},{"$error":"#REF!"}]
[{"$f":"#REF!","v":{"$error":"#REF!"}},{"$error":"#REF!"}]
[{"$f":"#REF!","v":{"$error":"#REF!"}},{"$error":"#REF!"}]
[{"$f":"#REF!","v":{"$error":"#REF!"}},{"$error":"#REF!"}]
[{"$f":"#REF!","v":{"$error":"#REF!"}},{"$error":"#REF!"}]
[{"$f":"#REF!","v":{"$error":"#REF!"}},{"$error":"#REF!"}]
[{"$f":"#REF!","v":{"$error":"#REF!"}},{"$error":"#REF!"}]
[{"$f":"#REF!","v":{"$error":"#REF!"}},{"$error":"#REF!"}]
[{"$f":"#REF!","v":{"$error":"#REF!"}},{"$error":"#REF!"}]
[{"$f":"#REF!","v":{"$error":"#REF!"}},{"$error":"#REF!"}]
[{"$f":"#REF!","v":{"$error":"#REF!"}},{"$error":"#REF!"}]
[{"$f":"#REF!","v":{"$error":"#REF!"}},{"$error":"#REF!"}]
[{"$f":"#REF!","v":{"$error":"#REF!"}},{"$error":"#REF!"}]
[{"$f":"#REF!","v":{"$error":"#REF!"}},{"$error":"#REF!"}]
[{"$f":"#REF!","v":{"$error":"#REF!"}},{"$error":"#REF!"}]
[{"$f":"#REF!","v":{"$error":"#REF!"}},{"$error":"#REF!"}]
[{"$f":"#REF!","v":{"$error":"#REF!"}},{"$error":"#REF!"}]
[{"$f":"#REF!","v":{"$error":"#REF!"}},{"$error":"#REF!"}]
[{"$f":"#REF!","v":{"$error":"#REF!"}},{"$error":"#REF!"}]
[{"$f":"#REF!","v":{"$error":"#REF!"}},{"$error":"#REF!"}]
[{"$f":"#REF!","v":{"$error":"#REF!"}},{"$error":"#REF!"}]
[{"$f":"#REF!","v":{"$error":"#REF!"}},{"$error":"#REF!"}]
[{"$f":"#REF!","v":{"$error":"#REF!"}},{"$error":"#REF!"}]
[{"$f":"#REF!","v":{"$error":"#REF!"}},{"$error":"#REF!"}]
[{"$f":"#REF!","v":{"$error":"#REF!"}},{"$error":"#REF!"}]
[{"$f":"#REF!","v":{"$error":"#REF!"}},{"$error":"#REF!"}]
[{"$f":"#REF!","v":{"$error":"#REF!"}},{"$error":"#REF!"}]
[{"$f":"#REF!","v":{"$error":"#REF!"}},{"$error":"#REF!"}]
[{"$f":"#REF!","v":{"$error":"#REF!"}},{"$error":"#REF!"}]
[{"$f":"#REF!","v":{"$error":"#REF!"}},{"$error":"#REF!"}]
[{"$f":"#REF!","v":{"$error":"#REF!"}},{"$error":"#REF!"}]
[{"$f":"#REF!","v":{"$error":"#REF!"}},{"$error":"#REF!"}]
[{"$f":"#REF!","v":{"$error":"#REF!"}},{"$error":"#REF!"}]
[{"$f":"#REF!","v":{"$error":"#REF!"}},{"$error":"#REF!"}]
[{"$f":"#REF!","v":{"$error":"#REF!"}},{"$error":"#REF!"}]
[{"$f":"#REF!","v":{"$error":"#REF!"}},{"$error":"#REF!"}]
[{"$f":"#REF!","v":{"$error":"#REF!"}},{"$error":"#REF!"}]
[{"$f":"#REF!","v":{"$error":"#REF!"}},{"$error":"#REF!"}]
[{"$f":"#REF!","v":{"$error":"#REF!"}},{"$error":"#REF!"}]
[{"$f":"#REF!","v":{"$error":"#REF!"}},{"$error":"#REF!"}]
[{"$f":"#REF!","v":{"$error":"#REF!"}},{"$error":"#REF!"}]
[{"$f":"#REF!","v":{"$error":"#REF!"}},{"$f":"IF(A1808=\"\",\"\",IF(VLOOKUP(A1808,base_rpvs_pagas,2)=A$11,A1808,0))","v":{"$error":"#REF!"}}]
[{"$f":"#REF!","v":{"$error":"#REF!"}},{"$error":"#REF!"}]
[{"$f":"#REF!","v":{"$error":"#REF!"}},{"$error":"#REF!"}]
[{"$f":"#REF!","v":{"$error":"#REF!"}},{"$error":"#REF!"}]
[{"$f":"#REF!","v":{"$error":"#REF!"}},{"$error":"#REF!"}]
[{"$f":"#REF!","v":{"$error":"#REF!"}},{"$error":"#REF!"}]
[{"$f":"#REF!","v":{"$error":"#REF!"}},{"$error":"#REF!"}]
[{"$f":"#REF!","v":{"$error":"#REF!"}},{"$error":"#REF!"}]
[{"$f":"#REF!","v":{"$error":"#REF!"}},{"$error":"#REF!"}]
[{"$f":"#REF!","v":{"$error":"#REF!"}},{"$error":"#REF!"}]
[{"$f":"#REF!","v":{"$error":"#REF!"}},{"$error":"#REF!"}]
[{"$f":"#REF!","v":{"$error":"#REF!"}},{"$error":"#REF!"}]
[{"$f":"#REF!","v":{"$error":"#REF!"}},{"$error":"#REF!"}]
[{"$f":"#REF!","v":{"$error":"#REF!"}},{"$error":"#REF!"}]
[{"$f":"#REF!","v":{"$error":"#REF!"}},{"$error":"#REF!"}]
[{"$f":"#REF!","v":{"$error":"#REF!"}},{"$error":"#REF!"}]
[{"$f":"#REF!","v":{"$error":"#REF!"}},{"$error":"#REF!"}]
[{"$f":"#REF!","v":{"$error":"#REF!"}},{"$error":"#REF!"}]
[{"$f":"#REF!","v":{"$error":"#REF!"}},{"$error":"#REF!"}]
[{"$f":"#REF!","v":{"$error":"#REF!"}},{"$error":"#REF!"}]
[{"$f":"#REF!","v":{"$error":"#REF!"}},{"$error":"#REF!"}]
[{"$f":"#REF!","v":{"$error":"#REF!"}},{"$error":"#REF!"}]
[{"$f":"#REF!","v":{"$error":"#REF!"}},{"$error":"#REF!"}]
[{"$f":"#REF!","v":{"$error":"#REF!"}},{"$error":"#REF!"}]
[{"$f":"#REF!","v":{"$error":"#REF!"}},{"$error":"#REF!"}]
[{"$f":"#REF!","v":{"$error":"#REF!"}},{"$error":"#REF!"}]
[{"$f":"#REF!","v":{"$error":"#REF!"}},{"$error":"#REF!"}]
[{"$f":"#REF!","v":{"$error":"#REF!"}},{"$error":"#REF!"}]
[{"$f":"#REF!","v":{"$error":"#REF!"}},{"$error":"#REF!"}]
[{"$f":"#REF!","v":{"$error":"#REF!"}},{"$error":"#REF!"}]
[{"$f":"#REF!","v":{"$error":"#REF!"}},{"$error":"#REF!"}]
[{"$f":"#REF!","v":{"$error":"#REF!"}},{"$error":"#REF!"}]
[{"$f":"#REF!","v":{"$error":"#REF!"}},{"$error":"#REF!"}]
[{"$f":"#REF!","v":{"$error":"#REF!"}},{"$error":"#REF!"}]
[{"$f":"#REF!","v":{"$error":"#REF!"}},{"$error":"#REF!"}]
[{"$f":"#REF!","v":{"$error":"#REF!"}},{"$error":"#REF!"}]
[{"$f":"#REF!","v":{"$error":"#REF!"}},{"$error":"#REF!"}]
[{"$f":"#REF!","v":{"$error":"#REF!"}},{"$error":"#REF!"}]
[{"$f":"#REF!","v":{"$error":"#REF!"}},{"$error":"#REF!"}]
[{"$f":"#REF!","v":{"$error":"#REF!"}},{"$error":"#REF!"}]
[{"$f":"#REF!","v":{"$error":"#REF!"}},{"$error":"#REF!"}]
[{"$f":"#REF!","v":{"$error":"#REF!"}},{"$error":"#REF!"}]
[{"$f":"#REF!","v":{"$error":"#REF!"}},{"$error":"#REF!"}]
[{"$f":"#REF!","v":{"$error":"#REF!"}},{"$error":"#REF!"}]
[{"$f":"#REF!","v":{"$error":"#REF!"}},{"$error":"#REF!"}]
[{"$f":"#REF!","v":{"$error":"#REF!"}},{"$error":"#REF!"}]
[{"$f":"#REF!","v":{"$error":"#REF!"}},{"$error":"#REF!"}]
[{"$f":"#REF!","v":{"$error":"#REF!"}},{"$error":"#REF!"}]
[{"$f":"#REF!","v":{"$error":"#REF!"}},{"$error":"#REF!"}]
[{"$f":"#REF!","v":{"$error":"#REF!"}},{"$error":"#REF!"}]
[{"$f":"#REF!","v":{"$error":"#REF!"}},{"$error":"#REF!"}]
[{"$f":"#REF!","v":{"$error":"#REF!"}},{"$error":"#REF!"}]
[{"$f":"#REF!","v":{"$error":"#REF!"}},{"$error":"#REF!"}]
[{"$f":"#REF!","v":{"$error":"#REF!"}},{"$error":"#REF!"}]
[{"$f":"#REF!","v":{"$error":"#REF!"}},{"$error":"#REF!"}]
[{"$f":"#REF!","v":{"$error":"#REF!"}},{"$error":"#REF!"}]
[{"$f":"#REF!","v":{"$error":"#REF!"}},{"$error":"#REF!"}]
[{"$f":"#REF!","v":{"$error":"#REF!"}},{"$error":"#REF!"}]
[{"$f":"#REF!","v":{"$error":"#REF!"}},{"$error":"#REF!"}]
[{"$f":"#REF!","v":{"$error":"#REF!"}},{"$error":"#REF!"}]
[{"$f":"#REF!","v":{"$error":"#REF!"}},{"$error":"#REF!"}]
[{"$f":"#REF!","v":{"$error":"#REF!"}},{"$error":"#REF!"}]
[{"$f":"#REF!","v":{"$error":"#REF!"}},{"$error":"#REF!"}]
[{"$f":"#REF!","v":{"$error":"#REF!"}},{"$error":"#REF!"}]
[{"$f":"#REF!","v":{"$error":"#REF!"}},{"$f":"IF(A1872=\"\",\"\",IF(VLOOKUP(A1872,base_rpvs_pagas,2)=A$11,A1872,0))","v":{"$error":"#REF!"}}]
[{"$f":"#REF!","v":{"$error":"#REF!"}},{"$error":"#REF!"}]
[{"$f":"#REF!","v":{"$error":"#REF!"}},{"$error":"#REF!"}]
[{"$f":"#REF!","v":{"$error":"#REF!"}},{"$error":"#REF!"}]
[{"$f":"#REF!","v":{"$error":"#REF!"}},{"$error":"#REF!"}]
[{"$f":"#REF!","v":{"$error":"#REF!"}},{"$error":"#REF!"}]
[{"$f":"#REF!","v":{"$error":"#REF!"}},{"$error":"#REF!"}]
[{"$f":"#REF!","v":{"$error":"#REF!"}},{"$error":"#REF!"}]
[{"$f":"#REF!","v":{"$error":"#REF!"}},{"$error":"#REF!"}]
[{"$f":"#REF!","v":{"$error":"#REF!"}},{"$error":"#REF!"}]
[{"$f":"#REF!","v":{"$error":"#REF!"}},{"$error":"#REF!"}]
[{"$f":"#REF!","v":{"$error":"#REF!"}},{"$error":"#REF!"}]
[{"$f":"#REF!","v":{"$error":"#REF!"}},{"$error":"#REF!"}]
[{"$f":"#REF!","v":{"$error":"#REF!"}},{"$error":"#REF!"}]
[{"$f":"#REF!","v":{"$error":"#REF!"}},{"$error":"#REF!"}]
[{"$f":"#REF!","v":{"$error":"#REF!"}},{"$error":"#REF!"}]
[{"$f":"#REF!","v":{"$error":"#REF!"}},{"$error":"#REF!"}]
[{"$f":"#REF!","v":{"$error":"#REF!"}},{"$error":"#REF!"}]
[{"$f":"#REF!","v":{"$error":"#REF!"}},{"$error":"#REF!"}]
[{"$f":"#REF!","v":{"$error":"#REF!"}},{"$error":"#REF!"}]
[{"$f":"#REF!","v":{"$error":"#REF!"}},{"$error":"#REF!"}]
[{"$f":"#REF!","v":{"$error":"#REF!"}},{"$error":"#REF!"}]
[{"$f":"#REF!","v":{"$error":"#REF!"}},{"$error":"#REF!"}]
[{"$f":"#REF!","v":{"$error":"#REF!"}},{"$error":"#REF!"}]
[{"$f":"#REF!","v":{"$error":"#REF!"}},{"$error":"#REF!"}]
[{"$f":"#REF!","v":{"$error":"#REF!"}},{"$error":"#REF!"}]
[{"$f":"#REF!","v":{"$error":"#REF!"}},{"$error":"#REF!"}]
[{"$f":"#REF!","v":{"$error":"#REF!"}},{"$error":"#REF!"}]
[{"$f":"#REF!","v":{"$error":"#REF!"}},{"$error":"#REF!"}]
[{"$f":"#REF!","v":{"$error":"#REF!"}},{"$error":"#REF!"}]
[{"$f":"#REF!","v":{"$error":"#REF!"}},{"$error":"#REF!"}]
[{"$f":"#REF!","v":{"$error":"#REF!"}},{"$error":"#REF!"}]
[{"$f":"#REF!","v":{"$error":"#REF!"}},{"$error":"#REF!"}]
[{"$f":"#REF!","v":{"$error":"#REF!"}},{"$error":"#REF!"}]
[{"$f":"#REF!","v":{"$error":"#REF!"}},{"$error":"#REF!"}]
[{"$f":"#REF!","v":{"$error":"#REF!"}},{"$error":"#REF!"}]
[{"$f":"#REF!","v":{"$error":"#REF!"}},{"$error":"#REF!"}]
[{"$f":"#REF!","v":{"$error":"#REF!"}},{"$error":"#REF!"}]
[{"$f":"#REF!","v":{"$error":"#REF!"}},{"$error":"#REF!"}]
[{"$f":"#REF!","v":{"$error":"#REF!"}},{"$error":"#REF!"}]
[{"$f":"#REF!","v":{"$error":"#REF!"}},{"$error":"#REF!"}]
[{"$f":"#REF!","v":{"$error":"#REF!"}},{"$error":"#REF!"}]
[{"$f":"#REF!","v":{"$error":"#REF!"}},{"$error":"#REF!"}]
[{"$f":"#REF!","v":{"$error":"#REF!"}},{"$error":"#REF!"}]
[{"$f":"#REF!","v":{"$error":"#REF!"}},{"$error":"#REF!"}]
[{"$f":"#REF!","v":{"$error":"#REF!"}},{"$error":"#REF!"}]
[{"$f":"#REF!","v":{"$error":"#REF!"}},{"$error":"#REF!"}]
[{"$f":"#REF!","v":{"$error":"#REF!"}},{"$error":"#REF!"}]
[{"$f":"#REF!","v":{"$error":"#REF!"}},{"$error":"#REF!"}]
[{"$f":"#REF!","v":{"$error":"#REF!"}},{"$error":"#REF!"}]
[{"$f":"#REF!","v":{"$error":"#REF!"}},{"$error":"#REF!"}]
[{"$f":"#REF!","v":{"$error":"#REF!"}},{"$error":"#REF!"}]
[{"$f":"#REF!","v":{"$error":"#REF!"}},{"$error":"#REF!"}]
[{"$f":"#REF!","v":{"$error":"#REF!"}},{"$error":"#REF!"}]
[{"$f":"#REF!","v":{"$error":"#REF!"}},{"$error":"#REF!"}]
[{"$f":"#REF!","v":{"$error":"#REF!"}},{"$error":"#REF!"}]
[{"$f":"#REF!","v":{"$error":"#REF!"}},{"$error":"#REF!"}]
[{"$f":"#REF!","v":{"$error":"#REF!"}},{"$error":"#REF!"}]
[{"$f":"#REF!","v":{"$error":"#REF!"}},{"$error":"#REF!"}]
[{"$f":"#REF!","v":{"$error":"#REF!"}},{"$error":"#REF!"}]
[{"$f":"#REF!","v":{"$error":"#REF!"}},{"$error":"#REF!"}]
[{"$f":"#REF!","v":{"$error":"#REF!"}},{"$error":"#REF!"}]
[{"$f":"#REF!","v":{"$error":"#REF!"}},{"$error":"#REF!"}]
[{"$f":"#REF!","v":{"$error":"#REF!"}},{"$error":"#REF!"}]
[{"$f":"#REF!","v":{"$error":"#REF!"}},{"$f":"IF(A1936=\"\",\"\",IF(VLOOKUP(A1936,base_rpvs_pagas,2)=A$11,A1936,0))","v":{"$error":"#REF!"}}]
[{"$f":"#REF!","v":{"$error":"#REF!"}},{"$error":"#REF!"}]
[{"$f":"#REF!","v":{"$error":"#REF!"}},{"$error":"#REF!"}]
[{"$f":"#REF!","v":{"$error":"#REF!"}},{"$error":"#REF!"}]
[{"$f":"#REF!","v":{"$error":"#REF!"}},{"$error":"#REF!"}]
[{"$f":"#REF!","v":{"$error":"#REF!"}},{"$error":"#REF!"}]
[{"$f":"#REF!","v":{"$error":"#REF!"}},{"$error":"#REF!"}]
[{"$f":"#REF!","v":{"$error":"#REF!"}},{"$error":"#REF!"}]
[{"$f":"#REF!","v":{"$error":"#REF!"}},{"$error":"#REF!"}]
[{"$f":"#REF!","v":{"$error":"#REF!"}},{"$error":"#REF!"}]
[{"$f":"#REF!","v":{"$error":"#REF!"}},{"$error":"#REF!"}]
[{"$f":"#REF!","v":{"$error":"#REF!"}},{"$error":"#REF!"}]
[{"$f":"#REF!","v":{"$error":"#REF!"}},{"$error":"#REF!"}]
[{"$f":"#REF!","v":{"$error":"#REF!"}},{"$error":"#REF!"}]
[{"$f":"#REF!","v":{"$error":"#REF!"}},{"$error":"#REF!"}]
[{"$f":"#REF!","v":{"$error":"#REF!"}},{"$error":"#REF!"}]
[{"$f":"#REF!","v":{"$error":"#REF!"}},{"$error":"#REF!"}]
[{"$f":"#REF!","v":{"$error":"#REF!"}},{"$error":"#REF!"}]
[{"$f":"#REF!","v":{"$error":"#REF!"}},{"$error":"#REF!"}]
[{"$f":"#REF!","v":{"$error":"#REF!"}},{"$error":"#REF!"}]
[{"$f":"#REF!","v":{"$error":"#REF!"}},{"$error":"#REF!"}]
[{"$f":"#REF!","v":{"$error":"#REF!"}},{"$error":"#REF!"}]
[{"$f":"#REF!","v":{"$error":"#REF!"}},{"$error":"#REF!"}]
[{"$f":"#REF!","v":{"$error":"#REF!"}},{"$error":"#REF!"}]
[{"$f":"#REF!","v":{"$error":"#REF!"}},{"$error":"#REF!"}]
[{"$f":"#REF!","v":{"$error":"#REF!"}},{"$error":"#REF!"}]
[{"$f":"#REF!","v":{"$error":"#REF!"}},{"$error":"#REF!"}]
[{"$f":"#REF!","v":{"$error":"#REF!"}},{"$error":"#REF!"}]
[{"$f":"#REF!","v":{"$error":"#REF!"}},{"$error":"#REF!"}]
[{"$f":"#REF!","v":{"$error":"#REF!"}},{"$error":"#REF!"}]
[{"$f":"#REF!","v":{"$error":"#REF!"}},{"$error":"#REF!"}]
[{"$f":"#REF!","v":{"$error":"#REF!"}},{"$error":"#REF!"}]
[{"$f":"#REF!","v":{"$error":"#REF!"}},{"$error":"#REF!"}]
[{"$f":"#REF!","v":{"$error":"#REF!"}},{"$error":"#REF!"}]
[{"$f":"#REF!","v":{"$error":"#REF!"}},{"$error":"#REF!"}]
[{"$f":"#REF!","v":{"$error":"#REF!"}},{"$error":"#REF!"}]
[{"$f":"#REF!","v":{"$error":"#REF!"}},{"$error":"#REF!"}]
[{"$f":"#REF!","v":{"$error":"#REF!"}},{"$error":"#REF!"}]
[{"$f":"#REF!","v":{"$error":"#REF!"}},{"$error":"#REF!"}]
[{"$f":"#REF!","v":{"$error":"#REF!"}},{"$error":"#REF!"}]
[{"$f":"#REF!","v":{"$error":"#REF!"}},{"$error":"#REF!"}]
[{"$f":"#REF!","v":{"$error":"#REF!"}},{"$error":"#REF!"}]
[{"$f":"#REF!","v":{"$error":"#REF!"}},{"$error":"#REF!"}]
[{"$f":"#REF!","v":{"$error":"#REF!"}},{"$error":"#REF!"}]
[{"$f":"#REF!","v":{"$error":"#REF!"}},{"$error":"#REF!"}]
[{"$f":"#REF!","v":{"$error":"#REF!"}},{"$error":"#REF!"}]
[{"$f":"#REF!","v":{"$error":"#REF!"}},{"$error":"#REF!"}]
[{"$f":"#REF!","v":{"$error":"#REF!"}},{"$error":"#REF!"}]
[{"$f":"#REF!","v":{"$error":"#REF!"}},{"$error":"#REF!"}]
[{"$f":"#REF!","v":{"$error":"#REF!"}},{"$error":"#REF!"}]
[{"$f":"#REF!","v":{"$error":"#REF!"}},{"$error":"#REF!"}]
[{"$f":"#REF!","v":{"$error":"#REF!"}},{"$error":"#REF!"}]
[{"$f":"#REF!","v":{"$error":"#REF!"}},{"$error":"#REF!"}]
[{"$f":"#REF!","v":{"$error":"#REF!"}},{"$error":"#REF!"}]
[{"$f":"#REF!","v":{"$error":"#REF!"}},{"$error":"#REF!"}]
[{"$f":"#REF!","v":{"$error":"#REF!"}},{"$error":"#REF!"}]
[{"$f":"#REF!","v":{"$error":"#REF!"}},{"$error":"#REF!"}]
[{"$f":"#REF!","v":{"$error":"#REF!"}},{"$error":"#REF!"}]
[{"$f":"#REF!","v":{"$error":"#REF!"}},{"$error":"#REF!"}]
[{"$f":"#REF!","v":{"$error":"#REF!"}},{"$error":"#REF!"}]
[{"$f":"#REF!","v":{"$error":"#REF!"}},{"$error":"#REF!"}]
[{"$f":"#REF!","v":{"$error":"#REF!"}},{"$error":"#REF!"}]
[{"$f":"#REF!","v":{"$error":"#REF!"}},{"$error":"#REF!"}]
[{"$f":"#REF!","v":{"$error":"#REF!"}},{"$error":"#REF!"}]
[{"$f":"#REF!","v":{"$error":"#REF!"}},{"$f":"IF(A2000=\"\",\"\",IF(VLOOKUP(A2000,base_rpvs_pagas,2)=A$11,A2000,0))","v":{"$error":"#REF!"}}]
[{"$f":"#REF!","v":{"$error":"#REF!"}},{"$error":"#REF!"}]
[{"$f":"#REF!","v":{"$error":"#REF!"}},{"$error":"#REF!"}]
[{"$f":"#REF!","v":{"$error":"#REF!"}},{"$error":"#REF!"}]
[{"$f":"#REF!","v":{"$error":"#REF!"}},{"$error":"#REF!"}]
[{"$f":"#REF!","v":{"$error":"#REF!"}},{"$error":"#REF!"}]
[{"$f":"#REF!","v":{"$error":"#REF!"}},{"$error":"#REF!"}]
[{"$f":"#REF!","v":{"$error":"#REF!"}},{"$error":"#REF!"}]
[{"$f":"#REF!","v":{"$error":"#REF!"}},{"$error":"#REF!"}]
[{"$f":"#REF!","v":{"$error":"#REF!"}},{"$error":"#REF!"}]
[{"$f":"#REF!","v":{"$error":"#REF!"}},{"$error":"#REF!"}]
[{"$f":"#REF!","v":{"$error":"#REF!"}},{"$error":"#REF!"}]
[{"$f":"#REF!","v":{"$error":"#REF!"}},{"$error":"#REF!"}]
[{"$f":"#REF!","v":{"$error":"#REF!"}},{"$error":"#REF!"}]
[{"$f":"#REF!","v":{"$error":"#REF!"}},{"$error":"#REF!"}]
[{"$f":"#REF!","v":{"$error":"#REF!"}},{"$error":"#REF!"}]
[{"$f":"#REF!","v":{"$error":"#REF!"}},{"$error":"#REF!"}]
[{"$f":"#REF!","v":{"$error":"#REF!"}},{"$error":"#REF!"}]
[{"$f":"#REF!","v":{"$error":"#REF!"}},{"$error":"#REF!"}]
[{"$f":"#REF!","v":{"$error":"#REF!"}},{"$error":"#REF!"}]
[{"$f":"#REF!","v":{"$error":"#REF!"}},{"$error":"#REF!"}]
[{"$f":"#REF!","v":{"$error":"#REF!"}},{"$error":"#REF!"}]
[{"$f":"#REF!","v":{"$error":"#REF!"}},{"$error":"#REF!"}]
[{"$f":"#REF!","v":{"$error":"#REF!"}},{"$error":"#REF!"}]
[{"$f":"#REF!","v":{"$error":"#REF!"}},{"$error":"#REF!"}]
[{"$f":"#REF!","v":{"$error":"#REF!"}},{"$error":"#REF!"}]
[{"$f":"#REF!","v":{"$error":"#REF!"}},{"$error":"#REF!"}]
[{"$f":"#REF!","v":{"$error":"#REF!"}},{"$error":"#REF!"}]
[{"$f":"#REF!","v":{"$error":"#REF!"}},{"$error":"#REF!"}]
[{"$f":"#REF!","v":{"$error":"#REF!"}},{"$error":"#REF!"}]
[{"$f":"#REF!","v":{"$error":"#REF!"}},{"$error":"#REF!"}]
[{"$f":"#REF!","v":{"$error":"#REF!"}},{"$error":"#REF!"}]
[{"$f":"#REF!","v":{"$error":"#REF!"}},{"$error":"#REF!"}]
[{"$f":"#REF!","v":{"$error":"#REF!"}},{"$error":"#REF!"}]
[{"$f":"#REF!","v":{"$error":"#REF!"}},{"$error":"#REF!"}]
[{"$f":"#REF!","v":{"$error":"#REF!"}},{"$error":"#REF!"}]
[{"$f":"#REF!","v":{"$error":"#REF!"}},{"$error":"#REF!"}]
[{"$f":"#REF!","v":{"$error":"#REF!"}},{"$error":"#REF!"}]
[{"$f":"#REF!","v":{"$error":"#REF!"}},{"$error":"#REF!"}]
[{"$f":"#REF!","v":{"$error":"#REF!"}},{"$error":"#REF!"}]
[{"$f":"#REF!","v":{"$error":"#REF!"}},{"$error":"#REF!"}]
[{"$f":"#REF!","v":{"$error":"#REF!"}},{"$error":"#REF!"}]
[{"$f":"#REF!","v":{"$error":"#REF!"}},{"$error":"#REF!"}]
[{"$f":"#REF!","v":{"$error":"#REF!"}},{"$error":"#REF!"}]
[{"$f":"#REF!","v":{"$error":"#REF!"}},{"$error":"#REF!"}]
[{"$f":"#REF!","v":{"$error":"#REF!"}},{"$error":"#REF!"}]
[{"$f":"#REF!","v":{"$error":"#REF!"}},{"$error":"#REF!"}]
[{"$f":"#REF!","v":{"$error":"#REF!"}},{"$error":"#REF!"}]
[{"$f":"#REF!","v":{"$error":"#REF!"}},{"$error":"#REF!"}]
[{"$f":"#REF!","v":{"$error":"#REF!"}},{"$error":"#REF!"}]
[{"$f":"#REF!","v":{"$error":"#REF!"}},{"$error":"#REF!"}]
[{"$f":"#REF!","v":{"$error":"#REF!"}},{"$error":"#REF!"}]
[{"$f":"#REF!","v":{"$error":"#REF!"}},{"$error":"#REF!"}]
[{"$f":"#REF!","v":{"$error":"#REF!"}},{"$error":"#REF!"}]
[{"$f":"#REF!","v":{"$error":"#REF!"}},{"$error":"#REF!"}]
[{"$f":"#REF!","v":{"$error":"#REF!"}},{"$error":"#REF!"}]
[{"$f":"#REF!","v":{"$error":"#REF!"}},{"$error":"#REF!"}]
[{"$f":"#REF!","v":{"$error":"#REF!"}},{"$error":"#REF!"}]
[{"$f":"#REF!","v":{"$error":"#REF!"}},{"$error":"#REF!"}]
[{"$f":"#REF!","v":{"$error":"#REF!"}},{"$error":"#REF!"}]
[{"$f":"#REF!","v":{"$error":"#REF!"}},{"$error":"#REF!"}]
[{"$f":"#REF!","v":{"$error":"#REF!"}},{"$error":"#REF!"}]
[{"$f":"#REF!","v":{"$error":"#REF!"}},{"$error":"#REF!"}]
[{"$f":"#REF!","v":{"$error":"#REF!"}},{"$error":"#REF!"}]
[{"$f":"#REF!","v":{"$error":"#REF!"}},{"$f":"IF(A2064=\"\",\"\",IF(VLOOKUP(A2064,base_rpvs_pagas,2)=A$11,A2064,0))","v":{"$error":"#REF!"}}]
[{"$f":"#REF!","v":{"$error":"#REF!"}},{"$error":"#REF!"}]
[{"$f":"#REF!","v":{"$error":"#REF!"}},{"$error":"#REF!"}]
[{"$f":"#REF!","v":{"$error":"#REF!"}},{"$error":"#REF!"}]
[{"$f":"#REF!","v":{"$error":"#REF!"}},{"$error":"#REF!"}]
[{"$f":"#REF!","v":{"$error":"#REF!"}},{"$error":"#REF!"}]
[{"$f":"#REF!","v":{"$error":"#REF!"}},{"$error":"#REF!"}]
[{"$f":"#REF!","v":{"$error":"#REF!"}},{"$error":"#REF!"}]
[{"$f":"#REF!","v":{"$error":"#REF!"}},{"$error":"#REF!"}]
[{"$f":"#REF!","v":{"$error":"#REF!"}},{"$error":"#REF!"}]
[{"$f":"#REF!","v":{"$error":"#REF!"}},{"$error":"#REF!"}]
[{"$f":"#REF!","v":{"$error":"#REF!"}},{"$error":"#REF!"}]
[{"$f":"#REF!","v":{"$error":"#REF!"}},{"$error":"#REF!"}]
[{"$f":"#REF!","v":{"$error":"#REF!"}},{"$error":"#REF!"}]
[{"$f":"#REF!","v":{"$error":"#REF!"}},{"$error":"#REF!"}]
[{"$f":"#REF!","v":{"$error":"#REF!"}},{"$error":"#REF!"}]
[{"$f":"#REF!","v":{"$error":"#REF!"}},{"$error":"#REF!"}]
[{"$f":"#REF!","v":{"$error":"#REF!"}},{"$error":"#REF!"}]
[{"$f":"#REF!","v":{"$error":"#REF!"}},{"$error":"#REF!"}]
[{"$f":"#REF!","v":{"$error":"#REF!"}},{"$error":"#REF!"}]
[{"$f":"#REF!","v":{"$error":"#REF!"}},{"$error":"#REF!"}]
[{"$f":"#REF!","v":{"$error":"#REF!"}},{"$error":"#REF!"}]
[{"$f":"#REF!","v":{"$error":"#REF!"}},{"$error":"#REF!"}]
[{"$f":"#REF!","v":{"$error":"#REF!"}},{"$error":"#REF!"}]
[{"$f":"#REF!","v":{"$error":"#REF!"}},{"$error":"#REF!"}]
[{"$f":"#REF!","v":{"$error":"#REF!"}},{"$error":"#REF!"}]
[{"$f":"#REF!","v":{"$error":"#REF!"}},{"$error":"#REF!"}]
[{"$f":"#REF!","v":{"$error":"#REF!"}},{"$error":"#REF!"}]
[{"$f":"#REF!","v":{"$error":"#REF!"}},{"$error":"#REF!"}]
[{"$f":"#REF!","v":{"$error":"#REF!"}},{"$error":"#REF!"}]
[{"$f":"#REF!","v":{"$error":"#REF!"}},{"$error":"#REF!"}]
[{"$f":"#REF!","v":{"$error":"#REF!"}},{"$error":"#REF!"}]
[{"$f":"#REF!","v":{"$error":"#REF!"}},{"$error":"#REF!"}]
[{"$f":"#REF!","v":{"$error":"#REF!"}},{"$error":"#REF!"}]
[{"$f":"#REF!","v":{"$error":"#REF!"}},{"$error":"#REF!"}]
[{"$f":"#REF!","v":{"$error":"#REF!"}},{"$error":"#REF!"}]
[{"$f":"#REF!","v":{"$error":"#REF!"}},{"$error":"#REF!"}]
[{"$f":"#REF!","v":{"$error":"#REF!"}},{"$error":"#REF!"}]
[{"$f":"#REF!","v":{"$error":"#REF!"}},{"$error":"#REF!"}]
[{"$f":"#REF!","v":{"$error":"#REF!"}},{"$error":"#REF!"}]
[{"$f":"#REF!","v":{"$error":"#REF!"}},{"$error":"#REF!"}]
[{"$f":"#REF!","v":{"$error":"#REF!"}},{"$error":"#REF!"}]
[{"$f":"#REF!","v":{"$error":"#REF!"}},{"$error":"#REF!"}]
[{"$f":"#REF!","v":{"$error":"#REF!"}},{"$error":"#REF!"}]
[{"$f":"#REF!","v":{"$error":"#REF!"}},{"$error":"#REF!"}]
[{"$f":"#REF!","v":{"$error":"#REF!"}},{"$error":"#REF!"}]
[{"$f":"#REF!","v":{"$error":"#REF!"}},{"$error":"#REF!"}]
[{"$f":"#REF!","v":{"$error":"#REF!"}},{"$error":"#REF!"}]
[{"$f":"#REF!","v":{"$error":"#REF!"}},{"$error":"#REF!"}]
[{"$f":"#REF!","v":{"$error":"#REF!"}},{"$error":"#REF!"}]
[{"$f":"#REF!","v":{"$error":"#REF!"}},{"$error":"#REF!"}]
[{"$f":"#REF!","v":{"$error":"#REF!"}},{"$error":"#REF!"}]
[{"$f":"#REF!","v":{"$error":"#REF!"}},{"$error":"#REF!"}]
[{"$f":"#REF!","v":{"$error":"#REF!"}},{"$error":"#REF!"}]
[{"$f":"#REF!","v":{"$error":"#REF!"}},{"$error":"#REF!"}]
[{"$f":"#REF!","v":{"$error":"#REF!"}},{"$error":"#REF!"}]
[{"$f":"#REF!","v":{"$error":"#REF!"}},{"$error":"#REF!"}]
[{"$f":"#REF!","v":{"$error":"#REF!"}},{"$error":"#REF!"}]
[{"$f":"#REF!","v":{"$error":"#REF!"}},{"$error":"#REF!"}]
[{"$f":"#REF!","v":{"$error":"#REF!"}},{"$error":"#REF!"}]
[{"$f":"#REF!","v":{"$error":"#REF!"}},{"$error":"#REF!"}]
[{"$f":"#REF!","v":{"$error":"#REF!"}},{"$error":"#REF!"}]
[{"$f":"#REF!","v":{"$error":"#REF!"}},{"$error":"#REF!"}]
[{"$f":"#REF!","v":{"$error":"#REF!"}},{"$error":"#REF!"}]
[{"$f":"#REF!","v":{"$error":"#REF!"}},{"$f":"IF(A2128=\"\",\"\",IF(VLOOKUP(A2128,base_rpvs_pagas,2)=A$11,A2128,0))","v":{"$error":"#REF!"}}]
[{"$f":"#REF!","v":{"$error":"#REF!"}},{"$error":"#REF!"}]
[{"$f":"#REF!","v":{"$error":"#REF!"}},{"$error":"#REF!"}]
[{"$f":"#REF!","v":{"$error":"#REF!"}},{"$error":"#REF!"}]
[{"$f":"#REF!","v":{"$error":"#REF!"}},{"$error":"#REF!"}]
[{"$f":"#REF!","v":{"$error":"#REF!"}},{"$error":"#REF!"}]
[{"$f":"#REF!","v":{"$error":"#REF!"}},{"$error":"#REF!"}]
[{"$f":"#REF!","v":{"$error":"#REF!"}},{"$error":"#REF!"}]
[{"$f":"#REF!","v":{"$error":"#REF!"}},{"$error":"#REF!"}]
[{"$f":"#REF!","v":{"$error":"#REF!"}},{"$error":"#REF!"}]
[{"$f":"#REF!","v":{"$error":"#REF!"}},{"$error":"#REF!"}]
[{"$f":"#REF!","v":{"$error":"#REF!"}},{"$error":"#REF!"}]
[{"$f":"#REF!","v":{"$error":"#REF!"}},{"$error":"#REF!"}]
[{"$f":"#REF!","v":{"$error":"#REF!"}},{"$error":"#REF!"}]
[{"$f":"#REF!","v":{"$error":"#REF!"}},{"$error":"#REF!"}]
[{"$f":"#REF!","v":{"$error":"#REF!"}},{"$error":"#REF!"}]
[{"$f":"#REF!","v":{"$error":"#REF!"}},{"$error":"#REF!"}]
[{"$f":"#REF!","v":{"$error":"#REF!"}},{"$error":"#REF!"}]
[{"$f":"#REF!","v":{"$error":"#REF!"}},{"$error":"#REF!"}]
[{"$f":"#REF!","v":{"$error":"#REF!"}},{"$error":"#REF!"}]
[{"$f":"#REF!","v":{"$error":"#REF!"}},{"$error":"#REF!"}]
[{"$f":"#REF!","v":{"$error":"#REF!"}},{"$error":"#REF!"}]
[{"$f":"#REF!","v":{"$error":"#REF!"}},{"$error":"#REF!"}]
[{"$f":"#REF!","v":{"$error":"#REF!"}},{"$error":"#REF!"}]
[{"$f":"#REF!","v":{"$error":"#REF!"}},{"$error":"#REF!"}]
[{"$f":"#REF!","v":{"$error":"#REF!"}},{"$error":"#REF!"}]
[{"$f":"#REF!","v":{"$error":"#REF!"}},{"$error":"#REF!"}]
[{"$f":"#REF!","v":{"$error":"#REF!"}},{"$error":"#REF!"}]
[{"$f":"#REF!","v":{"$error":"#REF!"}},{"$error":"#REF!"}]
[{"$f":"#REF!","v":{"$error":"#REF!"}},{"$error":"#REF!"}]
[{"$f":"#REF!","v":{"$error":"#REF!"}},{"$error":"#REF!"}]
[{"$f":"#REF!","v":{"$error":"#REF!"}},{"$error":"#REF!"}]
[{"$f":"#REF!","v":{"$error":"#REF!"}},{"$error":"#REF!"}]
[{"$f":"#REF!","v":{"$error":"#REF!"}},{"$error":"#REF!"}]
[{"$f":"#REF!","v":{"$error":"#REF!"}},{"$error":"#REF!"}]
[{"$f":"#REF!","v":{"$error":"#REF!"}},{"$error":"#REF!"}]
[{"$f":"#REF!","v":{"$error":"#REF!"}},{"$error":"#REF!"}]
[{"$f":"#REF!","v":{"$error":"#REF!"}},{"$error":"#REF!"}]
[{"$f":"#REF!","v":{"$error":"#REF!"}},{"$error":"#REF!"}]
[{"$f":"#REF!","v":{"$error":"#REF!"}},{"$error":"#REF!"}]
[{"$f":"#REF!","v":{"$error":"#REF!"}},{"$error":"#REF!"}]
[{"$f":"#REF!","v":{"$error":"#REF!"}},{"$error":"#REF!"}]
[{"$f":"#REF!","v":{"$error":"#REF!"}},{"$error":"#REF!"}]
[{"$f":"#REF!","v":{"$error":"#REF!"}},{"$error":"#REF!"}]
[{"$f":"#REF!","v":{"$error":"#REF!"}},{"$error":"#REF!"}]
[{"$f":"#REF!","v":{"$error":"#REF!"}},{"$error":"#REF!"}]
[{"$f":"#REF!","v":{"$error":"#REF!"}},{"$error":"#REF!"}]
[{"$f":"#REF!","v":{"$error":"#REF!"}},{"$error":"#REF!"}]
[{"$f":"#REF!","v":{"$error":"#REF!"}},{"$error":"#REF!"}]
[{"$f":"#REF!","v":{"$error":"#REF!"}},{"$error":"#REF!"}]
[{"$f":"#REF!","v":{"$error":"#REF!"}},{"$error":"#REF!"}]
[{"$f":"#REF!","v":{"$error":"#REF!"}},{"$error":"#REF!"}]
[{"$f":"#REF!","v":{"$error":"#REF!"}},{"$error":"#REF!"}]
[{"$f":"#REF!","v":{"$error":"#REF!"}},{"$error":"#REF!"}]
[{"$f":"#REF!","v":{"$error":"#REF!"}},{"$error":"#REF!"}]
[{"$f":"#REF!","v":{"$error":"#REF!"}},{"$error":"#REF!"}]
[{"$f":"#REF!","v":{"$error":"#REF!"}},{"$error":"#REF!"}]
[{"$f":"#REF!","v":{"$error":"#REF!"}},{"$error":"#REF!"}]
[{"$f":"#REF!","v":{"$error":"#REF!"}},{"$error":"#REF!"}]
[{"$f":"#REF!","v":{"$error":"#REF!"}},{"$error":"#REF!"}]
[{"$f":"#REF!","v":{"$error":"#REF!"}},{"$error":"#REF!"}]
[{"$f":"#REF!","v":{"$error":"#REF!"}},{"$error":"#REF!"}]
[{"$f":"#REF!","v":{"$error":"#REF!"}},{"$error":"#REF!"}]
[{"$f":"#REF!","v":{"$error":"#REF!"}},{"$error":"#REF!"}]
[{"$f":"#REF!","v":{"$error":"#REF!"}},{"$f":"IF(A2192=\"\",\"\",IF(VLOOKUP(A2192,base_rpvs_pagas,2)=A$11,A2192,0))","v":{"$error":"#REF!"}}]
[{"$f":"#REF!","v":{"$error":"#REF!"}},{"$error":"#REF!"}]
[{"$f":"#REF!","v":{"$error":"#REF!"}},{"$error":"#REF!"}]
[{"$f":"#REF!","v":{"$error":"#REF!"}},{"$error":"#REF!"}]
[{"$f":"#REF!","v":{"$error":"#REF!"}},{"$error":"#REF!"}]
[{"$f":"#REF!","v":{"$error":"#REF!"}},{"$error":"#REF!"}]
[{"$f":"#REF!","v":{"$error":"#REF!"}},{"$error":"#REF!"}]
[{"$f":"#REF!","v":{"$error":"#REF!"}},{"$error":"#REF!"}]
[{"$f":"#REF!","v":{"$error":"#REF!"}},{"$error":"#REF!"}]
[{"$f":"#REF!","v":{"$error":"#REF!"}},{"$error":"#REF!"}]
[{"$f":"#REF!","v":{"$error":"#REF!"}},{"$error":"#REF!"}]
[{"$f":"#REF!","v":{"$error":"#REF!"}},{"$error":"#REF!"}]
[{"$f":"#REF!","v":{"$error":"#REF!"}},{"$error":"#REF!"}]
[{"$f":"#REF!","v":{"$error":"#REF!"}},{"$error":"#REF!"}]
[{"$f":"#REF!","v":{"$error":"#REF!"}},{"$error":"#REF!"}]
[{"$f":"#REF!","v":{"$error":"#REF!"}},{"$error":"#REF!"}]
[{"$f":"#REF!","v":{"$error":"#REF!"}},{"$error":"#REF!"}]
[{"$f":"#REF!","v":{"$error":"#REF!"}},{"$error":"#REF!"}]
[{"$f":"#REF!","v":{"$error":"#REF!"}},{"$error":"#REF!"}]
[{"$f":"#REF!","v":{"$error":"#REF!"}},{"$error":"#REF!"}]
[{"$f":"#REF!","v":{"$error":"#REF!"}},{"$error":"#REF!"}]
[{"$f":"#REF!","v":{"$error":"#REF!"}},{"$error":"#REF!"}]
[{"$f":"#REF!","v":{"$error":"#REF!"}},{"$error":"#REF!"}]
[{"$f":"#REF!","v":{"$error":"#REF!"}},{"$error":"#REF!"}]
[{"$f":"#REF!","v":{"$error":"#REF!"}},{"$error":"#REF!"}]
[{"$f":"#REF!","v":{"$error":"#REF!"}},{"$error":"#REF!"}]
[{"$f":"#REF!","v":{"$error":"#REF!"}},{"$error":"#REF!"}]
[{"$f":"#REF!","v":{"$error":"#REF!"}},{"$error":"#REF!"}]
[{"$f":"#REF!","v":{"$error":"#REF!"}},{"$error":"#REF!"}]
[{"$f":"#REF!","v":{"$error":"#REF!"}},{"$error":"#REF!"}]
[{"$f":"#REF!","v":{"$error":"#REF!"}},{"$error":"#REF!"}]
[{"$f":"#REF!","v":{"$error":"#REF!"}},{"$error":"#REF!"}]
[{"$f":"#REF!","v":{"$error":"#REF!"}},{"$error":"#REF!"}]
[{"$f":"#REF!","v":{"$error":"#REF!"}},{"$error":"#REF!"}]
[{"$f":"#REF!","v":{"$error":"#REF!"}},{"$error":"#REF!"}]
[{"$f":"#REF!","v":{"$error":"#REF!"}},{"$error":"#REF!"}]
[{"$f":"#REF!","v":{"$error":"#REF!"}},{"$error":"#REF!"}]
[{"$f":"#REF!","v":{"$error":"#REF!"}},{"$error":"#REF!"}]
[{"$f":"#REF!","v":{"$error":"#REF!"}},{"$error":"#REF!"}]
[{"$f":"#REF!","v":{"$error":"#REF!"}},{"$error":"#REF!"}]
[{"$f":"#REF!","v":{"$error":"#REF!"}},{"$error":"#REF!"}]
[{"$f":"#REF!","v":{"$error":"#REF!"}},{"$error":"#REF!"}]
[{"$f":"#REF!","v":{"$error":"#REF!"}},{"$error":"#REF!"}]
[{"$f":"#REF!","v":{"$error":"#REF!"}},{"$error":"#REF!"}]
[{"$f":"#REF!","v":{"$error":"#REF!"}},{"$error":"#REF!"}]
[{"$f":"#REF!","v":{"$error":"#REF!"}},{"$error":"#REF!"}]
[{"$f":"#REF!","v":{"$error":"#REF!"}},{"$error":"#REF!"}]
[{"$f":"#REF!","v":{"$error":"#REF!"}},{"$error":"#REF!"}]
[{"$f":"#REF!","v":{"$error":"#REF!"}},{"$error":"#REF!"}]
[{"$f":"#REF!","v":{"$error":"#REF!"}},{"$error":"#REF!"}]
[{"$f":"#REF!","v":{"$error":"#REF!"}},{"$error":"#REF!"}]
[{"$f":"#REF!","v":{"$error":"#REF!"}},{"$error":"#REF!"}]
[{"$f":"#REF!","v":{"$error":"#REF!"}},{"$error":"#REF!"}]
[{"$f":"#REF!","v":{"$error":"#REF!"}},{"$error":"#REF!"}]
[{"$f":"#REF!","v":{"$error":"#REF!"}},{"$error":"#REF!"}]
[{"$f":"#REF!","v":{"$error":"#REF!"}},{"$error":"#REF!"}]
[{"$f":"#REF!","v":{"$error":"#REF!"}},{"$error":"#REF!"}]
[{"$f":"#REF!","v":{"$error":"#REF!"}},{"$error":"#REF!"}]
[{"$f":"#REF!","v":{"$error":"#REF!"}},{"$error":"#REF!"}]
[{"$f":"#REF!","v":{"$error":"#REF!"}},{"$error":"#REF!"}]
[{"$f":"#REF!","v":{"$error":"#REF!"}},{"$error":"#REF!"}]
[{"$f":"#REF!","v":{"$error":"#REF!"}},{"$error":"#REF!"}]
[{"$f":"#REF!","v":{"$error":"#REF!"}},{"$error":"#REF!"}]
[{"$f":"#REF!","v":{"$error":"#REF!"}},{"$error":"#REF!"}]
[{"$f":"#REF!","v":{"$error":"#REF!"}},{"$f":"IF(A2256=\"\",\"\",IF(VLOOKUP(A2256,base_rpvs_pagas,2)=A$11,A2256,0))","v":{"$error":"#REF!"}}]
[{"$f":"#REF!","v":{"$error":"#REF!"}},{"$error":"#REF!"}]
[{"$f":"#REF!","v":{"$error":"#REF!"}},{"$error":"#REF!"}]
[{"$f":"#REF!","v":{"$error":"#REF!"}},{"$error":"#REF!"}]
[{"$f":"#REF!","v":{"$error":"#REF!"}},{"$error":"#REF!"}]
[{"$f":"#REF!","v":{"$error":"#REF!"}},{"$error":"#REF!"}]
[{"$f":"#REF!","v":{"$error":"#REF!"}},{"$error":"#REF!"}]
[{"$f":"#REF!","v":{"$error":"#REF!"}},{"$error":"#REF!"}]
[{"$f":"#REF!","v":{"$error":"#REF!"}},{"$error":"#REF!"}]
[{"$f":"#REF!","v":{"$error":"#REF!"}},{"$error":"#REF!"}]
[{"$f":"#REF!","v":{"$error":"#REF!"}},{"$error":"#REF!"}]
[{"$f":"#REF!","v":{"$error":"#REF!"}},{"$error":"#REF!"}]
[{"$f":"#REF!","v":{"$error":"#REF!"}},{"$error":"#REF!"}]
[{"$f":"#REF!","v":{"$error":"#REF!"}},{"$error":"#REF!"}]
[{"$f":"#REF!","v":{"$error":"#REF!"}},{"$error":"#REF!"}]
[{"$f":"#REF!","v":{"$error":"#REF!"}},{"$error":"#REF!"}]
[{"$f":"#REF!","v":{"$error":"#REF!"}},{"$error":"#REF!"}]
[{"$f":"#REF!","v":{"$error":"#REF!"}},{"$error":"#REF!"}]
[{"$f":"#REF!","v":{"$error":"#REF!"}},{"$error":"#REF!"}]
[{"$f":"#REF!","v":{"$error":"#REF!"}},{"$error":"#REF!"}]
[{"$f":"#REF!","v":{"$error":"#REF!"}},{"$error":"#REF!"}]
[{"$f":"#REF!","v":{"$error":"#REF!"}},{"$error":"#REF!"}]
[{"$f":"#REF!","v":{"$error":"#REF!"}},{"$error":"#REF!"}]
[{"$f":"#REF!","v":{"$error":"#REF!"}},{"$error":"#REF!"}]
[{"$f":"#REF!","v":{"$error":"#REF!"}},{"$error":"#REF!"}]
[{"$f":"#REF!","v":{"$error":"#REF!"}},{"$error":"#REF!"}]
[{"$f":"#REF!","v":{"$error":"#REF!"}},{"$error":"#REF!"}]
[{"$f":"#REF!","v":{"$error":"#REF!"}},{"$error":"#REF!"}]
[{"$f":"#REF!","v":{"$error":"#REF!"}},{"$error":"#REF!"}]
[{"$f":"#REF!","v":{"$error":"#REF!"}},{"$error":"#REF!"}]
[{"$f":"#REF!","v":{"$error":"#REF!"}},{"$error":"#REF!"}]
[{"$f":"#REF!","v":{"$error":"#REF!"}},{"$error":"#REF!"}]
[{"$f":"#REF!","v":{"$error":"#REF!"}},{"$error":"#REF!"}]
[{"$f":"#REF!","v":{"$error":"#REF!"}},{"$error":"#REF!"}]
[{"$f":"#REF!","v":{"$error":"#REF!"}},{"$error":"#REF!"}]
[{"$f":"#REF!","v":{"$error":"#REF!"}},{"$error":"#REF!"}]
[{"$f":"#REF!","v":{"$error":"#REF!"}},{"$error":"#REF!"}]
[{"$f":"#REF!","v":{"$error":"#REF!"}},{"$error":"#REF!"}]
[{"$f":"#REF!","v":{"$error":"#REF!"}},{"$error":"#REF!"}]
[{"$f":"#REF!","v":{"$error":"#REF!"}},{"$error":"#REF!"}]
[{"$f":"#REF!","v":{"$error":"#REF!"}},{"$error":"#REF!"}]
[{"$f":"#REF!","v":{"$error":"#REF!"}},{"$error":"#REF!"}]
[{"$f":"#REF!","v":{"$error":"#REF!"}},{"$error":"#REF!"}]
[{"$f":"#REF!","v":{"$error":"#REF!"}},{"$error":"#REF!"}]
[{"$f":"#REF!","v":{"$error":"#REF!"}},{"$error":"#REF!"}]
[{"$f":"#REF!","v":{"$error":"#REF!"}},{"$error":"#REF!"}]
[{"$f":"#REF!","v":{"$error":"#REF!"}},{"$error":"#REF!"}]
[{"$f":"#REF!","v":{"$error":"#REF!"}},{"$error":"#REF!"}]
[{"$f":"#REF!","v":{"$error":"#REF!"}},{"$error":"#REF!"}]
[{"$f":"#REF!","v":{"$error":"#REF!"}},{"$error":"#REF!"}]
[{"$f":"#REF!","v":{"$error":"#REF!"}},{"$error":"#REF!"}]
[{"$f":"#REF!","v":{"$error":"#REF!"}},{"$error":"#REF!"}]
[{"$f":"#REF!","v":{"$error":"#REF!"}},{"$error":"#REF!"}]
[{"$f":"#REF!","v":{"$error":"#REF!"}},{"$error":"#REF!"}]
[{"$f":"#REF!","v":{"$error":"#REF!"}},{"$error":"#REF!"}]
[{"$f":"#REF!","v":{"$error":"#REF!"}},{"$error":"#REF!"}]
[{"$f":"#REF!","v":{"$error":"#REF!"}},{"$error":"#REF!"}]
[{"$f":"#REF!","v":{"$error":"#REF!"}},{"$error":"#REF!"}]
[{"$f":"#REF!","v":{"$error":"#REF!"}},{"$error":"#REF!"}]
[{"$f":"#REF!","v":{"$error":"#REF!"}},{"$error":"#REF!"}]
[{"$f":"#REF!","v":{"$error":"#REF!"}},{"$error":"#REF!"}]
[{"$f":"#REF!","v":{"$error":"#REF!"}},{"$error":"#REF!"}]
[{"$f":"#REF!","v":{"$error":"#REF!"}},{"$error":"#REF!"}]
[{"$f":"#REF!","v":{"$error":"#REF!"}},{"$error":"#REF!"}]
[{"$f":"#REF!","v":{"$error":"#REF!"}},{"$f":"IF(A2320=\"\",\"\",IF(VLOOKUP(A2320,base_rpvs_pagas,2)=A$11,A2320,0))","v":{"$error":"#REF!"}}]
[{"$f":"#REF!","v":{"$error":"#REF!"}},{"$error":"#REF!"}]
[{"$f":"#REF!","v":{"$error":"#REF!"}},{"$error":"#REF!"}]
[{"$f":"#REF!","v":{"$error":"#REF!"}},{"$error":"#REF!"}]
[{"$f":"#REF!","v":{"$error":"#REF!"}},{"$error":"#REF!"}]
[{"$f":"#REF!","v":{"$error":"#REF!"}},{"$error":"#REF!"}]
[{"$f":"#REF!","v":{"$error":"#REF!"}},{"$error":"#REF!"}]
[{"$f":"#REF!","v":{"$error":"#REF!"}},{"$error":"#REF!"}]
[{"$f":"#REF!","v":{"$error":"#REF!"}},{"$error":"#REF!"}]
[{"$f":"#REF!","v":{"$error":"#REF!"}},{"$error":"#REF!"}]
[{"$f":"#REF!","v":{"$error":"#REF!"}},{"$error":"#REF!"}]
[{"$f":"#REF!","v":{"$error":"#REF!"}},{"$error":"#REF!"}]
[{"$f":"#REF!","v":{"$error":"#REF!"}},{"$error":"#REF!"}]
[{"$f":"#REF!","v":{"$error":"#REF!"}},{"$error":"#REF!"}]
[{"$f":"#REF!","v":{"$error":"#REF!"}},{"$error":"#REF!"}]
[{"$f":"#REF!","v":{"$error":"#REF!"}},{"$error":"#REF!"}]
[{"$f":"#REF!","v":{"$error":"#REF!"}},{"$error":"#REF!"}]
[{"$f":"#REF!","v":{"$error":"#REF!"}},{"$error":"#REF!"}]
[{"$f":"#REF!","v":{"$error":"#REF!"}},{"$error":"#REF!"}]
[{"$f":"#REF!","v":{"$error":"#REF!"}},{"$error":"#REF!"}]
[{"$f":"#REF!","v":{"$error":"#REF!"}},{"$error":"#REF!"}]
[{"$f":"#REF!","v":{"$error":"#REF!"}},{"$error":"#REF!"}]
[{"$f":"#REF!","v":{"$error":"#REF!"}},{"$error":"#REF!"}]
[{"$f":"#REF!","v":{"$error":"#REF!"}},{"$error":"#REF!"}]
[{"$f":"#REF!","v":{"$error":"#REF!"}},{"$error":"#REF!"}]
[{"$f":"#REF!","v":{"$error":"#REF!"}},{"$error":"#REF!"}]
[{"$f":"#REF!","v":{"$error":"#REF!"}},{"$error":"#REF!"}]
[{"$f":"#REF!","v":{"$error":"#REF!"}},{"$error":"#REF!"}]
[{"$f":"#REF!","v":{"$error":"#REF!"}},{"$error":"#REF!"}]
[{"$f":"#REF!","v":{"$error":"#REF!"}},{"$error":"#REF!"}]
[{"$f":"#REF!","v":{"$error":"#REF!"}},{"$error":"#REF!"}]
[{"$f":"#REF!","v":{"$error":"#REF!"}},{"$error":"#REF!"}]
[{"$f":"#REF!","v":{"$error":"#REF!"}},{"$error":"#REF!"}]
[{"$f":"#REF!","v":{"$error":"#REF!"}},{"$error":"#REF!"}]
[{"$f":"#REF!","v":{"$error":"#REF!"}},{"$error":"#REF!"}]
[{"$f":"#REF!","v":{"$error":"#REF!"}},{"$error":"#REF!"}]
[{"$f":"#REF!","v":{"$error":"#REF!"}},{"$error":"#REF!"}]
[{"$f":"#REF!","v":{"$error":"#REF!"}},{"$error":"#REF!"}]
[{"$f":"#REF!","v":{"$error":"#REF!"}},{"$error":"#REF!"}]
[{"$f":"#REF!","v":{"$error":"#REF!"}},{"$error":"#REF!"}]
[{"$f":"#REF!","v":{"$error":"#REF!"}},{"$error":"#REF!"}]
[{"$f":"#REF!","v":{"$error":"#REF!"}},{"$error":"#REF!"}]
[{"$f":"#REF!","v":{"$error":"#REF!"}},{"$error":"#REF!"}]
[{"$f":"#REF!","v":{"$error":"#REF!"}},{"$error":"#REF!"}]
[{"$f":"#REF!","v":{"$error":"#REF!"}},{"$error":"#REF!"}]
[{"$f":"#REF!","v":{"$error":"#REF!"}},{"$error":"#REF!"}]
[{"$f":"#REF!","v":{"$error":"#REF!"}},{"$error":"#REF!"}]
[{"$f":"#REF!","v":{"$error":"#REF!"}},{"$error":"#REF!"}]
[{"$f":"#REF!","v":{"$error":"#REF!"}},{"$error":"#REF!"}]
[{"$f":"#REF!","v":{"$error":"#REF!"}},{"$error":"#REF!"}]
[{"$f":"#REF!","v":{"$error":"#REF!"}},{"$error":"#REF!"}]
[{"$f":"#REF!","v":{"$error":"#REF!"}},{"$error":"#REF!"}]
[{"$f":"#REF!","v":{"$error":"#REF!"}},{"$error":"#REF!"}]
[{"$f":"#REF!","v":{"$error":"#REF!"}},{"$error":"#REF!"}]
[{"$f":"#REF!","v":{"$error":"#REF!"}},{"$error":"#REF!"}]
[{"$f":"#REF!","v":{"$error":"#REF!"}},{"$error":"#REF!"}]
[{"$f":"#REF!","v":{"$error":"#REF!"}},{"$error":"#REF!"}]
[{"$f":"#REF!","v":{"$error":"#REF!"}},{"$error":"#REF!"}]
[{"$f":"#REF!","v":{"$error":"#REF!"}},{"$error":"#REF!"}]
[{"$f":"#REF!","v":{"$error":"#REF!"}},{"$error":"#REF!"}]
[{"$f":"#REF!","v":{"$error":"#REF!"}},{"$error":"#REF!"}]
[{"$f":"#REF!","v":{"$error":"#REF!"}},{"$error":"#REF!"}]
[{"$f":"#REF!","v":{"$error":"#REF!"}},{"$error":"#REF!"}]
[{"$f":"#REF!","v":{"$error":"#REF!"}},{"$error":"#REF!"}]
[{"$f":"#REF!","v":{"$error":"#REF!"}},{"$f":"IF(A2384=\"\",\"\",IF(VLOOKUP(A2384,base_rpvs_pagas,2)=A$11,A2384,0))","v":{"$error":"#REF!"}}]
[{"$f":"#REF!","v":{"$error":"#REF!"}},{"$error":"#REF!"}]
[{"$f":"#REF!","v":{"$error":"#REF!"}},{"$error":"#REF!"}]
[{"$f":"#REF!","v":{"$error":"#REF!"}},{"$error":"#REF!"}]
[{"$f":"#REF!","v":{"$error":"#REF!"}},{"$error":"#REF!"}]
[{"$f":"#REF!","v":{"$error":"#REF!"}},{"$error":"#REF!"}]
[{"$f":"#REF!","v":{"$error":"#REF!"}},{"$error":"#REF!"}]
[{"$f":"#REF!","v":{"$error":"#REF!"}},{"$error":"#REF!"}]
[{"$f":"#REF!","v":{"$error":"#REF!"}},{"$error":"#REF!"}]
[{"$f":"#REF!","v":{"$error":"#REF!"}},{"$error":"#REF!"}]
[{"$f":"#REF!","v":{"$error":"#REF!"}},{"$error":"#REF!"}]
[{"$f":"#REF!","v":{"$error":"#REF!"}},{"$error":"#REF!"}]
[{"$f":"#REF!","v":{"$error":"#REF!"}},{"$error":"#REF!"}]
[{"$f":"#REF!","v":{"$error":"#REF!"}},{"$error":"#REF!"}]
[{"$f":"#REF!","v":{"$error":"#REF!"}},{"$error":"#REF!"}]
[{"$f":"#REF!","v":{"$error":"#REF!"}},{"$error":"#REF!"}]
[{"$f":"#REF!","v":{"$error":"#REF!"}},{"$error":"#REF!"}]
[{"$f":"#REF!","v":{"$error":"#REF!"}},{"$error":"#REF!"}]
[{"$f":"#REF!","v":{"$error":"#REF!"}},{"$error":"#REF!"}]
[{"$f":"#REF!","v":{"$error":"#REF!"}},{"$error":"#REF!"}]
[{"$f":"#REF!","v":{"$error":"#REF!"}},{"$error":"#REF!"}]
[{"$f":"#REF!","v":{"$error":"#REF!"}},{"$error":"#REF!"}]
[{"$f":"#REF!","v":{"$error":"#REF!"}},{"$error":"#REF!"}]
[{"$f":"#REF!","v":{"$error":"#REF!"}},{"$error":"#REF!"}]
[{"$f":"#REF!","v":{"$error":"#REF!"}},{"$error":"#REF!"}]
[{"$f":"#REF!","v":{"$error":"#REF!"}},{"$error":"#REF!"}]
[{"$f":"#REF!","v":{"$error":"#REF!"}},{"$error":"#REF!"}]
[{"$f":"#REF!","v":{"$error":"#REF!"}},{"$error":"#REF!"}]
[{"$f":"#REF!","v":{"$error":"#REF!"}},{"$error":"#REF!"}]
[{"$f":"#REF!","v":{"$error":"#REF!"}},{"$error":"#REF!"}]
[{"$f":"#REF!","v":{"$error":"#REF!"}},{"$error":"#REF!"}]
[{"$f":"#REF!","v":{"$error":"#REF!"}},{"$error":"#REF!"}]
[{"$f":"#REF!","v":{"$error":"#REF!"}},{"$error":"#REF!"}]
[{"$f":"#REF!","v":{"$error":"#REF!"}},{"$error":"#REF!"}]
[{"$f":"#REF!","v":{"$error":"#REF!"}},{"$error":"#REF!"}]
[{"$f":"#REF!","v":{"$error":"#REF!"}},{"$error":"#REF!"}]
[{"$f":"#REF!","v":{"$error":"#REF!"}},{"$error":"#REF!"}]
[{"$f":"#REF!","v":{"$error":"#REF!"}},{"$error":"#REF!"}]
[{"$f":"#REF!","v":{"$error":"#REF!"}},{"$error":"#REF!"}]
[{"$f":"#REF!","v":{"$error":"#REF!"}},{"$error":"#REF!"}]
[{"$f":"#REF!","v":{"$error":"#REF!"}},{"$error":"#REF!"}]
[{"$f":"#REF!","v":{"$error":"#REF!"}},{"$error":"#REF!"}]
[{"$f":"#REF!","v":{"$error":"#REF!"}},{"$error":"#REF!"}]
[{"$f":"#REF!","v":{"$error":"#REF!"}},{"$error":"#REF!"}]
[{"$f":"#REF!","v":{"$error":"#REF!"}},{"$error":"#REF!"}]
[{"$f":"#REF!","v":{"$error":"#REF!"}},{"$error":"#REF!"}]
[{"$f":"#REF!","v":{"$error":"#REF!"}},{"$error":"#REF!"}]
[{"$f":"#REF!","v":{"$error":"#REF!"}},{"$error":"#REF!"}]
[{"$f":"#REF!","v":{"$error":"#REF!"}},{"$error":"#REF!"}]
[{"$f":"#REF!","v":{"$error":"#REF!"}},{"$error":"#REF!"}]
[{"$f":"#REF!","v":{"$error":"#REF!"}},{"$error":"#REF!"}]
[{"$f":"#REF!","v":{"$error":"#REF!"}},{"$error":"#REF!"}]
[{"$f":"#REF!","v":{"$error":"#REF!"}},{"$error":"#REF!"}]
[{"$f":"#REF!","v":{"$error":"#REF!"}},{"$error":"#REF!"}]
[{"$f":"#REF!","v":{"$error":"#REF!"}},{"$error":"#REF!"}]
[{"$f":"#REF!","v":{"$error":"#REF!"}},{"$error":"#REF!"}]
[{"$f":"#REF!","v":{"$error":"#REF!"}},{"$error":"#REF!"}]
[{"$f":"#REF!","v":{"$error":"#REF!"}},{"$error":"#REF!"}]
[{"$f":"#REF!","v":{"$error":"#REF!"}},{"$error":"#REF!"}]
[{"$f":"#REF!","v":{"$error":"#REF!"}},{"$error":"#REF!"}]
[{"$f":"#REF!","v":{"$error":"#REF!"}},{"$error":"#REF!"}]
[{"$f":"#REF!","v":{"$error":"#REF!"}},{"$error":"#REF!"}]
[{"$f":"#REF!","v":{"$error":"#REF!"}},{"$error":"#REF!"}]
[{"$f":"#REF!","v":{"$error":"#REF!"}},{"$error":"#REF!"}]
[{"$f":"#REF!","v":{"$error":"#REF!"}},{"$f":"IF(A2448=\"\",\"\",IF(VLOOKUP(A2448,base_rpvs_pagas,2)=A$11,A2448,0))","v":{"$error":"#REF!"}}]
[{"$f":"#REF!","v":{"$error":"#REF!"}},{"$error":"#REF!"}]
[{"$f":"#REF!","v":{"$error":"#REF!"}},{"$error":"#REF!"}]
[{"$f":"#REF!","v":{"$error":"#REF!"}},{"$error":"#REF!"}]
[{"$f":"#REF!","v":{"$error":"#REF!"}},{"$error":"#REF!"}]
[{"$f":"#REF!","v":{"$error":"#REF!"}},{"$error":"#REF!"}]
[{"$f":"#REF!","v":{"$error":"#REF!"}},{"$error":"#REF!"}]
[{"$f":"#REF!","v":{"$error":"#REF!"}},{"$error":"#REF!"}]
[{"$f":"#REF!","v":{"$error":"#REF!"}},{"$error":"#REF!"}]
[{"$f":"#REF!","v":{"$error":"#REF!"}},{"$error":"#REF!"}]
[{"$f":"#REF!","v":{"$error":"#REF!"}},{"$error":"#REF!"}]
[{"$f":"#REF!","v":{"$error":"#REF!"}},{"$error":"#REF!"}]
[{"$f":"#REF!","v":{"$error":"#REF!"}},{"$error":"#REF!"}]
[{"$f":"#REF!","v":{"$error":"#REF!"}},{"$error":"#REF!"}]
[{"$f":"#REF!","v":{"$error":"#REF!"}},{"$error":"#REF!"}]
[{"$f":"#REF!","v":{"$error":"#REF!"}},{"$error":"#REF!"}]
[{"$f":"#REF!","v":{"$error":"#REF!"}},{"$error":"#REF!"}]
[{"$f":"#REF!","v":{"$error":"#REF!"}},{"$error":"#REF!"}]
[{"$f":"#REF!","v":{"$error":"#REF!"}},{"$error":"#REF!"}]
[{"$f":"#REF!","v":{"$error":"#REF!"}},{"$error":"#REF!"}]
[{"$f":"#REF!","v":{"$error":"#REF!"}},{"$error":"#REF!"}]
[{"$f":"#REF!","v":{"$error":"#REF!"}},{"$error":"#REF!"}]
[{"$f":"#REF!","v":{"$error":"#REF!"}},{"$error":"#REF!"}]
[{"$f":"#REF!","v":{"$error":"#REF!"}},{"$error":"#REF!"}]
[{"$f":"#REF!","v":{"$error":"#REF!"}},{"$error":"#REF!"}]
[{"$f":"#REF!","v":{"$error":"#REF!"}},{"$error":"#REF!"}]
[{"$f":"#REF!","v":{"$error":"#REF!"}},{"$error":"#REF!"}]
[{"$f":"#REF!","v":{"$error":"#REF!"}},{"$error":"#REF!"}]
[{"$f":"#REF!","v":{"$error":"#REF!"}},{"$error":"#REF!"}]
[{"$f":"#REF!","v":{"$error":"#REF!"}},{"$error":"#REF!"}]
[{"$f":"#REF!","v":{"$error":"#REF!"}},{"$error":"#REF!"}]
[{"$f":"#REF!","v":{"$error":"#REF!"}},{"$error":"#REF!"}]
[{"$f":"#REF!","v":{"$error":"#REF!"}},{"$error":"#REF!"}]
[{"$f":"#REF!","v":{"$error":"#REF!"}},{"$error":"#REF!"}]
[{"$f":"#REF!","v":{"$error":"#REF!"}},{"$error":"#REF!"}]
[{"$f":"#REF!","v":{"$error":"#REF!"}},{"$error":"#REF!"}]
[{"$f":"#REF!","v":{"$error":"#REF!"}},{"$error":"#REF!"}]
[{"$f":"#REF!","v":{"$error":"#REF!"}},{"$error":"#REF!"}]
[{"$f":"#REF!","v":{"$error":"#REF!"}},{"$error":"#REF!"}]
[{"$f":"#REF!","v":{"$error":"#REF!"}},{"$error":"#REF!"}]
[{"$f":"#REF!","v":{"$error":"#REF!"}},{"$error":"#REF!"}]
[{"$f":"#REF!","v":{"$error":"#REF!"}},{"$error":"#REF!"}]
[{"$f":"#REF!","v":{"$error":"#REF!"}},{"$error":"#REF!"}]
[{"$f":"#REF!","v":{"$error":"#REF!"}},{"$error":"#REF!"}]
[{"$f":"#REF!","v":{"$error":"#REF!"}},{"$error":"#REF!"}]
[{"$f":"#REF!","v":{"$error":"#REF!"}},{"$error":"#REF!"}]
[{"$f":"#REF!","v":{"$error":"#REF!"}},{"$error":"#REF!"}]
[{"$f":"#REF!","v":{"$error":"#REF!"}},{"$error":"#REF!"}]
[{"$f":"#REF!","v":{"$error":"#REF!"}},{"$error":"#REF!"}]
[{"$f":"#REF!","v":{"$error":"#REF!"}},{"$error":"#REF!"}]
[{"$f":"#REF!","v":{"$error":"#REF!"}},{"$error":"#REF!"}]
[{"$f":"#REF!","v":{"$error":"#REF!"}},{"$error":"#REF!"}]
[{"$f":"#REF!","v":{"$error":"#REF!"}},{"$error":"#REF!"}]
[{"$f":"#REF!","v":{"$error":"#REF!"}},{"$error":"#REF!"}]
[{"$f":"#REF!","v":{"$error":"#REF!"}},{"$error":"#REF!"}]
[{"$f":"#REF!","v":{"$error":"#REF!"}},{"$error":"#REF!"}]
[{"$f":"#REF!","v":{"$error":"#REF!"}},{"$error":"#REF!"}]
[{"$f":"#REF!","v":{"$error":"#REF!"}},{"$error":"#REF!"}]
[{"$f":"#REF!","v":{"$error":"#REF!"}},{"$error":"#REF!"}]
[{"$f":"#REF!","v":{"$error":"#REF!"}},{"$error":"#REF!"}]
[{"$f":"#REF!","v":{"$error":"#REF!"}},{"$error":"#REF!"}]
[{"$f":"#REF!","v":{"$error":"#REF!"}},{"$error":"#REF!"}]
[{"$f":"#REF!","v":{"$error":"#REF!"}},{"$error":"#REF!"}]
[{"$f":"#REF!","v":{"$error":"#REF!"}},{"$error":"#REF!"}]
[{"$f":"#REF!","v":{"$error":"#REF!"}},{"$f":"IF(A2512=\"\",\"\",IF(VLOOKUP(A2512,base_rpvs_pagas,2)=A$11,A2512,0))","v":{"$error":"#REF!"}}]
[{"$f":"#REF!","v":{"$error":"#REF!"}},{"$error":"#REF!"}]
[{"$f":"#REF!","v":{"$error":"#REF!"}},{"$error":"#REF!"}]
[{"$f":"#REF!","v":{"$error":"#REF!"}},{"$error":"#REF!"}]
[{"$f":"#REF!","v":{"$error":"#REF!"}},{"$error":"#REF!"}]
[{"$f":"#REF!","v":{"$error":"#REF!"}},{"$error":"#REF!"}]
[{"$f":"#REF!","v":{"$error":"#REF!"}},{"$error":"#REF!"}]
[{"$f":"#REF!","v":{"$error":"#REF!"}},{"$error":"#REF!"}]
[{"$f":"#REF!","v":{"$error":"#REF!"}},{"$error":"#REF!"}]
[{"$f":"#REF!","v":{"$error":"#REF!"}},{"$error":"#REF!"}]
[{"$f":"#REF!","v":{"$error":"#REF!"}},{"$error":"#REF!"}]
[{"$f":"#REF!","v":{"$error":"#REF!"}},{"$error":"#REF!"}]
[{"$f":"#REF!","v":{"$error":"#REF!"}},{"$error":"#REF!"}]
[{"$f":"#REF!","v":{"$error":"#REF!"}},{"$error":"#REF!"}]
[{"$f":"#REF!","v":{"$error":"#REF!"}},{"$error":"#REF!"}]
[{"$f":"#REF!","v":{"$error":"#REF!"}},{"$error":"#REF!"}]
[{"$f":"#REF!","v":{"$error":"#REF!"}},{"$error":"#REF!"}]
[{"$f":"#REF!","v":{"$error":"#REF!"}},{"$error":"#REF!"}]
[{"$f":"#REF!","v":{"$error":"#REF!"}},{"$error":"#REF!"}]
[{"$f":"#REF!","v":{"$error":"#REF!"}},{"$error":"#REF!"}]
[{"$f":"#REF!","v":{"$error":"#REF!"}},{"$error":"#REF!"}]
[{"$f":"#REF!","v":{"$error":"#REF!"}},{"$error":"#REF!"}]
[{"$f":"#REF!","v":{"$error":"#REF!"}},{"$error":"#REF!"}]
[{"$f":"#REF!","v":{"$error":"#REF!"}},{"$error":"#REF!"}]
[{"$f":"#REF!","v":{"$error":"#REF!"}},{"$error":"#REF!"}]
[{"$f":"#REF!","v":{"$error":"#REF!"}},{"$error":"#REF!"}]
[{"$f":"#REF!","v":{"$error":"#REF!"}},{"$error":"#REF!"}]
[{"$f":"#REF!","v":{"$error":"#REF!"}},{"$error":"#REF!"}]
[{"$f":"#REF!","v":{"$error":"#REF!"}},{"$error":"#REF!"}]
[{"$f":"#REF!","v":{"$error":"#REF!"}},{"$error":"#REF!"}]
[{"$f":"#REF!","v":{"$error":"#REF!"}},{"$error":"#REF!"}]
[{"$f":"#REF!","v":{"$error":"#REF!"}},{"$error":"#REF!"}]
[{"$f":"#REF!","v":{"$error":"#REF!"}},{"$error":"#REF!"}]
[{"$f":"#REF!","v":{"$error":"#REF!"}},{"$error":"#REF!"}]
[{"$f":"#REF!","v":{"$error":"#REF!"}},{"$error":"#REF!"}]
[{"$f":"#REF!","v":{"$error":"#REF!"}},{"$error":"#REF!"}]
[{"$f":"#REF!","v":{"$error":"#REF!"}},{"$error":"#REF!"}]
[{"$f":"#REF!","v":{"$error":"#REF!"}},{"$error":"#REF!"}]
[{"$f":"#REF!","v":{"$error":"#REF!"}},{"$error":"#REF!"}]
[{"$f":"#REF!","v":{"$error":"#REF!"}},{"$error":"#REF!"}]
[{"$f":"#REF!","v":{"$error":"#REF!"}},{"$error":"#REF!"}]
[{"$f":"#REF!","v":{"$error":"#REF!"}},{"$error":"#REF!"}]
[{"$f":"#REF!","v":{"$error":"#REF!"}},{"$error":"#REF!"}]
[{"$f":"#REF!","v":{"$error":"#REF!"}},{"$error":"#REF!"}]
[{"$f":"#REF!","v":{"$error":"#REF!"}},{"$error":"#REF!"}]
[{"$f":"#REF!","v":{"$error":"#REF!"}},{"$error":"#REF!"}]
[{"$f":"#REF!","v":{"$error":"#REF!"}},{"$error":"#REF!"}]
[{"$f":"#REF!","v":{"$error":"#REF!"}},{"$error":"#REF!"}]
[{"$f":"#REF!","v":{"$error":"#REF!"}},{"$error":"#REF!"}]
[{"$f":"#REF!","v":{"$error":"#REF!"}},{"$error":"#REF!"}]
[{"$f":"#REF!","v":{"$error":"#REF!"}},{"$error":"#REF!"}]
[{"$f":"#REF!","v":{"$error":"#REF!"}},{"$error":"#REF!"}]
[{"$f":"#REF!","v":{"$error":"#REF!"}},{"$error":"#REF!"}]
[{"$f":"#REF!","v":{"$error":"#REF!"}},{"$error":"#REF!"}]
[{"$f":"#REF!","v":{"$error":"#REF!"}},{"$error":"#REF!"}]
[{"$f":"#REF!","v":{"$error":"#REF!"}},{"$error":"#REF!"}]
[{"$f":"#REF!","v":{"$error":"#REF!"}},{"$error":"#REF!"}]
[{"$f":"#REF!","v":{"$error":"#REF!"}},{"$error":"#REF!"}]
[{"$f":"#REF!","v":{"$error":"#REF!"}},{"$error":"#REF!"}]
[{"$f":"#REF!","v":{"$error":"#REF!"}},{"$error":"#REF!"}]
[{"$f":"#REF!","v":{"$error":"#REF!"}},{"$error":"#REF!"}]
[{"$f":"#REF!","v":{"$error":"#REF!"}},{"$error":"#REF!"}]
[{"$f":"#REF!","v":{"$error":"#REF!"}},{"$error":"#REF!"}]
[{"$f":"#REF!","v":{"$error":"#REF!"}},{"$error":"#REF!"}]
[{"$f":"#REF!","v":{"$error":"#REF!"}},{"$f":"IF(A2576=\"\",\"\",IF(VLOOKUP(A2576,base_rpvs_pagas,2)=A$11,A2576,0))","v":{"$error":"#REF!"}}]
[{"$f":"#REF!","v":{"$error":"#REF!"}},{"$error":"#REF!"}]
[{"$f":"#REF!","v":{"$error":"#REF!"}},{"$error":"#REF!"}]
[{"$f":"#REF!","v":{"$error":"#REF!"}},{"$error":"#REF!"}]
[{"$f":"#REF!","v":{"$error":"#REF!"}},{"$error":"#REF!"}]
[{"$f":"#REF!","v":{"$error":"#REF!"}},{"$error":"#REF!"}]
[{"$f":"#REF!","v":{"$error":"#REF!"}},{"$error":"#REF!"}]
[{"$f":"#REF!","v":{"$error":"#REF!"}},{"$error":"#REF!"}]
[{"$f":"#REF!","v":{"$error":"#REF!"}},{"$error":"#REF!"}]
[{"$f":"#REF!","v":{"$error":"#REF!"}},{"$error":"#REF!"}]
[{"$f":"#REF!","v":{"$error":"#REF!"}},{"$error":"#REF!"}]
[{"$f":"#REF!","v":{"$error":"#REF!"}},{"$error":"#REF!"}]
[{"$f":"#REF!","v":{"$error":"#REF!"}},{"$error":"#REF!"}]
[{"$f":"#REF!","v":{"$error":"#REF!"}},{"$error":"#REF!"}]
[{"$f":"#REF!","v":{"$error":"#REF!"}},{"$error":"#REF!"}]
[{"$f":"#REF!","v":{"$error":"#REF!"}},{"$error":"#REF!"}]
[{"$f":"#REF!","v":{"$error":"#REF!"}},{"$error":"#REF!"}]
[{"$f":"#REF!","v":{"$error":"#REF!"}},{"$error":"#REF!"}]
[{"$f":"#REF!","v":{"$error":"#REF!"}},{"$error":"#REF!"}]
[{"$f":"#REF!","v":{"$error":"#REF!"}},{"$error":"#REF!"}]
[{"$f":"#REF!","v":{"$error":"#REF!"}},{"$error":"#REF!"}]
[{"$f":"#REF!","v":{"$error":"#REF!"}},{"$error":"#REF!"}]
[{"$f":"#REF!","v":{"$error":"#REF!"}},{"$error":"#REF!"}]
[{"$f":"#REF!","v":{"$error":"#REF!"}},{"$error":"#REF!"}]
[{"$f":"#REF!","v":{"$error":"#REF!"}},{"$error":"#REF!"}]
[{"$f":"#REF!","v":{"$error":"#REF!"}},{"$error":"#REF!"}]
[{"$f":"#REF!","v":{"$error":"#REF!"}},{"$error":"#REF!"}]
[{"$f":"#REF!","v":{"$error":"#REF!"}},{"$error":"#REF!"}]
[{"$f":"#REF!","v":{"$error":"#REF!"}},{"$error":"#REF!"}]
[{"$f":"#REF!","v":{"$error":"#REF!"}},{"$error":"#REF!"}]
[{"$f":"#REF!","v":{"$error":"#REF!"}},{"$error":"#REF!"}]
[{"$f":"#REF!","v":{"$error":"#REF!"}},{"$error":"#REF!"}]
[{"$f":"#REF!","v":{"$error":"#REF!"}},{"$error":"#REF!"}]
[{"$f":"#REF!","v":{"$error":"#REF!"}},{"$error":"#REF!"}]
[{"$f":"#REF!","v":{"$error":"#REF!"}},{"$error":"#REF!"}]
[{"$f":"#REF!","v":{"$error":"#REF!"}},{"$error":"#REF!"}]
[{"$f":"#REF!","v":{"$error":"#REF!"}},{"$error":"#REF!"}]
[{"$f":"#REF!","v":{"$error":"#REF!"}},{"$error":"#REF!"}]
[{"$f":"#REF!","v":{"$error":"#REF!"}},{"$error":"#REF!"}]
[{"$f":"#REF!","v":{"$error":"#REF!"}},{"$error":"#REF!"}]
[{"$f":"#REF!","v":{"$error":"#REF!"}},{"$error":"#REF!"}]
[{"$f":"#REF!","v":{"$error":"#REF!"}},{"$error":"#REF!"}]
[{"$f":"#REF!","v":{"$error":"#REF!"}},{"$error":"#REF!"}]
[{"$f":"#REF!","v":{"$error":"#REF!"}},{"$error":"#REF!"}]
[{"$f":"#REF!","v":{"$error":"#REF!"}},{"$error":"#REF!"}]
[{"$f":"#REF!","v":{"$error":"#REF!"}},{"$error":"#REF!"}]
[{"$f":"#REF!","v":{"$error":"#REF!"}},{"$error":"#REF!"}]
[{"$f":"#REF!","v":{"$error":"#REF!"}},{"$error":"#REF!"}]
[{"$f":"#REF!","v":{"$error":"#REF!"}},{"$error":"#REF!"}]
[{"$f":"#REF!","v":{"$error":"#REF!"}},{"$error":"#REF!"}]
[{"$f":"#REF!","v":{"$error":"#REF!"}},{"$error":"#REF!"}]
[{"$f":"#REF!","v":{"$error":"#REF!"}},{"$error":"#REF!"}]
[{"$f":"#REF!","v":{"$error":"#REF!"}},{"$error":"#REF!"}]
[{"$f":"#REF!","v":{"$error":"#REF!"}},{"$error":"#REF!"}]
[{"$f":"#REF!","v":{"$error":"#REF!"}},{"$error":"#REF!"}]
[{"$f":"#REF!","v":{"$error":"#REF!"}},{"$error":"#REF!"}]
[{"$f":"#REF!","v":{"$error":"#REF!"}},{"$error":"#REF!"}]
[{"$f":"#REF!","v":{"$error":"#REF!"}},{"$error":"#REF!"}]
[{"$f":"#REF!","v":{"$error":"#REF!"}},{"$error":"#REF!"}]
[{"$f":"#REF!","v":{"$error":"#REF!"}},{"$error":"#REF!"}]
[{"$f":"#REF!","v":{"$error":"#REF!"}},{"$error":"#REF!"}]
[{"$f":"#REF!","v":{"$error":"#REF!"}},{"$error":"#REF!"}]
[{"$f":"#REF!","v":{"$error":"#REF!"}},{"$error":"#REF!"}]
[{"$f":"#REF!","v":{"$error":"#REF!"}},{"$error":"#REF!"}]
[{"$f":"#REF!","v":{"$error":"#REF!"}},{"$f":"IF(A2640=\"\",\"\",IF(VLOOKUP(A2640,base_rpvs_pagas,2)=A$11,A2640,0))","v":{"$error":"#REF!"}}]
[{"$f":"#REF!","v":{"$error":"#REF!"}},{"$error":"#REF!"}]
[{"$f":"#REF!","v":{"$error":"#REF!"}},{"$error":"#REF!"}]
[{"$f":"#REF!","v":{"$error":"#REF!"}},{"$error":"#REF!"}]
[{"$f":"#REF!","v":{"$error":"#REF!"}},{"$error":"#REF!"}]
[{"$f":"#REF!","v":{"$error":"#REF!"}},{"$error":"#REF!"}]
[{"$f":"#REF!","v":{"$error":"#REF!"}},{"$error":"#REF!"}]
[{"$f":"#REF!","v":{"$error":"#REF!"}},{"$error":"#REF!"}]
[{"$f":"#REF!","v":{"$error":"#REF!"}},{"$error":"#REF!"}]
[{"$f":"#REF!","v":{"$error":"#REF!"}},{"$error":"#REF!"}]
[{"$f":"#REF!","v":{"$error":"#REF!"}},{"$error":"#REF!"}]
[{"$f":"#REF!","v":{"$error":"#REF!"}},{"$error":"#REF!"}]
[{"$f":"#REF!","v":{"$error":"#REF!"}},{"$error":"#REF!"}]
[{"$f":"#REF!","v":{"$error":"#REF!"}},{"$error":"#REF!"}]
[{"$f":"#REF!","v":{"$error":"#REF!"}},{"$error":"#REF!"}]
[{"$f":"#REF!","v":{"$error":"#REF!"}},{"$error":"#REF!"}]
[{"$f":"#REF!","v":{"$error":"#REF!"}},{"$error":"#REF!"}]
[{"$f":"#REF!","v":{"$error":"#REF!"}},{"$error":"#REF!"}]
[{"$f":"#REF!","v":{"$error":"#REF!"}},{"$error":"#REF!"}]
[{"$f":"#REF!","v":{"$error":"#REF!"}},{"$error":"#REF!"}]
[{"$f":"#REF!","v":{"$error":"#REF!"}},{"$error":"#REF!"}]
[{"$f":"#REF!","v":{"$error":"#REF!"}},{"$error":"#REF!"}]
[{"$f":"#REF!","v":{"$error":"#REF!"}},{"$error":"#REF!"}]
[{"$f":"#REF!","v":{"$error":"#REF!"}},{"$error":"#REF!"}]
[{"$f":"#REF!","v":{"$error":"#REF!"}},{"$error":"#REF!"}]
[{"$f":"#REF!","v":{"$error":"#REF!"}},{"$error":"#REF!"}]
[{"$f":"#REF!","v":{"$error":"#REF!"}},{"$error":"#REF!"}]
[{"$f":"#REF!","v":{"$error":"#REF!"}},{"$error":"#REF!"}]
[{"$f":"#REF!","v":{"$error":"#REF!"}},{"$error":"#REF!"}]
[{"$f":"#REF!","v":{"$error":"#REF!"}},{"$error":"#REF!"}]
[{"$f":"#REF!","v":{"$error":"#REF!"}},{"$error":"#REF!"}]
[{"$f":"#REF!","v":{"$error":"#REF!"}},{"$error":"#REF!"}]
[{"$f":"#REF!","v":{"$error":"#REF!"}},{"$error":"#REF!"}]
[{"$f":"#REF!","v":{"$error":"#REF!"}},{"$error":"#REF!"}]
[{"$f":"#REF!","v":{"$error":"#REF!"}},{"$error":"#REF!"}]
[{"$f":"#REF!","v":{"$error":"#REF!"}},{"$error":"#REF!"}]
[{"$f":"#REF!","v":{"$error":"#REF!"}},{"$error":"#REF!"}]
[{"$f":"#REF!","v":{"$error":"#REF!"}},{"$error":"#REF!"}]
[{"$f":"#REF!","v":{"$error":"#REF!"}},{"$error":"#REF!"}]
[{"$f":"#REF!","v":{"$error":"#REF!"}},{"$error":"#REF!"}]
[{"$f":"#REF!","v":{"$error":"#REF!"}},{"$error":"#REF!"}]
[{"$f":"#REF!","v":{"$error":"#REF!"}},{"$error":"#REF!"}]
[{"$f":"#REF!","v":{"$error":"#REF!"}},{"$error":"#REF!"}]
[{"$f":"#REF!","v":{"$error":"#REF!"}},{"$error":"#REF!"}]
[{"$f":"#REF!","v":{"$error":"#REF!"}},{"$error":"#REF!"}]
[{"$f":"#REF!","v":{"$error":"#REF!"}},{"$error":"#REF!"}]
[{"$f":"#REF!","v":{"$error":"#REF!"}},{"$error":"#REF!"}]
[{"$f":"#REF!","v":{"$error":"#REF!"}},{"$error":"#REF!"}]
[{"$f":"#REF!","v":{"$error":"#REF!"}},{"$error":"#REF!"}]
[{"$f":"#REF!","v":{"$error":"#REF!"}},{"$error":"#REF!"}]
[{"$f":"#REF!","v":{"$error":"#REF!"}},{"$error":"#REF!"}]
[{"$f":"#REF!","v":{"$error":"#REF!"}},{"$error":"#REF!"}]
[{"$f":"#REF!","v":{"$error":"#REF!"}},{"$error":"#REF!"}]
[{"$f":"#REF!","v":{"$error":"#REF!"}},{"$error":"#REF!"}]
[{"$f":"#REF!","v":{"$error":"#REF!"}},{"$error":"#REF!"}]
[{"$f":"#REF!","v":{"$error":"#REF!"}},{"$error":"#REF!"}]
[{"$f":"#REF!","v":{"$error":"#REF!"}},{"$error":"#REF!"}]
[{"$f":"#REF!","v":{"$error":"#REF!"}},{"$error":"#REF!"}]
[{"$f":"#REF!","v":{"$error":"#REF!"}},{"$error":"#REF!"}]
[{"$f":"#REF!","v":{"$error":"#REF!"}},{"$error":"#REF!"}]
[{"$f":"#REF!","v":{"$error":"#REF!"}},{"$error":"#REF!"}]
[{"$f":"#REF!","v":{"$error":"#REF!"}},{"$error":"#REF!"}]
[{"$f":"#REF!","v":{"$error":"#REF!"}},{"$error":"#REF!"}]
[{"$f":"#REF!","v":{"$error":"#REF!"}},{"$error":"#REF!"}]
[{"$f":"#REF!","v":{"$error":"#REF!"}},{"$f":"IF(A2704=\"\",\"\",IF(VLOOKUP(A2704,base_rpvs_pagas,2)=A$11,A2704,0))","v":{"$error":"#REF!"}}]
[{"$f":"#REF!","v":{"$error":"#REF!"}},{"$error":"#REF!"}]
[{"$f":"#REF!","v":{"$error":"#REF!"}},{"$error":"#REF!"}]
[{"$f":"#REF!","v":{"$error":"#REF!"}},{"$error":"#REF!"}]
[{"$f":"#REF!","v":{"$error":"#REF!"}},{"$error":"#REF!"}]
[{"$f":"#REF!","v":{"$error":"#REF!"}},{"$error":"#REF!"}]
[{"$f":"#REF!","v":{"$error":"#REF!"}},{"$error":"#REF!"}]
[{"$f":"#REF!","v":{"$error":"#REF!"}},{"$error":"#REF!"}]
[{"$f":"#REF!","v":{"$error":"#REF!"}},{"$error":"#REF!"}]
[{"$f":"#REF!","v":{"$error":"#REF!"}},{"$error":"#REF!"}]
[{"$f":"#REF!","v":{"$error":"#REF!"}},{"$error":"#REF!"}]
[{"$f":"#REF!","v":{"$error":"#REF!"}},{"$error":"#REF!"}]
[{"$f":"#REF!","v":{"$error":"#REF!"}},{"$error":"#REF!"}]
[{"$f":"#REF!","v":{"$error":"#REF!"}},{"$error":"#REF!"}]
[{"$f":"#REF!","v":{"$error":"#REF!"}},{"$error":"#REF!"}]
[{"$f":"#REF!","v":{"$error":"#REF!"}},{"$error":"#REF!"}]
[{"$f":"#REF!","v":{"$error":"#REF!"}},{"$error":"#REF!"}]
[{"$f":"#REF!","v":{"$error":"#REF!"}},{"$error":"#REF!"}]
[{"$f":"#REF!","v":{"$error":"#REF!"}},{"$error":"#REF!"}]
[{"$f":"#REF!","v":{"$error":"#REF!"}},{"$error":"#REF!"}]
[{"$f":"#REF!","v":{"$error":"#REF!"}},{"$error":"#REF!"}]
[{"$f":"#REF!","v":{"$error":"#REF!"}},{"$error":"#REF!"}]
[{"$f":"#REF!","v":{"$error":"#REF!"}},{"$error":"#REF!"}]
[{"$f":"#REF!","v":{"$error":"#REF!"}},{"$error":"#REF!"}]
[{"$f":"#REF!","v":{"$error":"#REF!"}},{"$error":"#REF!"}]
[{"$f":"#REF!","v":{"$error":"#REF!"}},{"$error":"#REF!"}]
[{"$f":"#REF!","v":{"$error":"#REF!"}},{"$error":"#REF!"}]
[{"$f":"#REF!","v":{"$error":"#REF!"}},{"$error":"#REF!"}]
[{"$f":"#REF!","v":{"$error":"#REF!"}},{"$error":"#REF!"}]
[{"$f":"#REF!","v":{"$error":"#REF!"}},{"$error":"#REF!"}]
[{"$f":"#REF!","v":{"$error":"#REF!"}},{"$error":"#REF!"}]
[{"$f":"#REF!","v":{"$error":"#REF!"}},{"$error":"#REF!"}]
[{"$f":"#REF!","v":{"$error":"#REF!"}},{"$error":"#REF!"}]
[{"$f":"#REF!","v":{"$error":"#REF!"}},{"$error":"#REF!"}]
[{"$f":"#REF!","v":{"$error":"#REF!"}},{"$error":"#REF!"}]
[{"$f":"#REF!","v":{"$error":"#REF!"}},{"$error":"#REF!"}]
[{"$f":"#REF!","v":{"$error":"#REF!"}},{"$error":"#REF!"}]
[{"$f":"#REF!","v":{"$error":"#REF!"}},{"$error":"#REF!"}]
[{"$f":"#REF!","v":{"$error":"#REF!"}},{"$error":"#REF!"}]
[{"$f":"#REF!","v":{"$error":"#REF!"}},{"$error":"#REF!"}]
[{"$f":"#REF!","v":{"$error":"#REF!"}},{"$error":"#REF!"}]
[{"$f":"#REF!","v":{"$error":"#REF!"}},{"$error":"#REF!"}]
[{"$f":"#REF!","v":{"$error":"#REF!"}},{"$error":"#REF!"}]
[{"$f":"#REF!","v":{"$error":"#REF!"}},{"$error":"#REF!"}]
[{"$f":"#REF!","v":{"$error":"#REF!"}},{"$error":"#REF!"}]
[{"$f":"#REF!","v":{"$error":"#REF!"}},{"$error":"#REF!"}]
[{"$f":"#REF!","v":{"$error":"#REF!"}},{"$error":"#REF!"}]
[{"$f":"#REF!","v":{"$error":"#REF!"}},{"$error":"#REF!"}]
[{"$f":"#REF!","v":{"$error":"#REF!"}},{"$error":"#REF!"}]
[{"$f":"#REF!","v":{"$error":"#REF!"}},{"$error":"#REF!"}]
[{"$f":"#REF!","v":{"$error":"#REF!"}},{"$error":"#REF!"}]
[{"$f":"#REF!","v":{"$error":"#REF!"}},{"$error":"#REF!"}]
[{"$f":"#REF!","v":{"$error":"#REF!"}},{"$error":"#REF!"}]
[{"$f":"#REF!","v":{"$error":"#REF!"}},{"$error":"#REF!"}]
[{"$f":"#REF!","v":{"$error":"#REF!"}},{"$error":"#REF!"}]
[{"$f":"#REF!","v":{"$error":"#REF!"}},{"$error":"#REF!"}]
[{"$f":"#REF!","v":{"$error":"#REF!"}},{"$error":"#REF!"}]
[{"$f":"#REF!","v":{"$error":"#REF!"}},{"$error":"#REF!"}]
[{"$f":"#REF!","v":{"$error":"#REF!"}},{"$error":"#REF!"}]
[{"$f":"#REF!","v":{"$error":"#REF!"}},{"$error":"#REF!"}]
[{"$f":"#REF!","v":{"$error":"#REF!"}},{"$error":"#REF!"}]
[{"$f":"#REF!","v":{"$error":"#REF!"}},{"$error":"#REF!"}]
[{"$f":"#REF!","v":{"$error":"#REF!"}},{"$error":"#REF!"}]
[{"$f":"#REF!","v":{"$error":"#REF!"}},{"$error":"#REF!"}]
[{"$f":"#REF!","v":{"$error":"#REF!"}},{"$f":"IF(A2768=\"\",\"\",IF(VLOOKUP(A2768,base_rpvs_pagas,2)=A$11,A2768,0))","v":{"$error":"#REF!"}}]
[{"$f":"#REF!","v":{"$error":"#REF!"}},{"$error":"#REF!"}]
[{"$f":"#REF!","v":{"$error":"#REF!"}},{"$error":"#REF!"}]
[{"$f":"#REF!","v":{"$error":"#REF!"}},{"$error":"#REF!"}]
[{"$f":"#REF!","v":{"$error":"#REF!"}},{"$error":"#REF!"}]
[{"$f":"#REF!","v":{"$error":"#REF!"}},{"$error":"#REF!"}]
[{"$f":"#REF!","v":{"$error":"#REF!"}},{"$error":"#REF!"}]
[{"$f":"#REF!","v":{"$error":"#REF!"}},{"$error":"#REF!"}]
[{"$f":"#REF!","v":{"$error":"#REF!"}},{"$error":"#REF!"}]
[{"$f":"#REF!","v":{"$error":"#REF!"}},{"$error":"#REF!"}]
[{"$f":"#REF!","v":{"$error":"#REF!"}},{"$error":"#REF!"}]
[{"$f":"#REF!","v":{"$error":"#REF!"}},{"$error":"#REF!"}]
[{"$f":"#REF!","v":{"$error":"#REF!"}},{"$error":"#REF!"}]
[{"$f":"#REF!","v":{"$error":"#REF!"}},{"$error":"#REF!"}]
[{"$f":"#REF!","v":{"$error":"#REF!"}},{"$error":"#REF!"}]
[{"$f":"#REF!","v":{"$error":"#REF!"}},{"$error":"#REF!"}]
[{"$f":"#REF!","v":{"$error":"#REF!"}},{"$error":"#REF!"}]
[{"$f":"#REF!","v":{"$error":"#REF!"}},{"$error":"#REF!"}]
[{"$f":"#REF!","v":{"$error":"#REF!"}},{"$error":"#REF!"}]
[{"$f":"#REF!","v":{"$error":"#REF!"}},{"$error":"#REF!"}]
[{"$f":"#REF!","v":{"$error":"#REF!"}},{"$error":"#REF!"}]
[{"$f":"#REF!","v":{"$error":"#REF!"}},{"$error":"#REF!"}]
[{"$f":"#REF!","v":{"$error":"#REF!"}},{"$error":"#REF!"}]
[{"$f":"#REF!","v":{"$error":"#REF!"}},{"$error":"#REF!"}]
[{"$f":"#REF!","v":{"$error":"#REF!"}},{"$error":"#REF!"}]
[{"$f":"#REF!","v":{"$error":"#REF!"}},{"$error":"#REF!"}]
[{"$f":"#REF!","v":{"$error":"#REF!"}},{"$error":"#REF!"}]
[{"$f":"#REF!","v":{"$error":"#REF!"}},{"$error":"#REF!"}]
[{"$f":"#REF!","v":{"$error":"#REF!"}},{"$error":"#REF!"}]
[{"$f":"#REF!","v":{"$error":"#REF!"}},{"$error":"#REF!"}]
[{"$f":"#REF!","v":{"$error":"#REF!"}},{"$error":"#REF!"}]
[{"$f":"#REF!","v":{"$error":"#REF!"}},{"$error":"#REF!"}]
[{"$f":"#REF!","v":{"$error":"#REF!"}},{"$error":"#REF!"}]
[{"$f":"#REF!","v":{"$error":"#REF!"}},{"$error":"#REF!"}]
[{"$f":"#REF!","v":{"$error":"#REF!"}},{"$error":"#REF!"}]
[{"$f":"#REF!","v":{"$error":"#REF!"}},{"$error":"#REF!"}]
[{"$f":"#REF!","v":{"$error":"#REF!"}},{"$error":"#REF!"}]
[{"$f":"#REF!","v":{"$error":"#REF!"}},{"$error":"#REF!"}]
[{"$f":"#REF!","v":{"$error":"#REF!"}},{"$error":"#REF!"}]
[{"$f":"#REF!","v":{"$error":"#REF!"}},{"$error":"#REF!"}]
[{"$f":"#REF!","v":{"$error":"#REF!"}},{"$error":"#REF!"}]
[{"$f":"#REF!","v":{"$error":"#REF!"}},{"$error":"#REF!"}]
[{"$f":"#REF!","v":{"$error":"#REF!"}},{"$error":"#REF!"}]
[{"$f":"#REF!","v":{"$error":"#REF!"}},{"$error":"#REF!"}]
[{"$f":"#REF!","v":{"$error":"#REF!"}},{"$error":"#REF!"}]
[{"$f":"#REF!","v":{"$error":"#REF!"}},{"$error":"#REF!"}]
[{"$f":"#REF!","v":{"$error":"#REF!"}},{"$error":"#REF!"}]
[{"$f":"#REF!","v":{"$error":"#REF!"}},{"$error":"#REF!"}]
[{"$f":"#REF!","v":{"$error":"#REF!"}},{"$error":"#REF!"}]
[{"$f":"#REF!","v":{"$error":"#REF!"}},{"$error":"#REF!"}]
[{"$f":"#REF!","v":{"$error":"#REF!"}},{"$error":"#REF!"}]
[{"$f":"#REF!","v":{"$error":"#REF!"}},{"$error":"#REF!"}]
[{"$f":"#REF!","v":{"$error":"#REF!"}},{"$error":"#REF!"}]
[{"$f":"#REF!","v":{"$error":"#REF!"}},{"$error":"#REF!"}]
[{"$f":"#REF!","v":{"$error":"#REF!"}},{"$error":"#REF!"}]
[{"$f":"#REF!","v":{"$error":"#REF!"}},{"$error":"#REF!"}]
[{"$f":"#REF!","v":{"$error":"#REF!"}},{"$error":"#REF!"}]
[{"$f":"#REF!","v":{"$error":"#REF!"}},{"$error":"#REF!"}]
[{"$f":"#REF!","v":{"$error":"#REF!"}},{"$error":"#REF!"}]
[{"$f":"#REF!","v":{"$error":"#REF!"}},{"$error":"#REF!"}]
[{"$f":"#REF!","v":{"$error":"#REF!"}},{"$error":"#REF!"}]
[{"$f":"#REF!","v":{"$error":"#REF!"}},{"$error":"#REF!"}]
[{"$f":"#REF!","v":{"$error":"#REF!"}},{"$error":"#REF!"}]
[{"$f":"#REF!","v":{"$error":"#REF!"}},{"$error":"#REF!"}]
[{"$f":"#REF!","v":{"$error":"#REF!"}},{"$f":"IF(A2832=\"\",\"\",IF(VLOOKUP(A2832,base_rpvs_pagas,2)=A$11,A2832,0))","v":{"$error":"#REF!"}}]
[{"$f":"#REF!","v":{"$error":"#REF!"}},{"$error":"#REF!"}]
[{"$f":"#REF!","v":{"$error":"#REF!"}},{"$error":"#REF!"}]
[{"$f":"#REF!","v":{"$error":"#REF!"}},{"$error":"#REF!"}]
[{"$f":"#REF!","v":{"$error":"#REF!"}},{"$error":"#REF!"}]
[{"$f":"#REF!","v":{"$error":"#REF!"}},{"$error":"#REF!"}]
[{"$f":"#REF!","v":{"$error":"#REF!"}},{"$error":"#REF!"}]
[{"$f":"#REF!","v":{"$error":"#REF!"}},{"$error":"#REF!"}]
[{"$f":"#REF!","v":{"$error":"#REF!"}},{"$error":"#REF!"}]
[{"$f":"#REF!","v":{"$error":"#REF!"}},{"$error":"#REF!"}]
[{"$f":"#REF!","v":{"$error":"#REF!"}},{"$error":"#REF!"}]
[{"$f":"#REF!","v":{"$error":"#REF!"}},{"$error":"#REF!"}]
[{"$f":"#REF!","v":{"$error":"#REF!"}},{"$error":"#REF!"}]
[{"$f":"#REF!","v":{"$error":"#REF!"}},{"$error":"#REF!"}]
[{"$f":"#REF!","v":{"$error":"#REF!"}},{"$error":"#REF!"}]
[{"$f":"#REF!","v":{"$error":"#REF!"}},{"$error":"#REF!"}]
[{"$f":"#REF!","v":{"$error":"#REF!"}},{"$error":"#REF!"}]
[{"$f":"#REF!","v":{"$error":"#REF!"}},{"$error":"#REF!"}]
[{"$f":"#REF!","v":{"$error":"#REF!"}},{"$error":"#REF!"}]
[{"$f":"#REF!","v":{"$error":"#REF!"}},{"$error":"#REF!"}]
[{"$f":"#REF!","v":{"$error":"#REF!"}},{"$error":"#REF!"}]
[{"$f":"#REF!","v":{"$error":"#REF!"}},{"$error":"#REF!"}]
[{"$f":"#REF!","v":{"$error":"#REF!"}},{"$error":"#REF!"}]
[{"$f":"#REF!","v":{"$error":"#REF!"}},{"$error":"#REF!"}]
[{"$f":"#REF!","v":{"$error":"#REF!"}},{"$error":"#REF!"}]
[{"$f":"#REF!","v":{"$error":"#REF!"}},{"$error":"#REF!"}]
[{"$f":"#REF!","v":{"$error":"#REF!"}},{"$error":"#REF!"}]
[{"$f":"#REF!","v":{"$error":"#REF!"}},{"$error":"#REF!"}]
[{"$f":"#REF!","v":{"$error":"#REF!"}},{"$error":"#REF!"}]
[{"$f":"#REF!","v":{"$error":"#REF!"}},{"$error":"#REF!"}]
[{"$f":"#REF!","v":{"$error":"#REF!"}},{"$error":"#REF!"}]
[{"$f":"#REF!","v":{"$error":"#REF!"}},{"$error":"#REF!"}]
[{"$f":"#REF!","v":{"$error":"#REF!"}},{"$error":"#REF!"}]
[{"$f":"#REF!","v":{"$error":"#REF!"}},{"$error":"#REF!"}]
[{"$f":"#REF!","v":{"$error":"#REF!"}},{"$error":"#REF!"}]
[{"$f":"#REF!","v":{"$error":"#REF!"}},{"$error":"#REF!"}]
[{"$f":"#REF!","v":{"$error":"#REF!"}},{"$error":"#REF!"}]
[{"$f":"#REF!","v":{"$error":"#REF!"}},{"$error":"#REF!"}]
[{"$f":"#REF!","v":{"$error":"#REF!"}},{"$error":"#REF!"}]
[{"$f":"#REF!","v":{"$error":"#REF!"}},{"$error":"#REF!"}]
[{"$f":"#REF!","v":{"$error":"#REF!"}},{"$error":"#REF!"}]
[{"$f":"#REF!","v":{"$error":"#REF!"}},{"$error":"#REF!"}]
[{"$f":"#REF!","v":{"$error":"#REF!"}},{"$error":"#REF!"}]
[{"$f":"#REF!","v":{"$error":"#REF!"}},{"$error":"#REF!"}]
[{"$f":"#REF!","v":{"$error":"#REF!"}},{"$error":"#REF!"}]
[{"$f":"#REF!","v":{"$error":"#REF!"}},{"$error":"#REF!"}]
[{"$f":"#REF!","v":{"$error":"#REF!"}},{"$error":"#REF!"}]
[{"$f":"#REF!","v":{"$error":"#REF!"}},{"$error":"#REF!"}]
[{"$f":"#REF!","v":{"$error":"#REF!"}},{"$error":"#REF!"}]
[{"$f":"#REF!","v":{"$error":"#REF!"}},{"$error":"#REF!"}]
[{"$f":"#REF!","v":{"$error":"#REF!"}},{"$error":"#REF!"}]
[{"$f":"#REF!","v":{"$error":"#REF!"}},{"$error":"#REF!"}]
[{"$f":"#REF!","v":{"$error":"#REF!"}},{"$error":"#REF!"}]
[{"$f":"#REF!","v":{"$error":"#REF!"}},{"$error":"#REF!"}]
[{"$f":"#REF!","v":{"$error":"#REF!"}},{"$error":"#REF!"}]
[{"$f":"#REF!","v":{"$error":"#REF!"}},{"$error":"#REF!"}]
[{"$f":"#REF!","v":{"$error":"#REF!"}},{"$error":"#REF!"}]
[{"$f":"#REF!","v":{"$error":"#REF!"}},{"$error":"#REF!"}]
[{"$f":"#REF!","v":{"$error":"#REF!"}},{"$error":"#REF!"}]
[{"$f":"#REF!","v":{"$error":"#REF!"}},{"$error":"#REF!"}]
[{"$f":"#REF!","v":{"$error":"#REF!"}},{"$error":"#REF!"}]
[{"$f":"#REF!","v":{"$error":"#REF!"}},{"$error":"#REF!"}]
[{"$f":"#REF!","v":{"$error":"#REF!"}},{"$error":"#REF!"}]
[{"$f":"#REF!","v":{"$error":"#REF!"}},{"$error":"#REF!"}]
[{"$f":"#REF!","v":{"$error":"#REF!"}},{"$f":"IF(A2896=\"\",\"\",IF(VLOOKUP(A2896,base_rpvs_pagas,2)=A$11,A2896,0))","v":{"$error":"#REF!"}}]
[{"$f":"#REF!","v":{"$error":"#REF!"}},{"$error":"#REF!"}]
[{"$f":"#REF!","v":{"$error":"#REF!"}},{"$error":"#REF!"}]
[{"$f":"#REF!","v":{"$error":"#REF!"}},{"$error":"#REF!"}]
[{"$f":"#REF!","v":{"$error":"#REF!"}},{"$error":"#REF!"}]
[{"$f":"#REF!","v":{"$error":"#REF!"}},{"$error":"#REF!"}]
[{"$f":"#REF!","v":{"$error":"#REF!"}},{"$error":"#REF!"}]
[{"$f":"#REF!","v":{"$error":"#REF!"}},{"$error":"#REF!"}]
[{"$f":"#REF!","v":{"$error":"#REF!"}},{"$error":"#REF!"}]
[{"$f":"#REF!","v":{"$error":"#REF!"}},{"$error":"#REF!"}]
[{"$f":"#REF!","v":{"$error":"#REF!"}},{"$error":"#REF!"}]
[{"$f":"#REF!","v":{"$error":"#REF!"}},{"$error":"#REF!"}]
[{"$f":"#REF!","v":{"$error":"#REF!"}},{"$error":"#REF!"}]
[{"$f":"#REF!","v":{"$error":"#REF!"}},{"$error":"#REF!"}]
[{"$f":"#REF!","v":{"$error":"#REF!"}},{"$error":"#REF!"}]
[{"$f":"#REF!","v":{"$error":"#REF!"}},{"$error":"#REF!"}]
[{"$f":"#REF!","v":{"$error":"#REF!"}},{"$error":"#REF!"}]
[{"$f":"#REF!","v":{"$error":"#REF!"}},{"$error":"#REF!"}]
[{"$f":"#REF!","v":{"$error":"#REF!"}},{"$error":"#REF!"}]
[{"$f":"#REF!","v":{"$error":"#REF!"}},{"$error":"#REF!"}]
[{"$f":"#REF!","v":{"$error":"#REF!"}},{"$error":"#REF!"}]
[{"$f":"#REF!","v":{"$error":"#REF!"}},{"$error":"#REF!"}]
[{"$f":"#REF!","v":{"$error":"#REF!"}},{"$error":"#REF!"}]
[{"$f":"#REF!","v":{"$error":"#REF!"}},{"$error":"#REF!"}]
[{"$f":"#REF!","v":{"$error":"#REF!"}},{"$error":"#REF!"}]
[{"$f":"#REF!","v":{"$error":"#REF!"}},{"$error":"#REF!"}]
[{"$f":"#REF!","v":{"$error":"#REF!"}},{"$error":"#REF!"}]
[{"$f":"#REF!","v":{"$error":"#REF!"}},{"$error":"#REF!"}]
[{"$f":"#REF!","v":{"$error":"#REF!"}},{"$error":"#REF!"}]
[{"$f":"#REF!","v":{"$error":"#REF!"}},{"$error":"#REF!"}]
[{"$f":"#REF!","v":{"$error":"#REF!"}},{"$error":"#REF!"}]
[{"$f":"#REF!","v":{"$error":"#REF!"}},{"$error":"#REF!"}]
[{"$f":"#REF!","v":{"$error":"#REF!"}},{"$error":"#REF!"}]
[{"$f":"#REF!","v":{"$error":"#REF!"}},{"$error":"#REF!"}]
[{"$f":"#REF!","v":{"$error":"#REF!"}},{"$error":"#REF!"}]
[{"$f":"#REF!","v":{"$error":"#REF!"}},{"$error":"#REF!"}]
[{"$f":"#REF!","v":{"$error":"#REF!"}},{"$error":"#REF!"}]
[{"$f":"#REF!","v":{"$error":"#REF!"}},{"$error":"#REF!"}]
[{"$f":"#REF!","v":{"$error":"#REF!"}},{"$error":"#REF!"}]
[{"$f":"#REF!","v":{"$error":"#REF!"}},{"$error":"#REF!"}]
[{"$f":"#REF!","v":{"$error":"#REF!"}},{"$error":"#REF!"}]
[{"$f":"#REF!","v":{"$error":"#REF!"}},{"$error":"#REF!"}]
[{"$f":"#REF!","v":{"$error":"#REF!"}},{"$error":"#REF!"}]
[{"$f":"#REF!","v":{"$error":"#REF!"}},{"$error":"#REF!"}]
[{"$f":"#REF!","v":{"$error":"#REF!"}},{"$error":"#REF!"}]
[{"$f":"#REF!","v":{"$error":"#REF!"}},{"$error":"#REF!"}]
[{"$f":"#REF!","v":{"$error":"#REF!"}},{"$error":"#REF!"}]
[{"$f":"#REF!","v":{"$error":"#REF!"}},{"$error":"#REF!"}]
[{"$f":"#REF!","v":{"$error":"#REF!"}},{"$error":"#REF!"}]
[{"$f":"#REF!","v":{"$error":"#REF!"}},{"$error":"#REF!"}]
[{"$f":"#REF!","v":{"$error":"#REF!"}},{"$error":"#REF!"}]
[{"$f":"#REF!","v":{"$error":"#REF!"}},{"$error":"#REF!"}]
[{"$f":"#REF!","v":{"$error":"#REF!"}},{"$error":"#REF!"}]
[{"$f":"#REF!","v":{"$error":"#REF!"}},{"$error":"#REF!"}]
[{"$f":"#REF!","v":{"$error":"#REF!"}},{"$error":"#REF!"}]
[{"$f":"#REF!","v":{"$error":"#REF!"}},{"$error":"#REF!"}]
[{"$f":"#REF!","v":{"$error":"#REF!"}},{"$error":"#REF!"}]
[{"$f":"#REF!","v":{"$error":"#REF!"}},{"$error":"#REF!"}]
[{"$f":"#REF!","v":{"$error":"#REF!"}},{"$error":"#REF!"}]
[{"$f":"#REF!","v":{"$error":"#REF!"}},{"$error":"#REF!"}]
[{"$f":"#REF!","v":{"$error":"#REF!"}},{"$error":"#REF!"}]
[{"$f":"#REF!","v":{"$error":"#REF!"}},{"$error":"#REF!"}]
[{"$f":"#REF!","v":{"$error":"#REF!"}},{"$error":"#REF!"}]
[{"$f":"#REF!","v":{"$error":"#REF!"}},{"$error":"#REF!"}]
[{"$f":"#REF!","v":{"$error":"#REF!"}},{"$f":"IF(A2960=\"\",\"\",IF(VLOOKUP(A2960,base_rpvs_pagas,2)=A$11,A2960,0))","v":{"$error":"#REF!"}}]
[{"$f":"#REF!","v":{"$error":"#REF!"}},{"$error":"#REF!"}]
[{"$f":"#REF!","v":{"$error":"#REF!"}},{"$error":"#REF!"}]
[{"$f":"#REF!","v":{"$error":"#REF!"}},{"$error":"#REF!"}]
[{"$f":"#REF!","v":{"$error":"#REF!"}},{"$error":"#REF!"}]
[{"$f":"#REF!","v":{"$error":"#REF!"}},{"$error":"#REF!"}]
[{"$f":"#REF!","v":{"$error":"#REF!"}},{"$error":"#REF!"}]
[{"$f":"#REF!","v":{"$error":"#REF!"}},{"$error":"#REF!"}]
[{"$f":"#REF!","v":{"$error":"#REF!"}},{"$error":"#REF!"}]
[{"$f":"#REF!","v":{"$error":"#REF!"}},{"$error":"#REF!"}]
[{"$f":"#REF!","v":{"$error":"#REF!"}},{"$error":"#REF!"}]
[{"$f":"#REF!","v":{"$error":"#REF!"}},{"$error":"#REF!"}]
[{"$f":"#REF!","v":{"$error":"#REF!"}},{"$error":"#REF!"}]
[{"$f":"#REF!","v":{"$error":"#REF!"}},{"$error":"#REF!"}]
[{"$f":"#REF!","v":{"$error":"#REF!"}},{"$error":"#REF!"}]
[{"$f":"#REF!","v":{"$error":"#REF!"}},{"$error":"#REF!"}]
[{"$f":"#REF!","v":{"$error":"#REF!"}},{"$error":"#REF!"}]
[{"$f":"#REF!","v":{"$error":"#REF!"}},{"$error":"#REF!"}]
[{"$f":"#REF!","v":{"$error":"#REF!"}},{"$error":"#REF!"}]
[{"$f":"#REF!","v":{"$error":"#REF!"}},{"$error":"#REF!"}]
[{"$f":"#REF!","v":{"$error":"#REF!"}},{"$error":"#REF!"}]
[{"$f":"#REF!","v":{"$error":"#REF!"}},{"$error":"#REF!"}]
[{"$f":"#REF!","v":{"$error":"#REF!"}},{"$error":"#REF!"}]
[{"$f":"#REF!","v":{"$error":"#REF!"}},{"$error":"#REF!"}]
[{"$f":"#REF!","v":{"$error":"#REF!"}},{"$error":"#REF!"}]
[{"$f":"#REF!","v":{"$error":"#REF!"}},{"$error":"#REF!"}]
[{"$f":"#REF!","v":{"$error":"#REF!"}},{"$error":"#REF!"}]
[{"$f":"#REF!","v":{"$error":"#REF!"}},{"$error":"#REF!"}]
[{"$f":"#REF!","v":{"$error":"#REF!"}},{"$error":"#REF!"}]
[{"$f":"#REF!","v":{"$error":"#REF!"}},{"$error":"#REF!"}]
[{"$f":"#REF!","v":{"$error":"#REF!"}},{"$error":"#REF!"}]
[{"$f":"#REF!","v":{"$error":"#REF!"}},{"$error":"#REF!"}]
[{"$f":"#REF!","v":{"$error":"#REF!"}},{"$error":"#REF!"}]
[{"$f":"#REF!","v":{"$error":"#REF!"}},{"$error":"#REF!"}]
[{"$f":"#REF!","v":{"$error":"#REF!"}},{"$error":"#REF!"}]
[{"$f":"#REF!","v":{"$error":"#REF!"}},{"$error":"#REF!"}]
[{"$f":"#REF!","v":{"$error":"#REF!"}},{"$error":"#REF!"}]
[{"$f":"#REF!","v":{"$error":"#REF!"}},{"$error":"#REF!"}]
[{"$f":"#REF!","v":{"$error":"#REF!"}},{"$error":"#REF!"}]
[{"$f":"#REF!","v":{"$error":"#REF!"}},{"$error":"#REF!"}]
[{"$f":"#REF!","v":{"$error":"#REF!"}},{"$error":"#REF!"}]
[{"$f":"#REF!","v":{"$error":"#REF!"}},{"$error":"#REF!"}]
[{"$f":"#REF!","v":{"$error":"#REF!"}},{"$error":"#REF!"}]
[{"$f":"#REF!","v":{"$error":"#REF!"}},{"$error":"#REF!"}]
[{"$f":"#REF!","v":{"$error":"#REF!"}},{"$error":"#REF!"}]
[{"$f":"#REF!","v":{"$error":"#REF!"}},{"$error":"#REF!"}]
[{"$f":"#REF!","v":{"$error":"#REF!"}},{"$error":"#REF!"}]
[{"$f":"#REF!","v":{"$error":"#REF!"}},{"$error":"#REF!"}]
[{"$f":"#REF!","v":{"$error":"#REF!"}},{"$error":"#REF!"}]
[{"$f":"#REF!","v":{"$error":"#REF!"}},{"$error":"#REF!"}]
[{"$f":"#REF!","v":{"$error":"#REF!"}},{"$error":"#REF!"}]
[{"$f":"#REF!","v":{"$error":"#REF!"}},{"$error":"#REF!"}]
[{"$f":"#REF!","v":{"$error":"#REF!"}},{"$error":"#REF!"}]
[{"$f":"#REF!","v":{"$error":"#REF!"}},{"$error":"#REF!"}]
[{"$f":"#REF!","v":{"$error":"#REF!"}},{"$error":"#REF!"}]
[{"$f":"#REF!","v":{"$error":"#REF!"}},{"$error":"#REF!"}]
[{"$f":"#REF!","v":{"$error":"#REF!"}},{"$error":"#REF!"}]
[{"$f":"#REF!","v":{"$error":"#REF!"}},{"$error":"#REF!"}]
[{"$f":"#REF!","v":{"$error":"#REF!"}},{"$error":"#REF!"}]
[{"$f":"#REF!","v":{"$error":"#REF!"}},{"$error":"#REF!"}]
[{"$f":"#REF!","v":{"$error":"#REF!"}},{"$error":"#REF!"}]
[{"$f":"#REF!","v":{"$error":"#REF!"}},{"$error":"#REF!"}]
[{"$f":"#REF!","v":{"$error":"#REF!"}},{"$error":"#REF!"}]
[{"$f":"#REF!","v":{"$error":"#REF!"}},{"$error":"#REF!"}]
[{"$f":"#REF!","v":{"$error":"#REF!"}},{"$f":"IF(A3024=\"\",\"\",IF(VLOOKUP(A3024,base_rpvs_pagas,2)=A$11,A3024,0))","v":{"$error":"#REF!"}}]
[{"$f":"#REF!","v":{"$error":"#REF!"}},{"$error":"#REF!"}]
[{"$f":"#REF!","v":{"$error":"#REF!"}},{"$error":"#REF!"}]
[{"$f":"#REF!","v":{"$error":"#REF!"}},{"$error":"#REF!"}]
[{"$f":"#REF!","v":{"$error":"#REF!"}},{"$error":"#REF!"}]
[{"$f":"#REF!","v":{"$error":"#REF!"}},{"$error":"#REF!"}]
[{"$f":"#REF!","v":{"$error":"#REF!"}},{"$error":"#REF!"}]
[{"$f":"#REF!","v":{"$error":"#REF!"}},{"$error":"#REF!"}]
[{"$f":"#REF!","v":{"$error":"#REF!"}},{"$error":"#REF!"}]
[{"$f":"#REF!","v":{"$error":"#REF!"}},{"$error":"#REF!"}]
[{"$f":"#REF!","v":{"$error":"#REF!"}},{"$error":"#REF!"}]
[{"$f":"#REF!","v":{"$error":"#REF!"}},{"$error":"#REF!"}]
[{"$f":"#REF!","v":{"$error":"#REF!"}},{"$error":"#REF!"}]
[{"$f":"#REF!","v":{"$error":"#REF!"}},{"$error":"#REF!"}]
[{"$f":"#REF!","v":{"$error":"#REF!"}},{"$error":"#REF!"}]
[{"$f":"#REF!","v":{"$error":"#REF!"}},{"$error":"#REF!"}]
[{"$f":"#REF!","v":{"$error":"#REF!"}},{"$error":"#REF!"}]
[{"$f":"#REF!","v":{"$error":"#REF!"}},{"$error":"#REF!"}]
[{"$f":"#REF!","v":{"$error":"#REF!"}},{"$error":"#REF!"}]
[{"$f":"#REF!","v":{"$error":"#REF!"}},{"$error":"#REF!"}]
[{"$f":"#REF!","v":{"$error":"#REF!"}},{"$error":"#REF!"}]
[{"$f":"#REF!","v":{"$error":"#REF!"}},{"$error":"#REF!"}]
[{"$f":"#REF!","v":{"$error":"#REF!"}},{"$error":"#REF!"}]
[{"$f":"#REF!","v":{"$error":"#REF!"}},{"$error":"#REF!"}]
[{"$f":"#REF!","v":{"$error":"#REF!"}},{"$error":"#REF!"}]
[{"$f":"#REF!","v":{"$error":"#REF!"}},{"$error":"#REF!"}]
[{"$f":"#REF!","v":{"$error":"#REF!"}},{"$error":"#REF!"}]
[{"$f":"#REF!","v":{"$error":"#REF!"}},{"$error":"#REF!"}]
[{"$f":"#REF!","v":{"$error":"#REF!"}},{"$error":"#REF!"}]
[{"$f":"#REF!","v":{"$error":"#REF!"}},{"$error":"#REF!"}]
[{"$f":"#REF!","v":{"$error":"#REF!"}},{"$error":"#REF!"}]
[{"$f":"#REF!","v":{"$error":"#REF!"}},{"$error":"#REF!"}]
[{"$f":"#REF!","v":{"$error":"#REF!"}},{"$error":"#REF!"}]
[{"$f":"#REF!","v":{"$error":"#REF!"}},{"$error":"#REF!"}]
[{"$f":"#REF!","v":{"$error":"#REF!"}},{"$error":"#REF!"}]
[{"$f":"#REF!","v":{"$error":"#REF!"}},{"$error":"#REF!"}]
[{"$f":"#REF!","v":{"$error":"#REF!"}},{"$error":"#REF!"}]
[{"$f":"#REF!","v":{"$error":"#REF!"}},{"$error":"#REF!"}]
[{"$f":"#REF!","v":{"$error":"#REF!"}},{"$error":"#REF!"}]
[{"$f":"#REF!","v":{"$error":"#REF!"}},{"$error":"#REF!"}]
[{"$f":"#REF!","v":{"$error":"#REF!"}},{"$error":"#REF!"}]
[{"$f":"#REF!","v":{"$error":"#REF!"}},{"$error":"#REF!"}]
[{"$f":"#REF!","v":{"$error":"#REF!"}},{"$error":"#REF!"}]
[{"$f":"#REF!","v":{"$error":"#REF!"}},{"$error":"#REF!"}]
[{"$f":"#REF!","v":{"$error":"#REF!"}},{"$error":"#REF!"}]
[{"$f":"#REF!","v":{"$error":"#REF!"}},{"$error":"#REF!"}]
[{"$f":"#REF!","v":{"$error":"#REF!"}},{"$error":"#REF!"}]
[{"$f":"#REF!","v":{"$error":"#REF!"}},{"$error":"#REF!"}]
[{"$f":"#REF!","v":{"$error":"#REF!"}},{"$error":"#REF!"}]
[{"$f":"#REF!","v":{"$error":"#REF!"}},{"$error":"#REF!"}]
[{"$f":"#REF!","v":{"$error":"#REF!"}},{"$error":"#REF!"}]
[{"$f":"#REF!","v":{"$error":"#REF!"}},{"$error":"#REF!"}]
[{"$f":"#REF!","v":{"$error":"#REF!"}},{"$error":"#REF!"}]
[{"$f":"#REF!","v":{"$error":"#REF!"}},{"$error":"#REF!"}]
[{"$f":"#REF!","v":{"$error":"#REF!"}},{"$error":"#REF!"}]
[{"$f":"#REF!","v":{"$error":"#REF!"}},{"$error":"#REF!"}]
[{"$f":"#REF!","v":{"$error":"#REF!"}},{"$error":"#REF!"}]
[{"$f":"#REF!","v":{"$error":"#REF!"}},{"$error":"#REF!"}]
[{"$f":"#REF!","v":{"$error":"#REF!"}},{"$error":"#REF!"}]
[{"$f":"#REF!","v":{"$error":"#REF!"}},{"$error":"#REF!"}]
[{"$f":"#REF!","v":{"$error":"#REF!"}},{"$error":"#REF!"}]
[{"$f":"#REF!","v":{"$error":"#REF!"}},{"$error":"#REF!"}]
[{"$f":"#REF!","v":{"$error":"#REF!"}},{"$error":"#REF!"}]
[{"$f":"#REF!","v":{"$error":"#REF!"}},{"$error":"#REF!"}]
[{"$f":"#REF!","v":{"$error":"#REF!"}},{"$f":"IF(A3088=\"\",\"\",IF(VLOOKUP(A3088,base_rpvs_pagas,2)=A$11,A3088,0))","v":{"$error":"#REF!"}}]
[{"$f":"#REF!","v":{"$error":"#REF!"}},{"$error":"#REF!"}]
[{"$f":"#REF!","v":{"$error":"#REF!"}},{"$error":"#REF!"}]
[{"$f":"#REF!","v":{"$error":"#REF!"}},{"$error":"#REF!"}]
[{"$f":"#REF!","v":{"$error":"#REF!"}},{"$error":"#REF!"}]
[{"$f":"#REF!","v":{"$error":"#REF!"}},{"$error":"#REF!"}]
[{"$f":"#REF!","v":{"$error":"#REF!"}},{"$error":"#REF!"}]
[{"$f":"#REF!","v":{"$error":"#REF!"}},{"$error":"#REF!"}]
[{"$f":"#REF!","v":{"$error":"#REF!"}},{"$error":"#REF!"}]
[{"$f":"#REF!","v":{"$error":"#REF!"}},{"$error":"#REF!"}]
[{"$f":"#REF!","v":{"$error":"#REF!"}},{"$error":"#REF!"}]
[{"$f":"#REF!","v":{"$error":"#REF!"}},{"$error":"#REF!"}]
[{"$f":"#REF!","v":{"$error":"#REF!"}},{"$error":"#REF!"}]
[{"$f":"#REF!","v":{"$error":"#REF!"}},{"$error":"#REF!"}]
[{"$f":"#REF!","v":{"$error":"#REF!"}},{"$error":"#REF!"}]
[{"$f":"#REF!","v":{"$error":"#REF!"}},{"$error":"#REF!"}]
[{"$f":"#REF!","v":{"$error":"#REF!"}},{"$error":"#REF!"}]
[{"$f":"#REF!","v":{"$error":"#REF!"}},{"$error":"#REF!"}]
[{"$f":"#REF!","v":{"$error":"#REF!"}},{"$error":"#REF!"}]
[{"$f":"#REF!","v":{"$error":"#REF!"}},{"$error":"#REF!"}]
[{"$f":"#REF!","v":{"$error":"#REF!"}},{"$error":"#REF!"}]
[{"$f":"#REF!","v":{"$error":"#REF!"}},{"$error":"#REF!"}]
[{"$f":"#REF!","v":{"$error":"#REF!"}},{"$error":"#REF!"}]
[{"$f":"#REF!","v":{"$error":"#REF!"}},{"$error":"#REF!"}]
[{"$f":"#REF!","v":{"$error":"#REF!"}},{"$error":"#REF!"}]
[{"$f":"#REF!","v":{"$error":"#REF!"}},{"$error":"#REF!"}]
[{"$f":"#REF!","v":{"$error":"#REF!"}},{"$error":"#REF!"}]
[{"$f":"#REF!","v":{"$error":"#REF!"}},{"$error":"#REF!"}]
[{"$f":"#REF!","v":{"$error":"#REF!"}},{"$error":"#REF!"}]
[{"$f":"#REF!","v":{"$error":"#REF!"}},{"$error":"#REF!"}]
[{"$f":"#REF!","v":{"$error":"#REF!"}},{"$error":"#REF!"}]
[{"$f":"#REF!","v":{"$error":"#REF!"}},{"$error":"#REF!"}]
[{"$f":"#REF!","v":{"$error":"#REF!"}},{"$error":"#REF!"}]
[{"$f":"#REF!","v":{"$error":"#REF!"}},{"$error":"#REF!"}]
[{"$f":"#REF!","v":{"$error":"#REF!"}},{"$error":"#REF!"}]
[{"$f":"#REF!","v":{"$error":"#REF!"}},{"$error":"#REF!"}]
[{"$f":"#REF!","v":{"$error":"#REF!"}},{"$error":"#REF!"}]
[{"$f":"#REF!","v":{"$error":"#REF!"}},{"$error":"#REF!"}]
[{"$f":"#REF!","v":{"$error":"#REF!"}},{"$error":"#REF!"}]
[{"$f":"#REF!","v":{"$error":"#REF!"}},{"$error":"#REF!"}]
[{"$f":"#REF!","v":{"$error":"#REF!"}},{"$error":"#REF!"}]
[{"$f":"#REF!","v":{"$error":"#REF!"}},{"$error":"#REF!"}]
[{"$f":"#REF!","v":{"$error":"#REF!"}},{"$error":"#REF!"}]
[{"$f":"#REF!","v":{"$error":"#REF!"}},{"$error":"#REF!"}]
[{"$f":"#REF!","v":{"$error":"#REF!"}},{"$error":"#REF!"}]
[{"$f":"#REF!","v":{"$error":"#REF!"}},{"$error":"#REF!"}]
[{"$f":"#REF!","v":{"$error":"#REF!"}},{"$error":"#REF!"}]
[{"$f":"#REF!","v":{"$error":"#REF!"}},{"$error":"#REF!"}]
[{"$f":"#REF!","v":{"$error":"#REF!"}},{"$error":"#REF!"}]
[{"$f":"#REF!","v":{"$error":"#REF!"}},{"$error":"#REF!"}]
[{"$f":"#REF!","v":{"$error":"#REF!"}},{"$error":"#REF!"}]
[{"$f":"#REF!","v":{"$error":"#REF!"}},{"$error":"#REF!"}]
[{"$f":"#REF!","v":{"$error":"#REF!"}},{"$error":"#REF!"}]
[{"$f":"#REF!","v":{"$error":"#REF!"}},{"$error":"#REF!"}]
[{"$f":"#REF!","v":{"$error":"#REF!"}},{"$error":"#REF!"}]
[{"$f":"#REF!","v":{"$error":"#REF!"}},{"$error":"#REF!"}]
[{"$f":"#REF!","v":{"$error":"#REF!"}},{"$error":"#REF!"}]
[{"$f":"#REF!","v":{"$error":"#REF!"}},{"$error":"#REF!"}]
[{"$f":"#REF!","v":{"$error":"#REF!"}},{"$error":"#REF!"}]
[{"$f":"#REF!","v":{"$error":"#REF!"}},{"$error":"#REF!"}]
[{"$f":"#REF!","v":{"$error":"#REF!"}},{"$error":"#REF!"}]
[{"$f":"#REF!","v":{"$error":"#REF!"}},{"$error":"#REF!"}]
[{"$f":"#REF!","v":{"$error":"#REF!"}},{"$error":"#REF!"}]
[{"$f":"#REF!","v":{"$error":"#REF!"}},{"$error":"#REF!"}]
[{"$f":"#REF!","v":{"$error":"#REF!"}},{"$f":"IF(A3152=\"\",\"\",IF(VLOOKUP(A3152,base_rpvs_pagas,2)=A$11,A3152,0))","v":{"$error":"#REF!"}}]
[{"$f":"#REF!","v":{"$error":"#REF!"}},{"$error":"#REF!"}]
[{"$f":"#REF!","v":{"$error":"#REF!"}},{"$error":"#REF!"}]
[{"$f":"#REF!","v":{"$error":"#REF!"}},{"$error":"#REF!"}]
[{"$f":"#REF!","v":{"$error":"#REF!"}},{"$error":"#REF!"}]
[{"$f":"#REF!","v":{"$error":"#REF!"}},{"$error":"#REF!"}]
[{"$f":"#REF!","v":{"$error":"#REF!"}},{"$error":"#REF!"}]
[{"$f":"#REF!","v":{"$error":"#REF!"}},{"$error":"#REF!"}]
[{"$f":"#REF!","v":{"$error":"#REF!"}},{"$error":"#REF!"}]
[{"$f":"#REF!","v":{"$error":"#REF!"}},{"$error":"#REF!"}]
[{"$f":"#REF!","v":{"$error":"#REF!"}},{"$error":"#REF!"}]
[{"$f":"#REF!","v":{"$error":"#REF!"}},{"$error":"#REF!"}]
[{"$f":"#REF!","v":{"$error":"#REF!"}},{"$error":"#REF!"}]
[{"$f":"#REF!","v":{"$error":"#REF!"}},{"$error":"#REF!"}]
[{"$f":"#REF!","v":{"$error":"#REF!"}},{"$error":"#REF!"}]
[{"$f":"#REF!","v":{"$error":"#REF!"}},{"$error":"#REF!"}]
[{"$f":"#REF!","v":{"$error":"#REF!"}},{"$error":"#REF!"}]
[{"$f":"#REF!","v":{"$error":"#REF!"}},{"$error":"#REF!"}]
[{"$f":"#REF!","v":{"$error":"#REF!"}},{"$error":"#REF!"}]
[{"$f":"#REF!","v":{"$error":"#REF!"}},{"$error":"#REF!"}]
[{"$f":"#REF!","v":{"$error":"#REF!"}},{"$error":"#REF!"}]
[{"$f":"#REF!","v":{"$error":"#REF!"}},{"$error":"#REF!"}]
[{"$f":"#REF!","v":{"$error":"#REF!"}},{"$error":"#REF!"}]
[{"$f":"#REF!","v":{"$error":"#REF!"}},{"$error":"#REF!"}]
[{"$f":"#REF!","v":{"$error":"#REF!"}},{"$error":"#REF!"}]
[{"$f":"#REF!","v":{"$error":"#REF!"}},{"$error":"#REF!"}]
[{"$f":"#REF!","v":{"$error":"#REF!"}},{"$error":"#REF!"}]
[{"$f":"#REF!","v":{"$error":"#REF!"}},{"$error":"#REF!"}]
[{"$f":"#REF!","v":{"$error":"#REF!"}},{"$error":"#REF!"}]
[{"$f":"#REF!","v":{"$error":"#REF!"}},{"$error":"#REF!"}]
[{"$f":"#REF!","v":{"$error":"#REF!"}},{"$error":"#REF!"}]
[{"$f":"#REF!","v":{"$error":"#REF!"}},{"$error":"#REF!"}]
[{"$f":"#REF!","v":{"$error":"#REF!"}},{"$error":"#REF!"}]
[{"$f":"#REF!","v":{"$error":"#REF!"}},{"$error":"#REF!"}]
[{"$f":"#REF!","v":{"$error":"#REF!"}},{"$error":"#REF!"}]
[{"$f":"#REF!","v":{"$error":"#REF!"}},{"$error":"#REF!"}]
[{"$f":"#REF!","v":{"$error":"#REF!"}},{"$error":"#REF!"}]
[{"$f":"#REF!","v":{"$error":"#REF!"}},{"$error":"#REF!"}]
[{"$f":"#REF!","v":{"$error":"#REF!"}},{"$error":"#REF!"}]
[{"$f":"#REF!","v":{"$error":"#REF!"}},{"$error":"#REF!"}]
[{"$f":"#REF!","v":{"$error":"#REF!"}},{"$error":"#REF!"}]
[{"$f":"#REF!","v":{"$error":"#REF!"}},{"$error":"#REF!"}]
[{"$f":"#REF!","v":{"$error":"#REF!"}},{"$error":"#REF!"}]
[{"$f":"#REF!","v":{"$error":"#REF!"}},{"$error":"#REF!"}]
[{"$f":"#REF!","v":{"$error":"#REF!"}},{"$error":"#REF!"}]
[{"$f":"#REF!","v":{"$error":"#REF!"}},{"$error":"#REF!"}]
[{"$f":"#REF!","v":{"$error":"#REF!"}},{"$error":"#REF!"}]
[{"$f":"#REF!","v":{"$error":"#REF!"}},{"$error":"#REF!"}]
[{"$f":"#REF!","v":{"$error":"#REF!"}},{"$error":"#REF!"}]
[{"$f":"#REF!","v":{"$error":"#REF!"}},{"$error":"#REF!"}]
[{"$f":"#REF!","v":{"$error":"#REF!"}},{"$error":"#REF!"}]
[{"$f":"#REF!","v":{"$error":"#REF!"}},{"$error":"#REF!"}]
[{"$f":"#REF!","v":{"$error":"#REF!"}},{"$error":"#REF!"}]
[{"$f":"#REF!","v":{"$error":"#REF!"}},{"$error":"#REF!"}]
[{"$f":"#REF!","v":{"$error":"#REF!"}},{"$error":"#REF!"}]
[{"$f":"#REF!","v":{"$error":"#REF!"}},{"$error":"#REF!"}]
[{"$f":"#REF!","v":{"$error":"#REF!"}},{"$error":"#REF!"}]
[{"$f":"#REF!","v":{"$error":"#REF!"}},{"$error":"#REF!"}]
[{"$f":"#REF!","v":{"$error":"#REF!"}},{"$error":"#REF!"}]
[{"$f":"#REF!","v":{"$error":"#REF!"}},{"$error":"#REF!"}]
[{"$f":"#REF!","v":{"$error":"#REF!"}},{"$error":"#REF!"}]
[{"$f":"#REF!","v":{"$error":"#REF!"}},{"$error":"#REF!"}]
[{"$f":"#REF!","v":{"$error":"#REF!"}},{"$error":"#REF!"}]
[{"$f":"#REF!","v":{"$error":"#REF!"}},{"$error":"#REF!"}]
[{"$f":"#REF!","v":{"$error":"#REF!"}},{"$f":"IF(A3216=\"\",\"\",IF(VLOOKUP(A3216,base_rpvs_pagas,2)=A$11,A3216,0))","v":{"$error":"#REF!"}}]
[{"$f":"#REF!","v":{"$error":"#REF!"}},{"$error":"#REF!"}]
[{"$f":"#REF!","v":{"$error":"#REF!"}},{"$error":"#REF!"}]
[{"$f":"#REF!","v":{"$error":"#REF!"}},{"$error":"#REF!"}]
[{"$f":"#REF!","v":{"$error":"#REF!"}},{"$error":"#REF!"}]
[{"$f":"#REF!","v":{"$error":"#REF!"}},{"$error":"#REF!"}]
[{"$f":"#REF!","v":{"$error":"#REF!"}},{"$error":"#REF!"}]
[{"$f":"#REF!","v":{"$error":"#REF!"}},{"$error":"#REF!"}]
[{"$f":"#REF!","v":{"$error":"#REF!"}},{"$error":"#REF!"}]
[{"$f":"#REF!","v":{"$error":"#REF!"}},{"$error":"#REF!"}]
[{"$f":"#REF!","v":{"$error":"#REF!"}},{"$error":"#REF!"}]
[{"$f":"#REF!","v":{"$error":"#REF!"}},{"$error":"#REF!"}]
[{"$f":"#REF!","v":{"$error":"#REF!"}},{"$error":"#REF!"}]
[{"$f":"#REF!","v":{"$error":"#REF!"}},{"$error":"#REF!"}]
[{"$f":"#REF!","v":{"$error":"#REF!"}},{"$error":"#REF!"}]
[{"$f":"#REF!","v":{"$error":"#REF!"}},{"$error":"#REF!"}]
[{"$f":"#REF!","v":{"$error":"#REF!"}},{"$error":"#REF!"}]
[{"$f":"#REF!","v":{"$error":"#REF!"}},{"$error":"#REF!"}]
[{"$f":"#REF!","v":{"$error":"#REF!"}},{"$error":"#REF!"}]
[{"$f":"#REF!","v":{"$error":"#REF!"}},{"$error":"#REF!"}]
[{"$f":"#REF!","v":{"$error":"#REF!"}},{"$error":"#REF!"}]
[{"$f":"#REF!","v":{"$error":"#REF!"}},{"$error":"#REF!"}]
[{"$f":"#REF!","v":{"$error":"#REF!"}},{"$error":"#REF!"}]
[{"$f":"#REF!","v":{"$error":"#REF!"}},{"$error":"#REF!"}]
[{"$f":"#REF!","v":{"$error":"#REF!"}},{"$error":"#REF!"}]
[{"$f":"#REF!","v":{"$error":"#REF!"}},{"$error":"#REF!"}]
[{"$f":"#REF!","v":{"$error":"#REF!"}},{"$error":"#REF!"}]
[{"$f":"#REF!","v":{"$error":"#REF!"}},{"$error":"#REF!"}]
[{"$f":"#REF!","v":{"$error":"#REF!"}},{"$error":"#REF!"}]
[{"$f":"#REF!","v":{"$error":"#REF!"}},{"$error":"#REF!"}]
[{"$f":"#REF!","v":{"$error":"#REF!"}},{"$error":"#REF!"}]
[{"$f":"#REF!","v":{"$error":"#REF!"}},{"$error":"#REF!"}]
[{"$f":"#REF!","v":{"$error":"#REF!"}},{"$error":"#REF!"}]
[{"$f":"#REF!","v":{"$error":"#REF!"}},{"$error":"#REF!"}]
[{"$f":"#REF!","v":{"$error":"#REF!"}},{"$error":"#REF!"}]
[{"$f":"#REF!","v":{"$error":"#REF!"}},{"$error":"#REF!"}]
[{"$f":"#REF!","v":{"$error":"#REF!"}},{"$error":"#REF!"}]
[{"$f":"#REF!","v":{"$error":"#REF!"}},{"$error":"#REF!"}]
[{"$f":"#REF!","v":{"$error":"#REF!"}},{"$error":"#REF!"}]
[{"$f":"#REF!","v":{"$error":"#REF!"}},{"$error":"#REF!"}]
[{"$f":"#REF!","v":{"$error":"#REF!"}},{"$error":"#REF!"}]
[{"$f":"#REF!","v":{"$error":"#REF!"}},{"$error":"#REF!"}]
[{"$f":"#REF!","v":{"$error":"#REF!"}},{"$error":"#REF!"}]
[{"$f":"#REF!","v":{"$error":"#REF!"}},{"$error":"#REF!"}]
[{"$f":"#REF!","v":{"$error":"#REF!"}},{"$error":"#REF!"}]
[{"$f":"#REF!","v":{"$error":"#REF!"}},{"$error":"#REF!"}]
[{"$f":"#REF!","v":{"$error":"#REF!"}},{"$error":"#REF!"}]
[{"$f":"#REF!","v":{"$error":"#REF!"}},{"$error":"#REF!"}]
[{"$f":"#REF!","v":{"$error":"#REF!"}},{"$error":"#REF!"}]
[{"$f":"#REF!","v":{"$error":"#REF!"}},{"$error":"#REF!"}]
[{"$f":"#REF!","v":{"$error":"#REF!"}},{"$error":"#REF!"}]
[{"$f":"#REF!","v":{"$error":"#REF!"}},{"$error":"#REF!"}]
[{"$f":"#REF!","v":{"$error":"#REF!"}},{"$error":"#REF!"}]
[{"$f":"#REF!","v":{"$error":"#REF!"}},{"$error":"#REF!"}]
[{"$f":"#REF!","v":{"$error":"#REF!"}},{"$error":"#REF!"}]
[{"$f":"#REF!","v":{"$error":"#REF!"}},{"$error":"#REF!"}]
[{"$f":"#REF!","v":{"$error":"#REF!"}},{"$error":"#REF!"}]
[{"$f":"#REF!","v":{"$error":"#REF!"}},{"$error":"#REF!"}]
[{"$f":"#REF!","v":{"$error":"#REF!"}},{"$error":"#REF!"}]
[{"$f":"#REF!","v":{"$error":"#REF!"}},{"$error":"#REF!"}]
[{"$f":"#REF!","v":{"$error":"#REF!"}},{"$error":"#REF!"}]
[{"$f":"#REF!","v":{"$error":"#REF!"}},{"$error":"#REF!"}]
[{"$f":"#REF!","v":{"$error":"#REF!"}},{"$error":"#REF!"}]
[{"$f":"#REF!","v":{"$error":"#REF!"}},{"$error":"#REF!"}]
[{"$f":"#REF!","v":{"$error":"#REF!"}},{"$f":"IF(A3280=\"\",\"\",IF(VLOOKUP(A3280,base_rpvs_pagas,2)=A$11,A3280,0))","v":{"$error":"#REF!"}}]
[{"$f":"#REF!","v":{"$error":"#REF!"}},{"$error":"#REF!"}]
[{"$f":"#REF!","v":{"$error":"#REF!"}},{"$error":"#REF!"}]
[{"$f":"#REF!","v":{"$error":"#REF!"}},{"$error":"#REF!"}]
[{"$f":"#REF!","v":{"$error":"#REF!"}},{"$error":"#REF!"}]
[{"$f":"#REF!","v":{"$error":"#REF!"}},{"$error":"#REF!"}]
[{"$f":"#REF!","v":{"$error":"#REF!"}},{"$error":"#REF!"}]
[{"$f":"#REF!","v":{"$error":"#REF!"}},{"$error":"#REF!"}]
[{"$f":"#REF!","v":{"$error":"#REF!"}},{"$error":"#REF!"}]
[{"$f":"#REF!","v":{"$error":"#REF!"}},{"$error":"#REF!"}]
[{"$f":"#REF!","v":{"$error":"#REF!"}},{"$error":"#REF!"}]
[{"$f":"#REF!","v":{"$error":"#REF!"}},{"$error":"#REF!"}]
[{"$f":"#REF!","v":{"$error":"#REF!"}},{"$error":"#REF!"}]
[{"$f":"#REF!","v":{"$error":"#REF!"}},{"$error":"#REF!"}]
[{"$f":"#REF!","v":{"$error":"#REF!"}},{"$error":"#REF!"}]
[{"$f":"#REF!","v":{"$error":"#REF!"}},{"$error":"#REF!"}]
[{"$f":"#REF!","v":{"$error":"#REF!"}},{"$error":"#REF!"}]
[{"$f":"#REF!","v":{"$error":"#REF!"}},{"$error":"#REF!"}]
[{"$f":"#REF!","v":{"$error":"#REF!"}},{"$error":"#REF!"}]
[{"$f":"#REF!","v":{"$error":"#REF!"}},{"$error":"#REF!"}]
[{"$f":"#REF!","v":{"$error":"#REF!"}},{"$error":"#REF!"}]
[{"$f":"#REF!","v":{"$error":"#REF!"}},{"$error":"#REF!"}]
[{"$f":"#REF!","v":{"$error":"#REF!"}},{"$error":"#REF!"}]
[{"$f":"#REF!","v":{"$error":"#REF!"}},{"$error":"#REF!"}]
[{"$f":"#REF!","v":{"$error":"#REF!"}},{"$error":"#REF!"}]
[{"$f":"#REF!","v":{"$error":"#REF!"}},{"$error":"#REF!"}]
[{"$f":"#REF!","v":{"$error":"#REF!"}},{"$error":"#REF!"}]
[{"$f":"#REF!","v":{"$error":"#REF!"}},{"$error":"#REF!"}]
[{"$f":"#REF!","v":{"$error":"#REF!"}},{"$error":"#REF!"}]
[{"$f":"#REF!","v":{"$error":"#REF!"}},{"$error":"#REF!"}]
[{"$f":"#REF!","v":{"$error":"#REF!"}},{"$error":"#REF!"}]
[{"$f":"#REF!","v":{"$error":"#REF!"}},{"$error":"#REF!"}]
[{"$f":"#REF!","v":{"$error":"#REF!"}},{"$error":"#REF!"}]
[{"$f":"#REF!","v":{"$error":"#REF!"}},{"$error":"#REF!"}]
[{"$f":"#REF!","v":{"$error":"#REF!"}},{"$error":"#REF!"}]
[{"$f":"#REF!","v":{"$error":"#REF!"}},{"$error":"#REF!"}]
[{"$f":"#REF!","v":{"$error":"#REF!"}},{"$error":"#REF!"}]
[{"$f":"#REF!","v":{"$error":"#REF!"}},{"$error":"#REF!"}]
[{"$f":"#REF!","v":{"$error":"#REF!"}},{"$error":"#REF!"}]
[{"$f":"#REF!","v":{"$error":"#REF!"}},{"$error":"#REF!"}]
[{"$f":"#REF!","v":{"$error":"#REF!"}},{"$error":"#REF!"}]
[{"$f":"#REF!","v":{"$error":"#REF!"}},{"$error":"#REF!"}]
[{"$f":"#REF!","v":{"$error":"#REF!"}},{"$error":"#REF!"}]
[{"$f":"#REF!","v":{"$error":"#REF!"}},{"$error":"#REF!"}]
[{"$f":"#REF!","v":{"$error":"#REF!"}},{"$error":"#REF!"}]
[{"$f":"#REF!","v":{"$error":"#REF!"}},{"$error":"#REF!"}]
[{"$f":"#REF!","v":{"$error":"#REF!"}},{"$error":"#REF!"}]
[{"$f":"#REF!","v":{"$error":"#REF!"}},{"$error":"#REF!"}]
[{"$f":"#REF!","v":{"$error":"#REF!"}},{"$error":"#REF!"}]
[{"$f":"#REF!","v":{"$error":"#REF!"}},{"$error":"#REF!"}]
[{"$f":"#REF!","v":{"$error":"#REF!"}},{"$error":"#REF!"}]
[{"$f":"#REF!","v":{"$error":"#REF!"}},{"$error":"#REF!"}]
[{"$f":"#REF!","v":{"$error":"#REF!"}},{"$error":"#REF!"}]
[{"$f":"#REF!","v":{"$error":"#REF!"}},{"$error":"#REF!"}]
[{"$f":"#REF!","v":{"$error":"#REF!"}},{"$error":"#REF!"}]
[{"$f":"#REF!","v":{"$error":"#REF!"}},{"$error":"#REF!"}]
[{"$f":"#REF!","v":{"$error":"#REF!"}},{"$error":"#REF!"}]
[{"$f":"#REF!","v":{"$error":"#REF!"}},{"$error":"#REF!"}]
[{"$f":"#REF!","v":{"$error":"#REF!"}},{"$error":"#REF!"}]
[{"$f":"#REF!","v":{"$error":"#REF!"}},{"$error":"#REF!"}]
[{"$f":"#REF!","v":{"$error":"#REF!"}},{"$error":"#REF!"}]
[{"$f":"#REF!","v":{"$error":"#REF!"}},{"$error":"#REF!"}]
[{"$f":"#REF!","v":{"$error":"#REF!"}},{"$error":"#REF!"}]
[{"$f":"#REF!","v":{"$error":"#REF!"}},{"$error":"#REF!"}]
[{"$f":"#REF!","v":{"$error":"#REF!"}},{"$f":"IF(A3344=\"\",\"\",IF(VLOOKUP(A3344,base_rpvs_pagas,2)=A$11,A3344,0))","v":{"$error":"#REF!"}}]
[{"$f":"#REF!","v":{"$error":"#REF!"}},{"$error":"#REF!"}]
[{"$f":"#REF!","v":{"$error":"#REF!"}},{"$error":"#REF!"}]
[{"$f":"#REF!","v":{"$error":"#REF!"}},{"$error":"#REF!"}]
[{"$f":"#REF!","v":{"$error":"#REF!"}},{"$error":"#REF!"}]
[{"$f":"#REF!","v":{"$error":"#REF!"}},{"$error":"#REF!"}]
[{"$f":"#REF!","v":{"$error":"#REF!"}},{"$error":"#REF!"}]
[{"$f":"#REF!","v":{"$error":"#REF!"}},{"$error":"#REF!"}]
[{"$f":"#REF!","v":{"$error":"#REF!"}},{"$error":"#REF!"}]
[{"$f":"#REF!","v":{"$error":"#REF!"}},{"$error":"#REF!"}]
[{"$f":"#REF!","v":{"$error":"#REF!"}},{"$error":"#REF!"}]
[{"$f":"#REF!","v":{"$error":"#REF!"}},{"$error":"#REF!"}]
[{"$f":"#REF!","v":{"$error":"#REF!"}},{"$error":"#REF!"}]
[{"$f":"#REF!","v":{"$error":"#REF!"}},{"$error":"#REF!"}]
[{"$f":"#REF!","v":{"$error":"#REF!"}},{"$error":"#REF!"}]
[{"$f":"#REF!","v":{"$error":"#REF!"}},{"$error":"#REF!"}]
[{"$f":"#REF!","v":{"$error":"#REF!"}},{"$error":"#REF!"}]
[{"$f":"#REF!","v":{"$error":"#REF!"}},{"$error":"#REF!"}]
[{"$f":"#REF!","v":{"$error":"#REF!"}},{"$error":"#REF!"}]
[{"$f":"#REF!","v":{"$error":"#REF!"}},{"$error":"#REF!"}]
[{"$f":"#REF!","v":{"$error":"#REF!"}},{"$error":"#REF!"}]
[{"$f":"#REF!","v":{"$error":"#REF!"}},{"$error":"#REF!"}]
[{"$f":"#REF!","v":{"$error":"#REF!"}},{"$error":"#REF!"}]
[{"$f":"#REF!","v":{"$error":"#REF!"}},{"$error":"#REF!"}]
[{"$f":"#REF!","v":{"$error":"#REF!"}},{"$error":"#REF!"}]
[{"$f":"#REF!","v":{"$error":"#REF!"}},{"$error":"#REF!"}]
[{"$f":"#REF!","v":{"$error":"#REF!"}},{"$error":"#REF!"}]
[{"$f":"#REF!","v":{"$error":"#REF!"}},{"$error":"#REF!"}]
[{"$f":"#REF!","v":{"$error":"#REF!"}},{"$error":"#REF!"}]
[{"$f":"#REF!","v":{"$error":"#REF!"}},{"$error":"#REF!"}]
[{"$f":"#REF!","v":{"$error":"#REF!"}},{"$error":"#REF!"}]
[{"$f":"#REF!","v":{"$error":"#REF!"}},{"$error":"#REF!"}]
[{"$f":"#REF!","v":{"$error":"#REF!"}},{"$error":"#REF!"}]
[{"$f":"#REF!","v":{"$error":"#REF!"}},{"$error":"#REF!"}]
[{"$f":"#REF!","v":{"$error":"#REF!"}},{"$error":"#REF!"}]
[{"$f":"#REF!","v":{"$error":"#REF!"}},{"$error":"#REF!"}]
[{"$f":"#REF!","v":{"$error":"#REF!"}},{"$error":"#REF!"}]
[{"$f":"#REF!","v":{"$error":"#REF!"}},{"$error":"#REF!"}]
[{"$f":"#REF!","v":{"$error":"#REF!"}},{"$error":"#REF!"}]
[{"$f":"#REF!","v":{"$error":"#REF!"}},{"$error":"#REF!"}]
[{"$f":"#REF!","v":{"$error":"#REF!"}},{"$error":"#REF!"}]
[{"$f":"#REF!","v":{"$error":"#REF!"}},{"$error":"#REF!"}]
[{"$f":"#REF!","v":{"$error":"#REF!"}},{"$error":"#REF!"}]
[{"$f":"#REF!","v":{"$error":"#REF!"}},{"$error":"#REF!"}]
[{"$f":"#REF!","v":{"$error":"#REF!"}},{"$error":"#REF!"}]
[{"$f":"#REF!","v":{"$error":"#REF!"}},{"$error":"#REF!"}]
[{"$f":"#REF!","v":{"$error":"#REF!"}},{"$error":"#REF!"}]
[{"$f":"#REF!","v":{"$error":"#REF!"}},{"$error":"#REF!"}]
[{"$f":"#REF!","v":{"$error":"#REF!"}},{"$error":"#REF!"}]
[{"$f":"#REF!","v":{"$error":"#REF!"}},{"$error":"#REF!"}]
[{"$f":"#REF!","v":{"$error":"#REF!"}},{"$error":"#REF!"}]
[{"$f":"#REF!","v":{"$error":"#REF!"}},{"$error":"#REF!"}]
[{"$f":"#REF!","v":{"$error":"#REF!"}},{"$error":"#REF!"}]
[{"$f":"#REF!","v":{"$error":"#REF!"}},{"$error":"#REF!"}]
[{"$f":"#REF!","v":{"$error":"#REF!"}},{"$error":"#REF!"}]
[{"$f":"#REF!","v":{"$error":"#REF!"}},{"$error":"#REF!"}]
[{"$f":"#REF!","v":{"$error":"#REF!"}},{"$error":"#REF!"}]
[{"$f":"#REF!","v":{"$error":"#REF!"}},{"$error":"#REF!"}]
[{"$f":"#REF!","v":{"$error":"#REF!"}},{"$error":"#REF!"}]
[{"$f":"#REF!","v":{"$error":"#REF!"}},{"$error":"#REF!"}]
[{"$f":"#REF!","v":{"$error":"#REF!"}},{"$error":"#REF!"}]
[{"$f":"#REF!","v":{"$error":"#REF!"}},{"$error":"#REF!"}]
[{"$f":"#REF!","v":{"$error":"#REF!"}},{"$error":"#REF!"}]
[{"$f":"#REF!","v":{"$error":"#REF!"}},{"$error":"#REF!"}]
[{"$f":"#REF!","v":{"$error":"#REF!"}},{"$f":"IF(A3408=\"\",\"\",IF(VLOOKUP(A3408,base_rpvs_pagas,2)=A$11,A3408,0))","v":{"$error":"#REF!"}}]
[{"$f":"#REF!","v":{"$error":"#REF!"}},{"$error":"#REF!"}]
[{"$f":"#REF!","v":{"$error":"#REF!"}},{"$error":"#REF!"}]
[{"$f":"#REF!","v":{"$error":"#REF!"}},{"$error":"#REF!"}]
[{"$f":"#REF!","v":{"$error":"#REF!"}},{"$error":"#REF!"}]
[{"$f":"#REF!","v":{"$error":"#REF!"}},{"$error":"#REF!"}]
[{"$f":"#REF!","v":{"$error":"#REF!"}},{"$error":"#REF!"}]
[{"$f":"#REF!","v":{"$error":"#REF!"}},{"$error":"#REF!"}]
[{"$f":"#REF!","v":{"$error":"#REF!"}},{"$error":"#REF!"}]
[{"$f":"#REF!","v":{"$error":"#REF!"}},{"$error":"#REF!"}]
[{"$f":"#REF!","v":{"$error":"#REF!"}},{"$error":"#REF!"}]
[{"$f":"#REF!","v":{"$error":"#REF!"}},{"$error":"#REF!"}]
[{"$f":"#REF!","v":{"$error":"#REF!"}},{"$error":"#REF!"}]
[{"$f":"#REF!","v":{"$error":"#REF!"}},{"$error":"#REF!"}]
[{"$f":"#REF!","v":{"$error":"#REF!"}},{"$error":"#REF!"}]
[{"$f":"#REF!","v":{"$error":"#REF!"}},{"$error":"#REF!"}]
[{"$f":"#REF!","v":{"$error":"#REF!"}},{"$error":"#REF!"}]
[{"$f":"#REF!","v":{"$error":"#REF!"}},{"$error":"#REF!"}]
[{"$f":"#REF!","v":{"$error":"#REF!"}},{"$error":"#REF!"}]
[{"$f":"#REF!","v":{"$error":"#REF!"}},{"$error":"#REF!"}]
[{"$f":"#REF!","v":{"$error":"#REF!"}},{"$error":"#REF!"}]
[{"$f":"#REF!","v":{"$error":"#REF!"}},{"$error":"#REF!"}]
[{"$f":"#REF!","v":{"$error":"#REF!"}},{"$error":"#REF!"}]
[{"$f":"#REF!","v":{"$error":"#REF!"}},{"$error":"#REF!"}]
[{"$f":"#REF!","v":{"$error":"#REF!"}},{"$error":"#REF!"}]
[{"$f":"#REF!","v":{"$error":"#REF!"}},{"$error":"#REF!"}]
[{"$f":"#REF!","v":{"$error":"#REF!"}},{"$error":"#REF!"}]
[{"$f":"#REF!","v":{"$error":"#REF!"}},{"$error":"#REF!"}]
[{"$f":"#REF!","v":{"$error":"#REF!"}},{"$error":"#REF!"}]
[{"$f":"#REF!","v":{"$error":"#REF!"}},{"$error":"#REF!"}]
[{"$f":"#REF!","v":{"$error":"#REF!"}},{"$error":"#REF!"}]
[{"$f":"#REF!","v":{"$error":"#REF!"}},{"$error":"#REF!"}]
[{"$f":"#REF!","v":{"$error":"#REF!"}},{"$error":"#REF!"}]
[{"$f":"#REF!","v":{"$error":"#REF!"}},{"$error":"#REF!"}]
[{"$f":"#REF!","v":{"$error":"#REF!"}},{"$error":"#REF!"}]
[{"$f":"#REF!","v":{"$error":"#REF!"}},{"$error":"#REF!"}]
[{"$f":"#REF!","v":{"$error":"#REF!"}},{"$error":"#REF!"}]
[{"$f":"#REF!","v":{"$error":"#REF!"}},{"$error":"#REF!"}]
[{"$f":"#REF!","v":{"$error":"#REF!"}},{"$error":"#REF!"}]
[{"$f":"#REF!","v":{"$error":"#REF!"}},{"$error":"#REF!"}]
[{"$f":"#REF!","v":{"$error":"#REF!"}},{"$error":"#REF!"}]
[{"$f":"#REF!","v":{"$error":"#REF!"}},{"$error":"#REF!"}]
[{"$f":"#REF!","v":{"$error":"#REF!"}},{"$error":"#REF!"}]
[{"$f":"#REF!","v":{"$error":"#REF!"}},{"$error":"#REF!"}]
[{"$f":"#REF!","v":{"$error":"#REF!"}},{"$error":"#REF!"}]
[{"$f":"#REF!","v":{"$error":"#REF!"}},{"$error":"#REF!"}]
[{"$f":"#REF!","v":{"$error":"#REF!"}},{"$error":"#REF!"}]
[{"$f":"#REF!","v":{"$error":"#REF!"}},{"$error":"#REF!"}]
[{"$f":"#REF!","v":{"$error":"#REF!"}},{"$error":"#REF!"}]
[{"$f":"#REF!","v":{"$error":"#REF!"}},{"$error":"#REF!"}]
[{"$f":"#REF!","v":{"$error":"#REF!"}},{"$error":"#REF!"}]
[{"$f":"#REF!","v":{"$error":"#REF!"}},{"$error":"#REF!"}]
[{"$f":"#REF!","v":{"$error":"#REF!"}},{"$error":"#REF!"}]
[{"$f":"#REF!","v":{"$error":"#REF!"}},{"$error":"#REF!"}]
[{"$f":"#REF!","v":{"$error":"#REF!"}},{"$error":"#REF!"}]
[{"$f":"#REF!","v":{"$error":"#REF!"}},{"$error":"#REF!"}]
[{"$f":"#REF!","v":{"$error":"#REF!"}},{"$error":"#REF!"}]
[{"$f":"#REF!","v":{"$error":"#REF!"}},{"$error":"#REF!"}]
[{"$f":"#REF!","v":{"$error":"#REF!"}},{"$error":"#REF!"}]
[{"$f":"#REF!","v":{"$error":"#REF!"}},{"$error":"#REF!"}]
[{"$f":"#REF!","v":{"$error":"#REF!"}},{"$error":"#REF!"}]
[{"$f":"#REF!","v":{"$error":"#REF!"}},{"$error":"#REF!"}]
[{"$f":"#REF!","v":{"$error":"#REF!"}},{"$error":"#REF!"}]
[{"$f":"#REF!","v":{"$error":"#REF!"}},{"$error":"#REF!"}]
[{"$f":"#REF!","v":{"$error":"#REF!"}},{"$f":"IF(A3472=\"\",\"\",IF(VLOOKUP(A3472,base_rpvs_pagas,2)=A$11,A3472,0))","v":{"$error":"#REF!"}}]
[{"$f":"#REF!","v":{"$error":"#REF!"}},{"$error":"#REF!"}]
[{"$f":"#REF!","v":{"$error":"#REF!"}},{"$error":"#REF!"}]
[{"$f":"#REF!","v":{"$error":"#REF!"}},{"$error":"#REF!"}]
[{"$f":"#REF!","v":{"$error":"#REF!"}},{"$error":"#REF!"}]
[{"$f":"#REF!","v":{"$error":"#REF!"}},{"$error":"#REF!"}]
[{"$f":"#REF!","v":{"$error":"#REF!"}},{"$error":"#REF!"}]
[{"$f":"#REF!","v":{"$error":"#REF!"}},{"$error":"#REF!"}]
[{"$f":"#REF!","v":{"$error":"#REF!"}},{"$error":"#REF!"}]
[{"$f":"#REF!","v":{"$error":"#REF!"}},{"$error":"#REF!"}]
[{"$f":"#REF!","v":{"$error":"#REF!"}},{"$error":"#REF!"}]
[{"$f":"#REF!","v":{"$error":"#REF!"}},{"$error":"#REF!"}]
[{"$f":"#REF!","v":{"$error":"#REF!"}},{"$error":"#REF!"}]
[{"$f":"#REF!","v":{"$error":"#REF!"}},{"$error":"#REF!"}]
[{"$f":"#REF!","v":{"$error":"#REF!"}},{"$error":"#REF!"}]
[{"$f":"#REF!","v":{"$error":"#REF!"}},{"$error":"#REF!"}]
[{"$f":"#REF!","v":{"$error":"#REF!"}},{"$error":"#REF!"}]
[{"$f":"#REF!","v":{"$error":"#REF!"}},{"$error":"#REF!"}]
[{"$f":"#REF!","v":{"$error":"#REF!"}},{"$error":"#REF!"}]
[{"$f":"#REF!","v":{"$error":"#REF!"}},{"$error":"#REF!"}]
[{"$f":"#REF!","v":{"$error":"#REF!"}},{"$error":"#REF!"}]
[{"$f":"#REF!","v":{"$error":"#REF!"}},{"$error":"#REF!"}]
[{"$f":"#REF!","v":{"$error":"#REF!"}},{"$error":"#REF!"}]
[{"$f":"#REF!","v":{"$error":"#REF!"}},{"$error":"#REF!"}]
[{"$f":"#REF!","v":{"$error":"#REF!"}},{"$error":"#REF!"}]
[{"$f":"#REF!","v":{"$error":"#REF!"}},{"$error":"#REF!"}]
[{"$f":"#REF!","v":{"$error":"#REF!"}},{"$error":"#REF!"}]
[{"$f":"#REF!","v":{"$error":"#REF!"}},{"$error":"#REF!"}]
[{"$f":"#REF!","v":{"$error":"#REF!"}},{"$error":"#REF!"}]
[{"$f":"#REF!","v":{"$error":"#REF!"}},{"$error":"#REF!"}]
[{"$f":"#REF!","v":{"$error":"#REF!"}},{"$error":"#REF!"}]
[{"$f":"#REF!","v":{"$error":"#REF!"}},{"$error":"#REF!"}]
[{"$f":"#REF!","v":{"$error":"#REF!"}},{"$error":"#REF!"}]
[{"$f":"#REF!","v":{"$error":"#REF!"}},{"$error":"#REF!"}]
[{"$f":"#REF!","v":{"$error":"#REF!"}},{"$error":"#REF!"}]
[{"$f":"#REF!","v":{"$error":"#REF!"}},{"$error":"#REF!"}]
[{"$f":"#REF!","v":{"$error":"#REF!"}},{"$error":"#REF!"}]
[{"$f":"#REF!","v":{"$error":"#REF!"}},{"$error":"#REF!"}]
[{"$f":"#REF!","v":{"$error":"#REF!"}},{"$error":"#REF!"}]
[{"$f":"#REF!","v":{"$error":"#REF!"}},{"$error":"#REF!"}]
[{"$f":"#REF!","v":{"$error":"#REF!"}},{"$error":"#REF!"}]
[{"$f":"#REF!","v":{"$error":"#REF!"}},{"$error":"#REF!"}]
[{"$f":"#REF!","v":{"$error":"#REF!"}},{"$error":"#REF!"}]
[{"$f":"#REF!","v":{"$error":"#REF!"}},{"$error":"#REF!"}]
[{"$f":"#REF!","v":{"$error":"#REF!"}},{"$error":"#REF!"}]
[{"$f":"#REF!","v":{"$error":"#REF!"}},{"$error":"#REF!"}]
[{"$f":"#REF!","v":{"$error":"#REF!"}},{"$error":"#REF!"}]
[{"$f":"#REF!","v":{"$error":"#REF!"}},{"$error":"#REF!"}]
[{"$f":"#REF!","v":{"$error":"#REF!"}},{"$error":"#REF!"}]
[{"$f":"#REF!","v":{"$error":"#REF!"}},{"$error":"#REF!"}]
[{"$f":"#REF!","v":{"$error":"#REF!"}},{"$error":"#REF!"}]
[{"$f":"#REF!","v":{"$error":"#REF!"}},{"$error":"#REF!"}]
[{"$f":"#REF!","v":{"$error":"#REF!"}},{"$error":"#REF!"}]
[{"$f":"#REF!","v":{"$error":"#REF!"}},{"$error":"#REF!"}]
[{"$f":"#REF!","v":{"$error":"#REF!"}},{"$error":"#REF!"}]
[{"$f":"#REF!","v":{"$error":"#REF!"}},{"$error":"#REF!"}]
[{"$f":"#REF!","v":{"$error":"#REF!"}},{"$error":"#REF!"}]
[{"$f":"#REF!","v":{"$error":"#REF!"}},{"$error":"#REF!"}]
[{"$f":"#REF!","v":{"$error":"#REF!"}},{"$error":"#REF!"}]
[{"$f":"#REF!","v":{"$error":"#REF!"}},{"$error":"#REF!"}]
[{"$f":"#REF!","v":{"$error":"#REF!"}},{"$error":"#REF!"}]
[{"$f":"#REF!","v":{"$error":"#REF!"}},{"$error":"#REF!"}]
[{"$f":"#REF!","v":{"$error":"#REF!"}},{"$error":"#REF!"}]
[{"$f":"#REF!","v":{"$error":"#REF!"}},{"$error":"#REF!"}]
[{"$f":"#REF!","v":{"$error":"#REF!"}},{"$f":"IF(A3536=\"\",\"\",IF(VLOOKUP(A3536,base_rpvs_pagas,2)=A$11,A3536,0))","v":{"$error":"#REF!"}}]
[{"$f":"#REF!","v":{"$error":"#REF!"}},{"$error":"#REF!"}]
[{"$f":"#REF!","v":{"$error":"#REF!"}},{"$error":"#REF!"}]
[{"$f":"#REF!","v":{"$error":"#REF!"}},{"$error":"#REF!"}]
[{"$f":"#REF!","v":{"$error":"#REF!"}},{"$error":"#REF!"}]
[{"$f":"#REF!","v":{"$error":"#REF!"}},{"$error":"#REF!"}]
[{"$f":"#REF!","v":{"$error":"#REF!"}},{"$error":"#REF!"}]
[{"$f":"#REF!","v":{"$error":"#REF!"}},{"$error":"#REF!"}]
[{"$f":"#REF!","v":{"$error":"#REF!"}},{"$error":"#REF!"}]
[{"$f":"#REF!","v":{"$error":"#REF!"}},{"$error":"#REF!"}]
[{"$f":"#REF!","v":{"$error":"#REF!"}},{"$error":"#REF!"}]
[{"$f":"#REF!","v":{"$error":"#REF!"}},{"$error":"#REF!"}]
[{"$f":"#REF!","v":{"$error":"#REF!"}},{"$error":"#REF!"}]
[{"$f":"#REF!","v":{"$error":"#REF!"}},{"$error":"#REF!"}]
[{"$f":"#REF!","v":{"$error":"#REF!"}},{"$error":"#REF!"}]
[{"$f":"#REF!","v":{"$error":"#REF!"}},{"$error":"#REF!"}]
[{"$f":"#REF!","v":{"$error":"#REF!"}},{"$error":"#REF!"}]
[{"$f":"#REF!","v":{"$error":"#REF!"}},{"$error":"#REF!"}]
[{"$f":"#REF!","v":{"$error":"#REF!"}},{"$error":"#REF!"}]
[{"$f":"#REF!","v":{"$error":"#REF!"}},{"$error":"#REF!"}]
[{"$f":"#REF!","v":{"$error":"#REF!"}},{"$error":"#REF!"}]
[{"$f":"#REF!","v":{"$error":"#REF!"}},{"$error":"#REF!"}]
[{"$f":"#REF!","v":{"$error":"#REF!"}},{"$error":"#REF!"}]
[{"$f":"#REF!","v":{"$error":"#REF!"}},{"$error":"#REF!"}]
[{"$f":"#REF!","v":{"$error":"#REF!"}},{"$error":"#REF!"}]
[{"$f":"#REF!","v":{"$error":"#REF!"}},{"$error":"#REF!"}]
[{"$f":"#REF!","v":{"$error":"#REF!"}},{"$error":"#REF!"}]
[{"$f":"#REF!","v":{"$error":"#REF!"}},{"$error":"#REF!"}]
[{"$f":"#REF!","v":{"$error":"#REF!"}},{"$error":"#REF!"}]
[{"$f":"#REF!","v":{"$error":"#REF!"}},{"$error":"#REF!"}]
[{"$f":"#REF!","v":{"$error":"#REF!"}},{"$error":"#REF!"}]
[{"$f":"#REF!","v":{"$error":"#REF!"}},{"$error":"#REF!"}]
[{"$f":"#REF!","v":{"$error":"#REF!"}},{"$error":"#REF!"}]
[{"$f":"#REF!","v":{"$error":"#REF!"}},{"$error":"#REF!"}]
[{"$f":"#REF!","v":{"$error":"#REF!"}},{"$error":"#REF!"}]
[{"$f":"#REF!","v":{"$error":"#REF!"}},{"$error":"#REF!"}]
[{"$f":"#REF!","v":{"$error":"#REF!"}},{"$error":"#REF!"}]
[{"$f":"#REF!","v":{"$error":"#REF!"}},{"$error":"#REF!"}]
[{"$f":"#REF!","v":{"$error":"#REF!"}},{"$error":"#REF!"}]
[{"$f":"#REF!","v":{"$error":"#REF!"}},{"$error":"#REF!"}]
[{"$f":"#REF!","v":{"$error":"#REF!"}},{"$error":"#REF!"}]
[{"$f":"#REF!","v":{"$error":"#REF!"}},{"$error":"#REF!"}]
[{"$f":"#REF!","v":{"$error":"#REF!"}},{"$error":"#REF!"}]
[{"$f":"#REF!","v":{"$error":"#REF!"}},{"$error":"#REF!"}]
[{"$f":"#REF!","v":{"$error":"#REF!"}},{"$error":"#REF!"}]
[{"$f":"#REF!","v":{"$error":"#REF!"}},{"$error":"#REF!"}]
[{"$f":"#REF!","v":{"$error":"#REF!"}},{"$error":"#REF!"}]
[{"$f":"#REF!","v":{"$error":"#REF!"}},{"$error":"#REF!"}]
[{"$f":"#REF!","v":{"$error":"#REF!"}},{"$error":"#REF!"}]
[{"$f":"#REF!","v":{"$error":"#REF!"}},{"$error":"#REF!"}]
[{"$f":"#REF!","v":{"$error":"#REF!"}},{"$error":"#REF!"}]
[{"$f":"#REF!","v":{"$error":"#REF!"}},{"$error":"#REF!"}]
[{"$f":"#REF!","v":{"$error":"#REF!"}},{"$error":"#REF!"}]
[{"$f":"#REF!","v":{"$error":"#REF!"}},{"$error":"#REF!"}]
[{"$f":"#REF!","v":{"$error":"#REF!"}},{"$error":"#REF!"}]
[{"$f":"#REF!","v":{"$error":"#REF!"}},{"$error":"#REF!"}]
[{"$f":"#REF!","v":{"$error":"#REF!"}},{"$error":"#REF!"}]
[{"$f":"#REF!","v":{"$error":"#REF!"}},{"$error":"#REF!"}]
[{"$f":"#REF!","v":{"$error":"#REF!"}},{"$error":"#REF!"}]
[{"$f":"#REF!","v":{"$error":"#REF!"}},{"$error":"#REF!"}]
[{"$f":"#REF!","v":{"$error":"#REF!"}},{"$error":"#REF!"}]
[{"$f":"#REF!","v":{"$error":"#REF!"}},{"$error":"#REF!"}]
[{"$f":"#REF!","v":{"$error":"#REF!"}},{"$error":"#REF!"}]
[{"$f":"#REF!","v":{"$error":"#REF!"}},{"$error":"#REF!"}]
[{"$f":"#REF!","v":{"$error":"#REF!"}},{"$f":"IF(A3600=\"\",\"\",IF(VLOOKUP(A3600,base_rpvs_pagas,2)=A$11,A3600,0))","v":{"$error":"#REF!"}}]
[{"$f":"#REF!","v":{"$error":"#REF!"}},{"$error":"#REF!"}]
[{"$f":"#REF!","v":{"$error":"#REF!"}},{"$error":"#REF!"}]
[{"$f":"#REF!","v":{"$error":"#REF!"}},{"$error":"#REF!"}]
[{"$f":"#REF!","v":{"$error":"#REF!"}},{"$error":"#REF!"}]
[{"$f":"#REF!","v":{"$error":"#REF!"}},{"$error":"#REF!"}]
[{"$f":"#REF!","v":{"$error":"#REF!"}},{"$error":"#REF!"}]
[{"$f":"#REF!","v":{"$error":"#REF!"}},{"$error":"#REF!"}]
[{"$f":"#REF!","v":{"$error":"#REF!"}},{"$error":"#REF!"}]
[{"$f":"#REF!","v":{"$error":"#REF!"}},{"$error":"#REF!"}]
[{"$f":"#REF!","v":{"$error":"#REF!"}},{"$error":"#REF!"}]
[{"$f":"#REF!","v":{"$error":"#REF!"}},{"$error":"#REF!"}]
[{"$f":"#REF!","v":{"$error":"#REF!"}},{"$error":"#REF!"}]
[{"$f":"#REF!","v":{"$error":"#REF!"}},{"$error":"#REF!"}]
[{"$f":"#REF!","v":{"$error":"#REF!"}},{"$error":"#REF!"}]
[{"$f":"#REF!","v":{"$error":"#REF!"}},{"$error":"#REF!"}]
[{"$f":"#REF!","v":{"$error":"#REF!"}},{"$error":"#REF!"}]
[{"$f":"#REF!","v":{"$error":"#REF!"}},{"$error":"#REF!"}]
[{"$f":"#REF!","v":{"$error":"#REF!"}},{"$error":"#REF!"}]
[{"$f":"#REF!","v":{"$error":"#REF!"}},{"$error":"#REF!"}]
[{"$f":"#REF!","v":{"$error":"#REF!"}},{"$error":"#REF!"}]
[{"$f":"#REF!","v":{"$error":"#REF!"}},{"$error":"#REF!"}]
[{"$f":"#REF!","v":{"$error":"#REF!"}},{"$error":"#REF!"}]
[{"$f":"#REF!","v":{"$error":"#REF!"}},{"$error":"#REF!"}]
[{"$f":"#REF!","v":{"$error":"#REF!"}},{"$error":"#REF!"}]
[{"$f":"#REF!","v":{"$error":"#REF!"}},{"$error":"#REF!"}]
[{"$f":"#REF!","v":{"$error":"#REF!"}},{"$error":"#REF!"}]
[{"$f":"#REF!","v":{"$error":"#REF!"}},{"$error":"#REF!"}]
[{"$f":"#REF!","v":{"$error":"#REF!"}},{"$error":"#REF!"}]
[{"$f":"#REF!","v":{"$error":"#REF!"}},{"$error":"#REF!"}]
[{"$f":"#REF!","v":{"$error":"#REF!"}},{"$error":"#REF!"}]
[{"$f":"#REF!","v":{"$error":"#REF!"}},{"$error":"#REF!"}]
[{"$f":"#REF!","v":{"$error":"#REF!"}},{"$error":"#REF!"}]
[{"$f":"#REF!","v":{"$error":"#REF!"}},{"$error":"#REF!"}]
[{"$f":"#REF!","v":{"$error":"#REF!"}},{"$error":"#REF!"}]
[{"$f":"#REF!","v":{"$error":"#REF!"}},{"$error":"#REF!"}]
[{"$f":"#REF!","v":{"$error":"#REF!"}},{"$error":"#REF!"}]
[{"$f":"#REF!","v":{"$error":"#REF!"}},{"$error":"#REF!"}]
[{"$f":"#REF!","v":{"$error":"#REF!"}},{"$error":"#REF!"}]
[{"$f":"#REF!","v":{"$error":"#REF!"}},{"$error":"#REF!"}]
[{"$f":"#REF!","v":{"$error":"#REF!"}},{"$error":"#REF!"}]
[{"$f":"#REF!","v":{"$error":"#REF!"}},{"$error":"#REF!"}]
[{"$f":"#REF!","v":{"$error":"#REF!"}},{"$error":"#REF!"}]
[{"$f":"#REF!","v":{"$error":"#REF!"}},{"$error":"#REF!"}]
[{"$f":"#REF!","v":{"$error":"#REF!"}},{"$error":"#REF!"}]
[{"$f":"#REF!","v":{"$error":"#REF!"}},{"$error":"#REF!"}]
[{"$f":"#REF!","v":{"$error":"#REF!"}},{"$error":"#REF!"}]
[{"$f":"#REF!","v":{"$error":"#REF!"}},{"$error":"#REF!"}]
[{"$f":"#REF!","v":{"$error":"#REF!"}},{"$error":"#REF!"}]
[{"$f":"#REF!","v":{"$error":"#REF!"}},{"$error":"#REF!"}]
[{"$f":"#REF!","v":{"$error":"#REF!"}},{"$error":"#REF!"}]
[{"$f":"#REF!","v":{"$error":"#REF!"}},{"$error":"#REF!"}]
[{"$f":"#REF!","v":{"$error":"#REF!"}},{"$error":"#REF!"}]
[{"$f":"#REF!","v":{"$error":"#REF!"}},{"$error":"#REF!"}]
[{"$f":"#REF!","v":{"$error":"#REF!"}},{"$error":"#REF!"}]
[{"$f":"#REF!","v":{"$error":"#REF!"}},{"$error":"#REF!"}]
[{"$f":"#REF!","v":{"$error":"#REF!"}},{"$error":"#REF!"}]
[{"$f":"#REF!","v":{"$error":"#REF!"}},{"$error":"#REF!"}]
[{"$f":"#REF!","v":{"$error":"#REF!"}},{"$error":"#REF!"}]
[{"$f":"#REF!","v":{"$error":"#REF!"}},{"$error":"#REF!"}]
[{"$f":"#REF!","v":{"$error":"#REF!"}},{"$error":"#REF!"}]
[{"$f":"#REF!","v":{"$error":"#REF!"}},{"$error":"#REF!"}]
[{"$f":"#REF!","v":{"$error":"#REF!"}},{"$error":"#REF!"}]
[{"$f":"#REF!","v":{"$error":"#REF!"}},{"$error":"#REF!"}]
[{"$f":"#REF!","v":{"$error":"#REF!"}},{"$f":"IF(A3664=\"\",\"\",IF(VLOOKUP(A3664,base_rpvs_pagas,2)=A$11,A3664,0))","v":{"$error":"#REF!"}}]
[{"$f":"#REF!","v":{"$error":"#REF!"}},{"$error":"#REF!"}]
[{"$f":"#REF!","v":{"$error":"#REF!"}},{"$error":"#REF!"}]
[{"$f":"#REF!","v":{"$error":"#REF!"}},{"$error":"#REF!"}]
[{"$f":"#REF!","v":{"$error":"#REF!"}},{"$error":"#REF!"}]
[{"$f":"#REF!","v":{"$error":"#REF!"}},{"$error":"#REF!"}]
[{"$f":"#REF!","v":{"$error":"#REF!"}},{"$error":"#REF!"}]
[{"$f":"#REF!","v":{"$error":"#REF!"}},{"$error":"#REF!"}]
[{"$f":"#REF!","v":{"$error":"#REF!"}},{"$error":"#REF!"}]
[{"$f":"#REF!","v":{"$error":"#REF!"}},{"$error":"#REF!"}]
[{"$f":"#REF!","v":{"$error":"#REF!"}},{"$error":"#REF!"}]
[{"$f":"#REF!","v":{"$error":"#REF!"}},{"$error":"#REF!"}]
[{"$f":"#REF!","v":{"$error":"#REF!"}},{"$error":"#REF!"}]
[{"$f":"#REF!","v":{"$error":"#REF!"}},{"$error":"#REF!"}]
[{"$f":"#REF!","v":{"$error":"#REF!"}},{"$error":"#REF!"}]
[{"$f":"#REF!","v":{"$error":"#REF!"}},{"$error":"#REF!"}]
[{"$f":"#REF!","v":{"$error":"#REF!"}},{"$error":"#REF!"}]
[{"$f":"#REF!","v":{"$error":"#REF!"}},{"$error":"#REF!"}]
[{"$f":"#REF!","v":{"$error":"#REF!"}},{"$error":"#REF!"}]
[{"$f":"#REF!","v":{"$error":"#REF!"}},{"$error":"#REF!"}]
[{"$f":"#REF!","v":{"$error":"#REF!"}},{"$error":"#REF!"}]
[{"$f":"#REF!","v":{"$error":"#REF!"}},{"$error":"#REF!"}]
[{"$f":"#REF!","v":{"$error":"#REF!"}},{"$error":"#REF!"}]
[{"$f":"#REF!","v":{"$error":"#REF!"}},{"$error":"#REF!"}]
[{"$f":"#REF!","v":{"$error":"#REF!"}},{"$error":"#REF!"}]
[{"$f":"#REF!","v":{"$error":"#REF!"}},{"$error":"#REF!"}]
[{"$f":"#REF!","v":{"$error":"#REF!"}},{"$error":"#REF!"}]
[{"$f":"#REF!","v":{"$error":"#REF!"}},{"$error":"#REF!"}]
[{"$f":"#REF!","v":{"$error":"#REF!"}},{"$error":"#REF!"}]
[{"$f":"#REF!","v":{"$error":"#REF!"}},{"$error":"#REF!"}]
[{"$f":"#REF!","v":{"$error":"#REF!"}},{"$error":"#REF!"}]
[{"$f":"#REF!","v":{"$error":"#REF!"}},{"$error":"#REF!"}]
[{"$f":"#REF!","v":{"$error":"#REF!"}},{"$error":"#REF!"}]
[{"$f":"#REF!","v":{"$error":"#REF!"}},{"$error":"#REF!"}]
[{"$f":"#REF!","v":{"$error":"#REF!"}},{"$error":"#REF!"}]
[{"$f":"#REF!","v":{"$error":"#REF!"}},{"$error":"#REF!"}]
[{"$f":"#REF!","v":{"$error":"#REF!"}},{"$error":"#REF!"}]
[{"$f":"#REF!","v":{"$error":"#REF!"}},{"$error":"#REF!"}]
[{"$f":"#REF!","v":{"$error":"#REF!"}},{"$error":"#REF!"}]
[{"$f":"#REF!","v":{"$error":"#REF!"}},{"$error":"#REF!"}]
[{"$f":"#REF!","v":{"$error":"#REF!"}},{"$error":"#REF!"}]
[{"$f":"#REF!","v":{"$error":"#REF!"}},{"$error":"#REF!"}]
[{"$f":"#REF!","v":{"$error":"#REF!"}},{"$error":"#REF!"}]
[{"$f":"#REF!","v":{"$error":"#REF!"}},{"$error":"#REF!"}]
[{"$f":"#REF!","v":{"$error":"#REF!"}},{"$error":"#REF!"}]
[{"$f":"#REF!","v":{"$error":"#REF!"}},{"$error":"#REF!"}]
[{"$f":"#REF!","v":{"$error":"#REF!"}},{"$error":"#REF!"}]
[{"$f":"#REF!","v":{"$error":"#REF!"}},{"$error":"#REF!"}]
[{"$f":"#REF!","v":{"$error":"#REF!"}},{"$error":"#REF!"}]
[{"$f":"#REF!","v":{"$error":"#REF!"}},{"$error":"#REF!"}]
[{"$f":"#REF!","v":{"$error":"#REF!"}},{"$error":"#REF!"}]
[{"$f":"#REF!","v":{"$error":"#REF!"}},{"$error":"#REF!"}]
[{"$f":"#REF!","v":{"$error":"#REF!"}},{"$error":"#REF!"}]
[{"$f":"#REF!","v":{"$error":"#REF!"}},{"$error":"#REF!"}]
[{"$f":"#REF!","v":{"$error":"#REF!"}},{"$error":"#REF!"}]
[{"$f":"#REF!","v":{"$error":"#REF!"}},{"$error":"#REF!"}]
[{"$f":"#REF!","v":{"$error":"#REF!"}},{"$error":"#REF!"}]
[{"$f":"#REF!","v":{"$error":"#REF!"}},{"$error":"#REF!"}]
[{"$f":"#REF!","v":{"$error":"#REF!"}},{"$error":"#REF!"}]
[{"$f":"#REF!","v":{"$error":"#REF!"}},{"$error":"#REF!"}]
[{"$f":"#REF!","v":{"$error":"#REF!"}},{"$error":"#REF!"}]
[{"$f":"#REF!","v":{"$error":"#REF!"}},{"$error":"#REF!"}]
[{"$f":"#REF!","v":{"$error":"#REF!"}},{"$error":"#REF!"}]
[{"$f":"#REF!","v":{"$error":"#REF!"}},{"$error":"#REF!"}]
[{"$f":"#REF!","v":{"$error":"#REF!"}},{"$f":"IF(A3728=\"\",\"\",IF(VLOOKUP(A3728,base_rpvs_pagas,2)=A$11,A3728,0))","v":{"$error":"#REF!"}}]
[{"$f":"#REF!","v":{"$error":"#REF!"}},{"$error":"#REF!"}]
[{"$f":"#REF!","v":{"$error":"#REF!"}},{"$error":"#REF!"}]
[{"$f":"#REF!","v":{"$error":"#REF!"}},{"$error":"#REF!"}]
[{"$f":"#REF!","v":{"$error":"#REF!"}},{"$error":"#REF!"}]
[{"$f":"#REF!","v":{"$error":"#REF!"}},{"$error":"#REF!"}]
[{"$f":"#REF!","v":{"$error":"#REF!"}},{"$error":"#REF!"}]
[{"$f":"#REF!","v":{"$error":"#REF!"}},{"$error":"#REF!"}]
[{"$f":"#REF!","v":{"$error":"#REF!"}},{"$error":"#REF!"}]
[{"$f":"#REF!","v":{"$error":"#REF!"}},{"$error":"#REF!"}]
[{"$f":"#REF!","v":{"$error":"#REF!"}},{"$error":"#REF!"}]
[{"$f":"#REF!","v":{"$error":"#REF!"}},{"$error":"#REF!"}]
[{"$f":"#REF!","v":{"$error":"#REF!"}},{"$error":"#REF!"}]
[{"$f":"#REF!","v":{"$error":"#REF!"}},{"$error":"#REF!"}]
[{"$f":"#REF!","v":{"$error":"#REF!"}},{"$error":"#REF!"}]
[{"$f":"#REF!","v":{"$error":"#REF!"}},{"$error":"#REF!"}]
[{"$f":"#REF!","v":{"$error":"#REF!"}},{"$error":"#REF!"}]
[{"$f":"#REF!","v":{"$error":"#REF!"}},{"$error":"#REF!"}]
[{"$f":"#REF!","v":{"$error":"#REF!"}},{"$error":"#REF!"}]
[{"$f":"#REF!","v":{"$error":"#REF!"}},{"$error":"#REF!"}]
[{"$f":"#REF!","v":{"$error":"#REF!"}},{"$error":"#REF!"}]
[{"$f":"#REF!","v":{"$error":"#REF!"}},{"$error":"#REF!"}]
[{"$f":"#REF!","v":{"$error":"#REF!"}},{"$error":"#REF!"}]
[{"$f":"#REF!","v":{"$error":"#REF!"}},{"$error":"#REF!"}]
[{"$f":"#REF!","v":{"$error":"#REF!"}},{"$error":"#REF!"}]
[{"$f":"#REF!","v":{"$error":"#REF!"}},{"$error":"#REF!"}]
[{"$f":"#REF!","v":{"$error":"#REF!"}},{"$error":"#REF!"}]
[{"$f":"#REF!","v":{"$error":"#REF!"}},{"$error":"#REF!"}]
[{"$f":"#REF!","v":{"$error":"#REF!"}},{"$error":"#REF!"}]
[{"$f":"#REF!","v":{"$error":"#REF!"}},{"$error":"#REF!"}]
[{"$f":"#REF!","v":{"$error":"#REF!"}},{"$error":"#REF!"}]
[{"$f":"#REF!","v":{"$error":"#REF!"}},{"$error":"#REF!"}]
[{"$f":"#REF!","v":{"$error":"#REF!"}},{"$error":"#REF!"}]
[{"$f":"#REF!","v":{"$error":"#REF!"}},{"$error":"#REF!"}]
[{"$f":"#REF!","v":{"$error":"#REF!"}},{"$error":"#REF!"}]
[{"$f":"#REF!","v":{"$error":"#REF!"}},{"$error":"#REF!"}]
[{"$f":"#REF!","v":{"$error":"#REF!"}},{"$error":"#REF!"}]
[{"$f":"#REF!","v":{"$error":"#REF!"}},{"$error":"#REF!"}]
[{"$f":"#REF!","v":{"$error":"#REF!"}},{"$error":"#REF!"}]
[{"$f":"#REF!","v":{"$error":"#REF!"}},{"$error":"#REF!"}]
[{"$f":"#REF!","v":{"$error":"#REF!"}},{"$error":"#REF!"}]
[{"$f":"#REF!","v":{"$error":"#REF!"}},{"$error":"#REF!"}]
[{"$f":"#REF!","v":{"$error":"#REF!"}},{"$error":"#REF!"}]
[{"$f":"#REF!","v":{"$error":"#REF!"}},{"$error":"#REF!"}]
[{"$f":"#REF!","v":{"$error":"#REF!"}},{"$error":"#REF!"}]
[{"$f":"#REF!","v":{"$error":"#REF!"}},{"$error":"#REF!"}]
[{"$f":"#REF!","v":{"$error":"#REF!"}},{"$error":"#REF!"}]
[{"$f":"#REF!","v":{"$error":"#REF!"}},{"$error":"#REF!"}]
[{"$f":"#REF!","v":{"$error":"#REF!"}},{"$error":"#REF!"}]
[{"$f":"#REF!","v":{"$error":"#REF!"}},{"$error":"#REF!"}]
[{"$f":"#REF!","v":{"$error":"#REF!"}},{"$error":"#REF!"}]
[{"$f":"#REF!","v":{"$error":"#REF!"}},{"$error":"#REF!"}]
[{"$f":"#REF!","v":{"$error":"#REF!"}},{"$error":"#REF!"}]
[{"$f":"#REF!","v":{"$error":"#REF!"}},{"$error":"#REF!"}]
[{"$f":"#REF!","v":{"$error":"#REF!"}},{"$error":"#REF!"}]
[{"$f":"#REF!","v":{"$error":"#REF!"}},{"$error":"#REF!"}]
[{"$f":"#REF!","v":{"$error":"#REF!"}},{"$error":"#REF!"}]
[{"$f":"#REF!","v":{"$error":"#REF!"}},{"$error":"#REF!"}]
[{"$f":"#REF!","v":{"$error":"#REF!"}},{"$error":"#REF!"}]
[{"$f":"#REF!","v":{"$error":"#REF!"}},{"$error":"#REF!"}]
[{"$f":"#REF!","v":{"$error":"#REF!"}},{"$error":"#REF!"}]
[{"$f":"#REF!","v":{"$error":"#REF!"}},{"$error":"#REF!"}]
[{"$f":"#REF!","v":{"$error":"#REF!"}},{"$error":"#REF!"}]
[{"$f":"#REF!","v":{"$error":"#REF!"}},{"$error":"#REF!"}]
[{"$f":"#REF!","v":{"$error":"#REF!"}},{"$f":"IF(A3792=\"\",\"\",IF(VLOOKUP(A3792,base_rpvs_pagas,2)=A$11,A3792,0))","v":{"$error":"#REF!"}}]
[{"$f":"#REF!","v":{"$error":"#REF!"}},{"$error":"#REF!"}]
[{"$f":"#REF!","v":{"$error":"#REF!"}},{"$error":"#REF!"}]
[{"$f":"#REF!","v":{"$error":"#REF!"}},{"$error":"#REF!"}]
[{"$f":"#REF!","v":{"$error":"#REF!"}},{"$error":"#REF!"}]
[{"$f":"#REF!","v":{"$error":"#REF!"}},{"$error":"#REF!"}]
[{"$f":"#REF!","v":{"$error":"#REF!"}},{"$error":"#REF!"}]
[{"$f":"#REF!","v":{"$error":"#REF!"}},{"$error":"#REF!"}]
[{"$f":"#REF!","v":{"$error":"#REF!"}},{"$error":"#REF!"}]
[{"$f":"#REF!","v":{"$error":"#REF!"}},{"$error":"#REF!"}]
[{"$f":"#REF!","v":{"$error":"#REF!"}},{"$error":"#REF!"}]
[{"$f":"#REF!","v":{"$error":"#REF!"}},{"$error":"#REF!"}]
[{"$f":"#REF!","v":{"$error":"#REF!"}},{"$error":"#REF!"}]
[{"$f":"#REF!","v":{"$error":"#REF!"}},{"$error":"#REF!"}]
[{"$f":"#REF!","v":{"$error":"#REF!"}},{"$error":"#REF!"}]
[{"$f":"#REF!","v":{"$error":"#REF!"}},{"$error":"#REF!"}]
[{"$f":"#REF!","v":{"$error":"#REF!"}},{"$error":"#REF!"}]
[{"$f":"#REF!","v":{"$error":"#REF!"}},{"$error":"#REF!"}]
[{"$f":"#REF!","v":{"$error":"#REF!"}},{"$error":"#REF!"}]
[{"$f":"#REF!","v":{"$error":"#REF!"}},{"$error":"#REF!"}]
[{"$f":"#REF!","v":{"$error":"#REF!"}},{"$error":"#REF!"}]
[{"$f":"#REF!","v":{"$error":"#REF!"}},{"$error":"#REF!"}]
[{"$f":"#REF!","v":{"$error":"#REF!"}},{"$error":"#REF!"}]
[{"$f":"#REF!","v":{"$error":"#REF!"}},{"$error":"#REF!"}]
[{"$f":"#REF!","v":{"$error":"#REF!"}},{"$error":"#REF!"}]
[{"$f":"#REF!","v":{"$error":"#REF!"}},{"$error":"#REF!"}]
[{"$f":"#REF!","v":{"$error":"#REF!"}},{"$error":"#REF!"}]
[{"$f":"#REF!","v":{"$error":"#REF!"}},{"$error":"#REF!"}]
[{"$f":"#REF!","v":{"$error":"#REF!"}},{"$error":"#REF!"}]
[{"$f":"#REF!","v":{"$error":"#REF!"}},{"$error":"#REF!"}]
[{"$f":"#REF!","v":{"$error":"#REF!"}},{"$error":"#REF!"}]
[{"$f":"#REF!","v":{"$error":"#REF!"}},{"$error":"#REF!"}]
[{"$f":"#REF!","v":{"$error":"#REF!"}},{"$error":"#REF!"}]
[{"$f":"#REF!","v":{"$error":"#REF!"}},{"$error":"#REF!"}]
[{"$f":"#REF!","v":{"$error":"#REF!"}},{"$error":"#REF!"}]
[{"$f":"#REF!","v":{"$error":"#REF!"}},{"$error":"#REF!"}]
[{"$f":"#REF!","v":{"$error":"#REF!"}},{"$error":"#REF!"}]
[{"$f":"#REF!","v":{"$error":"#REF!"}},{"$error":"#REF!"}]
[{"$f":"#REF!","v":{"$error":"#REF!"}},{"$error":"#REF!"}]
[{"$f":"#REF!","v":{"$error":"#REF!"}},{"$error":"#REF!"}]
[{"$f":"#REF!","v":{"$error":"#REF!"}},{"$error":"#REF!"}]
[{"$f":"#REF!","v":{"$error":"#REF!"}},{"$error":"#REF!"}]
[{"$f":"#REF!","v":{"$error":"#REF!"}},{"$error":"#REF!"}]
[{"$f":"#REF!","v":{"$error":"#REF!"}},{"$error":"#REF!"}]
[{"$f":"#REF!","v":{"$error":"#REF!"}},{"$error":"#REF!"}]
[{"$f":"#REF!","v":{"$error":"#REF!"}},{"$error":"#REF!"}]
[{"$f":"#REF!","v":{"$error":"#REF!"}},{"$error":"#REF!"}]
[{"$f":"#REF!","v":{"$error":"#REF!"}},{"$error":"#REF!"}]
[{"$f":"#REF!","v":{"$error":"#REF!"}},{"$error":"#REF!"}]
[{"$f":"#REF!","v":{"$error":"#REF!"}},{"$error":"#REF!"}]
[{"$f":"#REF!","v":{"$error":"#REF!"}},{"$error":"#REF!"}]
[{"$f":"#REF!","v":{"$error":"#REF!"}},{"$error":"#REF!"}]
[{"$f":"#REF!","v":{"$error":"#REF!"}},{"$error":"#REF!"}]
[{"$f":"#REF!","v":{"$error":"#REF!"}},{"$error":"#REF!"}]
[{"$f":"#REF!","v":{"$error":"#REF!"}},{"$error":"#REF!"}]
[{"$f":"#REF!","v":{"$error":"#REF!"}},{"$error":"#REF!"}]
[{"$f":"#REF!","v":{"$error":"#REF!"}},{"$error":"#REF!"}]
[{"$f":"#REF!","v":{"$error":"#REF!"}},{"$error":"#REF!"}]
[{"$f":"#REF!","v":{"$error":"#REF!"}},{"$error":"#REF!"}]
[{"$f":"#REF!","v":{"$error":"#REF!"}},{"$error":"#REF!"}]
[{"$f":"#REF!","v":{"$error":"#REF!"}},{"$error":"#REF!"}]
[{"$f":"#REF!","v":{"$error":"#REF!"}},{"$error":"#REF!"}]
[{"$f":"#REF!","v":{"$error":"#REF!"}},{"$error":"#REF!"}]
[{"$f":"#REF!","v":{"$error":"#REF!"}},{"$error":"#REF!"}]
[{"$f":"#REF!","v":{"$error":"#REF!"}},{"$f":"IF(A3856=\"\",\"\",IF(VLOOKUP(A3856,base_rpvs_pagas,2)=A$11,A3856,0))","v":{"$error":"#REF!"}}]
[{"$f":"#REF!","v":{"$error":"#REF!"}},{"$error":"#REF!"}]
[{"$f":"#REF!","v":{"$error":"#REF!"}},{"$error":"#REF!"}]
[{"$f":"#REF!","v":{"$error":"#REF!"}},{"$error":"#REF!"}]
[{"$f":"#REF!","v":{"$error":"#REF!"}},{"$error":"#REF!"}]
[{"$f":"#REF!","v":{"$error":"#REF!"}},{"$error":"#REF!"}]
[{"$f":"#REF!","v":{"$error":"#REF!"}},{"$error":"#REF!"}]
[{"$f":"#REF!","v":{"$error":"#REF!"}},{"$error":"#REF!"}]
[{"$f":"#REF!","v":{"$error":"#REF!"}},{"$error":"#REF!"}]
[{"$f":"#REF!","v":{"$error":"#REF!"}},{"$error":"#REF!"}]
[{"$f":"#REF!","v":{"$error":"#REF!"}},{"$error":"#REF!"}]
[{"$f":"#REF!","v":{"$error":"#REF!"}},{"$error":"#REF!"}]
[{"$f":"#REF!","v":{"$error":"#REF!"}},{"$error":"#REF!"}]
[{"$f":"#REF!","v":{"$error":"#REF!"}},{"$error":"#REF!"}]
[{"$f":"#REF!","v":{"$error":"#REF!"}},{"$error":"#REF!"}]
[{"$f":"#REF!","v":{"$error":"#REF!"}},{"$error":"#REF!"}]
[{"$f":"#REF!","v":{"$error":"#REF!"}},{"$error":"#REF!"}]
[{"$f":"#REF!","v":{"$error":"#REF!"}},{"$error":"#REF!"}]
[{"$f":"#REF!","v":{"$error":"#REF!"}},{"$error":"#REF!"}]
[{"$f":"#REF!","v":{"$error":"#REF!"}},{"$error":"#REF!"}]
[{"$f":"#REF!","v":{"$error":"#REF!"}},{"$error":"#REF!"}]
[{"$f":"#REF!","v":{"$error":"#REF!"}},{"$error":"#REF!"}]
[{"$f":"#REF!","v":{"$error":"#REF!"}},{"$error":"#REF!"}]
[{"$f":"#REF!","v":{"$error":"#REF!"}},{"$error":"#REF!"}]
[{"$f":"#REF!","v":{"$error":"#REF!"}},{"$error":"#REF!"}]
[{"$f":"#REF!","v":{"$error":"#REF!"}},{"$error":"#REF!"}]
[{"$f":"#REF!","v":{"$error":"#REF!"}},{"$error":"#REF!"}]
[{"$f":"#REF!","v":{"$error":"#REF!"}},{"$error":"#REF!"}]
[{"$f":"#REF!","v":{"$error":"#REF!"}},{"$error":"#REF!"}]
[{"$f":"#REF!","v":{"$error":"#REF!"}},{"$error":"#REF!"}]
[{"$f":"#REF!","v":{"$error":"#REF!"}},{"$error":"#REF!"}]
[{"$f":"#REF!","v":{"$error":"#REF!"}},{"$error":"#REF!"}]
[{"$f":"#REF!","v":{"$error":"#REF!"}},{"$error":"#REF!"}]
[{"$f":"#REF!","v":{"$error":"#REF!"}},{"$error":"#REF!"}]
[{"$f":"#REF!","v":{"$error":"#REF!"}},{"$error":"#REF!"}]
[{"$f":"#REF!","v":{"$error":"#REF!"}},{"$error":"#REF!"}]
[{"$f":"#REF!","v":{"$error":"#REF!"}},{"$error":"#REF!"}]
[{"$f":"#REF!","v":{"$error":"#REF!"}},{"$error":"#REF!"}]
[{"$f":"#REF!","v":{"$error":"#REF!"}},{"$error":"#REF!"}]
[{"$f":"#REF!","v":{"$error":"#REF!"}},{"$error":"#REF!"}]
[{"$f":"#REF!","v":{"$error":"#REF!"}},{"$error":"#REF!"}]
[{"$f":"#REF!","v":{"$error":"#REF!"}},{"$error":"#REF!"}]
[{"$f":"#REF!","v":{"$error":"#REF!"}},{"$error":"#REF!"}]
[{"$f":"#REF!","v":{"$error":"#REF!"}},{"$error":"#REF!"}]
[{"$f":"#REF!","v":{"$error":"#REF!"}},{"$error":"#REF!"}]
[{"$f":"#REF!","v":{"$error":"#REF!"}},{"$error":"#REF!"}]
[{"$f":"#REF!","v":{"$error":"#REF!"}},{"$error":"#REF!"}]
[{"$f":"#REF!","v":{"$error":"#REF!"}},{"$error":"#REF!"}]
[{"$f":"#REF!","v":{"$error":"#REF!"}},{"$error":"#REF!"}]
[{"$f":"#REF!","v":{"$error":"#REF!"}},{"$error":"#REF!"}]
[{"$f":"#REF!","v":{"$error":"#REF!"}},{"$error":"#REF!"}]
[{"$f":"#REF!","v":{"$error":"#REF!"}},{"$error":"#REF!"}]
[{"$f":"#REF!","v":{"$error":"#REF!"}},{"$error":"#REF!"}]
[{"$f":"#REF!","v":{"$error":"#REF!"}},{"$error":"#REF!"}]
[{"$f":"#REF!","v":{"$error":"#REF!"}},{"$error":"#REF!"}]
[{"$f":"#REF!","v":{"$error":"#REF!"}},{"$error":"#REF!"}]
[{"$f":"#REF!","v":{"$error":"#REF!"}},{"$error":"#REF!"}]
[{"$f":"#REF!","v":{"$error":"#REF!"}},{"$error":"#REF!"}]
[{"$f":"#REF!","v":{"$error":"#REF!"}},{"$error":"#REF!"}]
[{"$f":"#REF!","v":{"$error":"#REF!"}},{"$error":"#REF!"}]
[{"$f":"#REF!","v":{"$error":"#REF!"}},{"$error":"#REF!"}]
[{"$f":"#REF!","v":{"$error":"#REF!"}},{"$error":"#REF!"}]
[{"$f":"#REF!","v":{"$error":"#REF!"}},{"$error":"#REF!"}]
[{"$f":"#REF!","v":{"$error":"#REF!"}},{"$error":"#REF!"}]
[{"$f":"#REF!","v":{"$error":"#REF!"}},{"$f":"IF(A3920=\"\",\"\",IF(VLOOKUP(A3920,base_rpvs_pagas,2)=A$11,A3920,0))","v":{"$error":"#REF!"}}]
[{"$f":"#REF!","v":{"$error":"#REF!"}},{"$error":"#REF!"}]
[{"$f":"#REF!","v":{"$error":"#REF!"}},{"$error":"#REF!"}]
[{"$f":"#REF!","v":{"$error":"#REF!"}},{"$error":"#REF!"}]
[{"$f":"#REF!","v":{"$error":"#REF!"}},{"$error":"#REF!"}]
[{"$f":"#REF!","v":{"$error":"#REF!"}},{"$error":"#REF!"}]
[{"$f":"#REF!","v":{"$error":"#REF!"}},{"$error":"#REF!"}]
[{"$f":"#REF!","v":{"$error":"#REF!"}},{"$error":"#REF!"}]
[{"$f":"#REF!","v":{"$error":"#REF!"}},{"$error":"#REF!"}]
[{"$f":"#REF!","v":{"$error":"#REF!"}},{"$error":"#REF!"}]
[{"$f":"#REF!","v":{"$error":"#REF!"}},{"$error":"#REF!"}]
[{"$f":"#REF!","v":{"$error":"#REF!"}},{"$error":"#REF!"}]
[{"$f":"#REF!","v":{"$error":"#REF!"}},{"$error":"#REF!"}]
[{"$f":"#REF!","v":{"$error":"#REF!"}},{"$error":"#REF!"}]
[{"$f":"#REF!","v":{"$error":"#REF!"}},{"$error":"#REF!"}]
[{"$f":"#REF!","v":{"$error":"#REF!"}},{"$error":"#REF!"}]
[{"$f":"#REF!","v":{"$error":"#REF!"}},{"$error":"#REF!"}]
[{"$f":"#REF!","v":{"$error":"#REF!"}},{"$error":"#REF!"}]
[{"$f":"#REF!","v":{"$error":"#REF!"}},{"$error":"#REF!"}]
[{"$f":"#REF!","v":{"$error":"#REF!"}},{"$error":"#REF!"}]
[{"$f":"#REF!","v":{"$error":"#REF!"}},{"$error":"#REF!"}]
[{"$f":"#REF!","v":{"$error":"#REF!"}},{"$error":"#REF!"}]
[{"$f":"#REF!","v":{"$error":"#REF!"}},{"$error":"#REF!"}]
[{"$f":"#REF!","v":{"$error":"#REF!"}},{"$error":"#REF!"}]
[{"$f":"#REF!","v":{"$error":"#REF!"}},{"$error":"#REF!"}]
[{"$f":"#REF!","v":{"$error":"#REF!"}},{"$error":"#REF!"}]
[{"$f":"#REF!","v":{"$error":"#REF!"}},{"$error":"#REF!"}]
[{"$f":"#REF!","v":{"$error":"#REF!"}},{"$error":"#REF!"}]
[{"$f":"#REF!","v":{"$error":"#REF!"}},{"$error":"#REF!"}]
[{"$f":"#REF!","v":{"$error":"#REF!"}},{"$error":"#REF!"}]
[{"$f":"#REF!","v":{"$error":"#REF!"}},{"$error":"#REF!"}]
[{"$f":"#REF!","v":{"$error":"#REF!"}},{"$error":"#REF!"}]
[{"$f":"#REF!","v":{"$error":"#REF!"}},{"$error":"#REF!"}]
[{"$f":"#REF!","v":{"$error":"#REF!"}},{"$error":"#REF!"}]
[{"$f":"#REF!","v":{"$error":"#REF!"}},{"$error":"#REF!"}]
[{"$f":"#REF!","v":{"$error":"#REF!"}},{"$error":"#REF!"}]
[{"$f":"#REF!","v":{"$error":"#REF!"}},{"$error":"#REF!"}]
[{"$f":"#REF!","v":{"$error":"#REF!"}},{"$error":"#REF!"}]
[{"$f":"#REF!","v":{"$error":"#REF!"}},{"$error":"#REF!"}]
[{"$f":"#REF!","v":{"$error":"#REF!"}},{"$error":"#REF!"}]
[{"$f":"#REF!","v":{"$error":"#REF!"}},{"$error":"#REF!"}]
[{"$f":"#REF!","v":{"$error":"#REF!"}},{"$error":"#REF!"}]
[{"$f":"#REF!","v":{"$error":"#REF!"}},{"$error":"#REF!"}]
[{"$f":"#REF!","v":{"$error":"#REF!"}},{"$error":"#REF!"}]
[{"$f":"#REF!","v":{"$error":"#REF!"}},{"$error":"#REF!"}]
[{"$f":"#REF!","v":{"$error":"#REF!"}},{"$error":"#REF!"}]
[{"$f":"#REF!","v":{"$error":"#REF!"}},{"$error":"#REF!"}]
[{"$f":"#REF!","v":{"$error":"#REF!"}},{"$error":"#REF!"}]
[{"$f":"#REF!","v":{"$error":"#REF!"}},{"$error":"#REF!"}]
[{"$f":"#REF!","v":{"$error":"#REF!"}},{"$error":"#REF!"}]
[{"$f":"#REF!","v":{"$error":"#REF!"}},{"$error":"#REF!"}]
[{"$f":"#REF!","v":{"$error":"#REF!"}},{"$error":"#REF!"}]
[{"$f":"#REF!","v":{"$error":"#REF!"}},{"$error":"#REF!"}]
[{"$f":"#REF!","v":{"$error":"#REF!"}},{"$error":"#REF!"}]
[{"$f":"#REF!","v":{"$error":"#REF!"}},{"$error":"#REF!"}]
[{"$f":"#REF!","v":{"$error":"#REF!"}},{"$error":"#REF!"}]
[{"$f":"#REF!","v":{"$error":"#REF!"}},{"$error":"#REF!"}]
[{"$f":"#REF!","v":{"$error":"#REF!"}},{"$error":"#REF!"}]
[{"$f":"#REF!","v":{"$error":"#REF!"}},{"$error":"#REF!"}]
[{"$f":"#REF!","v":{"$error":"#REF!"}},{"$error":"#REF!"}]
[{"$f":"#REF!","v":{"$error":"#REF!"}},{"$error":"#REF!"}]
[{"$f":"#REF!","v":{"$error":"#REF!"}},{"$error":"#REF!"}]
[{"$f":"#REF!","v":{"$error":"#REF!"}},{"$error":"#REF!"}]
[{"$f":"#REF!","v":{"$error":"#REF!"}},{"$error":"#REF!"}]
[{"$f":"#REF!","v":{"$error":"#REF!"}},{"$f":"IF(A3984=\"\",\"\",IF(VLOOKUP(A3984,base_rpvs_pagas,2)=A$11,A3984,0))","v":{"$error":"#REF!"}}]
[{"$f":"#REF!","v":{"$error":"#REF!"}},{"$error":"#REF!"}]
[{"$f":"#REF!","v":{"$error":"#REF!"}},{"$error":"#REF!"}]
[{"$f":"#REF!","v":{"$error":"#REF!"}},{"$error":"#REF!"}]
[{"$f":"#REF!","v":{"$error":"#REF!"}},{"$error":"#REF!"}]
[{"$f":"#REF!","v":{"$error":"#REF!"}},{"$error":"#REF!"}]
[{"$f":"#REF!","v":{"$error":"#REF!"}},{"$error":"#REF!"}]
[{"$f":"#REF!","v":{"$error":"#REF!"}},{"$error":"#REF!"}]
[{"$f":"#REF!","v":{"$error":"#REF!"}},{"$error":"#REF!"}]
[{"$f":"#REF!","v":{"$error":"#REF!"}},{"$error":"#REF!"}]
[{"$f":"#REF!","v":{"$error":"#REF!"}},{"$error":"#REF!"}]
[{"$f":"#REF!","v":{"$error":"#REF!"}},{"$error":"#REF!"}]
[{"$f":"#REF!","v":{"$error":"#REF!"}},{"$error":"#REF!"}]
[{"$f":"#REF!","v":{"$error":"#REF!"}},{"$error":"#REF!"}]
[{"$f":"#REF!","v":{"$error":"#REF!"}},{"$error":"#REF!"}]
[{"$f":"#REF!","v":{"$error":"#REF!"}},{"$error":"#REF!"}]
[{"$f":"#REF!","v":{"$error":"#REF!"}},{"$error":"#REF!"}]
[{"$f":"#REF!","v":{"$error":"#REF!"}},{"$error":"#REF!"}]
[{"$f":"#REF!","v":{"$error":"#REF!"}},{"$error":"#REF!"}]
[{"$f":"#REF!","v":{"$error":"#REF!"}},{"$error":"#REF!"}]
[{"$f":"#REF!","v":{"$error":"#REF!"}},{"$error":"#REF!"}]
[{"$f":"#REF!","v":{"$error":"#REF!"}},{"$error":"#REF!"}]
[{"$f":"#REF!","v":{"$error":"#REF!"}},{"$error":"#REF!"}]
[{"$f":"#REF!","v":{"$error":"#REF!"}},{"$error":"#REF!"}]
[{"$f":"#REF!","v":{"$error":"#REF!"}},{"$error":"#REF!"}]
[{"$f":"#REF!","v":{"$error":"#REF!"}},{"$error":"#REF!"}]
[{"$f":"#REF!","v":{"$error":"#REF!"}},{"$error":"#REF!"}]
[{"$f":"#REF!","v":{"$error":"#REF!"}},{"$error":"#REF!"}]
[{"$f":"#REF!","v":{"$error":"#REF!"}},{"$error":"#REF!"}]
[{"$f":"#REF!","v":{"$error":"#REF!"}},{"$error":"#REF!"}]
[{"$f":"#REF!","v":{"$error":"#REF!"}},{"$error":"#REF!"}]
[{"$f":"#REF!","v":{"$error":"#REF!"}},{"$error":"#REF!"}]
[{"$f":"#REF!","v":{"$error":"#REF!"}},{"$error":"#REF!"}]
[{"$f":"#REF!","v":{"$error":"#REF!"}},{"$error":"#REF!"}]
[{"$f":"#REF!","v":{"$error":"#REF!"}},{"$error":"#REF!"}]
[{"$f":"#REF!","v":{"$error":"#REF!"}},{"$error":"#REF!"}]
[{"$f":"#REF!","v":{"$error":"#REF!"}},{"$error":"#REF!"}]
[{"$f":"#REF!","v":{"$error":"#REF!"}},{"$error":"#REF!"}]
[{"$f":"#REF!","v":{"$error":"#REF!"}},{"$error":"#REF!"}]
[{"$f":"#REF!","v":{"$error":"#REF!"}},{"$error":"#REF!"}]
[{"$f":"#REF!","v":{"$error":"#REF!"}},{"$error":"#REF!"}]
[{"$f":"#REF!","v":{"$error":"#REF!"}},{"$error":"#REF!"}]
[{"$f":"#REF!","v":{"$error":"#REF!"}},{"$error":"#REF!"}]
[{"$f":"#REF!","v":{"$error":"#REF!"}},{"$error":"#REF!"}]
[{"$f":"#REF!","v":{"$error":"#REF!"}},{"$error":"#REF!"}]
[{"$f":"#REF!","v":{"$error":"#REF!"}},{"$error":"#REF!"}]
[{"$f":"#REF!","v":{"$error":"#REF!"}},{"$error":"#REF!"}]
[{"$f":"#REF!","v":{"$error":"#REF!"}},{"$error":"#REF!"}]
[{"$f":"#REF!","v":{"$error":"#REF!"}},{"$error":"#REF!"}]
[{"$f":"#REF!","v":{"$error":"#REF!"}},{"$error":"#REF!"}]
[{"$f":"#REF!","v":{"$error":"#REF!"}},{"$error":"#REF!"}]
[{"$f":"#REF!","v":{"$error":"#REF!"}},{"$error":"#REF!"}]
[{"$f":"#REF!","v":{"$error":"#REF!"}},{"$error":"#REF!"}]
[{"$f":"#REF!","v":{"$error":"#REF!"}},{"$error":"#REF!"}]
[{"$f":"#REF!","v":{"$error":"#REF!"}},{"$error":"#REF!"}]
[{"$f":"#REF!","v":{"$error":"#REF!"}},{"$error":"#REF!"}]
[{"$f":"#REF!","v":{"$error":"#REF!"}},{"$error":"#REF!"}]
[{"$f":"#REF!","v":{"$error":"#REF!"}},{"$error":"#REF!"}]
[{"$f":"#REF!","v":{"$error":"#REF!"}},{"$error":"#REF!"}]
[{"$f":"#REF!","v":{"$error":"#REF!"}},{"$error":"#REF!"}]
[{"$f":"#REF!","v":{"$error":"#REF!"}},{"$error":"#REF!"}]
[{"$f":"#REF!","v":{"$error":"#REF!"}},{"$error":"#REF!"}]
[{"$f":"#REF!","v":{"$error":"#REF!"}},{"$error":"#REF!"}]
[{"$f":"#REF!","v":{"$error":"#REF!"}},{"$error":"#REF!"}]
[{"$f":"#REF!","v":{"$error":"#REF!"}},{"$f":"IF(A4048=\"\",\"\",IF(VLOOKUP(A4048,base_rpvs_pagas,2)=A$11,A4048,0))","v":{"$error":"#REF!"}}]
[{"$f":"#REF!","v":{"$error":"#REF!"}},{"$error":"#REF!"}]
[{"$f":"#REF!","v":{"$error":"#REF!"}},{"$error":"#REF!"}]
[{"$f":"#REF!","v":{"$error":"#REF!"}},{"$error":"#REF!"}]
[{"$f":"#REF!","v":{"$error":"#REF!"}},{"$error":"#REF!"}]
[{"$f":"#REF!","v":{"$error":"#REF!"}},{"$error":"#REF!"}]
[{"$f":"#REF!","v":{"$error":"#REF!"}},{"$error":"#REF!"}]
[{"$f":"#REF!","v":{"$error":"#REF!"}},{"$error":"#REF!"}]
[{"$f":"#REF!","v":{"$error":"#REF!"}},{"$error":"#REF!"}]
[{"$f":"#REF!","v":{"$error":"#REF!"}},{"$error":"#REF!"}]
[{"$f":"#REF!","v":{"$error":"#REF!"}},{"$error":"#REF!"}]
[{"$f":"#REF!","v":{"$error":"#REF!"}},{"$error":"#REF!"}]
[{"$f":"#REF!","v":{"$error":"#REF!"}},{"$error":"#REF!"}]
[{"$f":"#REF!","v":{"$error":"#REF!"}},{"$error":"#REF!"}]
[{"$f":"#REF!","v":{"$error":"#REF!"}},{"$error":"#REF!"}]
[{"$f":"#REF!","v":{"$error":"#REF!"}},{"$error":"#REF!"}]
[{"$f":"#REF!","v":{"$error":"#REF!"}},{"$error":"#REF!"}]
[{"$f":"#REF!","v":{"$error":"#REF!"}},{"$error":"#REF!"}]
[{"$f":"#REF!","v":{"$error":"#REF!"}},{"$error":"#REF!"}]
[{"$f":"#REF!","v":{"$error":"#REF!"}},{"$error":"#REF!"}]
[{"$f":"#REF!","v":{"$error":"#REF!"}},{"$error":"#REF!"}]
[{"$f":"#REF!","v":{"$error":"#REF!"}},{"$error":"#REF!"}]
[{"$f":"#REF!","v":{"$error":"#REF!"}},{"$error":"#REF!"}]
[{"$f":"#REF!","v":{"$error":"#REF!"}},{"$error":"#REF!"}]
[{"$f":"#REF!","v":{"$error":"#REF!"}},{"$error":"#REF!"}]
[{"$f":"#REF!","v":{"$error":"#REF!"}},{"$error":"#REF!"}]
[{"$f":"#REF!","v":{"$error":"#REF!"}},{"$error":"#REF!"}]
[{"$f":"#REF!","v":{"$error":"#REF!"}},{"$error":"#REF!"}]
[{"$f":"#REF!","v":{"$error":"#REF!"}},{"$error":"#REF!"}]
[{"$f":"#REF!","v":{"$error":"#REF!"}},{"$error":"#REF!"}]
[{"$f":"#REF!","v":{"$error":"#REF!"}},{"$error":"#REF!"}]
[{"$f":"#REF!","v":{"$error":"#REF!"}},{"$error":"#REF!"}]
[{"$f":"#REF!","v":{"$error":"#REF!"}},{"$error":"#REF!"}]
[{"$f":"#REF!","v":{"$error":"#REF!"}},{"$error":"#REF!"}]
[{"$f":"#REF!","v":{"$error":"#REF!"}},{"$error":"#REF!"}]
[{"$f":"#REF!","v":{"$error":"#REF!"}},{"$error":"#REF!"}]
[{"$f":"#REF!","v":{"$error":"#REF!"}},{"$error":"#REF!"}]
[{"$f":"#REF!","v":{"$error":"#REF!"}},{"$error":"#REF!"}]
[{"$f":"#REF!","v":{"$error":"#REF!"}},{"$error":"#REF!"}]
[{"$f":"#REF!","v":{"$error":"#REF!"}},{"$error":"#REF!"}]
[{"$f":"#REF!","v":{"$error":"#REF!"}},{"$error":"#REF!"}]
[{"$f":"#REF!","v":{"$error":"#REF!"}},{"$error":"#REF!"}]
[{"$f":"#REF!","v":{"$error":"#REF!"}},{"$error":"#REF!"}]
[{"$f":"#REF!","v":{"$error":"#REF!"}},{"$error":"#REF!"}]
[{"$f":"#REF!","v":{"$error":"#REF!"}},{"$error":"#REF!"}]
[{"$f":"#REF!","v":{"$error":"#REF!"}},{"$error":"#REF!"}]
[{"$f":"#REF!","v":{"$error":"#REF!"}},{"$error":"#REF!"}]
[{"$f":"#REF!","v":{"$error":"#REF!"}},{"$error":"#REF!"}]
[{"$f":"#REF!","v":{"$error":"#REF!"}},{"$error":"#REF!"}]
[{"$f":"#REF!","v":{"$error":"#REF!"}},{"$error":"#REF!"}]
[{"$f":"#REF!","v":{"$error":"#REF!"}},{"$error":"#REF!"}]
[{"$f":"#REF!","v":{"$error":"#REF!"}},{"$error":"#REF!"}]
[{"$f":"#REF!","v":{"$error":"#REF!"}},{"$error":"#REF!"}]
[{"$f":"#REF!","v":{"$error":"#REF!"}},{"$error":"#REF!"}]
[{"$f":"#REF!","v":{"$error":"#REF!"}},{"$error":"#REF!"}]
[{"$f":"#REF!","v":{"$error":"#REF!"}},{"$error":"#REF!"}]
[{"$f":"#REF!","v":{"$error":"#REF!"}},{"$error":"#REF!"}]
[{"$f":"#REF!","v":{"$error":"#REF!"}},{"$error":"#REF!"}]
[{"$f":"#REF!","v":{"$error":"#REF!"}},{"$error":"#REF!"}]
[{"$f":"#REF!","v":{"$error":"#REF!"}},{"$error":"#REF!"}]
[{"$f":"#REF!","v":{"$error":"#REF!"}},{"$error":"#REF!"}]
[{"$f":"#REF!","v":{"$error":"#REF!"}},{"$error":"#REF!"}]
[{"$f":"#REF!","v":{"$error":"#REF!"}},{"$error":"#REF!"}]
[{"$f":"#REF!","v":{"$error":"#REF!"}},{"$error":"#REF!"}]
[{"$f":"#REF!","v":{"$error":"#REF!"}},{"$f":"IF(A4112=\"\",\"\",IF(VLOOKUP(A4112,base_rpvs_pagas,2)=A$11,A4112,0))","v":{"$error":"#REF!"}}]
[{"$f":"#REF!","v":{"$error":"#REF!"}},{"$error":"#REF!"}]
[{"$f":"#REF!","v":{"$error":"#REF!"}},{"$error":"#REF!"}]
[{"$f":"#REF!","v":{"$error":"#REF!"}},{"$error":"#REF!"}]
[{"$f":"#REF!","v":{"$error":"#REF!"}},{"$error":"#REF!"}]
[{"$f":"#REF!","v":{"$error":"#REF!"}},{"$error":"#REF!"}]
[{"$f":"#REF!","v":{"$error":"#REF!"}},{"$error":"#REF!"}]
[{"$f":"#REF!","v":{"$error":"#REF!"}},{"$error":"#REF!"}]
[{"$f":"#REF!","v":{"$error":"#REF!"}},{"$error":"#REF!"}]
[{"$f":"#REF!","v":{"$error":"#REF!"}},{"$error":"#REF!"}]
[{"$f":"#REF!","v":{"$error":"#REF!"}},{"$error":"#REF!"}]
[{"$f":"#REF!","v":{"$error":"#REF!"}},{"$error":"#REF!"}]
[{"$f":"#REF!","v":{"$error":"#REF!"}},{"$error":"#REF!"}]
[{"$f":"#REF!","v":{"$error":"#REF!"}},{"$error":"#REF!"}]
[{"$f":"#REF!","v":{"$error":"#REF!"}},{"$error":"#REF!"}]
[{"$f":"#REF!","v":{"$error":"#REF!"}},{"$error":"#REF!"}]
[{"$f":"#REF!","v":{"$error":"#REF!"}},{"$error":"#REF!"}]
[{"$f":"#REF!","v":{"$error":"#REF!"}},{"$error":"#REF!"}]
[{"$f":"#REF!","v":{"$error":"#REF!"}},{"$error":"#REF!"}]
[{"$f":"#REF!","v":{"$error":"#REF!"}},{"$error":"#REF!"}]
[{"$f":"#REF!","v":{"$error":"#REF!"}},{"$error":"#REF!"}]
[{"$f":"#REF!","v":{"$error":"#REF!"}},{"$error":"#REF!"}]
[{"$f":"#REF!","v":{"$error":"#REF!"}},{"$error":"#REF!"}]
[{"$f":"#REF!","v":{"$error":"#REF!"}},{"$error":"#REF!"}]
[{"$f":"#REF!","v":{"$error":"#REF!"}},{"$error":"#REF!"}]
[{"$f":"#REF!","v":{"$error":"#REF!"}},{"$error":"#REF!"}]
[{"$f":"#REF!","v":{"$error":"#REF!"}},{"$error":"#REF!"}]
[{"$f":"#REF!","v":{"$error":"#REF!"}},{"$error":"#REF!"}]
[{"$f":"#REF!","v":{"$error":"#REF!"}},{"$error":"#REF!"}]
[{"$f":"#REF!","v":{"$error":"#REF!"}},{"$error":"#REF!"}]
[{"$f":"#REF!","v":{"$error":"#REF!"}},{"$error":"#REF!"}]
[{"$f":"#REF!","v":{"$error":"#REF!"}},{"$error":"#REF!"}]
[{"$f":"#REF!","v":{"$error":"#REF!"}},{"$error":"#REF!"}]
[{"$f":"#REF!","v":{"$error":"#REF!"}},{"$error":"#REF!"}]
[{"$f":"#REF!","v":{"$error":"#REF!"}},{"$error":"#REF!"}]
[{"$f":"#REF!","v":{"$error":"#REF!"}},{"$error":"#REF!"}]
[{"$f":"#REF!","v":{"$error":"#REF!"}},{"$error":"#REF!"}]
[{"$f":"#REF!","v":{"$error":"#REF!"}},{"$error":"#REF!"}]
[{"$f":"#REF!","v":{"$error":"#REF!"}},{"$error":"#REF!"}]
[{"$f":"#REF!","v":{"$error":"#REF!"}},{"$error":"#REF!"}]
[{"$f":"#REF!","v":{"$error":"#REF!"}},{"$error":"#REF!"}]
[{"$f":"#REF!","v":{"$error":"#REF!"}},{"$error":"#REF!"}]
[{"$f":"#REF!","v":{"$error":"#REF!"}},{"$error":"#REF!"}]
[{"$f":"#REF!","v":{"$error":"#REF!"}},{"$error":"#REF!"}]
[{"$f":"#REF!","v":{"$error":"#REF!"}},{"$error":"#REF!"}]
[{"$f":"#REF!","v":{"$error":"#REF!"}},{"$error":"#REF!"}]
[{"$f":"#REF!","v":{"$error":"#REF!"}},{"$error":"#REF!"}]
[{"$f":"#REF!","v":{"$error":"#REF!"}},{"$error":"#REF!"}]
[{"$f":"#REF!","v":{"$error":"#REF!"}},{"$error":"#REF!"}]
[{"$f":"#REF!","v":{"$error":"#REF!"}},{"$error":"#REF!"}]
[{"$f":"#REF!","v":{"$error":"#REF!"}},{"$error":"#REF!"}]
[{"$f":"#REF!","v":{"$error":"#REF!"}},{"$error":"#REF!"}]
[{"$f":"#REF!","v":{"$error":"#REF!"}},{"$error":"#REF!"}]
[{"$f":"#REF!","v":{"$error":"#REF!"}},{"$error":"#REF!"}]
[{"$f":"#REF!","v":{"$error":"#REF!"}},{"$error":"#REF!"}]
[{"$f":"#REF!","v":{"$error":"#REF!"}},{"$error":"#REF!"}]
[{"$f":"#REF!","v":{"$error":"#REF!"}},{"$error":"#REF!"}]
[{"$f":"#REF!","v":{"$error":"#REF!"}},{"$error":"#REF!"}]
[{"$f":"#REF!","v":{"$error":"#REF!"}},{"$error":"#REF!"}]
[{"$f":"#REF!","v":{"$error":"#REF!"}},{"$error":"#REF!"}]
[{"$f":"#REF!","v":{"$error":"#REF!"}},{"$error":"#REF!"}]
[{"$f":"#REF!","v":{"$error":"#REF!"}},{"$error":"#REF!"}]
[{"$f":"#REF!","v":{"$error":"#REF!"}},{"$error":"#REF!"}]
[{"$f":"#REF!","v":{"$error":"#REF!"}},{"$error":"#REF!"}]
[{"$f":"#REF!","v":{"$error":"#REF!"}},{"$f":"IF(A4176=\"\",\"\",IF(VLOOKUP(A4176,base_rpvs_pagas,2)=A$11,A4176,0))","v":{"$error":"#REF!"}}]
[{"$f":"#REF!","v":{"$error":"#REF!"}},{"$error":"#REF!"}]
[{"$f":"#REF!","v":{"$error":"#REF!"}},{"$error":"#REF!"}]
[{"$f":"#REF!","v":{"$error":"#REF!"}},{"$error":"#REF!"}]
[{"$f":"#REF!","v":{"$error":"#REF!"}},{"$error":"#REF!"}]
[{"$f":"#REF!","v":{"$error":"#REF!"}},{"$error":"#REF!"}]
[{"$f":"#REF!","v":{"$error":"#REF!"}},{"$error":"#REF!"}]
[{"$f":"#REF!","v":{"$error":"#REF!"}},{"$error":"#REF!"}]
[{"$f":"#REF!","v":{"$error":"#REF!"}},{"$error":"#REF!"}]
[{"$f":"#REF!","v":{"$error":"#REF!"}},{"$error":"#REF!"}]
[{"$f":"#REF!","v":{"$error":"#REF!"}},{"$error":"#REF!"}]
[{"$f":"#REF!","v":{"$error":"#REF!"}},{"$error":"#REF!"}]
[{"$f":"#REF!","v":{"$error":"#REF!"}},{"$error":"#REF!"}]
[{"$f":"#REF!","v":{"$error":"#REF!"}},{"$error":"#REF!"}]
[{"$f":"#REF!","v":{"$error":"#REF!"}},{"$error":"#REF!"}]
[{"$f":"#REF!","v":{"$error":"#REF!"}},{"$error":"#REF!"}]
[{"$f":"#REF!","v":{"$error":"#REF!"}},{"$error":"#REF!"}]
[{"$f":"#REF!","v":{"$error":"#REF!"}},{"$error":"#REF!"}]
[{"$f":"#REF!","v":{"$error":"#REF!"}},{"$error":"#REF!"}]
[{"$f":"#REF!","v":{"$error":"#REF!"}},{"$error":"#REF!"}]
[{"$f":"#REF!","v":{"$error":"#REF!"}},{"$error":"#REF!"}]
[{"$f":"#REF!","v":{"$error":"#REF!"}},{"$error":"#REF!"}]
[{"$f":"#REF!","v":{"$error":"#REF!"}},{"$error":"#REF!"}]
[{"$f":"#REF!","v":{"$error":"#REF!"}},{"$error":"#REF!"}]
[{"$f":"#REF!","v":{"$error":"#REF!"}},{"$error":"#REF!"}]
[{"$f":"#REF!","v":{"$error":"#REF!"}},{"$error":"#REF!"}]
[{"$f":"#REF!","v":{"$error":"#REF!"}},{"$error":"#REF!"}]
[{"$f":"#REF!","v":{"$error":"#REF!"}},{"$error":"#REF!"}]
[{"$f":"#REF!","v":{"$error":"#REF!"}},{"$error":"#REF!"}]
[{"$f":"#REF!","v":{"$error":"#REF!"}},{"$error":"#REF!"}]
[{"$f":"#REF!","v":{"$error":"#REF!"}},{"$error":"#REF!"}]
[{"$f":"#REF!","v":{"$error":"#REF!"}},{"$error":"#REF!"}]
[{"$f":"#REF!","v":{"$error":"#REF!"}},{"$error":"#REF!"}]
[{"$f":"#REF!","v":{"$error":"#REF!"}},{"$error":"#REF!"}]
[{"$f":"#REF!","v":{"$error":"#REF!"}},{"$error":"#REF!"}]
[{"$f":"#REF!","v":{"$error":"#REF!"}},{"$error":"#REF!"}]
[{"$f":"#REF!","v":{"$error":"#REF!"}},{"$error":"#REF!"}]
[{"$f":"#REF!","v":{"$error":"#REF!"}},{"$error":"#REF!"}]
[{"$f":"#REF!","v":{"$error":"#REF!"}},{"$error":"#REF!"}]
[{"$f":"#REF!","v":{"$error":"#REF!"}},{"$error":"#REF!"}]
[{"$f":"#REF!","v":{"$error":"#REF!"}},{"$error":"#REF!"}]
[{"$f":"#REF!","v":{"$error":"#REF!"}},{"$error":"#REF!"}]
[{"$f":"#REF!","v":{"$error":"#REF!"}},{"$error":"#REF!"}]
[{"$f":"#REF!","v":{"$error":"#REF!"}},{"$error":"#REF!"}]
[{"$f":"#REF!","v":{"$error":"#REF!"}},{"$error":"#REF!"}]
[{"$f":"#REF!","v":{"$error":"#REF!"}},{"$error":"#REF!"}]
[{"$f":"#REF!","v":{"$error":"#REF!"}},{"$error":"#REF!"}]
[{"$f":"#REF!","v":{"$error":"#REF!"}},{"$error":"#REF!"}]
[{"$f":"#REF!","v":{"$error":"#REF!"}},{"$error":"#REF!"}]
[{"$f":"#REF!","v":{"$error":"#REF!"}},{"$error":"#REF!"}]
[{"$f":"#REF!","v":{"$error":"#REF!"}},{"$error":"#REF!"}]
[{"$f":"#REF!","v":{"$error":"#REF!"}},{"$error":"#REF!"}]
[{"$f":"#REF!","v":{"$error":"#REF!"}},{"$error":"#REF!"}]
[{"$f":"#REF!","v":{"$error":"#REF!"}},{"$error":"#REF!"}]
[{"$f":"#REF!","v":{"$error":"#REF!"}},{"$error":"#REF!"}]
[{"$f":"#REF!","v":{"$error":"#REF!"}},{"$error":"#REF!"}]
[{"$f":"#REF!","v":{"$error":"#REF!"}},{"$error":"#REF!"}]
[{"$f":"#REF!","v":{"$error":"#REF!"}},{"$error":"#REF!"}]
[{"$f":"#REF!","v":{"$error":"#REF!"}},{"$error":"#REF!"}]
[{"$f":"#REF!","v":{"$error":"#REF!"}},{"$error":"#REF!"}]
[{"$f":"#REF!","v":{"$error":"#REF!"}},{"$error":"#REF!"}]
[{"$f":"#REF!","v":{"$error":"#REF!"}},{"$error":"#REF!"}]
[{"$f":"#REF!","v":{"$error":"#REF!"}},{"$error":"#REF!"}]
[{"$f":"#REF!","v":{"$error":"#REF!"}},{"$error":"#REF!"}]
[{"$f":"#REF!","v":{"$error":"#REF!"}},{"$f":"IF(A4240=\"\",\"\",IF(VLOOKUP(A4240,base_rpvs_pagas,2)=A$11,A4240,0))","v":{"$error":"#REF!"}}]
[{"$f":"#REF!","v":{"$error":"#REF!"}},{"$error":"#REF!"}]
[{"$f":"#REF!","v":{"$error":"#REF!"}},{"$error":"#REF!"}]
[{"$f":"#REF!","v":{"$error":"#REF!"}},{"$error":"#REF!"}]
[{"$f":"#REF!","v":{"$error":"#REF!"}},{"$error":"#REF!"}]
[{"$f":"#REF!","v":{"$error":"#REF!"}},{"$error":"#REF!"}]
[{"$f":"#REF!","v":{"$error":"#REF!"}},{"$error":"#REF!"}]
[{"$f":"#REF!","v":{"$error":"#REF!"}},{"$error":"#REF!"}]
[{"$f":"#REF!","v":{"$error":"#REF!"}},{"$error":"#REF!"}]
[{"$f":"#REF!","v":{"$error":"#REF!"}},{"$error":"#REF!"}]
[{"$f":"#REF!","v":{"$error":"#REF!"}},{"$error":"#REF!"}]
[{"$f":"#REF!","v":{"$error":"#REF!"}},{"$error":"#REF!"}]
[{"$f":"#REF!","v":{"$error":"#REF!"}},{"$error":"#REF!"}]
[{"$f":"#REF!","v":{"$error":"#REF!"}},{"$error":"#REF!"}]
[{"$f":"#REF!","v":{"$error":"#REF!"}},{"$error":"#REF!"}]
[{"$f":"#REF!","v":{"$error":"#REF!"}},{"$error":"#REF!"}]
[{"$f":"#REF!","v":{"$error":"#REF!"}},{"$error":"#REF!"}]
[{"$f":"#REF!","v":{"$error":"#REF!"}},{"$error":"#REF!"}]
[{"$f":"#REF!","v":{"$error":"#REF!"}},{"$error":"#REF!"}]
[{"$f":"#REF!","v":{"$error":"#REF!"}},{"$error":"#REF!"}]
[{"$f":"#REF!","v":{"$error":"#REF!"}},{"$error":"#REF!"}]
[{"$f":"#REF!","v":{"$error":"#REF!"}},{"$error":"#REF!"}]
[{"$f":"#REF!","v":{"$error":"#REF!"}},{"$error":"#REF!"}]
[{"$f":"#REF!","v":{"$error":"#REF!"}},{"$error":"#REF!"}]
[{"$f":"#REF!","v":{"$error":"#REF!"}},{"$error":"#REF!"}]
[{"$f":"#REF!","v":{"$error":"#REF!"}},{"$error":"#REF!"}]
[{"$f":"#REF!","v":{"$error":"#REF!"}},{"$error":"#REF!"}]
[{"$f":"#REF!","v":{"$error":"#REF!"}},{"$error":"#REF!"}]
[{"$f":"#REF!","v":{"$error":"#REF!"}},{"$error":"#REF!"}]
[{"$f":"#REF!","v":{"$error":"#REF!"}},{"$error":"#REF!"}]
[{"$f":"#REF!","v":{"$error":"#REF!"}},{"$error":"#REF!"}]
[{"$f":"#REF!","v":{"$error":"#REF!"}},{"$error":"#REF!"}]
[{"$f":"#REF!","v":{"$error":"#REF!"}},{"$error":"#REF!"}]
[{"$f":"#REF!","v":{"$error":"#REF!"}},{"$error":"#REF!"}]
[{"$f":"#REF!","v":{"$error":"#REF!"}},{"$error":"#REF!"}]
[{"$f":"#REF!","v":{"$error":"#REF!"}},{"$error":"#REF!"}]
[{"$f":"#REF!","v":{"$error":"#REF!"}},{"$error":"#REF!"}]
[{"$f":"#REF!","v":{"$error":"#REF!"}},{"$error":"#REF!"}]
[{"$f":"#REF!","v":{"$error":"#REF!"}},{"$error":"#REF!"}]
[{"$f":"#REF!","v":{"$error":"#REF!"}},{"$error":"#REF!"}]
[{"$f":"#REF!","v":{"$error":"#REF!"}},{"$error":"#REF!"}]
[{"$f":"#REF!","v":{"$error":"#REF!"}},{"$error":"#REF!"}]
[{"$f":"#REF!","v":{"$error":"#REF!"}},{"$error":"#REF!"}]
[{"$f":"#REF!","v":{"$error":"#REF!"}},{"$error":"#REF!"}]
[{"$f":"#REF!","v":{"$error":"#REF!"}},{"$error":"#REF!"}]
[{"$f":"#REF!","v":{"$error":"#REF!"}},{"$error":"#REF!"}]
[{"$f":"#REF!","v":{"$error":"#REF!"}},{"$error":"#REF!"}]
[{"$f":"#REF!","v":{"$error":"#REF!"}},{"$error":"#REF!"}]
[{"$f":"#REF!","v":{"$error":"#REF!"}},{"$error":"#REF!"}]
[{"$f":"#REF!","v":{"$error":"#REF!"}},{"$error":"#REF!"}]
[{"$f":"#REF!","v":{"$error":"#REF!"}},{"$error":"#REF!"}]
[{"$f":"#REF!","v":{"$error":"#REF!"}},{"$error":"#REF!"}]
[{"$f":"#REF!","v":{"$error":"#REF!"}},{"$error":"#REF!"}]
[{"$f":"#REF!","v":{"$error":"#REF!"}},{"$error":"#REF!"}]
[{"$f":"#REF!","v":{"$error":"#REF!"}},{"$error":"#REF!"}]
[{"$f":"#REF!","v":{"$error":"#REF!"}},{"$error":"#REF!"}]
[{"$f":"#REF!","v":{"$error":"#REF!"}},{"$error":"#REF!"}]
[{"$f":"#REF!","v":{"$error":"#REF!"}},{"$error":"#REF!"}]
[{"$f":"#REF!","v":{"$error":"#REF!"}},{"$error":"#REF!"}]
[{"$f":"#REF!","v":{"$error":"#REF!"}},{"$error":"#REF!"}]
[{"$f":"#REF!","v":{"$error":"#REF!"}},{"$error":"#REF!"}]
[{"$f":"#REF!","v":{"$error":"#REF!"}},{"$error":"#REF!"}]
[{"$f":"#REF!","v":{"$error":"#REF!"}},{"$error":"#REF!"}]
[{"$f":"#REF!","v":{"$error":"#REF!"}},{"$error":"#REF!"}]
[{"$f":"#REF!","v":{"$error":"#REF!"}},{"$f":"IF(A4304=\"\",\"\",IF(VLOOKUP(A4304,base_rpvs_pagas,2)=A$11,A4304,0))","v":{"$error":"#REF!"}}]
[{"$f":"#REF!","v":{"$error":"#REF!"}},{"$error":"#REF!"}]
[{"$f":"#REF!","v":{"$error":"#REF!"}},{"$error":"#REF!"}]
[{"$f":"#REF!","v":{"$error":"#REF!"}},{"$error":"#REF!"}]
[{"$f":"#REF!","v":{"$error":"#REF!"}},{"$error":"#REF!"}]
[{"$f":"#REF!","v":{"$error":"#REF!"}},{"$error":"#REF!"}]
[{"$f":"#REF!","v":{"$error":"#REF!"}},{"$error":"#REF!"}]
[{"$f":"#REF!","v":{"$error":"#REF!"}},{"$error":"#REF!"}]
[{"$f":"#REF!","v":{"$error":"#REF!"}},{"$error":"#REF!"}]
[{"$f":"#REF!","v":{"$error":"#REF!"}},{"$error":"#REF!"}]
[{"$f":"#REF!","v":{"$error":"#REF!"}},{"$error":"#REF!"}]
[{"$f":"#REF!","v":{"$error":"#REF!"}},{"$error":"#REF!"}]
[{"$f":"#REF!","v":{"$error":"#REF!"}},{"$error":"#REF!"}]
[{"$f":"#REF!","v":{"$error":"#REF!"}},{"$error":"#REF!"}]
[{"$f":"#REF!","v":{"$error":"#REF!"}},{"$error":"#REF!"}]
[{"$f":"#REF!","v":{"$error":"#REF!"}},{"$error":"#REF!"}]
[{"$f":"#REF!","v":{"$error":"#REF!"}},{"$error":"#REF!"}]
[{"$f":"#REF!","v":{"$error":"#REF!"}},{"$error":"#REF!"}]
[{"$f":"#REF!","v":{"$error":"#REF!"}},{"$error":"#REF!"}]
[{"$f":"#REF!","v":{"$error":"#REF!"}},{"$error":"#REF!"}]
[{"$f":"#REF!","v":{"$error":"#REF!"}},{"$error":"#REF!"}]
[{"$f":"#REF!","v":{"$error":"#REF!"}},{"$error":"#REF!"}]
[{"$f":"#REF!","v":{"$error":"#REF!"}},{"$error":"#REF!"}]
[{"$f":"#REF!","v":{"$error":"#REF!"}},{"$error":"#REF!"}]
[{"$f":"#REF!","v":{"$error":"#REF!"}},{"$error":"#REF!"}]
[{"$f":"#REF!","v":{"$error":"#REF!"}},{"$error":"#REF!"}]
[{"$f":"#REF!","v":{"$error":"#REF!"}},{"$error":"#REF!"}]
[{"$f":"#REF!","v":{"$error":"#REF!"}},{"$error":"#REF!"}]
[{"$f":"#REF!","v":{"$error":"#REF!"}},{"$error":"#REF!"}]
[{"$f":"#REF!","v":{"$error":"#REF!"}},{"$error":"#REF!"}]
[{"$f":"#REF!","v":{"$error":"#REF!"}},{"$error":"#REF!"}]
[{"$f":"#REF!","v":{"$error":"#REF!"}},{"$error":"#REF!"}]
[{"$f":"#REF!","v":{"$error":"#REF!"}},{"$error":"#REF!"}]
[{"$f":"#REF!","v":{"$error":"#REF!"}},{"$error":"#REF!"}]
[{"$f":"#REF!","v":{"$error":"#REF!"}},{"$error":"#REF!"}]
[{"$f":"#REF!","v":{"$error":"#REF!"}},{"$error":"#REF!"}]
[{"$f":"#REF!","v":{"$error":"#REF!"}},{"$error":"#REF!"}]
[{"$f":"#REF!","v":{"$error":"#REF!"}},{"$error":"#REF!"}]
[{"$f":"#REF!","v":{"$error":"#REF!"}},{"$error":"#REF!"}]
[{"$f":"#REF!","v":{"$error":"#REF!"}},{"$error":"#REF!"}]
[{"$f":"#REF!","v":{"$error":"#REF!"}},{"$error":"#REF!"}]
[{"$f":"#REF!","v":{"$error":"#REF!"}},{"$error":"#REF!"}]
[{"$f":"#REF!","v":{"$error":"#REF!"}},{"$error":"#REF!"}]
[{"$f":"#REF!","v":{"$error":"#REF!"}},{"$error":"#REF!"}]
[{"$f":"#REF!","v":{"$error":"#REF!"}},{"$error":"#REF!"}]
[{"$f":"#REF!","v":{"$error":"#REF!"}},{"$error":"#REF!"}]
[{"$f":"#REF!","v":{"$error":"#REF!"}},{"$error":"#REF!"}]
[{"$f":"#REF!","v":{"$error":"#REF!"}},{"$error":"#REF!"}]
[{"$f":"#REF!","v":{"$error":"#REF!"}},{"$error":"#REF!"}]
[{"$f":"#REF!","v":{"$error":"#REF!"}},{"$error":"#REF!"}]
[{"$f":"#REF!","v":{"$error":"#REF!"}},{"$error":"#REF!"}]
[{"$f":"#REF!","v":{"$error":"#REF!"}},{"$error":"#REF!"}]
[{"$f":"#REF!","v":{"$error":"#REF!"}},{"$error":"#REF!"}]
[{"$f":"#REF!","v":{"$error":"#REF!"}},{"$error":"#REF!"}]
[{"$f":"#REF!","v":{"$error":"#REF!"}},{"$error":"#REF!"}]
[{"$f":"#REF!","v":{"$error":"#REF!"}},{"$error":"#REF!"}]
[{"$f":"#REF!","v":{"$error":"#REF!"}},{"$error":"#REF!"}]
[{"$f":"#REF!","v":{"$error":"#REF!"}},{"$error":"#REF!"}]
[{"$f":"#REF!","v":{"$error":"#REF!"}},{"$error":"#REF!"}]
[{"$f":"#REF!","v":{"$error":"#REF!"}},{"$error":"#REF!"}]
[{"$f":"#REF!","v":{"$error":"#REF!"}},{"$error":"#REF!"}]
[{"$f":"#REF!","v":{"$error":"#REF!"}},{"$error":"#REF!"}]
[{"$f":"#REF!","v":{"$error":"#REF!"}},{"$error":"#REF!"}]
[{"$f":"#REF!","v":{"$error":"#REF!"}},{"$error":"#REF!"}]
[{"$f":"#REF!","v":{"$error":"#REF!"}},{"$f":"IF(A4368=\"\",\"\",IF(VLOOKUP(A4368,base_rpvs_pagas,2)=A$11,A4368,0))","v":{"$error":"#REF!"}}]
[{"$f":"#REF!","v":{"$error":"#REF!"}},{"$error":"#REF!"}]
[{"$f":"#REF!","v":{"$error":"#REF!"}},{"$error":"#REF!"}]
[{"$f":"#REF!","v":{"$error":"#REF!"}},{"$error":"#REF!"}]
[{"$f":"#REF!","v":{"$error":"#REF!"}},{"$error":"#REF!"}]
[{"$f":"#REF!","v":{"$error":"#REF!"}},{"$error":"#REF!"}]
[{"$f":"#REF!","v":{"$error":"#REF!"}},{"$error":"#REF!"}]
[{"$f":"#REF!","v":{"$error":"#REF!"}},{"$error":"#REF!"}]
[{"$f":"#REF!","v":{"$error":"#REF!"}},{"$error":"#REF!"}]
[{"$f":"#REF!","v":{"$error":"#REF!"}},{"$error":"#REF!"}]
[{"$f":"#REF!","v":{"$error":"#REF!"}},{"$error":"#REF!"}]
[{"$f":"#REF!","v":{"$error":"#REF!"}},{"$error":"#REF!"}]
[{"$f":"#REF!","v":{"$error":"#REF!"}},{"$error":"#REF!"}]
[{"$f":"#REF!","v":{"$error":"#REF!"}},{"$error":"#REF!"}]
[{"$f":"#REF!","v":{"$error":"#REF!"}},{"$error":"#REF!"}]
[{"$f":"#REF!","v":{"$error":"#REF!"}},{"$error":"#REF!"}]
[{"$f":"#REF!","v":{"$error":"#REF!"}},{"$error":"#REF!"}]
[{"$f":"#REF!","v":{"$error":"#REF!"}},{"$error":"#REF!"}]
[{"$f":"#REF!","v":{"$error":"#REF!"}},{"$error":"#REF!"}]
[{"$f":"#REF!","v":{"$error":"#REF!"}},{"$error":"#REF!"}]
[{"$f":"#REF!","v":{"$error":"#REF!"}},{"$error":"#REF!"}]
[{"$f":"#REF!","v":{"$error":"#REF!"}},{"$error":"#REF!"}]
[{"$f":"#REF!","v":{"$error":"#REF!"}},{"$error":"#REF!"}]
[{"$f":"#REF!","v":{"$error":"#REF!"}},{"$error":"#REF!"}]
[{"$f":"#REF!","v":{"$error":"#REF!"}},{"$error":"#REF!"}]
[{"$f":"#REF!","v":{"$error":"#REF!"}},{"$error":"#REF!"}]
[{"$f":"#REF!","v":{"$error":"#REF!"}},{"$error":"#REF!"}]
[{"$f":"#REF!","v":{"$error":"#REF!"}},{"$error":"#REF!"}]
[{"$f":"#REF!","v":{"$error":"#REF!"}},{"$error":"#REF!"}]
[{"$f":"#REF!","v":{"$error":"#REF!"}},{"$error":"#REF!"}]
[{"$f":"#REF!","v":{"$error":"#REF!"}},{"$error":"#REF!"}]
[{"$f":"#REF!","v":{"$error":"#REF!"}},{"$error":"#REF!"}]
[{"$f":"#REF!","v":{"$error":"#REF!"}},{"$error":"#REF!"}]
[{"$f":"#REF!","v":{"$error":"#REF!"}},{"$error":"#REF!"}]
[{"$f":"#REF!","v":{"$error":"#REF!"}},{"$error":"#REF!"}]
[{"$f":"#REF!","v":{"$error":"#REF!"}},{"$error":"#REF!"}]
[{"$f":"#REF!","v":{"$error":"#REF!"}},{"$error":"#REF!"}]
[{"$f":"#REF!","v":{"$error":"#REF!"}},{"$error":"#REF!"}]
[{"$f":"#REF!","v":{"$error":"#REF!"}},{"$error":"#REF!"}]
[{"$f":"#REF!","v":{"$error":"#REF!"}},{"$error":"#REF!"}]
[{"$f":"#REF!","v":{"$error":"#REF!"}},{"$error":"#REF!"}]
[{"$f":"#REF!","v":{"$error":"#REF!"}},{"$error":"#REF!"}]
[{"$f":"#REF!","v":{"$error":"#REF!"}},{"$error":"#REF!"}]
[{"$f":"#REF!","v":{"$error":"#REF!"}},{"$error":"#REF!"}]
[{"$f":"#REF!","v":{"$error":"#REF!"}},{"$error":"#REF!"}]
[{"$f":"#REF!","v":{"$error":"#REF!"}},{"$error":"#REF!"}]
[{"$f":"#REF!","v":{"$error":"#REF!"}},{"$error":"#REF!"}]
[{"$f":"#REF!","v":{"$error":"#REF!"}},{"$error":"#REF!"}]
[{"$f":"#REF!","v":{"$error":"#REF!"}},{"$error":"#REF!"}]
[{"$f":"#REF!","v":{"$error":"#REF!"}},{"$error":"#REF!"}]
[{"$f":"#REF!","v":{"$error":"#REF!"}},{"$error":"#REF!"}]
[{"$f":"#REF!","v":{"$error":"#REF!"}},{"$error":"#REF!"}]
[{"$f":"#REF!","v":{"$error":"#REF!"}},{"$error":"#REF!"}]
[{"$f":"#REF!","v":{"$error":"#REF!"}},{"$error":"#REF!"}]
[{"$f":"#REF!","v":{"$error":"#REF!"}},{"$error":"#REF!"}]
[{"$f":"#REF!","v":{"$error":"#REF!"}},{"$error":"#REF!"}]
[{"$f":"#REF!","v":{"$error":"#REF!"}},{"$error":"#REF!"}]
[{"$f":"#REF!","v":{"$error":"#REF!"}},{"$error":"#REF!"}]
[{"$f":"#REF!","v":{"$error":"#REF!"}},{"$error":"#REF!"}]
[{"$f":"#REF!","v":{"$error":"#REF!"}},{"$error":"#REF!"}]
[{"$f":"#REF!","v":{"$error":"#REF!"}},{"$error":"#REF!"}]
[{"$f":"#REF!","v":{"$error":"#REF!"}},{"$error":"#REF!"}]
[{"$f":"#REF!","v":{"$error":"#REF!"}},{"$error":"#REF!"}]
[{"$f":"#REF!","v":{"$error":"#REF!"}},{"$error":"#REF!"}]
[{"$f":"#REF!","v":{"$error":"#REF!"}},{"$f":"IF(A4432=\"\",\"\",IF(VLOOKUP(A4432,base_rpvs_pagas,2)=A$11,A4432,0))","v":{"$error":"#REF!"}}]
[{"$f":"#REF!","v":{"$error":"#REF!"}},{"$error":"#REF!"}]
[{"$f":"#REF!","v":{"$error":"#REF!"}},{"$error":"#REF!"}]
[{"$f":"#REF!","v":{"$error":"#REF!"}},{"$error":"#REF!"}]
[{"$f":"#REF!","v":{"$error":"#REF!"}},{"$error":"#REF!"}]
[{"$f":"#REF!","v":{"$error":"#REF!"}},{"$error":"#REF!"}]
[{"$f":"#REF!","v":{"$error":"#REF!"}},{"$error":"#REF!"}]
[{"$f":"#REF!","v":{"$error":"#REF!"}},{"$error":"#REF!"}]
[{"$f":"#REF!","v":{"$error":"#REF!"}},{"$error":"#REF!"}]
[{"$f":"#REF!","v":{"$error":"#REF!"}},{"$error":"#REF!"}]
[{"$f":"#REF!","v":{"$error":"#REF!"}},{"$error":"#REF!"}]
[{"$f":"#REF!","v":{"$error":"#REF!"}},{"$error":"#REF!"}]
[{"$f":"#REF!","v":{"$error":"#REF!"}},{"$error":"#REF!"}]
[{"$f":"#REF!","v":{"$error":"#REF!"}},{"$error":"#REF!"}]
[{"$f":"#REF!","v":{"$error":"#REF!"}},{"$error":"#REF!"}]
[{"$f":"#REF!","v":{"$error":"#REF!"}},{"$error":"#REF!"}]
[{"$f":"#REF!","v":{"$error":"#REF!"}},{"$error":"#REF!"}]
[{"$f":"#REF!","v":{"$error":"#REF!"}},{"$error":"#REF!"}]
[{"$f":"#REF!","v":{"$error":"#REF!"}},{"$error":"#REF!"}]
[{"$f":"#REF!","v":{"$error":"#REF!"}},{"$error":"#REF!"}]
[{"$f":"#REF!","v":{"$error":"#REF!"}},{"$error":"#REF!"}]
[{"$f":"#REF!","v":{"$error":"#REF!"}},{"$error":"#REF!"}]
[{"$f":"#REF!","v":{"$error":"#REF!"}},{"$error":"#REF!"}]
[{"$f":"#REF!","v":{"$error":"#REF!"}},{"$error":"#REF!"}]
[{"$f":"#REF!","v":{"$error":"#REF!"}},{"$error":"#REF!"}]
[{"$f":"#REF!","v":{"$error":"#REF!"}},{"$error":"#REF!"}]
[{"$f":"#REF!","v":{"$error":"#REF!"}},{"$error":"#REF!"}]
[{"$f":"#REF!","v":{"$error":"#REF!"}},{"$error":"#REF!"}]
[{"$f":"#REF!","v":{"$error":"#REF!"}},{"$error":"#REF!"}]
[{"$f":"#REF!","v":{"$error":"#REF!"}},{"$error":"#REF!"}]
[{"$f":"#REF!","v":{"$error":"#REF!"}},{"$error":"#REF!"}]
[{"$f":"#REF!","v":{"$error":"#REF!"}},{"$error":"#REF!"}]
[{"$f":"#REF!","v":{"$error":"#REF!"}},{"$error":"#REF!"}]
[{"$f":"#REF!","v":{"$error":"#REF!"}},{"$error":"#REF!"}]
[{"$f":"#REF!","v":{"$error":"#REF!"}},{"$error":"#REF!"}]
[{"$f":"#REF!","v":{"$error":"#REF!"}},{"$error":"#REF!"}]
[{"$f":"#REF!","v":{"$error":"#REF!"}},{"$error":"#REF!"}]
[{"$f":"#REF!","v":{"$error":"#REF!"}},{"$error":"#REF!"}]
[{"$f":"#REF!","v":{"$error":"#REF!"}},{"$error":"#REF!"}]
[{"$f":"#REF!","v":{"$error":"#REF!"}},{"$error":"#REF!"}]
[{"$f":"#REF!","v":{"$error":"#REF!"}},{"$error":"#REF!"}]
[{"$f":"#REF!","v":{"$error":"#REF!"}},{"$error":"#REF!"}]
[{"$f":"#REF!","v":{"$error":"#REF!"}},{"$error":"#REF!"}]
[{"$f":"#REF!","v":{"$error":"#REF!"}},{"$error":"#REF!"}]
[{"$f":"#REF!","v":{"$error":"#REF!"}},{"$error":"#REF!"}]
[{"$f":"#REF!","v":{"$error":"#REF!"}},{"$error":"#REF!"}]
[{"$f":"#REF!","v":{"$error":"#REF!"}},{"$error":"#REF!"}]
[{"$f":"#REF!","v":{"$error":"#REF!"}},{"$error":"#REF!"}]
[{"$f":"#REF!","v":{"$error":"#REF!"}},{"$error":"#REF!"}]
[{"$f":"#REF!","v":{"$error":"#REF!"}},{"$error":"#REF!"}]
[{"$f":"#REF!","v":{"$error":"#REF!"}},{"$error":"#REF!"}]
[{"$f":"#REF!","v":{"$error":"#REF!"}},{"$error":"#REF!"}]
[{"$f":"#REF!","v":{"$error":"#REF!"}},{"$error":"#REF!"}]
[{"$f":"#REF!","v":{"$error":"#REF!"}},{"$error":"#REF!"}]
[{"$f":"#REF!","v":{"$error":"#REF!"}},{"$error":"#REF!"}]
[{"$f":"#REF!","v":{"$error":"#REF!"}},{"$error":"#REF!"}]
[{"$f":"#REF!","v":{"$error":"#REF!"}},{"$error":"#REF!"}]
[{"$f":"#REF!","v":{"$error":"#REF!"}},{"$error":"#REF!"}]
[{"$f":"#REF!","v":{"$error":"#REF!"}},{"$error":"#REF!"}]
[{"$f":"#REF!","v":{"$error":"#REF!"}},{"$error":"#REF!"}]
[{"$f":"#REF!","v":{"$error":"#REF!"}},{"$error":"#REF!"}]
[{"$f":"#REF!","v":{"$error":"#REF!"}},{"$error":"#REF!"}]
[{"$f":"#REF!","v":{"$error":"#REF!"}},{"$error":"#REF!"}]
[{"$f":"#REF!","v":{"$error":"#REF!"}},{"$error":"#REF!"}]
[{"$f":"#REF!","v":{"$error":"#REF!"}},{"$f":"IF(A4496=\"\",\"\",IF(VLOOKUP(A4496,base_rpvs_pagas,2)=A$11,A4496,0))","v":{"$error":"#REF!"}}]
[{"$f":"#REF!","v":{"$error":"#REF!"}},{"$error":"#REF!"}]
[{"$f":"#REF!","v":{"$error":"#REF!"}},{"$error":"#REF!"}]
[{"$f":"#REF!","v":{"$error":"#REF!"}},{"$error":"#REF!"}]
[{"$f":"#REF!","v":{"$error":"#REF!"}},{"$error":"#REF!"}]
[{"$f":"#REF!","v":{"$error":"#REF!"}},{"$error":"#REF!"}]
[{"$f":"#REF!","v":{"$error":"#REF!"}},{"$error":"#REF!"}]
[{"$f":"#REF!","v":{"$error":"#REF!"}},{"$error":"#REF!"}]
[{"$f":"#REF!","v":{"$error":"#REF!"}},{"$error":"#REF!"}]
[{"$f":"#REF!","v":{"$error":"#REF!"}},{"$error":"#REF!"}]
[{"$f":"#REF!","v":{"$error":"#REF!"}},{"$error":"#REF!"}]
[{"$f":"#REF!","v":{"$error":"#REF!"}},{"$error":"#REF!"}]
[{"$f":"#REF!","v":{"$error":"#REF!"}},{"$error":"#REF!"}]
[{"$f":"#REF!","v":{"$error":"#REF!"}},{"$error":"#REF!"}]
[{"$f":"#REF!","v":{"$error":"#REF!"}},{"$error":"#REF!"}]
[{"$f":"#REF!","v":{"$error":"#REF!"}},{"$error":"#REF!"}]
[{"$f":"#REF!","v":{"$error":"#REF!"}},{"$error":"#REF!"}]
[{"$f":"#REF!","v":{"$error":"#REF!"}},{"$error":"#REF!"}]
[{"$f":"#REF!","v":{"$error":"#REF!"}},{"$error":"#REF!"}]
[{"$f":"#REF!","v":{"$error":"#REF!"}},{"$error":"#REF!"}]
[{"$f":"#REF!","v":{"$error":"#REF!"}},{"$error":"#REF!"}]
[{"$f":"#REF!","v":{"$error":"#REF!"}},{"$error":"#REF!"}]
[{"$f":"#REF!","v":{"$error":"#REF!"}},{"$error":"#REF!"}]
[{"$f":"#REF!","v":{"$error":"#REF!"}},{"$error":"#REF!"}]
[{"$f":"#REF!","v":{"$error":"#REF!"}},{"$error":"#REF!"}]
[{"$f":"#REF!","v":{"$error":"#REF!"}},{"$error":"#REF!"}]
[{"$f":"#REF!","v":{"$error":"#REF!"}},{"$error":"#REF!"}]
[{"$f":"#REF!","v":{"$error":"#REF!"}},{"$error":"#REF!"}]
[{"$f":"#REF!","v":{"$error":"#REF!"}},{"$error":"#REF!"}]
[{"$f":"#REF!","v":{"$error":"#REF!"}},{"$error":"#REF!"}]
[{"$f":"#REF!","v":{"$error":"#REF!"}},{"$error":"#REF!"}]
[{"$f":"#REF!","v":{"$error":"#REF!"}},{"$error":"#REF!"}]
[{"$f":"#REF!","v":{"$error":"#REF!"}},{"$error":"#REF!"}]
[{"$f":"#REF!","v":{"$error":"#REF!"}},{"$error":"#REF!"}]
[{"$f":"#REF!","v":{"$error":"#REF!"}},{"$error":"#REF!"}]
[{"$f":"#REF!","v":{"$error":"#REF!"}},{"$error":"#REF!"}]
[{"$f":"#REF!","v":{"$error":"#REF!"}},{"$error":"#REF!"}]
[{"$f":"#REF!","v":{"$error":"#REF!"}},{"$error":"#REF!"}]
[{"$f":"#REF!","v":{"$error":"#REF!"}},{"$error":"#REF!"}]
[{"$f":"#REF!","v":{"$error":"#REF!"}},{"$error":"#REF!"}]
[{"$f":"#REF!","v":{"$error":"#REF!"}},{"$error":"#REF!"}]
[{"$f":"#REF!","v":{"$error":"#REF!"}},{"$error":"#REF!"}]
[{"$f":"#REF!","v":{"$error":"#REF!"}},{"$error":"#REF!"}]
[{"$f":"#REF!","v":{"$error":"#REF!"}},{"$error":"#REF!"}]
[{"$f":"#REF!","v":{"$error":"#REF!"}},{"$error":"#REF!"}]
[{"$f":"#REF!","v":{"$error":"#REF!"}},{"$error":"#REF!"}]
[{"$f":"#REF!","v":{"$error":"#REF!"}},{"$error":"#REF!"}]
[{"$f":"#REF!","v":{"$error":"#REF!"}},{"$error":"#REF!"}]
[{"$f":"#REF!","v":{"$error":"#REF!"}},{"$error":"#REF!"}]
[{"$f":"#REF!","v":{"$error":"#REF!"}},{"$error":"#REF!"}]
[{"$f":"#REF!","v":{"$error":"#REF!"}},{"$error":"#REF!"}]
[{"$f":"#REF!","v":{"$error":"#REF!"}},{"$error":"#REF!"}]
[{"$f":"#REF!","v":{"$error":"#REF!"}},{"$error":"#REF!"}]
[{"$f":"#REF!","v":{"$error":"#REF!"}},{"$error":"#REF!"}]
[{"$f":"#REF!","v":{"$error":"#REF!"}},{"$error":"#REF!"}]
[{"$f":"#REF!","v":{"$error":"#REF!"}},{"$error":"#REF!"}]
[{"$f":"#REF!","v":{"$error":"#REF!"}},{"$error":"#REF!"}]
[{"$f":"#REF!","v":{"$error":"#REF!"}},{"$error":"#REF!"}]
[{"$f":"#REF!","v":{"$error":"#REF!"}},{"$error":"#REF!"}]
[{"$f":"#REF!","v":{"$error":"#REF!"}},{"$error":"#REF!"}]
[{"$f":"#REF!","v":{"$error":"#REF!"}},{"$error":"#REF!"}]
[{"$f":"#REF!","v":{"$error":"#REF!"}},{"$error":"#REF!"}]
[{"$f":"#REF!","v":{"$error":"#REF!"}},{"$error":"#REF!"}]
[{"$f":"#REF!","v":{"$error":"#REF!"}},{"$error":"#REF!"}]
[{"$f":"#REF!","v":{"$error":"#REF!"}},{"$f":"IF(A4560=\"\",\"\",IF(VLOOKUP(A4560,base_rpvs_pagas,2)=A$11,A4560,0))","v":{"$error":"#REF!"}}]
[{"$f":"#REF!","v":{"$error":"#REF!"}},{"$error":"#REF!"}]
[{"$f":"#REF!","v":{"$error":"#REF!"}},{"$error":"#REF!"}]
[{"$f":"#REF!","v":{"$error":"#REF!"}},{"$error":"#REF!"}]
[{"$f":"#REF!","v":{"$error":"#REF!"}},{"$error":"#REF!"}]
[{"$f":"#REF!","v":{"$error":"#REF!"}},{"$error":"#REF!"}]
[{"$f":"#REF!","v":{"$error":"#REF!"}},{"$error":"#REF!"}]
[{"$f":"#REF!","v":{"$error":"#REF!"}},{"$error":"#REF!"}]
[{"$f":"#REF!","v":{"$error":"#REF!"}},{"$error":"#REF!"}]
[{"$f":"#REF!","v":{"$error":"#REF!"}},{"$error":"#REF!"}]
[{"$f":"#REF!","v":{"$error":"#REF!"}},{"$error":"#REF!"}]
[{"$f":"#REF!","v":{"$error":"#REF!"}},{"$error":"#REF!"}]
[{"$f":"#REF!","v":{"$error":"#REF!"}},{"$error":"#REF!"}]
[{"$f":"#REF!","v":{"$error":"#REF!"}},{"$error":"#REF!"}]
[{"$f":"#REF!","v":{"$error":"#REF!"}},{"$error":"#REF!"}]
[{"$f":"#REF!","v":{"$error":"#REF!"}},{"$error":"#REF!"}]
[{"$f":"#REF!","v":{"$error":"#REF!"}},{"$error":"#REF!"}]
[{"$f":"#REF!","v":{"$error":"#REF!"}},{"$error":"#REF!"}]
[{"$f":"#REF!","v":{"$error":"#REF!"}},{"$error":"#REF!"}]
[{"$f":"#REF!","v":{"$error":"#REF!"}},{"$error":"#REF!"}]
[{"$f":"#REF!","v":{"$error":"#REF!"}},{"$error":"#REF!"}]
[{"$f":"#REF!","v":{"$error":"#REF!"}},{"$error":"#REF!"}]
[{"$f":"#REF!","v":{"$error":"#REF!"}},{"$error":"#REF!"}]
[{"$f":"#REF!","v":{"$error":"#REF!"}},{"$error":"#REF!"}]
[{"$f":"#REF!","v":{"$error":"#REF!"}},{"$error":"#REF!"}]
[{"$f":"#REF!","v":{"$error":"#REF!"}},{"$error":"#REF!"}]
[{"$f":"#REF!","v":{"$error":"#REF!"}},{"$error":"#REF!"}]
[{"$f":"#REF!","v":{"$error":"#REF!"}},{"$error":"#REF!"}]
[{"$f":"#REF!","v":{"$error":"#REF!"}},{"$error":"#REF!"}]
[{"$f":"#REF!","v":{"$error":"#REF!"}},{"$error":"#REF!"}]
[{"$f":"#REF!","v":{"$error":"#REF!"}},{"$error":"#REF!"}]
[{"$f":"#REF!","v":{"$error":"#REF!"}},{"$error":"#REF!"}]
[{"$f":"#REF!","v":{"$error":"#REF!"}},{"$error":"#REF!"}]
[{"$f":"#REF!","v":{"$error":"#REF!"}},{"$error":"#REF!"}]
[{"$f":"#REF!","v":{"$error":"#REF!"}},{"$error":"#REF!"}]
[{"$f":"#REF!","v":{"$error":"#REF!"}},{"$error":"#REF!"}]
[{"$f":"#REF!","v":{"$error":"#REF!"}},{"$error":"#REF!"}]
[{"$f":"#REF!","v":{"$error":"#REF!"}},{"$error":"#REF!"}]
[{"$f":"#REF!","v":{"$error":"#REF!"}},{"$error":"#REF!"}]
[{"$f":"#REF!","v":{"$error":"#REF!"}},{"$error":"#REF!"}]
[{"$f":"#REF!","v":{"$error":"#REF!"}},{"$error":"#REF!"}]
[{"$f":"#REF!","v":{"$error":"#REF!"}},{"$error":"#REF!"}]
[{"$f":"#REF!","v":{"$error":"#REF!"}},{"$error":"#REF!"}]
[{"$f":"#REF!","v":{"$error":"#REF!"}},{"$error":"#REF!"}]
[{"$f":"#REF!","v":{"$error":"#REF!"}},{"$error":"#REF!"}]
[{"$f":"#REF!","v":{"$error":"#REF!"}},{"$error":"#REF!"}]
[{"$f":"#REF!","v":{"$error":"#REF!"}},{"$error":"#REF!"}]
[{"$f":"#REF!","v":{"$error":"#REF!"}},{"$error":"#REF!"}]
[{"$f":"#REF!","v":{"$error":"#REF!"}},{"$error":"#REF!"}]
[{"$f":"#REF!","v":{"$error":"#REF!"}},{"$error":"#REF!"}]
[{"$f":"#REF!","v":{"$error":"#REF!"}},{"$error":"#REF!"}]
[{"$f":"#REF!","v":{"$error":"#REF!"}},{"$error":"#REF!"}]
[{"$f":"#REF!","v":{"$error":"#REF!"}},{"$error":"#REF!"}]
[{"$f":"#REF!","v":{"$error":"#REF!"}},{"$error":"#REF!"}]
[{"$f":"#REF!","v":{"$error":"#REF!"}},{"$error":"#REF!"}]
[{"$f":"#REF!","v":{"$error":"#REF!"}},{"$error":"#REF!"}]
[{"$f":"#REF!","v":{"$error":"#REF!"}},{"$error":"#REF!"}]
[{"$f":"#REF!","v":{"$error":"#REF!"}},{"$error":"#REF!"}]
[{"$f":"#REF!","v":{"$error":"#REF!"}},{"$error":"#REF!"}]
[{"$f":"#REF!","v":{"$error":"#REF!"}},{"$error":"#REF!"}]
[{"$f":"#REF!","v":{"$error":"#REF!"}},{"$error":"#REF!"}]
[{"$f":"#REF!","v":{"$error":"#REF!"}},{"$error":"#REF!"}]
[{"$f":"#REF!","v":{"$error":"#REF!"}},{"$error":"#REF!"}]
[{"$f":"#REF!","v":{"$error":"#REF!"}},{"$error":"#REF!"}]
[{"$f":"#REF!","v":{"$error":"#REF!"}},{"$f":"IF(A4624=\"\",\"\",IF(VLOOKUP(A4624,base_rpvs_pagas,2)=A$11,A4624,0))","v":{"$error":"#REF!"}}]
[{"$f":"#REF!","v":{"$error":"#REF!"}},{"$error":"#REF!"}]
[{"$f":"#REF!","v":{"$error":"#REF!"}},{"$error":"#REF!"}]
[{"$f":"#REF!","v":{"$error":"#REF!"}},{"$error":"#REF!"}]
[{"$f":"#REF!","v":{"$error":"#REF!"}},{"$error":"#REF!"}]
[{"$f":"#REF!","v":{"$error":"#REF!"}},{"$error":"#REF!"}]
[{"$f":"#REF!","v":{"$error":"#REF!"}},{"$error":"#REF!"}]
[{"$f":"#REF!","v":{"$error":"#REF!"}},{"$error":"#REF!"}]
[{"$f":"#REF!","v":{"$error":"#REF!"}},{"$error":"#REF!"}]
[{"$f":"#REF!","v":{"$error":"#REF!"}},{"$error":"#REF!"}]
[{"$f":"#REF!","v":{"$error":"#REF!"}},{"$error":"#REF!"}]
[{"$f":"#REF!","v":{"$error":"#REF!"}},{"$error":"#REF!"}]
[{"$f":"#REF!","v":{"$error":"#REF!"}},{"$error":"#REF!"}]
[{"$f":"#REF!","v":{"$error":"#REF!"}},{"$error":"#REF!"}]
[{"$f":"#REF!","v":{"$error":"#REF!"}},{"$error":"#REF!"}]
[{"$f":"#REF!","v":{"$error":"#REF!"}},{"$error":"#REF!"}]
[{"$f":"#REF!","v":{"$error":"#REF!"}},{"$error":"#REF!"}]
[{"$f":"#REF!","v":{"$error":"#REF!"}},{"$error":"#REF!"}]
[{"$f":"#REF!","v":{"$error":"#REF!"}},{"$error":"#REF!"}]
[{"$f":"#REF!","v":{"$error":"#REF!"}},{"$error":"#REF!"}]
[{"$f":"#REF!","v":{"$error":"#REF!"}},{"$error":"#REF!"}]
[{"$f":"#REF!","v":{"$error":"#REF!"}},{"$error":"#REF!"}]
[{"$f":"#REF!","v":{"$error":"#REF!"}},{"$error":"#REF!"}]
[{"$f":"#REF!","v":{"$error":"#REF!"}},{"$error":"#REF!"}]
[{"$f":"#REF!","v":{"$error":"#REF!"}},{"$error":"#REF!"}]
[{"$f":"#REF!","v":{"$error":"#REF!"}},{"$error":"#REF!"}]
[{"$f":"#REF!","v":{"$error":"#REF!"}},{"$error":"#REF!"}]
[{"$f":"#REF!","v":{"$error":"#REF!"}},{"$error":"#REF!"}]
[{"$f":"#REF!","v":{"$error":"#REF!"}},{"$error":"#REF!"}]
[{"$f":"#REF!","v":{"$error":"#REF!"}},{"$error":"#REF!"}]
[{"$f":"#REF!","v":{"$error":"#REF!"}},{"$error":"#REF!"}]
[{"$f":"#REF!","v":{"$error":"#REF!"}},{"$error":"#REF!"}]
[{"$f":"#REF!","v":{"$error":"#REF!"}},{"$error":"#REF!"}]
[{"$f":"#REF!","v":{"$error":"#REF!"}},{"$error":"#REF!"}]
[{"$f":"#REF!","v":{"$error":"#REF!"}},{"$error":"#REF!"}]
[{"$f":"#REF!","v":{"$error":"#REF!"}},{"$error":"#REF!"}]
[{"$f":"#REF!","v":{"$error":"#REF!"}},{"$error":"#REF!"}]
[{"$f":"#REF!","v":{"$error":"#REF!"}},{"$error":"#REF!"}]
[{"$f":"#REF!","v":{"$error":"#REF!"}},{"$error":"#REF!"}]
[{"$f":"#REF!","v":{"$error":"#REF!"}},{"$error":"#REF!"}]
[{"$f":"#REF!","v":{"$error":"#REF!"}},{"$error":"#REF!"}]
[{"$f":"#REF!","v":{"$error":"#REF!"}},{"$error":"#REF!"}]
[{"$f":"#REF!","v":{"$error":"#REF!"}},{"$error":"#REF!"}]
[{"$f":"#REF!","v":{"$error":"#REF!"}},{"$error":"#REF!"}]
[{"$f":"#REF!","v":{"$error":"#REF!"}},{"$error":"#REF!"}]
[{"$f":"#REF!","v":{"$error":"#REF!"}},{"$error":"#REF!"}]
[{"$f":"#REF!","v":{"$error":"#REF!"}},{"$error":"#REF!"}]
[{"$f":"#REF!","v":{"$error":"#REF!"}},{"$error":"#REF!"}]
[{"$f":"#REF!","v":{"$error":"#REF!"}},{"$error":"#REF!"}]
[{"$f":"#REF!","v":{"$error":"#REF!"}},{"$error":"#REF!"}]
[{"$f":"#REF!","v":{"$error":"#REF!"}},{"$error":"#REF!"}]
[{"$f":"#REF!","v":{"$error":"#REF!"}},{"$error":"#REF!"}]
[{"$f":"#REF!","v":{"$error":"#REF!"}},{"$error":"#REF!"}]
[{"$f":"#REF!","v":{"$error":"#REF!"}},{"$error":"#REF!"}]
[{"$f":"#REF!","v":{"$error":"#REF!"}},{"$error":"#REF!"}]
[{"$f":"#REF!","v":{"$error":"#REF!"}},{"$error":"#REF!"}]
[{"$f":"#REF!","v":{"$error":"#REF!"}},{"$error":"#REF!"}]
[{"$f":"#REF!","v":{"$error":"#REF!"}},{"$error":"#REF!"}]
[{"$f":"#REF!","v":{"$error":"#REF!"}},{"$error":"#REF!"}]
[{"$f":"#REF!","v":{"$error":"#REF!"}},{"$error":"#REF!"}]
[{"$f":"#REF!","v":{"$error":"#REF!"}},{"$error":"#REF!"}]
[{"$f":"#REF!","v":{"$error":"#REF!"}},{"$error":"#REF!"}]
[{"$f":"#REF!","v":{"$error":"#REF!"}},{"$error":"#REF!"}]
[{"$f":"#REF!","v":{"$error":"#REF!"}},{"$error":"#REF!"}]
[{"$f":"#REF!","v":{"$error":"#REF!"}},{"$f":"IF(A4688=\"\",\"\",IF(VLOOKUP(A4688,base_rpvs_pagas,2)=A$11,A4688,0))","v":{"$error":"#REF!"}}]
[{"$f":"#REF!","v":{"$error":"#REF!"}},{"$error":"#REF!"}]
[{"$f":"#REF!","v":{"$error":"#REF!"}},{"$error":"#REF!"}]
[{"$f":"#REF!","v":{"$error":"#REF!"}},{"$error":"#REF!"}]
[{"$f":"#REF!","v":{"$error":"#REF!"}},{"$error":"#REF!"}]
[{"$f":"#REF!","v":{"$error":"#REF!"}},{"$error":"#REF!"}]
[{"$f":"#REF!","v":{"$error":"#REF!"}},{"$error":"#REF!"}]
[{"$f":"#REF!","v":{"$error":"#REF!"}},{"$error":"#REF!"}]
[{"$f":"#REF!","v":{"$error":"#REF!"}},{"$error":"#REF!"}]
[{"$f":"#REF!","v":{"$error":"#REF!"}},{"$error":"#REF!"}]
[{"$f":"#REF!","v":{"$error":"#REF!"}},{"$error":"#REF!"}]
[{"$f":"#REF!","v":{"$error":"#REF!"}},{"$error":"#REF!"}]
[{"$f":"#REF!","v":{"$error":"#REF!"}},{"$error":"#REF!"}]
[{"$f":"#REF!","v":{"$error":"#REF!"}},{"$error":"#REF!"}]
[{"$f":"#REF!","v":{"$error":"#REF!"}},{"$error":"#REF!"}]
[{"$f":"#REF!","v":{"$error":"#REF!"}},{"$error":"#REF!"}]
[{"$f":"#REF!","v":{"$error":"#REF!"}},{"$error":"#REF!"}]
[{"$f":"#REF!","v":{"$error":"#REF!"}},{"$error":"#REF!"}]
[{"$f":"#REF!","v":{"$error":"#REF!"}},{"$error":"#REF!"}]
[{"$f":"#REF!","v":{"$error":"#REF!"}},{"$error":"#REF!"}]
[{"$f":"#REF!","v":{"$error":"#REF!"}},{"$error":"#REF!"}]
[{"$f":"#REF!","v":{"$error":"#REF!"}},{"$error":"#REF!"}]
[{"$f":"#REF!","v":{"$error":"#REF!"}},{"$error":"#REF!"}]
[{"$f":"#REF!","v":{"$error":"#REF!"}},{"$error":"#REF!"}]
[{"$f":"#REF!","v":{"$error":"#REF!"}},{"$error":"#REF!"}]
[{"$f":"#REF!","v":{"$error":"#REF!"}},{"$error":"#REF!"}]
[{"$f":"#REF!","v":{"$error":"#REF!"}},{"$error":"#REF!"}]
[{"$f":"#REF!","v":{"$error":"#REF!"}},{"$error":"#REF!"}]
[{"$f":"#REF!","v":{"$error":"#REF!"}},{"$error":"#REF!"}]
[{"$f":"#REF!","v":{"$error":"#REF!"}},{"$error":"#REF!"}]
[{"$f":"#REF!","v":{"$error":"#REF!"}},{"$error":"#REF!"}]
[{"$f":"#REF!","v":{"$error":"#REF!"}},{"$error":"#REF!"}]
[{"$f":"#REF!","v":{"$error":"#REF!"}},{"$error":"#REF!"}]
[{"$f":"#REF!","v":{"$error":"#REF!"}},{"$error":"#REF!"}]
[{"$f":"#REF!","v":{"$error":"#REF!"}},{"$error":"#REF!"}]
[{"$f":"#REF!","v":{"$error":"#REF!"}},{"$error":"#REF!"}]
[{"$f":"#REF!","v":{"$error":"#REF!"}},{"$error":"#REF!"}]
[{"$f":"#REF!","v":{"$error":"#REF!"}},{"$error":"#REF!"}]
[{"$f":"#REF!","v":{"$error":"#REF!"}},{"$error":"#REF!"}]
[{"$f":"#REF!","v":{"$error":"#REF!"}},{"$error":"#REF!"}]
[{"$f":"#REF!","v":{"$error":"#REF!"}},{"$error":"#REF!"}]
[{"$f":"#REF!","v":{"$error":"#REF!"}},{"$error":"#REF!"}]
[{"$f":"#REF!","v":{"$error":"#REF!"}},{"$error":"#REF!"}]
[{"$f":"#REF!","v":{"$error":"#REF!"}},{"$error":"#REF!"}]
[{"$f":"#REF!","v":{"$error":"#REF!"}},{"$error":"#REF!"}]
[{"$f":"#REF!","v":{"$error":"#REF!"}},{"$error":"#REF!"}]
[{"$f":"#REF!","v":{"$error":"#REF!"}},{"$error":"#REF!"}]
[{"$f":"#REF!","v":{"$error":"#REF!"}},{"$error":"#REF!"}]
[{"$f":"#REF!","v":{"$error":"#REF!"}},{"$error":"#REF!"}]
[{"$f":"#REF!","v":{"$error":"#REF!"}},{"$error":"#REF!"}]
[{"$f":"#REF!","v":{"$error":"#REF!"}},{"$error":"#REF!"}]
[{"$f":"#REF!","v":{"$error":"#REF!"}},{"$error":"#REF!"}]
[{"$f":"#REF!","v":{"$error":"#REF!"}},{"$error":"#REF!"}]
[{"$f":"#REF!","v":{"$error":"#REF!"}},{"$error":"#REF!"}]
[{"$f":"#REF!","v":{"$error":"#REF!"}},{"$error":"#REF!"}]
[{"$f":"#REF!","v":{"$error":"#REF!"}},{"$error":"#REF!"}]
[{"$f":"#REF!","v":{"$error":"#REF!"}},{"$error":"#REF!"}]
[{"$f":"#REF!","v":{"$error":"#REF!"}},{"$error":"#REF!"}]
[{"$f":"#REF!","v":{"$error":"#REF!"}},{"$error":"#REF!"}]
[{"$f":"#REF!","v":{"$error":"#REF!"}},{"$error":"#REF!"}]
[{"$f":"#REF!","v":{"$error":"#REF!"}},{"$error":"#REF!"}]
[{"$f":"#REF!","v":{"$error":"#REF!"}},{"$error":"#REF!"}]
[{"$f":"#REF!","v":{"$error":"#REF!"}},{"$error":"#REF!"}]
[{"$f":"#REF!","v":{"$error":"#REF!"}},{"$error":"#REF!"}]
[{"$f":"#REF!","v":{"$error":"#REF!"}},{"$f":"IF(A4752=\"\",\"\",IF(VLOOKUP(A4752,base_rpvs_pagas,2)=A$11,A4752,0))","v":{"$error":"#REF!"}}]
[{"$f":"#REF!","v":{"$error":"#REF!"}},{"$error":"#REF!"}]
[{"$f":"#REF!","v":{"$error":"#REF!"}},{"$error":"#REF!"}]
[{"$f":"#REF!","v":{"$error":"#REF!"}},{"$error":"#REF!"}]
[{"$f":"#REF!","v":{"$error":"#REF!"}},{"$error":"#REF!"}]
[{"$f":"#REF!","v":{"$error":"#REF!"}},{"$error":"#REF!"}]
[{"$f":"#REF!","v":{"$error":"#REF!"}},{"$error":"#REF!"}]
[{"$f":"#REF!","v":{"$error":"#REF!"}},{"$error":"#REF!"}]
[{"$f":"#REF!","v":{"$error":"#REF!"}},{"$error":"#REF!"}]
[{"$f":"#REF!","v":{"$error":"#REF!"}},{"$error":"#REF!"}]
[{"$f":"#REF!","v":{"$error":"#REF!"}},{"$error":"#REF!"}]
[{"$f":"#REF!","v":{"$error":"#REF!"}},{"$error":"#REF!"}]
[{"$f":"#REF!","v":{"$error":"#REF!"}},{"$error":"#REF!"}]
[{"$f":"#REF!","v":{"$error":"#REF!"}},{"$error":"#REF!"}]
[{"$f":"#REF!","v":{"$error":"#REF!"}},{"$error":"#REF!"}]
[{"$f":"#REF!","v":{"$error":"#REF!"}},{"$error":"#REF!"}]
[{"$f":"#REF!","v":{"$error":"#REF!"}},{"$error":"#REF!"}]
[{"$f":"#REF!","v":{"$error":"#REF!"}},{"$error":"#REF!"}]
[{"$f":"#REF!","v":{"$error":"#REF!"}},{"$error":"#REF!"}]
[{"$f":"#REF!","v":{"$error":"#REF!"}},{"$error":"#REF!"}]
[{"$f":"#REF!","v":{"$error":"#REF!"}},{"$error":"#REF!"}]
[{"$f":"#REF!","v":{"$error":"#REF!"}},{"$error":"#REF!"}]
[{"$f":"#REF!","v":{"$error":"#REF!"}},{"$error":"#REF!"}]
[{"$f":"#REF!","v":{"$error":"#REF!"}},{"$error":"#REF!"}]
[{"$f":"#REF!","v":{"$error":"#REF!"}},{"$error":"#REF!"}]
[{"$f":"#REF!","v":{"$error":"#REF!"}},{"$error":"#REF!"}]
[{"$f":"#REF!","v":{"$error":"#REF!"}},{"$error":"#REF!"}]
[{"$f":"#REF!","v":{"$error":"#REF!"}},{"$error":"#REF!"}]
[{"$f":"#REF!","v":{"$error":"#REF!"}},{"$error":"#REF!"}]
[{"$f":"#REF!","v":{"$error":"#REF!"}},{"$error":"#REF!"}]
[{"$f":"#REF!","v":{"$error":"#REF!"}},{"$error":"#REF!"}]
[{"$f":"#REF!","v":{"$error":"#REF!"}},{"$error":"#REF!"}]
[{"$f":"#REF!","v":{"$error":"#REF!"}},{"$error":"#REF!"}]
[{"$f":"#REF!","v":{"$error":"#REF!"}},{"$error":"#REF!"}]
[{"$f":"#REF!","v":{"$error":"#REF!"}},{"$error":"#REF!"}]
[{"$f":"#REF!","v":{"$error":"#REF!"}},{"$error":"#REF!"}]
[{"$f":"#REF!","v":{"$error":"#REF!"}},{"$error":"#REF!"}]
[{"$f":"#REF!","v":{"$error":"#REF!"}},{"$error":"#REF!"}]
[{"$f":"#REF!","v":{"$error":"#REF!"}},{"$error":"#REF!"}]
[{"$f":"#REF!","v":{"$error":"#REF!"}},{"$error":"#REF!"}]
[{"$f":"#REF!","v":{"$error":"#REF!"}},{"$error":"#REF!"}]
[{"$f":"#REF!","v":{"$error":"#REF!"}},{"$error":"#REF!"}]
[{"$f":"#REF!","v":{"$error":"#REF!"}},{"$error":"#REF!"}]
[{"$f":"#REF!","v":{"$error":"#REF!"}},{"$error":"#REF!"}]
[{"$f":"#REF!","v":{"$error":"#REF!"}},{"$error":"#REF!"}]
[{"$f":"#REF!","v":{"$error":"#REF!"}},{"$error":"#REF!"}]
[{"$f":"#REF!","v":{"$error":"#REF!"}},{"$error":"#REF!"}]
[{"$f":"#REF!","v":{"$error":"#REF!"}},{"$error":"#REF!"}]
[{"$f":"#REF!","v":{"$error":"#REF!"}},{"$error":"#REF!"}]
[{"$f":"#REF!","v":{"$error":"#REF!"}},{"$error":"#REF!"}]
[{"$f":"#REF!","v":{"$error":"#REF!"}},{"$error":"#REF!"}]
[{"$f":"#REF!","v":{"$error":"#REF!"}},{"$error":"#REF!"}]
[{"$f":"#REF!","v":{"$error":"#REF!"}},{"$error":"#REF!"}]
[{"$f":"#REF!","v":{"$error":"#REF!"}},{"$error":"#REF!"}]
[{"$f":"#REF!","v":{"$error":"#REF!"}},{"$error":"#REF!"}]
[{"$f":"#REF!","v":{"$error":"#REF!"}},{"$error":"#REF!"}]
[{"$f":"#REF!","v":{"$error":"#REF!"}},{"$error":"#REF!"}]
[{"$f":"#REF!","v":{"$error":"#REF!"}},{"$error":"#REF!"}]
[{"$f":"#REF!","v":{"$error":"#REF!"}},{"$error":"#REF!"}]
[{"$f":"#REF!","v":{"$error":"#REF!"}},{"$error":"#REF!"}]
[{"$f":"#REF!","v":{"$error":"#REF!"}},{"$error":"#REF!"}]
[{"$f":"#REF!","v":{"$error":"#REF!"}},{"$error":"#REF!"}]
[{"$f":"#REF!","v":{"$error":"#REF!"}},{"$error":"#REF!"}]
[{"$f":"#REF!","v":{"$error":"#REF!"}},{"$error":"#REF!"}]
[{"$f":"#REF!","v":{"$error":"#REF!"}},{"$f":"IF(A4816=\"\",\"\",IF(VLOOKUP(A4816,base_rpvs_pagas,2)=A$11,A4816,0))","v":{"$error":"#REF!"}}]
[{"$f":"#REF!","v":{"$error":"#REF!"}},{"$error":"#REF!"}]
[{"$f":"#REF!","v":{"$error":"#REF!"}},{"$error":"#REF!"}]
[{"$f":"#REF!","v":{"$error":"#REF!"}},{"$error":"#REF!"}]
[{"$f":"#REF!","v":{"$error":"#REF!"}},{"$error":"#REF!"}]
[{"$f":"#REF!","v":{"$error":"#REF!"}},{"$error":"#REF!"}]
[{"$f":"#REF!","v":{"$error":"#REF!"}},{"$error":"#REF!"}]
[{"$f":"#REF!","v":{"$error":"#REF!"}},{"$error":"#REF!"}]
[{"$f":"#REF!","v":{"$error":"#REF!"}},{"$error":"#REF!"}]
[{"$f":"#REF!","v":{"$error":"#REF!"}},{"$error":"#REF!"}]
[{"$f":"#REF!","v":{"$error":"#REF!"}},{"$error":"#REF!"}]
[{"$f":"#REF!","v":{"$error":"#REF!"}},{"$error":"#REF!"}]
[{"$f":"#REF!","v":{"$error":"#REF!"}},{"$error":"#REF!"}]
[{"$f":"#REF!","v":{"$error":"#REF!"}},{"$error":"#REF!"}]
[{"$f":"#REF!","v":{"$error":"#REF!"}},{"$error":"#REF!"}]
[{"$f":"#REF!","v":{"$error":"#REF!"}},{"$error":"#REF!"}]
[{"$f":"#REF!","v":{"$error":"#REF!"}},{"$error":"#REF!"}]
[{"$f":"#REF!","v":{"$error":"#REF!"}},{"$error":"#REF!"}]
[{"$f":"#REF!","v":{"$error":"#REF!"}},{"$error":"#REF!"}]
[{"$f":"#REF!","v":{"$error":"#REF!"}},{"$error":"#REF!"}]
[{"$f":"#REF!","v":{"$error":"#REF!"}},{"$error":"#REF!"}]
[{"$f":"#REF!","v":{"$error":"#REF!"}},{"$error":"#REF!"}]
[{"$f":"#REF!","v":{"$error":"#REF!"}},{"$error":"#REF!"}]
[{"$f":"#REF!","v":{"$error":"#REF!"}},{"$error":"#REF!"}]
[{"$f":"#REF!","v":{"$error":"#REF!"}},{"$error":"#REF!"}]
[{"$f":"#REF!","v":{"$error":"#REF!"}},{"$error":"#REF!"}]
[{"$f":"#REF!","v":{"$error":"#REF!"}},{"$error":"#REF!"}]
[{"$f":"#REF!","v":{"$error":"#REF!"}},{"$error":"#REF!"}]
[{"$f":"#REF!","v":{"$error":"#REF!"}},{"$error":"#REF!"}]
[{"$f":"#REF!","v":{"$error":"#REF!"}},{"$error":"#REF!"}]
[{"$f":"#REF!","v":{"$error":"#REF!"}},{"$error":"#REF!"}]
[{"$f":"#REF!","v":{"$error":"#REF!"}},{"$error":"#REF!"}]
[{"$f":"#REF!","v":{"$error":"#REF!"}},{"$error":"#REF!"}]
[{"$f":"#REF!","v":{"$error":"#REF!"}},{"$error":"#REF!"}]
[{"$f":"#REF!","v":{"$error":"#REF!"}},{"$error":"#REF!"}]
[{"$f":"#REF!","v":{"$error":"#REF!"}},{"$error":"#REF!"}]
[{"$f":"#REF!","v":{"$error":"#REF!"}},{"$error":"#REF!"}]
[{"$f":"#REF!","v":{"$error":"#REF!"}},{"$error":"#REF!"}]
[{"$f":"#REF!","v":{"$error":"#REF!"}},{"$error":"#REF!"}]
[{"$f":"#REF!","v":{"$error":"#REF!"}},{"$error":"#REF!"}]
[{"$f":"#REF!","v":{"$error":"#REF!"}},{"$error":"#REF!"}]
[{"$f":"#REF!","v":{"$error":"#REF!"}},{"$error":"#REF!"}]
[{"$f":"#REF!","v":{"$error":"#REF!"}},{"$error":"#REF!"}]
[{"$f":"#REF!","v":{"$error":"#REF!"}},{"$error":"#REF!"}]
[{"$f":"#REF!","v":{"$error":"#REF!"}},{"$error":"#REF!"}]
[{"$f":"#REF!","v":{"$error":"#REF!"}},{"$error":"#REF!"}]
[{"$f":"#REF!","v":{"$error":"#REF!"}},{"$error":"#REF!"}]
[{"$f":"#REF!","v":{"$error":"#REF!"}},{"$error":"#REF!"}]
[{"$f":"#REF!","v":{"$error":"#REF!"}},{"$error":"#REF!"}]
[{"$f":"#REF!","v":{"$error":"#REF!"}},{"$error":"#REF!"}]
[{"$f":"#REF!","v":{"$error":"#REF!"}},{"$error":"#REF!"}]
[{"$f":"#REF!","v":{"$error":"#REF!"}},{"$error":"#REF!"}]
[{"$f":"#REF!","v":{"$error":"#REF!"}},{"$error":"#REF!"}]
[{"$f":"#REF!","v":{"$error":"#REF!"}},{"$error":"#REF!"}]
[{"$f":"#REF!","v":{"$error":"#REF!"}},{"$error":"#REF!"}]
[{"$f":"#REF!","v":{"$error":"#REF!"}},{"$error":"#REF!"}]
[{"$f":"#REF!","v":{"$error":"#REF!"}},{"$error":"#REF!"}]
[{"$f":"#REF!","v":{"$error":"#REF!"}},{"$error":"#REF!"}]
[{"$f":"#REF!","v":{"$error":"#REF!"}},{"$error":"#REF!"}]
[{"$f":"#REF!","v":{"$error":"#REF!"}},{"$error":"#REF!"}]
[{"$f":"#REF!","v":{"$error":"#REF!"}},{"$error":"#REF!"}]
[{"$f":"#REF!","v":{"$error":"#REF!"}},{"$error":"#REF!"}]
[{"$f":"#REF!","v":{"$error":"#REF!"}},{"$error":"#REF!"}]
[{"$f":"#REF!","v":{"$error":"#REF!"}},{"$error":"#REF!"}]
[{"$f":"#REF!","v":{"$error":"#REF!"}},{"$f":"IF(A4880=\"\",\"\",IF(VLOOKUP(A4880,base_rpvs_pagas,2)=A$11,A4880,0))","v":{"$error":"#REF!"}}]
[{"$f":"#REF!","v":{"$error":"#REF!"}},{"$error":"#REF!"}]
[{"$f":"#REF!","v":{"$error":"#REF!"}},{"$error":"#REF!"}]
[{"$f":"#REF!","v":{"$error":"#REF!"}},{"$error":"#REF!"}]
[{"$f":"#REF!","v":{"$error":"#REF!"}},{"$error":"#REF!"}]
[{"$f":"#REF!","v":{"$error":"#REF!"}},{"$error":"#REF!"}]
[{"$f":"#REF!","v":{"$error":"#REF!"}},{"$error":"#REF!"}]
[{"$f":"#REF!","v":{"$error":"#REF!"}},{"$error":"#REF!"}]
[{"$f":"#REF!","v":{"$error":"#REF!"}},{"$error":"#REF!"}]
[{"$f":"#REF!","v":{"$error":"#REF!"}},{"$error":"#REF!"}]
[{"$f":"#REF!","v":{"$error":"#REF!"}},{"$error":"#REF!"}]
[{"$f":"#REF!","v":{"$error":"#REF!"}},{"$error":"#REF!"}]
[{"$f":"#REF!","v":{"$error":"#REF!"}},{"$error":"#REF!"}]
[{"$f":"#REF!","v":{"$error":"#REF!"}},{"$error":"#REF!"}]
[{"$f":"#REF!","v":{"$error":"#REF!"}},{"$error":"#REF!"}]
[{"$f":"#REF!","v":{"$error":"#REF!"}},{"$error":"#REF!"}]
[{"$f":"#REF!","v":{"$error":"#REF!"}},{"$error":"#REF!"}]
[{"$f":"#REF!","v":{"$error":"#REF!"}},{"$error":"#REF!"}]
[{"$f":"#REF!","v":{"$error":"#REF!"}},{"$error":"#REF!"}]
[{"$f":"#REF!","v":{"$error":"#REF!"}},{"$error":"#REF!"}]
[{"$f":"#REF!","v":{"$error":"#REF!"}},{"$error":"#REF!"}]
[{"$f":"#REF!","v":{"$error":"#REF!"}},{"$error":"#REF!"}]
[{"$f":"#REF!","v":{"$error":"#REF!"}},{"$error":"#REF!"}]
[{"$f":"#REF!","v":{"$error":"#REF!"}},{"$error":"#REF!"}]
[{"$f":"#REF!","v":{"$error":"#REF!"}},{"$error":"#REF!"}]
[{"$f":"#REF!","v":{"$error":"#REF!"}},{"$error":"#REF!"}]
[{"$f":"#REF!","v":{"$error":"#REF!"}},{"$error":"#REF!"}]
[{"$f":"#REF!","v":{"$error":"#REF!"}},{"$error":"#REF!"}]
[{"$f":"#REF!","v":{"$error":"#REF!"}},{"$error":"#REF!"}]
[{"$f":"#REF!","v":{"$error":"#REF!"}},{"$error":"#REF!"}]
[{"$f":"#REF!","v":{"$error":"#REF!"}},{"$error":"#REF!"}]
[{"$f":"#REF!","v":{"$error":"#REF!"}},{"$error":"#REF!"}]
[{"$f":"#REF!","v":{"$error":"#REF!"}},{"$error":"#REF!"}]
[{"$f":"#REF!","v":{"$error":"#REF!"}},{"$error":"#REF!"}]
[{"$f":"#REF!","v":{"$error":"#REF!"}},{"$error":"#REF!"}]
[{"$f":"#REF!","v":{"$error":"#REF!"}},{"$error":"#REF!"}]
[{"$f":"#REF!","v":{"$error":"#REF!"}},{"$error":"#REF!"}]
[{"$f":"#REF!","v":{"$error":"#REF!"}},{"$error":"#REF!"}]
[{"$f":"#REF!","v":{"$error":"#REF!"}},{"$error":"#REF!"}]
[{"$f":"#REF!","v":{"$error":"#REF!"}},{"$error":"#REF!"}]
[{"$f":"#REF!","v":{"$error":"#REF!"}},{"$error":"#REF!"}]
[{"$f":"#REF!","v":{"$error":"#REF!"}},{"$error":"#REF!"}]
[{"$f":"#REF!","v":{"$error":"#REF!"}},{"$error":"#REF!"}]
[{"$f":"#REF!","v":{"$error":"#REF!"}},{"$error":"#REF!"}]
[{"$f":"#REF!","v":{"$error":"#REF!"}},{"$error":"#REF!"}]
[{"$f":"#REF!","v":{"$error":"#REF!"}},{"$error":"#REF!"}]
[{"$f":"#REF!","v":{"$error":"#REF!"}},{"$error":"#REF!"}]
[{"$f":"#REF!","v":{"$error":"#REF!"}},{"$error":"#REF!"}]
[{"$f":"#REF!","v":{"$error":"#REF!"}},{"$error":"#REF!"}]
[{"$f":"#REF!","v":{"$error":"#REF!"}},{"$error":"#REF!"}]
[{"$f":"#REF!","v":{"$error":"#REF!"}},{"$error":"#REF!"}]
[{"$f":"#REF!","v":{"$error":"#REF!"}},{"$error":"#REF!"}]
[{"$f":"#REF!","v":{"$error":"#REF!"}},{"$error":"#REF!"}]
[{"$f":"#REF!","v":{"$error":"#REF!"}},{"$error":"#REF!"}]
[{"$f":"#REF!","v":{"$error":"#REF!"}},{"$error":"#REF!"}]
[{"$f":"#REF!","v":{"$error":"#REF!"}},{"$error":"#REF!"}]
[{"$f":"#REF!","v":{"$error":"#REF!"}},{"$error":"#REF!"}]
[{"$f":"#REF!","v":{"$error":"#REF!"}},{"$error":"#REF!"}]
[{"$f":"#REF!","v":{"$error":"#REF!"}},{"$error":"#REF!"}]
[{"$f":"#REF!","v":{"$error":"#REF!"}},{"$error":"#REF!"}]
[{"$f":"#REF!","v":{"$error":"#REF!"}},{"$error":"#REF!"}]
[{"$f":"#REF!","v":{"$error":"#REF!"}},{"$error":"#REF!"}]
[{"$f":"#REF!","v":{"$error":"#REF!"}},{"$error":"#REF!"}]
[{"$f":"#REF!","v":{"$error":"#REF!"}},{"$error":"#REF!"}]
[{"$f":"#REF!","v":{"$error":"#REF!"}},{"$f":"IF(A4944=\"\",\"\",IF(VLOOKUP(A4944,base_rpvs_pagas,2)=A$11,A4944,0))","v":{"$error":"#REF!"}}]
[{"$f":"#REF!","v":{"$error":"#REF!"}},{"$error":"#REF!"}]
[{"$f":"#REF!","v":{"$error":"#REF!"}},{"$error":"#REF!"}]
[{"$f":"#REF!","v":{"$error":"#REF!"}},{"$error":"#REF!"}]
[{"$f":"#REF!","v":{"$error":"#REF!"}},{"$error":"#REF!"}]
[{"$f":"#REF!","v":{"$error":"#REF!"}},{"$error":"#REF!"}]
[{"$f":"#REF!","v":{"$error":"#REF!"}},{"$error":"#REF!"}]
[{"$f":"#REF!","v":{"$error":"#REF!"}},{"$error":"#REF!"}]
[{"$f":"#REF!","v":{"$error":"#REF!"}},{"$error":"#REF!"}]
[{"$f":"#REF!","v":{"$error":"#REF!"}},{"$error":"#REF!"}]
[{"$f":"#REF!","v":{"$error":"#REF!"}},{"$error":"#REF!"}]
[{"$f":"#REF!","v":{"$error":"#REF!"}},{"$error":"#REF!"}]
[{"$f":"#REF!","v":{"$error":"#REF!"}},{"$error":"#REF!"}]
[{"$f":"#REF!","v":{"$error":"#REF!"}},{"$error":"#REF!"}]
[{"$f":"#REF!","v":{"$error":"#REF!"}},{"$error":"#REF!"}]
[{"$f":"#REF!","v":{"$error":"#REF!"}},{"$error":"#REF!"}]
[{"$f":"#REF!","v":{"$error":"#REF!"}},{"$error":"#REF!"}]
[{"$f":"#REF!","v":{"$error":"#REF!"}},{"$error":"#REF!"}]
[{"$f":"#REF!","v":{"$error":"#REF!"}},{"$error":"#REF!"}]
[{"$f":"#REF!","v":{"$error":"#REF!"}},{"$error":"#REF!"}]
[{"$f":"#REF!","v":{"$error":"#REF!"}},{"$error":"#REF!"}]
[{"$f":"#REF!","v":{"$error":"#REF!"}},{"$error":"#REF!"}]
[{"$f":"#REF!","v":{"$error":"#REF!"}},{"$error":"#REF!"}]
[{"$f":"#REF!","v":{"$error":"#REF!"}},{"$error":"#REF!"}]
[{"$f":"#REF!","v":{"$error":"#REF!"}},{"$error":"#REF!"}]
[{"$f":"#REF!","v":{"$error":"#REF!"}},{"$error":"#REF!"}]
[{"$f":"#REF!","v":{"$error":"#REF!"}},{"$error":"#REF!"}]
[{"$f":"#REF!","v":{"$error":"#REF!"}},{"$error":"#REF!"}]
[{"$f":"#REF!","v":{"$error":"#REF!"}},{"$error":"#REF!"}]
[{"$f":"#REF!","v":{"$error":"#REF!"}},{"$error":"#REF!"}]
[{"$f":"#REF!","v":{"$error":"#REF!"}},{"$error":"#REF!"}]
[{"$f":"#REF!","v":{"$error":"#REF!"}},{"$error":"#REF!"}]
[{"$f":"#REF!","v":{"$error":"#REF!"}},{"$error":"#REF!"}]
[{"$f":"#REF!","v":{"$error":"#REF!"}},{"$error":"#REF!"}]
[{"$f":"#REF!","v":{"$error":"#REF!"}},{"$error":"#REF!"}]
[{"$f":"#REF!","v":{"$error":"#REF!"}},{"$error":"#REF!"}]
[{"$f":"#REF!","v":{"$error":"#REF!"}},{"$error":"#REF!"}]
[{"$f":"#REF!","v":{"$error":"#REF!"}},{"$error":"#REF!"}]
[{"$f":"#REF!","v":{"$error":"#REF!"}},{"$error":"#REF!"}]
[{"$f":"#REF!","v":{"$error":"#REF!"}},{"$error":"#REF!"}]
[{"$f":"#REF!","v":{"$error":"#REF!"}},{"$error":"#REF!"}]
[{"$f":"#REF!","v":{"$error":"#REF!"}},{"$error":"#REF!"}]
[{"$f":"#REF!","v":{"$error":"#REF!"}},{"$error":"#REF!"}]
[{"$f":"#REF!","v":{"$error":"#REF!"}},{"$error":"#REF!"}]
[{"$f":"#REF!","v":{"$error":"#REF!"}},{"$error":"#REF!"}]
[{"$f":"#REF!","v":{"$error":"#REF!"}},{"$error":"#REF!"}]
[{"$f":"#REF!","v":{"$error":"#REF!"}},{"$error":"#REF!"}]
[{"$f":"#REF!","v":{"$error":"#REF!"}},{"$error":"#REF!"}]
[{"$f":"#REF!","v":{"$error":"#REF!"}},{"$error":"#REF!"}]
[{"$f":"#REF!","v":{"$error":"#REF!"}},{"$error":"#REF!"}]
[{"$f":"#REF!","v":{"$error":"#REF!"}},{"$error":"#REF!"}]
[{"$f":"#REF!","v":{"$error":"#REF!"}},{"$error":"#REF!"}]
[{"$f":"#REF!","v":{"$error":"#REF!"}},{"$error":"#REF!"}]
[{"$f":"#REF!","v":{"$error":"#REF!"}},{"$error":"#REF!"}]
[{"$f":"#REF!","v":{"$error":"#REF!"}},{"$error":"#REF!"}]
[{"$f":"#REF!","v":{"$error":"#REF!"}},{"$error":"#REF!"}]
[{"$f":"#REF!","v":{"$error":"#REF!"}},{"$error":"#REF!"}]
[{"$f":"#REF!","v":{"$error":"#REF!"}},{"$error":"#REF!"}]
[{"$f":"#REF!","v":{"$error":"#REF!"}},{"$error":"#REF!"}]
[{"$f":"#REF!","v":{"$error":"#REF!"}},{"$error":"#REF!"}]
[{"$f":"#REF!","v":{"$error":"#REF!"}},{"$error":"#REF!"}]
[{"$f":"#REF!","v":{"$error":"#REF!"}},{"$error":"#REF!"}]
[{"$f":"#REF!","v":{"$error":"#REF!"}},{"$error":"#REF!"}]
[{"$f":"#REF!","v":{"$error":"#REF!"}},{"$error":"#REF!"}]
[{"$f":"#REF!","v":{"$error":"#REF!"}},{"$f":"IF(A5008=\"\",\"\",IF(VLOOKUP(A5008,base_rpvs_pagas,2)=A$11,A5008,0))","v":{"$error":"#REF!"}}]
[{"$f":"#REF!","v":{"$error":"#REF!"}},{"$error":"#REF!"}]
[{"$f":"#REF!","v":{"$error":"#REF!"}},{"$error":"#REF!"}]
[{"$f":"#REF!","v":{"$error":"#REF!"}},{"$error":"#REF!"}]
[{"$f":"#REF!","v":{"$error":"#REF!"}},{"$error":"#REF!"}]
[{"$f":"#REF!","v":{"$error":"#REF!"}},{"$error":"#REF!"}]
[{"$f":"#REF!","v":{"$error":"#REF!"}},{"$error":"#REF!"}]
[{"$f":"#REF!","v":{"$error":"#REF!"}},{"$error":"#REF!"}]
[{"$f":"#REF!","v":{"$error":"#REF!"}},{"$error":"#REF!"}]
[{"$f":"#REF!","v":{"$error":"#REF!"}},{"$error":"#REF!"}]
[{"$f":"#REF!","v":{"$error":"#REF!"}},{"$error":"#REF!"}]
[{"$f":"#REF!","v":{"$error":"#REF!"}},{"$error":"#REF!"}]
[{"$f":"#REF!","v":{"$error":"#REF!"}},{"$error":"#REF!"}]
[{"$f":"#REF!","v":{"$error":"#REF!"}},{"$error":"#REF!"}]
[{"$f":"#REF!","v":{"$error":"#REF!"}},{"$error":"#REF!"}]
[{"$f":"#REF!","v":{"$error":"#REF!"}},{"$error":"#REF!"}]
[{"$f":"#REF!","v":{"$error":"#REF!"}},{"$error":"#REF!"}]
[{"$f":"#REF!","v":{"$error":"#REF!"}},{"$error":"#REF!"}]
[{"$f":"#REF!","v":{"$error":"#REF!"}},{"$error":"#REF!"}]
[{"$f":"#REF!","v":{"$error":"#REF!"}},{"$error":"#REF!"}]
[{"$f":"#REF!","v":{"$error":"#REF!"}},{"$error":"#REF!"}]
[{"$f":"#REF!","v":{"$error":"#REF!"}},{"$error":"#REF!"}]
[{"$f":"#REF!","v":{"$error":"#REF!"}},{"$error":"#REF!"}]
[{"$f":"#REF!","v":{"$error":"#REF!"}},{"$error":"#REF!"}]
[{"$f":"#REF!","v":{"$error":"#REF!"}},{"$error":"#REF!"}]
[{"$f":"#REF!","v":{"$error":"#REF!"}},{"$error":"#REF!"}]
[{"$f":"#REF!","v":{"$error":"#REF!"}},{"$error":"#REF!"}]
[{"$f":"#REF!","v":{"$error":"#REF!"}},{"$error":"#REF!"}]
[{"$f":"#REF!","v":{"$error":"#REF!"}},{"$error":"#REF!"}]
[{"$f":"#REF!","v":{"$error":"#REF!"}},{"$error":"#REF!"}]
[{"$f":"#REF!","v":{"$error":"#REF!"}},{"$error":"#REF!"}]
[{"$f":"#REF!","v":{"$error":"#REF!"}},{"$error":"#REF!"}]
[{"$f":"#REF!","v":{"$error":"#REF!"}},{"$error":"#REF!"}]
[{"$f":"#REF!","v":{"$error":"#REF!"}},{"$error":"#REF!"}]
[{"$f":"#REF!","v":{"$error":"#REF!"}},{"$error":"#REF!"}]
[{"$f":"#REF!","v":{"$error":"#REF!"}},{"$error":"#REF!"}]
[{"$f":"#REF!","v":{"$error":"#REF!"}},{"$error":"#REF!"}]
[{"$f":"#REF!","v":{"$error":"#REF!"}},{"$error":"#REF!"}]
[{"$f":"#REF!","v":{"$error":"#REF!"}},{"$error":"#REF!"}]
[{"$f":"#REF!","v":{"$error":"#REF!"}},{"$error":"#REF!"}]
[{"$f":"#REF!","v":{"$error":"#REF!"}},{"$error":"#REF!"}]
[{"$f":"#REF!","v":{"$error":"#REF!"}},{"$error":"#REF!"}]
[{"$f":"#REF!","v":{"$error":"#REF!"}},{"$error":"#REF!"}]
[{"$f":"#REF!","v":{"$error":"#REF!"}},{"$error":"#REF!"}]
[{"$f":"#REF!","v":{"$error":"#REF!"}},{"$error":"#REF!"}]
[{"$f":"#REF!","v":{"$error":"#REF!"}},{"$error":"#REF!"}]
[{"$f":"#REF!","v":{"$error":"#REF!"}},{"$error":"#REF!"}]
[{"$f":"#REF!","v":{"$error":"#REF!"}},{"$error":"#REF!"}]
[{"$f":"#REF!","v":{"$error":"#REF!"}},{"$error":"#REF!"}]
[{"$f":"#REF!","v":{"$error":"#REF!"}},{"$error":"#REF!"}]
[{"$f":"#REF!","v":{"$error":"#REF!"}},{"$error":"#REF!"}]
[{"$f":"#REF!","v":{"$error":"#REF!"}},{"$error":"#REF!"}]
[{"$f":"#REF!","v":{"$error":"#REF!"}},{"$error":"#REF!"}]
[{"$f":"#REF!","v":{"$error":"#REF!"}},{"$error":"#REF!"}]
[{"$f":"#REF!","v":{"$error":"#REF!"}},{"$error":"#REF!"}]
[{"$f":"#REF!","v":{"$error":"#REF!"}},{"$error":"#REF!"}]
[{"$f":"#REF!","v":{"$error":"#REF!"}},{"$error":"#REF!"}]
[{"$f":"#REF!","v":{"$error":"#REF!"}},{"$error":"#REF!"}]
[{"$f":"#REF!","v":{"$error":"#REF!"}},{"$error":"#REF!"}]
[{"$f":"#REF!","v":{"$error":"#REF!"}},{"$error":"#REF!"}]
[{"$f":"#REF!","v":{"$error":"#REF!"}},{"$error":"#REF!"}]
[{"$f":"#REF!","v":{"$error":"#REF!"}},{"$error":"#REF!"}]
[{"$f":"#REF!","v":{"$error":"#REF!"}},{"$error":"#REF!"}]
[{"$f":"#REF!","v":{"$error":"#REF!"}},{"$error":"#REF!"}]
[{"$f":"#REF!","v":{"$error":"#REF!"}},{"$f":"IF(A5072=\"\",\"\",IF(VLOOKUP(A5072,base_rpvs_pagas,2)=A$11,A5072,0))","v":{"$error":"#REF!"}}]
[{"$f":"#REF!","v":{"$error":"#REF!"}},{"$error":"#REF!"}]
[{"$f":"#REF!","v":{"$error":"#REF!"}},{"$error":"#REF!"}]
[{"$f":"#REF!","v":{"$error":"#REF!"}},{"$error":"#REF!"}]
[{"$f":"#REF!","v":{"$error":"#REF!"}},{"$error":"#REF!"}]
[{"$f":"#REF!","v":{"$error":"#REF!"}},{"$error":"#REF!"}]
[{"$f":"#REF!","v":{"$error":"#REF!"}},{"$error":"#REF!"}]
[{"$f":"#REF!","v":{"$error":"#REF!"}},{"$error":"#REF!"}]
[{"$f":"#REF!","v":{"$error":"#REF!"}},{"$error":"#REF!"}]
[{"$f":"#REF!","v":{"$error":"#REF!"}},{"$error":"#REF!"}]
[{"$f":"#REF!","v":{"$error":"#REF!"}},{"$error":"#REF!"}]
[{"$f":"#REF!","v":{"$error":"#REF!"}},{"$error":"#REF!"}]
[{"$f":"#REF!","v":{"$error":"#REF!"}},{"$error":"#REF!"}]
[{"$f":"#REF!","v":{"$error":"#REF!"}},{"$error":"#REF!"}]
[{"$f":"#REF!","v":{"$error":"#REF!"}},{"$error":"#REF!"}]
[{"$f":"#REF!","v":{"$error":"#REF!"}},{"$error":"#REF!"}]
[{"$f":"#REF!","v":{"$error":"#REF!"}},{"$error":"#REF!"}]
[{"$f":"#REF!","v":{"$error":"#REF!"}},{"$error":"#REF!"}]
[{"$f":"#REF!","v":{"$error":"#REF!"}},{"$error":"#REF!"}]
[{"$f":"#REF!","v":{"$error":"#REF!"}},{"$error":"#REF!"}]
[{"$f":"#REF!","v":{"$error":"#REF!"}},{"$error":"#REF!"}]
[{"$f":"#REF!","v":{"$error":"#REF!"}},{"$error":"#REF!"}]
[{"$f":"#REF!","v":{"$error":"#REF!"}},{"$error":"#REF!"}]
[{"$f":"#REF!","v":{"$error":"#REF!"}},{"$error":"#REF!"}]
[{"$f":"#REF!","v":{"$error":"#REF!"}},{"$error":"#REF!"}]
[{"$f":"#REF!","v":{"$error":"#REF!"}},{"$error":"#REF!"}]
[{"$f":"#REF!","v":{"$error":"#REF!"}},{"$error":"#REF!"}]
[{"$f":"#REF!","v":{"$error":"#REF!"}},{"$error":"#REF!"}]
[{"$f":"#REF!","v":{"$error":"#REF!"}},{"$error":"#REF!"}]
[{"$f":"#REF!","v":{"$error":"#REF!"}},{"$error":"#REF!"}]
[{"$f":"#REF!","v":{"$error":"#REF!"}},{"$error":"#REF!"}]
[{"$f":"#REF!","v":{"$error":"#REF!"}},{"$error":"#REF!"}]
[{"$f":"#REF!","v":{"$error":"#REF!"}},{"$error":"#REF!"}]
[{"$f":"#REF!","v":{"$error":"#REF!"}},{"$error":"#REF!"}]
[{"$f":"#REF!","v":{"$error":"#REF!"}},{"$error":"#REF!"}]
[{"$f":"#REF!","v":{"$error":"#REF!"}},{"$error":"#REF!"}]
[{"$f":"#REF!","v":{"$error":"#REF!"}},{"$error":"#REF!"}]
[{"$f":"#REF!","v":{"$error":"#REF!"}},{"$error":"#REF!"}]
[{"$f":"#REF!","v":{"$error":"#REF!"}},{"$error":"#REF!"}]
[{"$f":"#REF!","v":{"$error":"#REF!"}},{"$error":"#REF!"}]
[{"$f":"#REF!","v":{"$error":"#REF!"}},{"$error":"#REF!"}]
[{"$f":"#REF!","v":{"$error":"#REF!"}},{"$error":"#REF!"}]
[{"$f":"#REF!","v":{"$error":"#REF!"}},{"$error":"#REF!"}]
[{"$f":"#REF!","v":{"$error":"#REF!"}},{"$error":"#REF!"}]
[{"$f":"#REF!","v":{"$error":"#REF!"}},{"$error":"#REF!"}]
[{"$f":"#REF!","v":{"$error":"#REF!"}},{"$error":"#REF!"}]
[{"$f":"#REF!","v":{"$error":"#REF!"}},{"$error":"#REF!"}]
[{"$f":"#REF!","v":{"$error":"#REF!"}},{"$error":"#REF!"}]
[{"$f":"#REF!","v":{"$error":"#REF!"}},{"$error":"#REF!"}]
[{"$f":"#REF!","v":{"$error":"#REF!"}},{"$error":"#REF!"}]
[{"$f":"#REF!","v":{"$error":"#REF!"}},{"$error":"#REF!"}]
[{"$f":"#REF!","v":{"$error":"#REF!"}},{"$error":"#REF!"}]
[{"$f":"#REF!","v":{"$error":"#REF!"}},{"$error":"#REF!"}]
[{"$f":"#REF!","v":{"$error":"#REF!"}},{"$error":"#REF!"}]
[{"$f":"#REF!","v":{"$error":"#REF!"}},{"$error":"#REF!"}]
[{"$f":"#REF!","v":{"$error":"#REF!"}},{"$error":"#REF!"}]
[{"$f":"#REF!","v":{"$error":"#REF!"}},{"$error":"#REF!"}]
[{"$f":"#REF!","v":{"$error":"#REF!"}},{"$error":"#REF!"}]
[{"$f":"#REF!","v":{"$error":"#REF!"}},{"$error":"#REF!"}]
[{"$f":"#REF!","v":{"$error":"#REF!"}},{"$error":"#REF!"}]
[{"$f":"#REF!","v":{"$error":"#REF!"}},{"$error":"#REF!"}]
[{"$f":"#REF!","v":{"$error":"#REF!"}},{"$error":"#REF!"}]
[{"$f":"#REF!","v":{"$error":"#REF!"}},{"$error":"#REF!"}]
[{"$f":"#REF!","v":{"$error":"#REF!"}},{"$error":"#REF!"}]
[{"$f":"#REF!","v":{"$error":"#REF!"}},{"$f":"IF(A5136=\"\",\"\",IF(VLOOKUP(A5136,base_rpvs_pagas,2)=A$11,A5136,0))","v":{"$error":"#REF!"}}]
[{"$f":"#REF!","v":{"$error":"#REF!"}},{"$error":"#REF!"}]
[{"$f":"#REF!","v":{"$error":"#REF!"}},{"$error":"#REF!"}]
[{"$f":"#REF!","v":{"$error":"#REF!"}},{"$error":"#REF!"}]
[{"$f":"#REF!","v":{"$error":"#REF!"}},{"$error":"#REF!"}]
[{"$f":"#REF!","v":{"$error":"#REF!"}},{"$error":"#REF!"}]
[{"$f":"#REF!","v":{"$error":"#REF!"}},{"$error":"#REF!"}]
[{"$f":"#REF!","v":{"$error":"#REF!"}},{"$error":"#REF!"}]
[{"$f":"#REF!","v":{"$error":"#REF!"}},{"$error":"#REF!"}]
[{"$f":"#REF!","v":{"$error":"#REF!"}},{"$error":"#REF!"}]
[{"$f":"#REF!","v":{"$error":"#REF!"}},{"$error":"#REF!"}]
[{"$f":"#REF!","v":{"$error":"#REF!"}},{"$error":"#REF!"}]
[{"$f":"#REF!","v":{"$error":"#REF!"}},{"$error":"#REF!"}]
[{"$f":"#REF!","v":{"$error":"#REF!"}},{"$error":"#REF!"}]
[{"$f":"#REF!","v":{"$error":"#REF!"}},{"$error":"#REF!"}]
[{"$f":"#REF!","v":{"$error":"#REF!"}},{"$error":"#REF!"}]
[{"$f":"#REF!","v":{"$error":"#REF!"}},{"$error":"#REF!"}]
[{"$f":"#REF!","v":{"$error":"#REF!"}},{"$error":"#REF!"}]
[{"$f":"#REF!","v":{"$error":"#REF!"}},{"$error":"#REF!"}]
[{"$f":"#REF!","v":{"$error":"#REF!"}},{"$error":"#REF!"}]
[{"$f":"#REF!","v":{"$error":"#REF!"}},{"$error":"#REF!"}]
[{"$f":"#REF!","v":{"$error":"#REF!"}},{"$error":"#REF!"}]
[{"$f":"#REF!","v":{"$error":"#REF!"}},{"$error":"#REF!"}]
[{"$f":"#REF!","v":{"$error":"#REF!"}},{"$error":"#REF!"}]
[{"$f":"#REF!","v":{"$error":"#REF!"}},{"$error":"#REF!"}]
[{"$f":"#REF!","v":{"$error":"#REF!"}},{"$error":"#REF!"}]
[{"$f":"#REF!","v":{"$error":"#REF!"}},{"$error":"#REF!"}]
[{"$f":"#REF!","v":{"$error":"#REF!"}},{"$error":"#REF!"}]
[{"$f":"#REF!","v":{"$error":"#REF!"}},{"$error":"#REF!"}]
[{"$f":"#REF!","v":{"$error":"#REF!"}},{"$error":"#REF!"}]
[{"$f":"#REF!","v":{"$error":"#REF!"}},{"$error":"#REF!"}]
[{"$f":"#REF!","v":{"$error":"#REF!"}},{"$error":"#REF!"}]
[{"$f":"#REF!","v":{"$error":"#REF!"}},{"$error":"#REF!"}]
[{"$f":"#REF!","v":{"$error":"#REF!"}},{"$error":"#REF!"}]
[{"$f":"#REF!","v":{"$error":"#REF!"}},{"$error":"#REF!"}]
[{"$f":"#REF!","v":{"$error":"#REF!"}},{"$error":"#REF!"}]
[{"$f":"#REF!","v":{"$error":"#REF!"}},{"$error":"#REF!"}]
[{"$f":"#REF!","v":{"$error":"#REF!"}},{"$error":"#REF!"}]
[{"$f":"#REF!","v":{"$error":"#REF!"}},{"$error":"#REF!"}]
[{"$f":"#REF!","v":{"$error":"#REF!"}},{"$error":"#REF!"}]
[{"$f":"#REF!","v":{"$error":"#REF!"}},{"$error":"#REF!"}]
[{"$f":"#REF!","v":{"$error":"#REF!"}},{"$error":"#REF!"}]
[{"$f":"#REF!","v":{"$error":"#REF!"}},{"$error":"#REF!"}]
[{"$f":"#REF!","v":{"$error":"#REF!"}},{"$error":"#REF!"}]
[{"$f":"#REF!","v":{"$error":"#REF!"}},{"$error":"#REF!"}]
[{"$f":"#REF!","v":{"$error":"#REF!"}},{"$error":"#REF!"}]
[{"$f":"#REF!","v":{"$error":"#REF!"}},{"$error":"#REF!"}]
[{"$f":"#REF!","v":{"$error":"#REF!"}},{"$error":"#REF!"}]
[{"$f":"#REF!","v":{"$error":"#REF!"}},{"$error":"#REF!"}]
[{"$f":"#REF!","v":{"$error":"#REF!"}},{"$error":"#REF!"}]
[{"$f":"#REF!","v":{"$error":"#REF!"}},{"$error":"#REF!"}]
[{"$f":"#REF!","v":{"$error":"#REF!"}},{"$error":"#REF!"}]
[{"$f":"#REF!","v":{"$error":"#REF!"}},{"$error":"#REF!"}]
[{"$f":"#REF!","v":{"$error":"#REF!"}},{"$error":"#REF!"}]
[{"$f":"#REF!","v":{"$error":"#REF!"}},{"$error":"#REF!"}]
[{"$f":"#REF!","v":{"$error":"#REF!"}},{"$error":"#REF!"}]
[{"$f":"#REF!","v":{"$error":"#REF!"}},{"$error":"#REF!"}]
[{"$f":"#REF!","v":{"$error":"#REF!"}},{"$error":"#REF!"}]
[{"$f":"#REF!","v":{"$error":"#REF!"}},{"$error":"#REF!"}]
[{"$f":"#REF!","v":{"$error":"#REF!"}},{"$error":"#REF!"}]
[{"$f":"#REF!","v":{"$error":"#REF!"}},{"$error":"#REF!"}]
[{"$f":"#REF!","v":{"$error":"#REF!"}},{"$error":"#REF!"}]
[{"$f":"#REF!","v":{"$error":"#REF!"}},{"$error":"#REF!"}]
[{"$f":"#REF!","v":{"$error":"#REF!"}},{"$error":"#REF!"}]
[{"$f":"#REF!","v":{"$error":"#REF!"}},{"$f":"IF(A5200=\"\",\"\",IF(VLOOKUP(A5200,base_rpvs_pagas,2)=A$11,A5200,0))","v":{"$error":"#REF!"}}]
[{"$f":"#REF!","v":{"$error":"#REF!"}},{"$error":"#REF!"}]
[{"$f":"#REF!","v":{"$error":"#REF!"}},{"$error":"#REF!"}]
[{"$f":"#REF!","v":{"$error":"#REF!"}},{"$error":"#REF!"}]
[{"$f":"#REF!","v":{"$error":"#REF!"}},{"$error":"#REF!"}]
[{"$f":"#REF!","v":{"$error":"#REF!"}},{"$error":"#REF!"}]
[{"$f":"#REF!","v":{"$error":"#REF!"}},{"$error":"#REF!"}]
[{"$f":"#REF!","v":{"$error":"#REF!"}},{"$error":"#REF!"}]
[{"$f":"#REF!","v":{"$error":"#REF!"}},{"$error":"#REF!"}]
[{"$f":"#REF!","v":{"$error":"#REF!"}},{"$error":"#REF!"}]
[{"$f":"#REF!","v":{"$error":"#REF!"}},{"$error":"#REF!"}]
[{"$f":"#REF!","v":{"$error":"#REF!"}},{"$error":"#REF!"}]
[{"$f":"#REF!","v":{"$error":"#REF!"}},{"$error":"#REF!"}]
[{"$f":"#REF!","v":{"$error":"#REF!"}},{"$error":"#REF!"}]
[{"$f":"#REF!","v":{"$error":"#REF!"}},{"$error":"#REF!"}]
[{"$f":"#REF!","v":{"$error":"#REF!"}},{"$error":"#REF!"}]
[{"$f":"#REF!","v":{"$error":"#REF!"}},{"$error":"#REF!"}]
[{"$f":"#REF!","v":{"$error":"#REF!"}},{"$error":"#REF!"}]
[{"$f":"#REF!","v":{"$error":"#REF!"}},{"$error":"#REF!"}]
[{"$f":"#REF!","v":{"$error":"#REF!"}},{"$error":"#REF!"}]
[{"$f":"#REF!","v":{"$error":"#REF!"}},{"$error":"#REF!"}]
[{"$f":"#REF!","v":{"$error":"#REF!"}},{"$error":"#REF!"}]
[{"$f":"#REF!","v":{"$error":"#REF!"}},{"$error":"#REF!"}]
[{"$f":"#REF!","v":{"$error":"#REF!"}},{"$error":"#REF!"}]
[{"$f":"#REF!","v":{"$error":"#REF!"}},{"$error":"#REF!"}]
[{"$f":"#REF!","v":{"$error":"#REF!"}},{"$error":"#REF!"}]
[{"$f":"#REF!","v":{"$error":"#REF!"}},{"$error":"#REF!"}]
[{"$f":"#REF!","v":{"$error":"#REF!"}},{"$error":"#REF!"}]
[{"$f":"#REF!","v":{"$error":"#REF!"}},{"$error":"#REF!"}]
[{"$f":"#REF!","v":{"$error":"#REF!"}},{"$error":"#REF!"}]
[{"$f":"#REF!","v":{"$error":"#REF!"}},{"$error":"#REF!"}]
[{"$f":"#REF!","v":{"$error":"#REF!"}},{"$error":"#REF!"}]
[{"$f":"#REF!","v":{"$error":"#REF!"}},{"$error":"#REF!"}]
[{"$f":"#REF!","v":{"$error":"#REF!"}},{"$error":"#REF!"}]
[{"$f":"#REF!","v":{"$error":"#REF!"}},{"$error":"#REF!"}]
[{"$f":"#REF!","v":{"$error":"#REF!"}},{"$error":"#REF!"}]
[{"$f":"#REF!","v":{"$error":"#REF!"}},{"$error":"#REF!"}]
[{"$f":"#REF!","v":{"$error":"#REF!"}},{"$error":"#REF!"}]
[{"$f":"#REF!","v":{"$error":"#REF!"}},{"$error":"#REF!"}]
[{"$f":"#REF!","v":{"$error":"#REF!"}},{"$error":"#REF!"}]
[{"$f":"#REF!","v":{"$error":"#REF!"}},{"$error":"#REF!"}]
[{"$f":"#REF!","v":{"$error":"#REF!"}},{"$error":"#REF!"}]
[{"$f":"#REF!","v":{"$error":"#REF!"}},{"$error":"#REF!"}]
[{"$f":"#REF!","v":{"$error":"#REF!"}},{"$error":"#REF!"}]
[{"$f":"#REF!","v":{"$error":"#REF!"}},{"$error":"#REF!"}]
[{"$f":"#REF!","v":{"$error":"#REF!"}},{"$error":"#REF!"}]
[{"$f":"#REF!","v":{"$error":"#REF!"}},{"$error":"#REF!"}]
[{"$f":"#REF!","v":{"$error":"#REF!"}},{"$error":"#REF!"}]
[{"$f":"#REF!","v":{"$error":"#REF!"}},{"$error":"#REF!"}]
[{"$f":"#REF!","v":{"$error":"#REF!"}},{"$error":"#REF!"}]
[{"$f":"#REF!","v":{"$error":"#REF!"}},{"$error":"#REF!"}]
[{"$f":"#REF!","v":{"$error":"#REF!"}},{"$error":"#REF!"}]
[{"$f":"#REF!","v":{"$error":"#REF!"}},{"$error":"#REF!"}]
[{"$f":"#REF!","v":{"$error":"#REF!"}},{"$error":"#REF!"}]
[{"$f":"#REF!","v":{"$error":"#REF!"}},{"$error":"#REF!"}]
[{"$f":"#REF!","v":{"$error":"#REF!"}},{"$error":"#REF!"}]
[{"$f":"#REF!","v":{"$error":"#REF!"}},{"$error":"#REF!"}]
[{"$f":"#REF!","v":{"$error":"#REF!"}},{"$error":"#REF!"}]
[{"$f":"#REF!","v":{"$error":"#REF!"}},{"$error":"#REF!"}]
[{"$f":"#REF!","v":{"$error":"#REF!"}},{"$error":"#REF!"}]
[{"$f":"#REF!","v":{"$error":"#REF!"}},{"$error":"#REF!"}]
[{"$f":"#REF!","v":{"$error":"#REF!"}},{"$error":"#REF!"}]
[{"$f":"#REF!","v":{"$error":"#REF!"}},{"$error":"#REF!"}]
[{"$f":"#REF!","v":{"$error":"#REF!"}},{"$error":"#REF!"}]
[{"$f":"#REF!","v":{"$error":"#REF!"}},{"$f":"IF(A5264=\"\",\"\",IF(VLOOKUP(A5264,base_rpvs_pagas,2)=A$11,A5264,0))","v":{"$error":"#REF!"}}]
[{"$f":"#REF!","v":{"$error":"#REF!"}},{"$error":"#REF!"}]
[{"$f":"#REF!","v":{"$error":"#REF!"}},{"$error":"#REF!"}]
[{"$f":"#REF!","v":{"$error":"#REF!"}},{"$error":"#REF!"}]
[{"$f":"#REF!","v":{"$error":"#REF!"}},{"$error":"#REF!"}]
[{"$f":"#REF!","v":{"$error":"#REF!"}},{"$error":"#REF!"}]
[{"$f":"#REF!","v":{"$error":"#REF!"}},{"$error":"#REF!"}]
[{"$f":"#REF!","v":{"$error":"#REF!"}},{"$error":"#REF!"}]
[{"$f":"#REF!","v":{"$error":"#REF!"}},{"$error":"#REF!"}]
[{"$f":"#REF!","v":{"$error":"#REF!"}},{"$error":"#REF!"}]
[{"$f":"#REF!","v":{"$error":"#REF!"}},{"$error":"#REF!"}]
[{"$f":"#REF!","v":{"$error":"#REF!"}},{"$error":"#REF!"}]
[{"$f":"#REF!","v":{"$error":"#REF!"}},{"$error":"#REF!"}]
[{"$f":"#REF!","v":{"$error":"#REF!"}},{"$error":"#REF!"}]
[{"$f":"#REF!","v":{"$error":"#REF!"}},{"$error":"#REF!"}]
[{"$f":"#REF!","v":{"$error":"#REF!"}},{"$error":"#REF!"}]
[{"$f":"#REF!","v":{"$error":"#REF!"}},{"$error":"#REF!"}]
[{"$f":"#REF!","v":{"$error":"#REF!"}},{"$error":"#REF!"}]
[{"$f":"#REF!","v":{"$error":"#REF!"}},{"$error":"#REF!"}]
[{"$f":"#REF!","v":{"$error":"#REF!"}},{"$error":"#REF!"}]
[{"$f":"#REF!","v":{"$error":"#REF!"}},{"$error":"#REF!"}]
[{"$f":"#REF!","v":{"$error":"#REF!"}},{"$error":"#REF!"}]
[{"$f":"#REF!","v":{"$error":"#REF!"}},{"$error":"#REF!"}]
[{"$f":"#REF!","v":{"$error":"#REF!"}},{"$error":"#REF!"}]
[{"$f":"#REF!","v":{"$error":"#REF!"}},{"$error":"#REF!"}]
[{"$f":"#REF!","v":{"$error":"#REF!"}},{"$error":"#REF!"}]
[{"$f":"#REF!","v":{"$error":"#REF!"}},{"$error":"#REF!"}]
[{"$f":"#REF!","v":{"$error":"#REF!"}},{"$error":"#REF!"}]
[{"$f":"#REF!","v":{"$error":"#REF!"}},{"$error":"#REF!"}]
[{"$f":"#REF!","v":{"$error":"#REF!"}},{"$error":"#REF!"}]
[{"$f":"#REF!","v":{"$error":"#REF!"}},{"$error":"#REF!"}]
[{"$f":"#REF!","v":{"$error":"#REF!"}},{"$error":"#REF!"}]
[{"$f":"#REF!","v":{"$error":"#REF!"}},{"$error":"#REF!"}]
[{"$f":"#REF!","v":{"$error":"#REF!"}},{"$error":"#REF!"}]
[{"$f":"#REF!","v":{"$error":"#REF!"}},{"$error":"#REF!"}]
[{"$f":"#REF!","v":{"$error":"#REF!"}},{"$error":"#REF!"}]
[{"$f":"#REF!","v":{"$error":"#REF!"}},{"$error":"#REF!"}]
[{"$f":"#REF!","v":{"$error":"#REF!"}},{"$error":"#REF!"}]
[{"$f":"#REF!","v":{"$error":"#REF!"}},{"$error":"#REF!"}]
[{"$f":"#REF!","v":{"$error":"#REF!"}},{"$error":"#REF!"}]
[{"$f":"#REF!","v":{"$error":"#REF!"}},{"$error":"#REF!"}]
[{"$f":"#REF!","v":{"$error":"#REF!"}},{"$error":"#REF!"}]
[{"$f":"#REF!","v":{"$error":"#REF!"}},{"$error":"#REF!"}]
[{"$f":"#REF!","v":{"$error":"#REF!"}},{"$error":"#REF!"}]
[{"$f":"#REF!","v":{"$error":"#REF!"}},{"$error":"#REF!"}]
[{"$f":"#REF!","v":{"$error":"#REF!"}},{"$error":"#REF!"}]
[{"$f":"#REF!","v":{"$error":"#REF!"}},{"$error":"#REF!"}]
[{"$f":"#REF!","v":{"$error":"#REF!"}},{"$error":"#REF!"}]
[{"$f":"#REF!","v":{"$error":"#REF!"}},{"$error":"#REF!"}]
[{"$f":"#REF!","v":{"$error":"#REF!"}},{"$error":"#REF!"}]
[{"$f":"#REF!","v":{"$error":"#REF!"}},{"$error":"#REF!"}]
[{"$f":"#REF!","v":{"$error":"#REF!"}},{"$error":"#REF!"}]
[{"$f":"#REF!","v":{"$error":"#REF!"}},{"$error":"#REF!"}]
[{"$f":"#REF!","v":{"$error":"#REF!"}},{"$error":"#REF!"}]
[{"$f":"#REF!","v":{"$error":"#REF!"}},{"$error":"#REF!"}]
[{"$f":"#REF!","v":{"$error":"#REF!"}},{"$error":"#REF!"}]
[{"$f":"#REF!","v":{"$error":"#REF!"}},{"$error":"#REF!"}]
[{"$f":"#REF!","v":{"$error":"#REF!"}},{"$error":"#REF!"}]
[{"$f":"#REF!","v":{"$error":"#REF!"}},{"$error":"#REF!"}]
[{"$f":"#REF!","v":{"$error":"#REF!"}},{"$error":"#REF!"}]
[{"$f":"#REF!","v":{"$error":"#REF!"}},{"$error":"#REF!"}]
[{"$f":"#REF!","v":{"$error":"#REF!"}},{"$error":"#REF!"}]
[{"$f":"#REF!","v":{"$error":"#REF!"}},{"$error":"#REF!"}]
[{"$f":"#REF!","v":{"$error":"#REF!"}},{"$error":"#REF!"}]
[{"$f":"#REF!","v":{"$error":"#REF!"}},{"$f":"IF(A5328=\"\",\"\",IF(VLOOKUP(A5328,base_rpvs_pagas,2)=A$11,A5328,0))","v":{"$error":"#REF!"}}]
[{"$f":"#REF!","v":{"$error":"#REF!"}},{"$error":"#REF!"}]
[{"$f":"#REF!","v":{"$error":"#REF!"}},{"$error":"#REF!"}]
[{"$f":"#REF!","v":{"$error":"#REF!"}},{"$error":"#REF!"}]
[{"$f":"#REF!","v":{"$error":"#REF!"}},{"$error":"#REF!"}]
[{"$f":"#REF!","v":{"$error":"#REF!"}},{"$error":"#REF!"}]
[{"$f":"#REF!","v":{"$error":"#REF!"}},{"$error":"#REF!"}]
[{"$f":"#REF!","v":{"$error":"#REF!"}},{"$error":"#REF!"}]
[{"$f":"#REF!","v":{"$error":"#REF!"}},{"$error":"#REF!"}]
[{"$f":"#REF!","v":{"$error":"#REF!"}},{"$error":"#REF!"}]
[{"$f":"#REF!","v":{"$error":"#REF!"}},{"$error":"#REF!"}]
[{"$f":"#REF!","v":{"$error":"#REF!"}},{"$error":"#REF!"}]
[{"$f":"#REF!","v":{"$error":"#REF!"}},{"$error":"#REF!"}]
[{"$f":"#REF!","v":{"$error":"#REF!"}},{"$error":"#REF!"}]
[{"$f":"#REF!","v":{"$error":"#REF!"}},{"$error":"#REF!"}]
[{"$f":"#REF!","v":{"$error":"#REF!"}},{"$error":"#REF!"}]
[{"$f":"#REF!","v":{"$error":"#REF!"}},{"$error":"#REF!"}]
[{"$f":"#REF!","v":{"$error":"#REF!"}},{"$error":"#REF!"}]
[{"$f":"#REF!","v":{"$error":"#REF!"}},{"$error":"#REF!"}]
[{"$f":"#REF!","v":{"$error":"#REF!"}},{"$error":"#REF!"}]
[{"$f":"#REF!","v":{"$error":"#REF!"}},{"$error":"#REF!"}]
[{"$f":"#REF!","v":{"$error":"#REF!"}},{"$error":"#REF!"}]
[{"$f":"#REF!","v":{"$error":"#REF!"}},{"$error":"#REF!"}]
[{"$f":"#REF!","v":{"$error":"#REF!"}},{"$error":"#REF!"}]
[{"$f":"#REF!","v":{"$error":"#REF!"}},{"$error":"#REF!"}]
[{"$f":"#REF!","v":{"$error":"#REF!"}},{"$error":"#REF!"}]
[{"$f":"#REF!","v":{"$error":"#REF!"}},{"$error":"#REF!"}]
[{"$f":"#REF!","v":{"$error":"#REF!"}},{"$error":"#REF!"}]
[{"$f":"#REF!","v":{"$error":"#REF!"}},{"$error":"#REF!"}]
[{"$f":"#REF!","v":{"$error":"#REF!"}},{"$error":"#REF!"}]
[{"$f":"#REF!","v":{"$error":"#REF!"}},{"$error":"#REF!"}]
[{"$f":"#REF!","v":{"$error":"#REF!"}},{"$error":"#REF!"}]
[{"$f":"#REF!","v":{"$error":"#REF!"}},{"$error":"#REF!"}]
[{"$f":"#REF!","v":{"$error":"#REF!"}},{"$error":"#REF!"}]
[{"$f":"#REF!","v":{"$error":"#REF!"}},{"$error":"#REF!"}]
[{"$f":"#REF!","v":{"$error":"#REF!"}},{"$error":"#REF!"}]
[{"$f":"#REF!","v":{"$error":"#REF!"}},{"$error":"#REF!"}]
[{"$f":"#REF!","v":{"$error":"#REF!"}},{"$error":"#REF!"}]
[{"$f":"#REF!","v":{"$error":"#REF!"}},{"$error":"#REF!"}]
[{"$f":"#REF!","v":{"$error":"#REF!"}},{"$error":"#REF!"}]
[{"$f":"#REF!","v":{"$error":"#REF!"}},{"$error":"#REF!"}]
[{"$f":"#REF!","v":{"$error":"#REF!"}},{"$error":"#REF!"}]
[{"$f":"#REF!","v":{"$error":"#REF!"}},{"$error":"#REF!"}]
[{"$f":"#REF!","v":{"$error":"#REF!"}},{"$error":"#REF!"}]
[{"$f":"#REF!","v":{"$error":"#REF!"}},{"$error":"#REF!"}]
[{"$f":"#REF!","v":{"$error":"#REF!"}},{"$error":"#REF!"}]
[{"$f":"#REF!","v":{"$error":"#REF!"}},{"$error":"#REF!"}]
[{"$f":"#REF!","v":{"$error":"#REF!"}},{"$error":"#REF!"}]
[{"$f":"#REF!","v":{"$error":"#REF!"}},{"$error":"#REF!"}]
[{"$f":"#REF!","v":{"$error":"#REF!"}},{"$error":"#REF!"}]
[{"$f":"#REF!","v":{"$error":"#REF!"}},{"$error":"#REF!"}]
[{"$f":"#REF!","v":{"$error":"#REF!"}},{"$error":"#REF!"}]
[{"$f":"#REF!","v":{"$error":"#REF!"}},{"$error":"#REF!"}]
[{"$f":"#REF!","v":{"$error":"#REF!"}},{"$error":"#REF!"}]
[{"$f":"#REF!","v":{"$error":"#REF!"}},{"$error":"#REF!"}]
[{"$f":"#REF!","v":{"$error":"#REF!"}},{"$error":"#REF!"}]
[{"$f":"#REF!","v":{"$error":"#REF!"}},{"$error":"#REF!"}]
[{"$f":"#REF!","v":{"$error":"#REF!"}},{"$error":"#REF!"}]
[{"$f":"#REF!","v":{"$error":"#REF!"}},{"$error":"#REF!"}]
[{"$f":"#REF!","v":{"$error":"#REF!"}},{"$error":"#REF!"}]
[{"$f":"#REF!","v":{"$error":"#REF!"}},{"$error":"#REF!"}]
[{"$f":"#REF!","v":{"$error":"#REF!"}},{"$error":"#REF!"}]
[{"$f":"#REF!","v":{"$error":"#REF!"}},{"$error":"#REF!"}]
[{"$f":"#REF!","v":{"$error":"#REF!"}},{"$error":"#REF!"}]
[{"$f":"#REF!","v":{"$error":"#REF!"}},{"$f":"IF(A5392=\"\",\"\",IF(VLOOKUP(A5392,base_rpvs_pagas,2)=A$11,A5392,0))","v":{"$error":"#REF!"}}]
[{"$f":"#REF!","v":{"$error":"#REF!"}},{"$error":"#REF!"}]
[{"$f":"#REF!","v":{"$error":"#REF!"}},{"$error":"#REF!"}]
[{"$f":"#REF!","v":{"$error":"#REF!"}},{"$error":"#REF!"}]
[{"$f":"#REF!","v":{"$error":"#REF!"}},{"$error":"#REF!"}]
[{"$f":"#REF!","v":{"$error":"#REF!"}},{"$error":"#REF!"}]
[{"$f":"#REF!","v":{"$error":"#REF!"}},{"$error":"#REF!"}]
[{"$f":"#REF!","v":{"$error":"#REF!"}},{"$error":"#REF!"}]
[{"$f":"#REF!","v":{"$error":"#REF!"}},{"$error":"#REF!"}]
[{"$f":"#REF!","v":{"$error":"#REF!"}},{"$error":"#REF!"}]
[{"$f":"#REF!","v":{"$error":"#REF!"}},{"$error":"#REF!"}]
[{"$f":"#REF!","v":{"$error":"#REF!"}},{"$error":"#REF!"}]
[{"$f":"#REF!","v":{"$error":"#REF!"}},{"$error":"#REF!"}]
[{"$f":"#REF!","v":{"$error":"#REF!"}},{"$error":"#REF!"}]
[{"$f":"#REF!","v":{"$error":"#REF!"}},{"$error":"#REF!"}]
[{"$f":"#REF!","v":{"$error":"#REF!"}},{"$error":"#REF!"}]
[{"$f":"#REF!","v":{"$error":"#REF!"}},{"$error":"#REF!"}]
[{"$f":"#REF!","v":{"$error":"#REF!"}},{"$error":"#REF!"}]
[{"$f":"#REF!","v":{"$error":"#REF!"}},{"$error":"#REF!"}]
[{"$f":"#REF!","v":{"$error":"#REF!"}},{"$error":"#REF!"}]
[{"$f":"#REF!","v":{"$error":"#REF!"}},{"$error":"#REF!"}]
[{"$f":"#REF!","v":{"$error":"#REF!"}},{"$error":"#REF!"}]
[{"$f":"#REF!","v":{"$error":"#REF!"}},{"$error":"#REF!"}]
[{"$f":"#REF!","v":{"$error":"#REF!"}},{"$error":"#REF!"}]
[{"$f":"#REF!","v":{"$error":"#REF!"}},{"$error":"#REF!"}]
[{"$f":"#REF!","v":{"$error":"#REF!"}},{"$error":"#REF!"}]
[{"$f":"#REF!","v":{"$error":"#REF!"}},{"$error":"#REF!"}]
[{"$f":"#REF!","v":{"$error":"#REF!"}},{"$error":"#REF!"}]
[{"$f":"#REF!","v":{"$error":"#REF!"}},{"$error":"#REF!"}]
[{"$f":"#REF!","v":{"$error":"#REF!"}},{"$error":"#REF!"}]
[{"$f":"#REF!","v":{"$error":"#REF!"}},{"$error":"#REF!"}]
[{"$f":"#REF!","v":{"$error":"#REF!"}},{"$error":"#REF!"}]
[{"$f":"#REF!","v":{"$error":"#REF!"}},{"$error":"#REF!"}]
[{"$f":"#REF!","v":{"$error":"#REF!"}},{"$error":"#REF!"}]
[{"$f":"#REF!","v":{"$error":"#REF!"}},{"$error":"#REF!"}]
[{"$f":"#REF!","v":{"$error":"#REF!"}},{"$error":"#REF!"}]
[{"$f":"#REF!","v":{"$error":"#REF!"}},{"$error":"#REF!"}]
[{"$f":"#REF!","v":{"$error":"#REF!"}},{"$error":"#REF!"}]
[{"$f":"#REF!","v":{"$error":"#REF!"}},{"$error":"#REF!"}]
[{"$f":"#REF!","v":{"$error":"#REF!"}},{"$error":"#REF!"}]
[{"$f":"#REF!","v":{"$error":"#REF!"}},{"$error":"#REF!"}]
[{"$f":"#REF!","v":{"$error":"#REF!"}},{"$error":"#REF!"}]
[{"$f":"#REF!","v":{"$error":"#REF!"}},{"$error":"#REF!"}]
[{"$f":"#REF!","v":{"$error":"#REF!"}},{"$error":"#REF!"}]
[{"$f":"#REF!","v":{"$error":"#REF!"}},{"$error":"#REF!"}]
[{"$f":"#REF!","v":{"$error":"#REF!"}},{"$error":"#REF!"}]
[{"$f":"#REF!","v":{"$error":"#REF!"}},{"$error":"#REF!"}]
[{"$f":"#REF!","v":{"$error":"#REF!"}},{"$error":"#REF!"}]
[{"$f":"#REF!","v":{"$error":"#REF!"}},{"$error":"#REF!"}]
[{"$f":"#REF!","v":{"$error":"#REF!"}},{"$error":"#REF!"}]
[{"$f":"#REF!","v":{"$error":"#REF!"}},{"$error":"#REF!"}]
[{"$f":"#REF!","v":{"$error":"#REF!"}},{"$error":"#REF!"}]
[{"$f":"#REF!","v":{"$error":"#REF!"}},{"$error":"#REF!"}]
[{"$f":"#REF!","v":{"$error":"#REF!"}},{"$error":"#REF!"}]
[{"$f":"#REF!","v":{"$error":"#REF!"}},{"$error":"#REF!"}]
[{"$f":"#REF!","v":{"$error":"#REF!"}},{"$error":"#REF!"}]
[{"$f":"#REF!","v":{"$error":"#REF!"}},{"$error":"#REF!"}]
[{"$f":"#REF!","v":{"$error":"#REF!"}},{"$error":"#REF!"}]
[{"$f":"#REF!","v":{"$error":"#REF!"}},{"$error":"#REF!"}]
[{"$f":"#REF!","v":{"$error":"#REF!"}},{"$error":"#REF!"}]
[{"$f":"#REF!","v":{"$error":"#REF!"}},{"$error":"#REF!"}]
[{"$f":"#REF!","v":{"$error":"#REF!"}},{"$error":"#REF!"}]
[{"$f":"#REF!","v":{"$error":"#REF!"}},{"$error":"#REF!"}]
[{"$f":"#REF!","v":{"$error":"#REF!"}},{"$error":"#REF!"}]
[{"$f":"#REF!","v":{"$error":"#REF!"}},{"$f":"IF(A5456=\"\",\"\",IF(VLOOKUP(A5456,base_rpvs_pagas,2)=A$11,A5456,0))","v":{"$error":"#REF!"}}]
[{"$f":"#REF!","v":{"$error":"#REF!"}},{"$error":"#REF!"}]
[{"$f":"#REF!","v":{"$error":"#REF!"}},{"$error":"#REF!"}]
[{"$f":"#REF!","v":{"$error":"#REF!"}},{"$error":"#REF!"}]
[{"$f":"#REF!","v":{"$error":"#REF!"}},{"$error":"#REF!"}]
[{"$f":"#REF!","v":{"$error":"#REF!"}},{"$error":"#REF!"}]
[{"$f":"#REF!","v":{"$error":"#REF!"}},{"$error":"#REF!"}]
[{"$f":"#REF!","v":{"$error":"#REF!"}},{"$error":"#REF!"}]
[{"$f":"#REF!","v":{"$error":"#REF!"}},{"$error":"#REF!"}]
[{"$f":"#REF!","v":{"$error":"#REF!"}},{"$error":"#REF!"}]
[{"$f":"#REF!","v":{"$error":"#REF!"}},{"$error":"#REF!"}]
[{"$f":"#REF!","v":{"$error":"#REF!"}},{"$error":"#REF!"}]
[{"$f":"#REF!","v":{"$error":"#REF!"}},{"$error":"#REF!"}]
[{"$f":"#REF!","v":{"$error":"#REF!"}},{"$error":"#REF!"}]
[{"$f":"#REF!","v":{"$error":"#REF!"}},{"$error":"#REF!"}]
[{"$f":"#REF!","v":{"$error":"#REF!"}},{"$error":"#REF!"}]
[{"$f":"#REF!","v":{"$error":"#REF!"}},{"$error":"#REF!"}]
[{"$f":"#REF!","v":{"$error":"#REF!"}},{"$error":"#REF!"}]
[{"$f":"#REF!","v":{"$error":"#REF!"}},{"$error":"#REF!"}]
[{"$f":"#REF!","v":{"$error":"#REF!"}},{"$error":"#REF!"}]
[{"$f":"#REF!","v":{"$error":"#REF!"}},{"$error":"#REF!"}]
[{"$f":"#REF!","v":{"$error":"#REF!"}},{"$error":"#REF!"}]
[{"$f":"#REF!","v":{"$error":"#REF!"}},{"$error":"#REF!"}]
[{"$f":"#REF!","v":{"$error":"#REF!"}},{"$error":"#REF!"}]
[{"$f":"#REF!","v":{"$error":"#REF!"}},{"$error":"#REF!"}]
[{"$f":"#REF!","v":{"$error":"#REF!"}},{"$error":"#REF!"}]
[{"$f":"#REF!","v":{"$error":"#REF!"}},{"$error":"#REF!"}]
[{"$f":"#REF!","v":{"$error":"#REF!"}},{"$error":"#REF!"}]
[{"$f":"#REF!","v":{"$error":"#REF!"}},{"$error":"#REF!"}]
[{"$f":"#REF!","v":{"$error":"#REF!"}},{"$error":"#REF!"}]
[{"$f":"#REF!","v":{"$error":"#REF!"}},{"$error":"#REF!"}]
[{"$f":"#REF!","v":{"$error":"#REF!"}},{"$error":"#REF!"}]
[{"$f":"#REF!","v":{"$error":"#REF!"}},{"$error":"#REF!"}]
[{"$f":"#REF!","v":{"$error":"#REF!"}},{"$error":"#REF!"}]
[{"$f":"#REF!","v":{"$error":"#REF!"}},{"$error":"#REF!"}]
[{"$f":"#REF!","v":{"$error":"#REF!"}},{"$error":"#REF!"}]
[{"$f":"#REF!","v":{"$error":"#REF!"}},{"$error":"#REF!"}]
[{"$f":"#REF!","v":{"$error":"#REF!"}},{"$error":"#REF!"}]
[{"$f":"#REF!","v":{"$error":"#REF!"}},{"$error":"#REF!"}]
[{"$f":"#REF!","v":{"$error":"#REF!"}},{"$error":"#REF!"}]
[{"$f":"#REF!","v":{"$error":"#REF!"}},{"$error":"#REF!"}]
[{"$f":"#REF!","v":{"$error":"#REF!"}},{"$error":"#REF!"}]
[{"$f":"#REF!","v":{"$error":"#REF!"}},{"$error":"#REF!"}]
[{"$f":"#REF!","v":{"$error":"#REF!"}},{"$error":"#REF!"}]
[{"$f":"#REF!","v":{"$error":"#REF!"}},{"$error":"#REF!"}]
[{"$f":"#REF!","v":{"$error":"#REF!"}},{"$error":"#REF!"}]
[{"$f":"#REF!","v":{"$error":"#REF!"}},{"$error":"#REF!"}]
[{"$f":"#REF!","v":{"$error":"#REF!"}},{"$error":"#REF!"}]
[{"$f":"#REF!","v":{"$error":"#REF!"}},{"$error":"#REF!"}]
[{"$f":"#REF!","v":{"$error":"#REF!"}},{"$error":"#REF!"}]
[{"$f":"#REF!","v":{"$error":"#REF!"}},{"$error":"#REF!"}]
[{"$f":"#REF!","v":{"$error":"#REF!"}},{"$error":"#REF!"}]
[{"$f":"#REF!","v":{"$error":"#REF!"}},{"$error":"#REF!"}]
[{"$f":"#REF!","v":{"$error":"#REF!"}},{"$error":"#REF!"}]
[{"$f":"#REF!","v":{"$error":"#REF!"}},{"$error":"#REF!"}]
[{"$f":"#REF!","v":{"$error":"#REF!"}},{"$error":"#REF!"}]
[{"$f":"#REF!","v":{"$error":"#REF!"}},{"$error":"#REF!"}]
[{"$f":"#REF!","v":{"$error":"#REF!"}},{"$error":"#REF!"}]
[{"$f":"#REF!","v":{"$error":"#REF!"}},{"$error":"#REF!"}]
[{"$f":"#REF!","v":{"$error":"#REF!"}},{"$error":"#REF!"}]
[{"$f":"#REF!","v":{"$error":"#REF!"}},{"$error":"#REF!"}]
[{"$f":"#REF!","v":{"$error":"#REF!"}},{"$error":"#REF!"}]
[{"$f":"#REF!","v":{"$error":"#REF!"}},{"$error":"#REF!"}]
[{"$f":"#REF!","v":{"$error":"#REF!"}},{"$error":"#REF!"}]
[{"$f":"#REF!","v":{"$error":"#REF!"}},{"$f":"IF(A5520=\"\",\"\",IF(VLOOKUP(A5520,base_rpvs_pagas,2)=A$11,A5520,0))","v":{"$error":"#REF!"}}]
[{"$f":"#REF!","v":{"$error":"#REF!"}},{"$error":"#REF!"}]
[{"$f":"#REF!","v":{"$error":"#REF!"}},{"$error":"#REF!"}]
[{"$f":"#REF!","v":{"$error":"#REF!"}},{"$error":"#REF!"}]
[{"$f":"#REF!","v":{"$error":"#REF!"}},{"$error":"#REF!"}]
[{"$f":"#REF!","v":{"$error":"#REF!"}},{"$error":"#REF!"}]
[{"$f":"#REF!","v":{"$error":"#REF!"}},{"$error":"#REF!"}]
[{"$f":"#REF!","v":{"$error":"#REF!"}},{"$error":"#REF!"}]
[{"$f":"#REF!","v":{"$error":"#REF!"}},{"$error":"#REF!"}]
[{"$f":"#REF!","v":{"$error":"#REF!"}},{"$error":"#REF!"}]
[{"$f":"#REF!","v":{"$error":"#REF!"}},{"$error":"#REF!"}]
[{"$f":"#REF!","v":{"$error":"#REF!"}},{"$error":"#REF!"}]
[{"$f":"#REF!","v":{"$error":"#REF!"}},{"$error":"#REF!"}]
[{"$f":"#REF!","v":{"$error":"#REF!"}},{"$error":"#REF!"}]
[{"$f":"#REF!","v":{"$error":"#REF!"}},{"$error":"#REF!"}]
[{"$f":"#REF!","v":{"$error":"#REF!"}},{"$error":"#REF!"}]
[{"$f":"#REF!","v":{"$error":"#REF!"}},{"$error":"#REF!"}]
[{"$f":"#REF!","v":{"$error":"#REF!"}},{"$error":"#REF!"}]
[{"$f":"#REF!","v":{"$error":"#REF!"}},{"$error":"#REF!"}]
[{"$f":"#REF!","v":{"$error":"#REF!"}},{"$error":"#REF!"}]
[{"$f":"#REF!","v":{"$error":"#REF!"}},{"$error":"#REF!"}]
[{"$f":"#REF!","v":{"$error":"#REF!"}},{"$error":"#REF!"}]
[{"$f":"#REF!","v":{"$error":"#REF!"}},{"$error":"#REF!"}]
[{"$f":"#REF!","v":{"$error":"#REF!"}},{"$error":"#REF!"}]
[{"$f":"#REF!","v":{"$error":"#REF!"}},{"$error":"#REF!"}]
[{"$f":"#REF!","v":{"$error":"#REF!"}},{"$error":"#REF!"}]
[{"$f":"#REF!","v":{"$error":"#REF!"}},{"$error":"#REF!"}]
[{"$f":"#REF!","v":{"$error":"#REF!"}},{"$error":"#REF!"}]
[{"$f":"#REF!","v":{"$error":"#REF!"}},{"$error":"#REF!"}]
[{"$f":"#REF!","v":{"$error":"#REF!"}},{"$error":"#REF!"}]
[{"$f":"#REF!","v":{"$error":"#REF!"}},{"$error":"#REF!"}]
[{"$f":"#REF!","v":{"$error":"#REF!"}},{"$error":"#REF!"}]
[{"$f":"#REF!","v":{"$error":"#REF!"}},{"$error":"#REF!"}]
[{"$f":"#REF!","v":{"$error":"#REF!"}},{"$error":"#REF!"}]
[{"$f":"#REF!","v":{"$error":"#REF!"}},{"$error":"#REF!"}]
[{"$f":"#REF!","v":{"$error":"#REF!"}},{"$error":"#REF!"}]
[{"$f":"#REF!","v":{"$error":"#REF!"}},{"$error":"#REF!"}]
[{"$f":"#REF!","v":{"$error":"#REF!"}},{"$error":"#REF!"}]
[{"$f":"#REF!","v":{"$error":"#REF!"}},{"$error":"#REF!"}]
[{"$f":"#REF!","v":{"$error":"#REF!"}},{"$error":"#REF!"}]
[{"$f":"#REF!","v":{"$error":"#REF!"}},{"$error":"#REF!"}]
[{"$f":"#REF!","v":{"$error":"#REF!"}},{"$error":"#REF!"}]
[{"$f":"#REF!","v":{"$error":"#REF!"}},{"$error":"#REF!"}]
[{"$f":"#REF!","v":{"$error":"#REF!"}},{"$error":"#REF!"}]
[{"$f":"#REF!","v":{"$error":"#REF!"}},{"$error":"#REF!"}]
[{"$f":"#REF!","v":{"$error":"#REF!"}},{"$error":"#REF!"}]
[{"$f":"#REF!","v":{"$error":"#REF!"}},{"$error":"#REF!"}]
[{"$f":"#REF!","v":{"$error":"#REF!"}},{"$error":"#REF!"}]
[{"$f":"#REF!","v":{"$error":"#REF!"}},{"$error":"#REF!"}]
[{"$f":"#REF!","v":{"$error":"#REF!"}},{"$error":"#REF!"}]
[{"$f":"#REF!","v":{"$error":"#REF!"}},{"$error":"#REF!"}]
[{"$f":"#REF!","v":{"$error":"#REF!"}},{"$error":"#REF!"}]
[{"$f":"#REF!","v":{"$error":"#REF!"}},{"$error":"#REF!"}]
[{"$f":"#REF!","v":{"$error":"#REF!"}},{"$error":"#REF!"}]
[{"$f":"#REF!","v":{"$error":"#REF!"}},{"$error":"#REF!"}]
[{"$f":"#REF!","v":{"$error":"#REF!"}},{"$error":"#REF!"}]
[{"$f":"#REF!","v":{"$error":"#REF!"}},{"$error":"#REF!"}]
[{"$f":"#REF!","v":{"$error":"#REF!"}},{"$error":"#REF!"}]
[{"$f":"#REF!","v":{"$error":"#REF!"}},{"$error":"#REF!"}]
[{"$f":"#REF!","v":{"$error":"#REF!"}},{"$error":"#REF!"}]
[{"$f":"#REF!","v":{"$error":"#REF!"}},{"$error":"#REF!"}]
[{"$f":"#REF!","v":{"$error":"#REF!"}},{"$error":"#REF!"}]
[{"$f":"#REF!","v":{"$error":"#REF!"}},{"$error":"#REF!"}]
[{"$f":"#REF!","v":{"$error":"#REF!"}},{"$error":"#REF!"}]
[{"$f":"#REF!","v":{"$error":"#REF!"}},{"$f":"IF(A5584=\"\",\"\",IF(VLOOKUP(A5584,base_rpvs_pagas,2)=A$11,A5584,0))","v":{"$error":"#REF!"}}]
[{"$f":"#REF!","v":{"$error":"#REF!"}},{"$error":"#REF!"}]
[{"$f":"#REF!","v":{"$error":"#REF!"}},{"$error":"#REF!"}]
[{"$f":"#REF!","v":{"$error":"#REF!"}},{"$error":"#REF!"}]
[{"$f":"#REF!","v":{"$error":"#REF!"}},{"$error":"#REF!"}]
[{"$f":"#REF!","v":{"$error":"#REF!"}},{"$error":"#REF!"}]
[{"$f":"#REF!","v":{"$error":"#REF!"}},{"$error":"#REF!"}]
[{"$f":"#REF!","v":{"$error":"#REF!"}},{"$error":"#REF!"}]
[{"$f":"#REF!","v":{"$error":"#REF!"}},{"$error":"#REF!"}]
[{"$f":"#REF!","v":{"$error":"#REF!"}},{"$error":"#REF!"}]
[{"$f":"#REF!","v":{"$error":"#REF!"}},{"$error":"#REF!"}]
[{"$f":"#REF!","v":{"$error":"#REF!"}},{"$error":"#REF!"}]
[{"$f":"#REF!","v":{"$error":"#REF!"}},{"$error":"#REF!"}]
[{"$f":"#REF!","v":{"$error":"#REF!"}},{"$error":"#REF!"}]
[{"$f":"#REF!","v":{"$error":"#REF!"}},{"$error":"#REF!"}]
[{"$f":"#REF!","v":{"$error":"#REF!"}},{"$error":"#REF!"}]
[{"$f":"#REF!","v":{"$error":"#REF!"}},{"$error":"#REF!"}]
[{"$f":"#REF!","v":{"$error":"#REF!"}},{"$error":"#REF!"}]
[{"$f":"#REF!","v":{"$error":"#REF!"}},{"$error":"#REF!"}]
[{"$f":"#REF!","v":{"$error":"#REF!"}},{"$error":"#REF!"}]
[{"$f":"#REF!","v":{"$error":"#REF!"}},{"$error":"#REF!"}]
[{"$f":"#REF!","v":{"$error":"#REF!"}},{"$error":"#REF!"}]
[{"$f":"#REF!","v":{"$error":"#REF!"}},{"$error":"#REF!"}]
[{"$f":"#REF!","v":{"$error":"#REF!"}},{"$error":"#REF!"}]
[{"$f":"#REF!","v":{"$error":"#REF!"}},{"$error":"#REF!"}]
[{"$f":"#REF!","v":{"$error":"#REF!"}},{"$error":"#REF!"}]
[{"$f":"#REF!","v":{"$error":"#REF!"}},{"$error":"#REF!"}]
[{"$f":"#REF!","v":{"$error":"#REF!"}},{"$error":"#REF!"}]
[{"$f":"#REF!","v":{"$error":"#REF!"}},{"$error":"#REF!"}]
[{"$f":"#REF!","v":{"$error":"#REF!"}},{"$error":"#REF!"}]
[{"$f":"#REF!","v":{"$error":"#REF!"}},{"$error":"#REF!"}]
[{"$f":"#REF!","v":{"$error":"#REF!"}},{"$error":"#REF!"}]
[{"$f":"#REF!","v":{"$error":"#REF!"}},{"$error":"#REF!"}]
[{"$f":"#REF!","v":{"$error":"#REF!"}},{"$error":"#REF!"}]
[{"$f":"#REF!","v":{"$error":"#REF!"}},{"$error":"#REF!"}]
[{"$f":"#REF!","v":{"$error":"#REF!"}},{"$error":"#REF!"}]
[{"$f":"#REF!","v":{"$error":"#REF!"}},{"$error":"#REF!"}]
[{"$f":"#REF!","v":{"$error":"#REF!"}},{"$error":"#REF!"}]
[{"$f":"#REF!","v":{"$error":"#REF!"}},{"$error":"#REF!"}]
[{"$f":"#REF!","v":{"$error":"#REF!"}},{"$error":"#REF!"}]
[{"$f":"#REF!","v":{"$error":"#REF!"}},{"$error":"#REF!"}]
[{"$f":"#REF!","v":{"$error":"#REF!"}},{"$error":"#REF!"}]
[{"$f":"#REF!","v":{"$error":"#REF!"}},{"$error":"#REF!"}]
[{"$f":"#REF!","v":{"$error":"#REF!"}},{"$error":"#REF!"}]
[{"$f":"#REF!","v":{"$error":"#REF!"}},{"$error":"#REF!"}]
[{"$f":"#REF!","v":{"$error":"#REF!"}},{"$error":"#REF!"}]
[{"$f":"#REF!","v":{"$error":"#REF!"}},{"$error":"#REF!"}]
[{"$f":"#REF!","v":{"$error":"#REF!"}},{"$error":"#REF!"}]
[{"$f":"#REF!","v":{"$error":"#REF!"}},{"$error":"#REF!"}]
[{"$f":"#REF!","v":{"$error":"#REF!"}},{"$error":"#REF!"}]
[{"$f":"#REF!","v":{"$error":"#REF!"}},{"$error":"#REF!"}]
[{"$f":"#REF!","v":{"$error":"#REF!"}},{"$error":"#REF!"}]
[{"$f":"#REF!","v":{"$error":"#REF!"}},{"$error":"#REF!"}]
[{"$f":"#REF!","v":{"$error":"#REF!"}},{"$error":"#REF!"}]
[{"$f":"#REF!","v":{"$error":"#REF!"}},{"$error":"#REF!"}]
[{"$f":"#REF!","v":{"$error":"#REF!"}},{"$error":"#REF!"}]
[{"$f":"#REF!","v":{"$error":"#REF!"}},{"$error":"#REF!"}]
[{"$f":"#REF!","v":{"$error":"#REF!"}},{"$error":"#REF!"}]
[{"$f":"#REF!","v":{"$error":"#REF!"}},{"$error":"#REF!"}]
[{"$f":"#REF!","v":{"$error":"#REF!"}},{"$error":"#REF!"}]
[{"$f":"#REF!","v":{"$error":"#REF!"}},{"$error":"#REF!"}]
[{"$f":"#REF!","v":{"$error":"#REF!"}},{"$error":"#REF!"}]
[{"$f":"#REF!","v":{"$error":"#REF!"}},{"$error":"#REF!"}]
[{"$f":"#REF!","v":{"$error":"#REF!"}},{"$error":"#REF!"}]
[{"$f":"#REF!","v":{"$error":"#REF!"}},{"$f":"IF(A5648=\"\",\"\",IF(VLOOKUP(A5648,base_rpvs_pagas,2)=A$11,A5648,0))","v":{"$error":"#REF!"}}]
[{"$f":"#REF!","v":{"$error":"#REF!"}},{"$error":"#REF!"}]
[{"$f":"#REF!","v":{"$error":"#REF!"}},{"$error":"#REF!"}]
[{"$f":"#REF!","v":{"$error":"#REF!"}},{"$error":"#REF!"}]
[{"$f":"#REF!","v":{"$error":"#REF!"}},{"$error":"#REF!"}]
[{"$f":"#REF!","v":{"$error":"#REF!"}},{"$error":"#REF!"}]
[{"$f":"#REF!","v":{"$error":"#REF!"}},{"$error":"#REF!"}]
[{"$f":"#REF!","v":{"$error":"#REF!"}},{"$error":"#REF!"}]
[{"$f":"#REF!","v":{"$error":"#REF!"}},{"$error":"#REF!"}]
[{"$f":"#REF!","v":{"$error":"#REF!"}},{"$error":"#REF!"}]
[{"$f":"#REF!","v":{"$error":"#REF!"}},{"$error":"#REF!"}]
[{"$f":"#REF!","v":{"$error":"#REF!"}},{"$error":"#REF!"}]
[{"$f":"#REF!","v":{"$error":"#REF!"}},{"$error":"#REF!"}]
[{"$f":"#REF!","v":{"$error":"#REF!"}},{"$error":"#REF!"}]
[{"$f":"#REF!","v":{"$error":"#REF!"}},{"$error":"#REF!"}]
[{"$f":"#REF!","v":{"$error":"#REF!"}},{"$error":"#REF!"}]
[{"$f":"#REF!","v":{"$error":"#REF!"}},{"$error":"#REF!"}]
[{"$f":"#REF!","v":{"$error":"#REF!"}},{"$error":"#REF!"}]
[{"$f":"#REF!","v":{"$error":"#REF!"}},{"$error":"#REF!"}]
[{"$f":"#REF!","v":{"$error":"#REF!"}},{"$error":"#REF!"}]
[{"$f":"#REF!","v":{"$error":"#REF!"}},{"$error":"#REF!"}]
[{"$f":"#REF!","v":{"$error":"#REF!"}},{"$error":"#REF!"}]
[{"$f":"#REF!","v":{"$error":"#REF!"}},{"$error":"#REF!"}]
[{"$f":"#REF!","v":{"$error":"#REF!"}},{"$error":"#REF!"}]
[{"$f":"#REF!","v":{"$error":"#REF!"}},{"$error":"#REF!"}]
[{"$f":"#REF!","v":{"$error":"#REF!"}},{"$error":"#REF!"}]
[{"$f":"#REF!","v":{"$error":"#REF!"}},{"$error":"#REF!"}]
[{"$f":"#REF!","v":{"$error":"#REF!"}},{"$error":"#REF!"}]
[{"$f":"#REF!","v":{"$error":"#REF!"}},{"$error":"#REF!"}]
[{"$f":"#REF!","v":{"$error":"#REF!"}},{"$error":"#REF!"}]
[{"$f":"#REF!","v":{"$error":"#REF!"}},{"$error":"#REF!"}]
[{"$f":"#REF!","v":{"$error":"#REF!"}},{"$error":"#REF!"}]
[{"$f":"#REF!","v":{"$error":"#REF!"}},{"$error":"#REF!"}]
[{"$f":"#REF!","v":{"$error":"#REF!"}},{"$error":"#REF!"}]
[{"$f":"#REF!","v":{"$error":"#REF!"}},{"$error":"#REF!"}]
[{"$f":"#REF!","v":{"$error":"#REF!"}},{"$error":"#REF!"}]
[{"$f":"#REF!","v":{"$error":"#REF!"}},{"$error":"#REF!"}]
[{"$f":"#REF!","v":{"$error":"#REF!"}},{"$error":"#REF!"}]
[{"$f":"#REF!","v":{"$error":"#REF!"}},{"$error":"#REF!"}]
[{"$f":"#REF!","v":{"$error":"#REF!"}},{"$error":"#REF!"}]
[{"$f":"#REF!","v":{"$error":"#REF!"}},{"$error":"#REF!"}]
[{"$f":"#REF!","v":{"$error":"#REF!"}},{"$error":"#REF!"}]
[{"$f":"#REF!","v":{"$error":"#REF!"}},{"$error":"#REF!"}]
[{"$f":"#REF!","v":{"$error":"#REF!"}},{"$error":"#REF!"}]
[{"$f":"#REF!","v":{"$error":"#REF!"}},{"$error":"#REF!"}]
[{"$f":"#REF!","v":{"$error":"#REF!"}},{"$error":"#REF!"}]
[{"$f":"#REF!","v":{"$error":"#REF!"}},{"$error":"#REF!"}]
[{"$f":"#REF!","v":{"$error":"#REF!"}},{"$error":"#REF!"}]
[{"$f":"#REF!","v":{"$error":"#REF!"}},{"$error":"#REF!"}]
[{"$f":"#REF!","v":{"$error":"#REF!"}},{"$error":"#REF!"}]
[{"$f":"#REF!","v":{"$error":"#REF!"}},{"$error":"#REF!"}]
[{"$f":"#REF!","v":{"$error":"#REF!"}},{"$error":"#REF!"}]
[{"$f":"#REF!","v":{"$error":"#REF!"}},{"$error":"#REF!"}]
[{"$f":"#REF!","v":{"$error":"#REF!"}},{"$error":"#REF!"}]
[{"$f":"#REF!","v":{"$error":"#REF!"}},{"$error":"#REF!"}]
[{"$f":"#REF!","v":{"$error":"#REF!"}},{"$error":"#REF!"}]
[{"$f":"#REF!","v":{"$error":"#REF!"}},{"$error":"#REF!"}]
[{"$f":"#REF!","v":{"$error":"#REF!"}},{"$error":"#REF!"}]
[{"$f":"#REF!","v":{"$error":"#REF!"}},{"$error":"#REF!"}]
[{"$f":"#REF!","v":{"$error":"#REF!"}},{"$error":"#REF!"}]
[{"$f":"#REF!","v":{"$error":"#REF!"}},{"$error":"#REF!"}]
[{"$f":"#REF!","v":{"$error":"#REF!"}},{"$error":"#REF!"}]
[{"$f":"#REF!","v":{"$error":"#REF!"}},{"$error":"#REF!"}]
[{"$f":"#REF!","v":{"$error":"#REF!"}},{"$error":"#REF!"}]
[{"$f":"#REF!","v":{"$error":"#REF!"}},{"$f":"IF(A5712=\"\",\"\",IF(VLOOKUP(A5712,base_rpvs_pagas,2)=A$11,A5712,0))","v":{"$error":"#REF!"}}]
[{"$f":"#REF!","v":{"$error":"#REF!"}},{"$error":"#REF!"}]
[{"$f":"#REF!","v":{"$error":"#REF!"}},{"$error":"#REF!"}]
[{"$f":"#REF!","v":{"$error":"#REF!"}},{"$error":"#REF!"}]
[{"$f":"#REF!","v":{"$error":"#REF!"}},{"$error":"#REF!"}]
[{"$f":"#REF!","v":{"$error":"#REF!"}},{"$error":"#REF!"}]
[{"$f":"#REF!","v":{"$error":"#REF!"}},{"$error":"#REF!"}]
[{"$f":"#REF!","v":{"$error":"#REF!"}},{"$error":"#REF!"}]
[{"$f":"#REF!","v":{"$error":"#REF!"}},{"$error":"#REF!"}]
[{"$f":"#REF!","v":{"$error":"#REF!"}},{"$error":"#REF!"}]
[{"$f":"#REF!","v":{"$error":"#REF!"}},{"$error":"#REF!"}]
[{"$f":"#REF!","v":{"$error":"#REF!"}},{"$error":"#REF!"}]
[{"$f":"#REF!","v":{"$error":"#REF!"}},{"$error":"#REF!"}]
[{"$f":"#REF!","v":{"$error":"#REF!"}},{"$error":"#REF!"}]
[{"$f":"#REF!","v":{"$error":"#REF!"}},{"$error":"#REF!"}]
[{"$f":"#REF!","v":{"$error":"#REF!"}},{"$error":"#REF!"}]
[{"$f":"#REF!","v":{"$error":"#REF!"}},{"$error":"#REF!"}]
[{"$f":"#REF!","v":{"$error":"#REF!"}},{"$error":"#REF!"}]
[{"$f":"#REF!","v":{"$error":"#REF!"}},{"$error":"#REF!"}]
[{"$f":"#REF!","v":{"$error":"#REF!"}},{"$error":"#REF!"}]
[{"$f":"#REF!","v":{"$error":"#REF!"}},{"$error":"#REF!"}]
[{"$f":"#REF!","v":{"$error":"#REF!"}},{"$error":"#REF!"}]
[{"$f":"#REF!","v":{"$error":"#REF!"}},{"$error":"#REF!"}]
[{"$f":"#REF!","v":{"$error":"#REF!"}},{"$error":"#REF!"}]
[{"$f":"#REF!","v":{"$error":"#REF!"}},{"$error":"#REF!"}]
[{"$f":"#REF!","v":{"$error":"#REF!"}},{"$error":"#REF!"}]
[{"$f":"#REF!","v":{"$error":"#REF!"}},{"$error":"#REF!"}]
[{"$f":"#REF!","v":{"$error":"#REF!"}},{"$error":"#REF!"}]
[{"$f":"#REF!","v":{"$error":"#REF!"}},{"$error":"#REF!"}]
[{"$f":"#REF!","v":{"$error":"#REF!"}},{"$error":"#REF!"}]
[{"$f":"#REF!","v":{"$error":"#REF!"}},{"$error":"#REF!"}]
[{"$f":"#REF!","v":{"$error":"#REF!"}},{"$error":"#REF!"}]
[{"$f":"#REF!","v":{"$error":"#REF!"}},{"$error":"#REF!"}]
[{"$f":"#REF!","v":{"$error":"#REF!"}},{"$error":"#REF!"}]
[{"$f":"#REF!","v":{"$error":"#REF!"}},{"$error":"#REF!"}]
[{"$f":"#REF!","v":{"$error":"#REF!"}},{"$error":"#REF!"}]
[{"$f":"#REF!","v":{"$error":"#REF!"}},{"$error":"#REF!"}]
[{"$f":"#REF!","v":{"$error":"#REF!"}},{"$error":"#REF!"}]
[{"$f":"#REF!","v":{"$error":"#REF!"}},{"$error":"#REF!"}]
[{"$f":"#REF!","v":{"$error":"#REF!"}},{"$error":"#REF!"}]
[{"$f":"#REF!","v":{"$error":"#REF!"}},{"$error":"#REF!"}]
[{"$f":"#REF!","v":{"$error":"#REF!"}},{"$error":"#REF!"}]
[{"$f":"#REF!","v":{"$error":"#REF!"}},{"$error":"#REF!"}]
[{"$f":"#REF!","v":{"$error":"#REF!"}},{"$error":"#REF!"}]
[{"$f":"#REF!","v":{"$error":"#REF!"}},{"$error":"#REF!"}]
[{"$f":"#REF!","v":{"$error":"#REF!"}},{"$error":"#REF!"}]
[{"$f":"#REF!","v":{"$error":"#REF!"}},{"$error":"#REF!"}]
[{"$f":"#REF!","v":{"$error":"#REF!"}},{"$error":"#REF!"}]
[{"$f":"#REF!","v":{"$error":"#REF!"}},{"$error":"#REF!"}]
[{"$f":"#REF!","v":{"$error":"#REF!"}},{"$error":"#REF!"}]
[{"$f":"#REF!","v":{"$error":"#REF!"}},{"$error":"#REF!"}]
[{"$f":"#REF!","v":{"$error":"#REF!"}},{"$error":"#REF!"}]
[{"$f":"#REF!","v":{"$error":"#REF!"}},{"$error":"#REF!"}]
[{"$f":"#REF!","v":{"$error":"#REF!"}},{"$error":"#REF!"}]
[{"$f":"#REF!","v":{"$error":"#REF!"}},{"$error":"#REF!"}]
[{"$f":"#REF!","v":{"$error":"#REF!"}},{"$error":"#REF!"}]
[{"$f":"#REF!","v":{"$error":"#REF!"}},{"$error":"#REF!"}]
[{"$f":"#REF!","v":{"$error":"#REF!"}},{"$error":"#REF!"}]
[{"$f":"#REF!","v":{"$error":"#REF!"}},{"$error":"#REF!"}]
[{"$f":"#REF!","v":{"$error":"#REF!"}},{"$error":"#REF!"}]
[{"$f":"#REF!","v":{"$error":"#REF!"}},{"$error":"#REF!"}]
[{"$f":"#REF!","v":{"$error":"#REF!"}},{"$error":"#REF!"}]
[{"$f":"#REF!","v":{"$error":"#REF!"}},{"$error":"#REF!"}]
[{"$f":"#REF!","v":{"$error":"#REF!"}},{"$error":"#REF!"}]
[{"$f":"#REF!","v":{"$error":"#REF!"}},{"$f":"IF(A5776=\"\",\"\",IF(VLOOKUP(A5776,base_rpvs_pagas,2)=A$11,A5776,0))","v":{"$error":"#REF!"}}]
[{"$f":"#REF!","v":{"$error":"#REF!"}},{"$error":"#REF!"}]
[{"$f":"#REF!","v":{"$error":"#REF!"}},{"$error":"#REF!"}]
[{"$f":"#REF!","v":{"$error":"#REF!"}},{"$error":"#REF!"}]
[{"$f":"#REF!","v":{"$error":"#REF!"}},{"$error":"#REF!"}]
[{"$f":"#REF!","v":{"$error":"#REF!"}},{"$error":"#REF!"}]
[{"$f":"#REF!","v":{"$error":"#REF!"}},{"$error":"#REF!"}]
[{"$f":"#REF!","v":{"$error":"#REF!"}},{"$error":"#REF!"}]
[{"$f":"#REF!","v":{"$error":"#REF!"}},{"$error":"#REF!"}]
[{"$f":"#REF!","v":{"$error":"#REF!"}},{"$error":"#REF!"}]
[{"$f":"#REF!","v":{"$error":"#REF!"}},{"$error":"#REF!"}]
[{"$f":"#REF!","v":{"$error":"#REF!"}},{"$error":"#REF!"}]
[{"$f":"#REF!","v":{"$error":"#REF!"}},{"$error":"#REF!"}]
[{"$f":"#REF!","v":{"$error":"#REF!"}},{"$error":"#REF!"}]
[{"$f":"#REF!","v":{"$error":"#REF!"}},{"$error":"#REF!"}]
[{"$f":"#REF!","v":{"$error":"#REF!"}},{"$error":"#REF!"}]
[{"$f":"#REF!","v":{"$error":"#REF!"}},{"$error":"#REF!"}]
[{"$f":"#REF!","v":{"$error":"#REF!"}},{"$error":"#REF!"}]
[{"$f":"#REF!","v":{"$error":"#REF!"}},{"$error":"#REF!"}]
[{"$f":"#REF!","v":{"$error":"#REF!"}},{"$error":"#REF!"}]
[{"$f":"#REF!","v":{"$error":"#REF!"}},{"$error":"#REF!"}]
[{"$f":"#REF!","v":{"$error":"#REF!"}},{"$error":"#REF!"}]
[{"$f":"#REF!","v":{"$error":"#REF!"}},{"$error":"#REF!"}]
[{"$f":"#REF!","v":{"$error":"#REF!"}},{"$error":"#REF!"}]
[{"$f":"#REF!","v":{"$error":"#REF!"}},{"$error":"#REF!"}]
[{"$f":"#REF!","v":{"$error":"#REF!"}},{"$error":"#REF!"}]
[{"$f":"#REF!","v":{"$error":"#REF!"}},{"$error":"#REF!"}]
[{"$f":"#REF!","v":{"$error":"#REF!"}},{"$error":"#REF!"}]
[{"$f":"#REF!","v":{"$error":"#REF!"}},{"$error":"#REF!"}]
[{"$f":"#REF!","v":{"$error":"#REF!"}},{"$error":"#REF!"}]
[{"$f":"#REF!","v":{"$error":"#REF!"}},{"$error":"#REF!"}]
[{"$f":"#REF!","v":{"$error":"#REF!"}},{"$error":"#REF!"}]
[{"$f":"#REF!","v":{"$error":"#REF!"}},{"$error":"#REF!"}]
[{"$f":"#REF!","v":{"$error":"#REF!"}},{"$error":"#REF!"}]
[{"$f":"#REF!","v":{"$error":"#REF!"}},{"$error":"#REF!"}]
[{"$f":"#REF!","v":{"$error":"#REF!"}},{"$error":"#REF!"}]
[{"$f":"#REF!","v":{"$error":"#REF!"}},{"$error":"#REF!"}]
[{"$f":"#REF!","v":{"$error":"#REF!"}},{"$error":"#REF!"}]
[{"$f":"#REF!","v":{"$error":"#REF!"}},{"$error":"#REF!"}]
[{"$f":"#REF!","v":{"$error":"#REF!"}},{"$error":"#REF!"}]
[{"$f":"#REF!","v":{"$error":"#REF!"}},{"$error":"#REF!"}]
[{"$f":"#REF!","v":{"$error":"#REF!"}},{"$error":"#REF!"}]
[{"$f":"#REF!","v":{"$error":"#REF!"}},{"$error":"#REF!"}]
[{"$f":"#REF!","v":{"$error":"#REF!"}},{"$error":"#REF!"}]
[{"$f":"#REF!","v":{"$error":"#REF!"}},{"$error":"#REF!"}]
[{"$f":"#REF!","v":{"$error":"#REF!"}},{"$error":"#REF!"}]
[{"$f":"#REF!","v":{"$error":"#REF!"}},{"$error":"#REF!"}]
[{"$f":"#REF!","v":{"$error":"#REF!"}},{"$error":"#REF!"}]
[{"$f":"#REF!","v":{"$error":"#REF!"}},{"$error":"#REF!"}]
[{"$f":"#REF!","v":{"$error":"#REF!"}},{"$error":"#REF!"}]
[{"$f":"#REF!","v":{"$error":"#REF!"}},{"$error":"#REF!"}]
[{"$f":"#REF!","v":{"$error":"#REF!"}},{"$error":"#REF!"}]
[{"$f":"#REF!","v":{"$error":"#REF!"}},{"$error":"#REF!"}]
[{"$f":"#REF!","v":{"$error":"#REF!"}},{"$error":"#REF!"}]
[{"$f":"#REF!","v":{"$error":"#REF!"}},{"$error":"#REF!"}]
[{"$f":"#REF!","v":{"$error":"#REF!"}},{"$error":"#REF!"}]
[{"$f":"#REF!","v":{"$error":"#REF!"}},{"$error":"#REF!"}]
[{"$f":"#REF!","v":{"$error":"#REF!"}},{"$error":"#REF!"}]
[{"$f":"#REF!","v":{"$error":"#REF!"}},{"$error":"#REF!"}]
[{"$f":"#REF!","v":{"$error":"#REF!"}},{"$error":"#REF!"}]
[{"$f":"#REF!","v":{"$error":"#REF!"}},{"$error":"#REF!"}]
[{"$f":"#REF!","v":{"$error":"#REF!"}},{"$error":"#REF!"}]
[{"$f":"#REF!","v":{"$error":"#REF!"}},{"$error":"#REF!"}]
[{"$f":"#REF!","v":{"$error":"#REF!"}},{"$error":"#REF!"}]
[{"$f":"#REF!","v":{"$error":"#REF!"}},{"$f":"IF(A5840=\"\",\"\",IF(VLOOKUP(A5840,base_rpvs_pagas,2)=A$11,A5840,0))","v":{"$error":"#REF!"}}]
[{"$f":"#REF!","v":{"$error":"#REF!"}},{"$error":"#REF!"}]
[{"$f":"#REF!","v":{"$error":"#REF!"}},{"$error":"#REF!"}]
[{"$f":"#REF!","v":{"$error":"#REF!"}},{"$error":"#REF!"}]
[{"$f":"#REF!","v":{"$error":"#REF!"}},{"$error":"#REF!"}]
[{"$f":"#REF!","v":{"$error":"#REF!"}},{"$error":"#REF!"}]
[{"$f":"#REF!","v":{"$error":"#REF!"}},{"$error":"#REF!"}]
[{"$f":"#REF!","v":{"$error":"#REF!"}},{"$error":"#REF!"}]
[{"$f":"#REF!","v":{"$error":"#REF!"}},{"$error":"#REF!"}]
[{"$f":"#REF!","v":{"$error":"#REF!"}},{"$error":"#REF!"}]
[{"$f":"#REF!","v":{"$error":"#REF!"}},{"$error":"#REF!"}]
[{"$f":"#REF!","v":{"$error":"#REF!"}},{"$error":"#REF!"}]
[{"$f":"#REF!","v":{"$error":"#REF!"}},{"$error":"#REF!"}]
[{"$f":"#REF!","v":{"$error":"#REF!"}},{"$error":"#REF!"}]
[{"$f":"#REF!","v":{"$error":"#REF!"}},{"$error":"#REF!"}]
[{"$f":"#REF!","v":{"$error":"#REF!"}},{"$error":"#REF!"}]
[{"$f":"#REF!","v":{"$error":"#REF!"}},{"$error":"#REF!"}]
[{"$f":"#REF!","v":{"$error":"#REF!"}},{"$error":"#REF!"}]
[{"$f":"#REF!","v":{"$error":"#REF!"}},{"$error":"#REF!"}]
[{"$f":"#REF!","v":{"$error":"#REF!"}},{"$error":"#REF!"}]
[{"$f":"#REF!","v":{"$error":"#REF!"}},{"$error":"#REF!"}]
[{"$f":"#REF!","v":{"$error":"#REF!"}},{"$error":"#REF!"}]
[{"$f":"#REF!","v":{"$error":"#REF!"}},{"$error":"#REF!"}]
[{"$f":"#REF!","v":{"$error":"#REF!"}},{"$error":"#REF!"}]
[{"$f":"#REF!","v":{"$error":"#REF!"}},{"$error":"#REF!"}]
[{"$f":"#REF!","v":{"$error":"#REF!"}},{"$error":"#REF!"}]
[{"$f":"#REF!","v":{"$error":"#REF!"}},{"$error":"#REF!"}]
[{"$f":"#REF!","v":{"$error":"#REF!"}},{"$error":"#REF!"}]
[{"$f":"#REF!","v":{"$error":"#REF!"}},{"$error":"#REF!"}]
[{"$f":"#REF!","v":{"$error":"#REF!"}},{"$error":"#REF!"}]
[{"$f":"#REF!","v":{"$error":"#REF!"}},{"$error":"#REF!"}]
[{"$f":"#REF!","v":{"$error":"#REF!"}},{"$error":"#REF!"}]
[{"$f":"#REF!","v":{"$error":"#REF!"}},{"$error":"#REF!"}]
[{"$f":"#REF!","v":{"$error":"#REF!"}},{"$error":"#REF!"}]
[{"$f":"#REF!","v":{"$error":"#REF!"}},{"$error":"#REF!"}]
[{"$f":"#REF!","v":{"$error":"#REF!"}},{"$error":"#REF!"}]
[{"$f":"#REF!","v":{"$error":"#REF!"}},{"$error":"#REF!"}]
[{"$f":"#REF!","v":{"$error":"#REF!"}},{"$error":"#REF!"}]
[{"$f":"#REF!","v":{"$error":"#REF!"}},{"$error":"#REF!"}]
[{"$f":"#REF!","v":{"$error":"#REF!"}},{"$error":"#REF!"}]
[{"$f":"#REF!","v":{"$error":"#REF!"}},{"$error":"#REF!"}]
[{"$f":"#REF!","v":{"$error":"#REF!"}},{"$error":"#REF!"}]
[{"$f":"#REF!","v":{"$error":"#REF!"}},{"$error":"#REF!"}]
[{"$f":"#REF!","v":{"$error":"#REF!"}},{"$error":"#REF!"}]
[{"$f":"#REF!","v":{"$error":"#REF!"}},{"$error":"#REF!"}]
[{"$f":"#REF!","v":{"$error":"#REF!"}},{"$error":"#REF!"}]
[{"$f":"#REF!","v":{"$error":"#REF!"}},{"$error":"#REF!"}]
[{"$f":"#REF!","v":{"$error":"#REF!"}},{"$error":"#REF!"}]
[{"$f":"#REF!","v":{"$error":"#REF!"}},{"$error":"#REF!"}]
[{"$f":"#REF!","v":{"$error":"#REF!"}},{"$error":"#REF!"}]
[{"$f":"#REF!","v":{"$error":"#REF!"}},{"$error":"#REF!"}]
[{"$f":"#REF!","v":{"$error":"#REF!"}},{"$error":"#REF!"}]
[{"$f":"#REF!","v":{"$error":"#REF!"}},{"$error":"#REF!"}]
[{"$f":"#REF!","v":{"$error":"#REF!"}},{"$error":"#REF!"}]
[{"$f":"#REF!","v":{"$error":"#REF!"}},{"$error":"#REF!"}]
[{"$f":"#REF!","v":{"$error":"#REF!"}},{"$error":"#REF!"}]
[{"$f":"#REF!","v":{"$error":"#REF!"}},{"$error":"#REF!"}]
[{"$f":"#REF!","v":{"$error":"#REF!"}},{"$error":"#REF!"}]
[{"$f":"#REF!","v":{"$error":"#REF!"}},{"$error":"#REF!"}]
[{"$f":"#REF!","v":{"$error":"#REF!"}},{"$error":"#REF!"}]
[{"$f":"#REF!","v":{"$error":"#REF!"}},{"$error":"#REF!"}]
[{"$f":"#REF!","v":{"$error":"#REF!"}},{"$error":"#REF!"}]
[{"$f":"#REF!","v":{"$error":"#REF!"}},{"$error":"#REF!"}]
[{"$f":"#REF!","v":{"$error":"#REF!"}},{"$error":"#REF!"}]
[{"$f":"#REF!","v":{"$error":"#REF!"}},{"$f":"IF(A5904=\"\",\"\",IF(VLOOKUP(A5904,base_rpvs_pagas,2)=A$11,A5904,0))","v":{"$error":"#REF!"}}]
[{"$f":"#REF!","v":{"$error":"#REF!"}},{"$error":"#REF!"}]
[{"$f":"#REF!","v":{"$error":"#REF!"}},{"$error":"#REF!"}]
[{"$f":"#REF!","v":{"$error":"#REF!"}},{"$error":"#REF!"}]
[{"$f":"#REF!","v":{"$error":"#REF!"}},{"$error":"#REF!"}]
[{"$f":"#REF!","v":{"$error":"#REF!"}},{"$error":"#REF!"}]
[{"$f":"#REF!","v":{"$error":"#REF!"}},{"$error":"#REF!"}]
[{"$f":"#REF!","v":{"$error":"#REF!"}},{"$error":"#REF!"}]
[{"$f":"#REF!","v":{"$error":"#REF!"}},{"$error":"#REF!"}]
[{"$f":"#REF!","v":{"$error":"#REF!"}},{"$error":"#REF!"}]
[{"$f":"#REF!","v":{"$error":"#REF!"}},{"$error":"#REF!"}]
[{"$f":"#REF!","v":{"$error":"#REF!"}},{"$error":"#REF!"}]
[{"$f":"#REF!","v":{"$error":"#REF!"}},{"$error":"#REF!"}]
[{"$f":"#REF!","v":{"$error":"#REF!"}},{"$error":"#REF!"}]
[{"$f":"#REF!","v":{"$error":"#REF!"}},{"$error":"#REF!"}]
[{"$f":"#REF!","v":{"$error":"#REF!"}},{"$error":"#REF!"}]
[{"$f":"#REF!","v":{"$error":"#REF!"}},{"$error":"#REF!"}]
[{"$f":"#REF!","v":{"$error":"#REF!"}},{"$error":"#REF!"}]
[{"$f":"#REF!","v":{"$error":"#REF!"}},{"$error":"#REF!"}]
[{"$f":"#REF!","v":{"$error":"#REF!"}},{"$error":"#REF!"}]
[{"$f":"#REF!","v":{"$error":"#REF!"}},{"$error":"#REF!"}]
[{"$f":"#REF!","v":{"$error":"#REF!"}},{"$error":"#REF!"}]
[{"$f":"#REF!","v":{"$error":"#REF!"}},{"$error":"#REF!"}]
[{"$f":"#REF!","v":{"$error":"#REF!"}},{"$error":"#REF!"}]
[{"$f":"#REF!","v":{"$error":"#REF!"}},{"$error":"#REF!"}]
[{"$f":"#REF!","v":{"$error":"#REF!"}},{"$error":"#REF!"}]
[{"$f":"#REF!","v":{"$error":"#REF!"}},{"$error":"#REF!"}]
[{"$f":"#REF!","v":{"$error":"#REF!"}},{"$error":"#REF!"}]
[{"$f":"#REF!","v":{"$error":"#REF!"}},{"$error":"#REF!"}]
[{"$f":"#REF!","v":{"$error":"#REF!"}},{"$error":"#REF!"}]
[{"$f":"#REF!","v":{"$error":"#REF!"}},{"$error":"#REF!"}]
[{"$f":"#REF!","v":{"$error":"#REF!"}},{"$error":"#REF!"}]
[{"$f":"#REF!","v":{"$error":"#REF!"}},{"$error":"#REF!"}]
[{"$f":"#REF!","v":{"$error":"#REF!"}},{"$error":"#REF!"}]
[{"$f":"#REF!","v":{"$error":"#REF!"}},{"$error":"#REF!"}]
[{"$f":"#REF!","v":{"$error":"#REF!"}},{"$error":"#REF!"}]
[{"$f":"#REF!","v":{"$error":"#REF!"}},{"$error":"#REF!"}]
[{"$f":"#REF!","v":{"$error":"#REF!"}},{"$error":"#REF!"}]
[{"$f":"#REF!","v":{"$error":"#REF!"}},{"$error":"#REF!"}]
[{"$f":"#REF!","v":{"$error":"#REF!"}},{"$error":"#REF!"}]
[{"$f":"#REF!","v":{"$error":"#REF!"}},{"$error":"#REF!"}]
[{"$f":"#REF!","v":{"$error":"#REF!"}},{"$error":"#REF!"}]
[{"$f":"#REF!","v":{"$error":"#REF!"}},{"$error":"#REF!"}]
[{"$f":"#REF!","v":{"$error":"#REF!"}},{"$error":"#REF!"}]
[{"$f":"#REF!","v":{"$error":"#REF!"}},{"$error":"#REF!"}]
[{"$f":"#REF!","v":{"$error":"#REF!"}},{"$error":"#REF!"}]
[{"$f":"#REF!","v":{"$error":"#REF!"}},{"$error":"#REF!"}]
[{"$f":"#REF!","v":{"$error":"#REF!"}},{"$error":"#REF!"}]
[{"$f":"#REF!","v":{"$error":"#REF!"}},{"$error":"#REF!"}]
[{"$f":"#REF!","v":{"$error":"#REF!"}},{"$error":"#REF!"}]
[{"$f":"#REF!","v":{"$error":"#REF!"}},{"$error":"#REF!"}]
[{"$f":"#REF!","v":{"$error":"#REF!"}},{"$error":"#REF!"}]
[{"$f":"#REF!","v":{"$error":"#REF!"}},{"$error":"#REF!"}]
[{"$f":"#REF!","v":{"$error":"#REF!"}},{"$error":"#REF!"}]
[{"$f":"#REF!","v":{"$error":"#REF!"}},{"$error":"#REF!"}]
[{"$f":"#REF!","v":{"$error":"#REF!"}},{"$error":"#REF!"}]
[{"$f":"#REF!","v":{"$error":"#REF!"}},{"$error":"#REF!"}]
[{"$f":"#REF!","v":{"$error":"#REF!"}},{"$error":"#REF!"}]
[{"$f":"#REF!","v":{"$error":"#REF!"}},{"$error":"#REF!"}]
[{"$f":"#REF!","v":{"$error":"#REF!"}},{"$error":"#REF!"}]
[{"$f":"#REF!","v":{"$error":"#REF!"}},{"$error":"#REF!"}]
[{"$f":"#REF!","v":{"$error":"#REF!"}},{"$error":"#REF!"}]
[{"$f":"#REF!","v":{"$error":"#REF!"}},{"$error":"#REF!"}]
[{"$f":"#REF!","v":{"$error":"#REF!"}},{"$error":"#REF!"}]
[{"$f":"#REF!","v":{"$error":"#REF!"}},{"$f":"IF(A5968=\"\",\"\",IF(VLOOKUP(A5968,base_rpvs_pagas,2)=A$11,A5968,0))","v":{"$error":"#REF!"}}]
[{"$f":"#REF!","v":{"$error":"#REF!"}},{"$error":"#REF!"}]
[{"$f":"#REF!","v":{"$error":"#REF!"}},{"$error":"#REF!"}]
[{"$f":"#REF!","v":{"$error":"#REF!"}},{"$error":"#REF!"}]
[{"$f":"#REF!","v":{"$error":"#REF!"}},{"$error":"#REF!"}]
[{"$f":"#REF!","v":{"$error":"#REF!"}},{"$error":"#REF!"}]
[{"$f":"#REF!","v":{"$error":"#REF!"}},{"$error":"#REF!"}]
[{"$f":"#REF!","v":{"$error":"#REF!"}},{"$error":"#REF!"}]
[{"$f":"#REF!","v":{"$error":"#REF!"}},{"$error":"#REF!"}]
[{"$f":"#REF!","v":{"$error":"#REF!"}},{"$error":"#REF!"}]
[{"$f":"#REF!","v":{"$error":"#REF!"}},{"$error":"#REF!"}]
[{"$f":"#REF!","v":{"$error":"#REF!"}},{"$error":"#REF!"}]
[{"$f":"#REF!","v":{"$error":"#REF!"}},{"$error":"#REF!"}]
[{"$f":"#REF!","v":{"$error":"#REF!"}},{"$error":"#REF!"}]
[{"$f":"#REF!","v":{"$error":"#REF!"}},{"$error":"#REF!"}]
[{"$f":"#REF!","v":{"$error":"#REF!"}},{"$error":"#REF!"}]
[{"$f":"#REF!","v":{"$error":"#REF!"}},{"$error":"#REF!"}]
[{"$f":"#REF!","v":{"$error":"#REF!"}},{"$error":"#REF!"}]
[{"$f":"#REF!","v":{"$error":"#REF!"}},{"$error":"#REF!"}]
[{"$f":"#REF!","v":{"$error":"#REF!"}},{"$error":"#REF!"}]
[{"$f":"#REF!","v":{"$error":"#REF!"}},{"$error":"#REF!"}]
[{"$f":"#REF!","v":{"$error":"#REF!"}},{"$error":"#REF!"}]
[{"$f":"#REF!","v":{"$error":"#REF!"}},{"$error":"#REF!"}]
[{"$f":"#REF!","v":{"$error":"#REF!"}},{"$error":"#REF!"}]
[{"$f":"#REF!","v":{"$error":"#REF!"}},{"$error":"#REF!"}]
[{"$f":"#REF!","v":{"$error":"#REF!"}},{"$error":"#REF!"}]
[{"$f":"#REF!","v":{"$error":"#REF!"}},{"$error":"#REF!"}]
[{"$f":"#REF!","v":{"$error":"#REF!"}},{"$error":"#REF!"}]
[{"$f":"#REF!","v":{"$error":"#REF!"}},{"$error":"#REF!"}]
[{"$f":"#REF!","v":{"$error":"#REF!"}},{"$error":"#REF!"}]
[{"$f":"#REF!","v":{"$error":"#REF!"}},{"$error":"#REF!"}]
[{"$f":"#REF!","v":{"$error":"#REF!"}},{"$error":"#REF!"}]
[{"$f":"#REF!","v":{"$error":"#REF!"}},{"$error":"#REF!"}]
[{"$f":"#REF!","v":{"$error":"#REF!"}},{"$error":"#REF!"}]
[{"$f":"#REF!","v":{"$error":"#REF!"}},{"$error":"#REF!"}]
[{"$f":"#REF!","v":{"$error":"#REF!"}},{"$error":"#REF!"}]
[{"$f":"#REF!","v":{"$error":"#REF!"}},{"$error":"#REF!"}]
[{"$f":"#REF!","v":{"$error":"#REF!"}},{"$error":"#REF!"}]
[{"$f":"#REF!","v":{"$error":"#REF!"}},{"$error":"#REF!"}]
[{"$f":"#REF!","v":{"$error":"#REF!"}},{"$error":"#REF!"}]
[{"$f":"#REF!","v":{"$error":"#REF!"}},{"$error":"#REF!"}]
[{"$f":"#REF!","v":{"$error":"#REF!"}},{"$error":"#REF!"}]
[{"$f":"#REF!","v":{"$error":"#REF!"}},{"$error":"#REF!"}]
[{"$f":"#REF!","v":{"$error":"#REF!"}},{"$error":"#REF!"}]
[{"$f":"#REF!","v":{"$error":"#REF!"}},{"$error":"#REF!"}]
[{"$f":"#REF!","v":{"$error":"#REF!"}},{"$error":"#REF!"}]
[{"$f":"#REF!","v":{"$error":"#REF!"}},{"$error":"#REF!"}]
[{"$f":"#REF!","v":{"$error":"#REF!"}},{"$error":"#REF!"}]
[{"$f":"#REF!","v":{"$error":"#REF!"}},{"$error":"#REF!"}]
[{"$f":"#REF!","v":{"$error":"#REF!"}},{"$error":"#REF!"}]
[{"$f":"#REF!","v":{"$error":"#REF!"}},{"$error":"#REF!"}]
[{"$f":"#REF!","v":{"$error":"#REF!"}},{"$error":"#REF!"}]
[{"$f":"#REF!","v":{"$error":"#REF!"}},{"$error":"#REF!"}]
[{"$f":"#REF!","v":{"$error":"#REF!"}},{"$error":"#REF!"}]
[{"$f":"#REF!","v":{"$error":"#REF!"}},{"$error":"#REF!"}]
[{"$f":"#REF!","v":{"$error":"#REF!"}},{"$error":"#REF!"}]
[{"$f":"#REF!","v":{"$error":"#REF!"}},{"$error":"#REF!"}]
[{"$f":"#REF!","v":{"$error":"#REF!"}},{"$error":"#REF!"}]
[{"$f":"#REF!","v":{"$error":"#REF!"}},{"$error":"#REF!"}]
[{"$f":"#REF!","v":{"$error":"#REF!"}},{"$error":"#REF!"}]
[{"$f":"#REF!","v":{"$error":"#REF!"}},{"$error":"#REF!"}]
[{"$f":"#REF!","v":{"$error":"#REF!"}},{"$error":"#REF!"}]
[{"$f":"#REF!","v":{"$error":"#REF!"}},{"$error":"#REF!"}]
[{"$f":"#REF!","v":{"$error":"#REF!"}},{"$error":"#REF!"}]
[{"$f":"#REF!","v":{"$error":"#REF!"}},{"$f":"IF(A6032=\"\",\"\",IF(VLOOKUP(A6032,base_rpvs_pagas,2)=A$11,A6032,0))","v":{"$error":"#REF!"}}]
[{"$f":"#REF!","v":{"$error":"#REF!"}},{"$error":"#REF!"}]
[{"$f":"#REF!","v":{"$error":"#REF!"}},{"$error":"#REF!"}]
[{"$f":"#REF!","v":{"$error":"#REF!"}},{"$error":"#REF!"}]
[{"$f":"#REF!","v":{"$error":"#REF!"}},{"$error":"#REF!"}]
[{"$f":"#REF!","v":{"$error":"#REF!"}},{"$error":"#REF!"}]
[{"$f":"#REF!","v":{"$error":"#REF!"}},{"$error":"#REF!"}]
[{"$f":"#REF!","v":{"$error":"#REF!"}},{"$error":"#REF!"}]
[{"$f":"#REF!","v":{"$error":"#REF!"}},{"$error":"#REF!"}]
[{"$f":"#REF!","v":{"$error":"#REF!"}},{"$error":"#REF!"}]
[{"$f":"#REF!","v":{"$error":"#REF!"}},{"$error":"#REF!"}]
[{"$f":"#REF!","v":{"$error":"#REF!"}},{"$error":"#REF!"}]
[{"$f":"#REF!","v":{"$error":"#REF!"}},{"$error":"#REF!"}]
[{"$f":"#REF!","v":{"$error":"#REF!"}},{"$error":"#REF!"}]
[{"$f":"#REF!","v":{"$error":"#REF!"}},{"$error":"#REF!"}]
[{"$f":"#REF!","v":{"$error":"#REF!"}},{"$error":"#REF!"}]
[{"$f":"#REF!","v":{"$error":"#REF!"}},{"$error":"#REF!"}]
[{"$f":"#REF!","v":{"$error":"#REF!"}},{"$error":"#REF!"}]
[{"$f":"#REF!","v":{"$error":"#REF!"}},{"$error":"#REF!"}]
[{"$f":"#REF!","v":{"$error":"#REF!"}},{"$error":"#REF!"}]
[{"$f":"#REF!","v":{"$error":"#REF!"}},{"$error":"#REF!"}]
[{"$f":"#REF!","v":{"$error":"#REF!"}},{"$error":"#REF!"}]
[{"$f":"#REF!","v":{"$error":"#REF!"}},{"$error":"#REF!"}]
[{"$f":"#REF!","v":{"$error":"#REF!"}},{"$error":"#REF!"}]
[{"$f":"#REF!","v":{"$error":"#REF!"}},{"$error":"#REF!"}]
[{"$f":"#REF!","v":{"$error":"#REF!"}},{"$error":"#REF!"}]
[{"$f":"#REF!","v":{"$error":"#REF!"}},{"$error":"#REF!"}]
[{"$f":"#REF!","v":{"$error":"#REF!"}},{"$error":"#REF!"}]
[{"$f":"#REF!","v":{"$error":"#REF!"}},{"$error":"#REF!"}]
[{"$f":"#REF!","v":{"$error":"#REF!"}},{"$error":"#REF!"}]
[{"$f":"#REF!","v":{"$error":"#REF!"}},{"$error":"#REF!"}]
[{"$f":"#REF!","v":{"$error":"#REF!"}},{"$error":"#REF!"}]
[{"$f":"#REF!","v":{"$error":"#REF!"}},{"$error":"#REF!"}]
[{"$f":"#REF!","v":{"$error":"#REF!"}},{"$error":"#REF!"}]
[{"$f":"#REF!","v":{"$error":"#REF!"}},{"$error":"#REF!"}]
[{"$f":"#REF!","v":{"$error":"#REF!"}},{"$error":"#REF!"}]
[{"$f":"#REF!","v":{"$error":"#REF!"}},{"$error":"#REF!"}]
[{"$f":"#REF!","v":{"$error":"#REF!"}},{"$error":"#REF!"}]
[{"$f":"#REF!","v":{"$error":"#REF!"}},{"$error":"#REF!"}]
[{"$f":"#REF!","v":{"$error":"#REF!"}},{"$error":"#REF!"}]
[{"$f":"#REF!","v":{"$error":"#REF!"}},{"$error":"#REF!"}]
[{"$f":"#REF!","v":{"$error":"#REF!"}},{"$error":"#REF!"}]
[{"$f":"#REF!","v":{"$error":"#REF!"}},{"$error":"#REF!"}]
[{"$f":"#REF!","v":{"$error":"#REF!"}},{"$error":"#REF!"}]
[{"$f":"#REF!","v":{"$error":"#REF!"}},{"$error":"#REF!"}]
[{"$f":"#REF!","v":{"$error":"#REF!"}},{"$error":"#REF!"}]
[{"$f":"#REF!","v":{"$error":"#REF!"}},{"$error":"#REF!"}]
[{"$f":"#REF!","v":{"$error":"#REF!"}},{"$error":"#REF!"}]
[{"$f":"#REF!","v":{"$error":"#REF!"}},{"$error":"#REF!"}]
[{"$f":"#REF!","v":{"$error":"#REF!"}},{"$error":"#REF!"}]
[{"$f":"#REF!","v":{"$error":"#REF!"}},{"$error":"#REF!"}]
[{"$f":"#REF!","v":{"$error":"#REF!"}},{"$error":"#REF!"}]
[{"$f":"#REF!","v":{"$error":"#REF!"}},{"$error":"#REF!"}]
[{"$f":"#REF!","v":{"$error":"#REF!"}},{"$error":"#REF!"}]
[{"$f":"#REF!","v":{"$error":"#REF!"}},{"$error":"#REF!"}]
[{"$f":"#REF!","v":{"$error":"#REF!"}},{"$error":"#REF!"}]
[{"$f":"#REF!","v":{"$error":"#REF!"}},{"$error":"#REF!"}]
[{"$f":"#REF!","v":{"$error":"#REF!"}},{"$error":"#REF!"}]
[{"$f":"#REF!","v":{"$error":"#REF!"}},{"$error":"#REF!"}]
[{"$f":"#REF!","v":{"$error":"#REF!"}},{"$error":"#REF!"}]
[{"$f":"#REF!","v":{"$error":"#REF!"}},{"$error":"#REF!"}]
[{"$f":"#REF!","v":{"$error":"#REF!"}},{"$error":"#REF!"}]
[{"$f":"#REF!","v":{"$error":"#REF!"}},{"$error":"#REF!"}]
[{"$f":"#REF!","v":{"$error":"#REF!"}},{"$error":"#REF!"}]
[{"$f":"#REF!","v":{"$error":"#REF!"}},{"$f":"IF(A6096=\"\",\"\",IF(VLOOKUP(A6096,base_rpvs_pagas,2)=A$11,A6096,0))","v":{"$error":"#REF!"}}]
[{"$f":"#REF!","v":{"$error":"#REF!"}},{"$error":"#REF!"}]
[{"$f":"#REF!","v":{"$error":"#REF!"}},{"$error":"#REF!"}]
[{"$f":"#REF!","v":{"$error":"#REF!"}},{"$error":"#REF!"}]
[{"$f":"#REF!","v":{"$error":"#REF!"}},{"$error":"#REF!"}]
[{"$f":"#REF!","v":{"$error":"#REF!"}},{"$error":"#REF!"}]
[{"$f":"#REF!","v":{"$error":"#REF!"}},{"$error":"#REF!"}]
[{"$f":"#REF!","v":{"$error":"#REF!"}},{"$error":"#REF!"}]
[{"$f":"#REF!","v":{"$error":"#REF!"}},{"$error":"#REF!"}]
[{"$f":"#REF!","v":{"$error":"#REF!"}},{"$error":"#REF!"}]
[{"$f":"#REF!","v":{"$error":"#REF!"}},{"$error":"#REF!"}]
[{"$f":"#REF!","v":{"$error":"#REF!"}},{"$error":"#REF!"}]
[{"$f":"#REF!","v":{"$error":"#REF!"}},{"$error":"#REF!"}]
[{"$f":"#REF!","v":{"$error":"#REF!"}},{"$error":"#REF!"}]
[{"$f":"#REF!","v":{"$error":"#REF!"}},{"$error":"#REF!"}]
[{"$f":"#REF!","v":{"$error":"#REF!"}},{"$error":"#REF!"}]
[{"$f":"#REF!","v":{"$error":"#REF!"}},{"$error":"#REF!"}]
[{"$f":"#REF!","v":{"$error":"#REF!"}},{"$error":"#REF!"}]
[{"$f":"#REF!","v":{"$error":"#REF!"}},{"$error":"#REF!"}]
[{"$f":"#REF!","v":{"$error":"#REF!"}},{"$error":"#REF!"}]
[{"$f":"#REF!","v":{"$error":"#REF!"}},{"$error":"#REF!"}]
[{"$f":"#REF!","v":{"$error":"#REF!"}},{"$error":"#REF!"}]
[{"$f":"#REF!","v":{"$error":"#REF!"}},{"$error":"#REF!"}]
[{"$f":"#REF!","v":{"$error":"#REF!"}},{"$error":"#REF!"}]
[{"$f":"#REF!","v":{"$error":"#REF!"}},{"$error":"#REF!"}]
[{"$f":"#REF!","v":{"$error":"#REF!"}},{"$error":"#REF!"}]
[{"$f":"#REF!","v":{"$error":"#REF!"}},{"$error":"#REF!"}]
[{"$f":"#REF!","v":{"$error":"#REF!"}},{"$error":"#REF!"}]
[{"$f":"#REF!","v":{"$error":"#REF!"}},{"$error":"#REF!"}]
[{"$f":"#REF!","v":{"$error":"#REF!"}},{"$error":"#REF!"}]
[{"$f":"#REF!","v":{"$error":"#REF!"}},{"$error":"#REF!"}]
[{"$f":"#REF!","v":{"$error":"#REF!"}},{"$error":"#REF!"}]
[{"$f":"#REF!","v":{"$error":"#REF!"}},{"$error":"#REF!"}]
[{"$f":"#REF!","v":{"$error":"#REF!"}},{"$error":"#REF!"}]
[{"$f":"#REF!","v":{"$error":"#REF!"}},{"$error":"#REF!"}]
[{"$f":"#REF!","v":{"$error":"#REF!"}},{"$error":"#REF!"}]
[{"$f":"#REF!","v":{"$error":"#REF!"}},{"$error":"#REF!"}]
[{"$f":"#REF!","v":{"$error":"#REF!"}},{"$error":"#REF!"}]
[{"$f":"#REF!","v":{"$error":"#REF!"}},{"$error":"#REF!"}]
[{"$f":"#REF!","v":{"$error":"#REF!"}},{"$error":"#REF!"}]
[{"$f":"#REF!","v":{"$error":"#REF!"}},{"$error":"#REF!"}]
[{"$f":"#REF!","v":{"$error":"#REF!"}},{"$error":"#REF!"}]
[{"$f":"#REF!","v":{"$error":"#REF!"}},{"$error":"#REF!"}]
[{"$f":"#REF!","v":{"$error":"#REF!"}},{"$error":"#REF!"}]
[{"$f":"#REF!","v":{"$error":"#REF!"}},{"$error":"#REF!"}]
[{"$f":"#REF!","v":{"$error":"#REF!"}},{"$error":"#REF!"}]
[{"$f":"#REF!","v":{"$error":"#REF!"}},{"$error":"#REF!"}]
[{"$f":"#REF!","v":{"$error":"#REF!"}},{"$error":"#REF!"}]
[{"$f":"#REF!","v":{"$error":"#REF!"}},{"$error":"#REF!"}]
[{"$f":"#REF!","v":{"$error":"#REF!"}},{"$error":"#REF!"}]
[{"$f":"#REF!","v":{"$error":"#REF!"}},{"$error":"#REF!"}]
[{"$f":"#REF!","v":{"$error":"#REF!"}},{"$error":"#REF!"}]
[{"$f":"#REF!","v":{"$error":"#REF!"}},{"$error":"#REF!"}]
[{"$f":"#REF!","v":{"$error":"#REF!"}},{"$error":"#REF!"}]
[{"$f":"#REF!","v":{"$error":"#REF!"}},{"$error":"#REF!"}]
[{"$f":"#REF!","v":{"$error":"#REF!"}},{"$error":"#REF!"}]
[{"$f":"#REF!","v":{"$error":"#REF!"}},{"$error":"#REF!"}]
[{"$f":"#REF!","v":{"$error":"#REF!"}},{"$error":"#REF!"}]
[{"$f":"#REF!","v":{"$error":"#REF!"}},{"$error":"#REF!"}]
[{"$f":"#REF!","v":{"$error":"#REF!"}},{"$error":"#REF!"}]
[{"$f":"#REF!","v":{"$error":"#REF!"}},{"$error":"#REF!"}]
[{"$f":"#REF!","v":{"$error":"#REF!"}},{"$error":"#REF!"}]
[{"$f":"#REF!","v":{"$error":"#REF!"}},{"$error":"#REF!"}]
[{"$f":"#REF!","v":{"$error":"#REF!"}},{"$error":"#REF!"}]
[{"$f":"#REF!","v":{"$error":"#REF!"}},{"$f":"IF(A6160=\"\",\"\",IF(VLOOKUP(A6160,base_rpvs_pagas,2)=A$11,A6160,0))","v":{"$error":"#REF!"}}]
[{"$f":"#REF!","v":{"$error":"#REF!"}},{"$error":"#REF!"}]
[{"$f":"#REF!","v":{"$error":"#REF!"}},{"$error":"#REF!"}]
[{"$f":"#REF!","v":{"$error":"#REF!"}},{"$error":"#REF!"}]
[{"$f":"#REF!","v":{"$error":"#REF!"}},{"$error":"#REF!"}]
[{"$f":"#REF!","v":{"$error":"#REF!"}},{"$error":"#REF!"}]
[{"$f":"#REF!","v":{"$error":"#REF!"}},{"$error":"#REF!"}]
[{"$f":"#REF!","v":{"$error":"#REF!"}},{"$error":"#REF!"}]
[{"$f":"#REF!","v":{"$error":"#REF!"}},{"$error":"#REF!"}]
[{"$f":"#REF!","v":{"$error":"#REF!"}},{"$error":"#REF!"}]
[{"$f":"#REF!","v":{"$error":"#REF!"}},{"$error":"#REF!"}]
[{"$f":"#REF!","v":{"$error":"#REF!"}},{"$error":"#REF!"}]
[{"$f":"#REF!","v":{"$error":"#REF!"}},{"$error":"#REF!"}]
[{"$f":"#REF!","v":{"$error":"#REF!"}},{"$error":"#REF!"}]
[{"$f":"#REF!","v":{"$error":"#REF!"}},{"$error":"#REF!"}]
[{"$f":"#REF!","v":{"$error":"#REF!"}},{"$error":"#REF!"}]
[{"$f":"#REF!","v":{"$error":"#REF!"}},{"$error":"#REF!"}]
[{"$f":"#REF!","v":{"$error":"#REF!"}},{"$error":"#REF!"}]
[{"$f":"#REF!","v":{"$error":"#REF!"}},{"$error":"#REF!"}]
[{"$f":"#REF!","v":{"$error":"#REF!"}},{"$error":"#REF!"}]
[{"$f":"#REF!","v":{"$error":"#REF!"}},{"$error":"#REF!"}]
[{"$f":"#REF!","v":{"$error":"#REF!"}},{"$error":"#REF!"}]
[{"$f":"#REF!","v":{"$error":"#REF!"}},{"$error":"#REF!"}]
[{"$f":"#REF!","v":{"$error":"#REF!"}},{"$error":"#REF!"}]
[{"$f":"#REF!","v":{"$error":"#REF!"}},{"$error":"#REF!"}]
[{"$f":"#REF!","v":{"$error":"#REF!"}},{"$error":"#REF!"}]
[{"$f":"#REF!","v":{"$error":"#REF!"}},{"$error":"#REF!"}]
[{"$f":"#REF!","v":{"$error":"#REF!"}},{"$error":"#REF!"}]
[{"$f":"#REF!","v":{"$error":"#REF!"}},{"$error":"#REF!"}]
[{"$f":"#REF!","v":{"$error":"#REF!"}},{"$error":"#REF!"}]
[{"$f":"#REF!","v":{"$error":"#REF!"}},{"$error":"#REF!"}]
[{"$f":"#REF!","v":{"$error":"#REF!"}},{"$error":"#REF!"}]
[{"$f":"#REF!","v":{"$error":"#REF!"}},{"$error":"#REF!"}]
[{"$f":"#REF!","v":{"$error":"#REF!"}},{"$error":"#REF!"}]
[{"$f":"#REF!","v":{"$error":"#REF!"}},{"$error":"#REF!"}]
[{"$f":"#REF!","v":{"$error":"#REF!"}},{"$error":"#REF!"}]
[{"$f":"#REF!","v":{"$error":"#REF!"}},{"$error":"#REF!"}]
[{"$f":"#REF!","v":{"$error":"#REF!"}},{"$error":"#REF!"}]
[{"$f":"#REF!","v":{"$error":"#REF!"}},{"$error":"#REF!"}]
[{"$f":"#REF!","v":{"$error":"#REF!"}},{"$error":"#REF!"}]
[{"$f":"#REF!","v":{"$error":"#REF!"}},{"$error":"#REF!"}]
[{"$f":"#REF!","v":{"$error":"#REF!"}},{"$error":"#REF!"}]
[{"$f":"#REF!","v":{"$error":"#REF!"}},{"$error":"#REF!"}]
[{"$f":"#REF!","v":{"$error":"#REF!"}},{"$error":"#REF!"}]
[{"$f":"#REF!","v":{"$error":"#REF!"}},{"$error":"#REF!"}]
[{"$f":"#REF!","v":{"$error":"#REF!"}},{"$error":"#REF!"}]
[{"$f":"#REF!","v":{"$error":"#REF!"}},{"$error":"#REF!"}]
[{"$f":"#REF!","v":{"$error":"#REF!"}},{"$error":"#REF!"}]
[{"$f":"#REF!","v":{"$error":"#REF!"}},{"$error":"#REF!"}]
[{"$f":"#REF!","v":{"$error":"#REF!"}},{"$error":"#REF!"}]
[{"$f":"#REF!","v":{"$error":"#REF!"}},{"$error":"#REF!"}]
[{"$f":"#REF!","v":{"$error":"#REF!"}},{"$error":"#REF!"}]
[{"$f":"#REF!","v":{"$error":"#REF!"}},{"$error":"#REF!"}]
[{"$f":"#REF!","v":{"$error":"#REF!"}},{"$error":"#REF!"}]
[{"$f":"#REF!","v":{"$error":"#REF!"}},{"$error":"#REF!"}]
[{"$f":"#REF!","v":{"$error":"#REF!"}},{"$error":"#REF!"}]
[{"$f":"#REF!","v":{"$error":"#REF!"}},{"$error":"#REF!"}]
[{"$f":"#REF!","v":{"$error":"#REF!"}},{"$error":"#REF!"}]
[{"$f":"#REF!","v":{"$error":"#REF!"}},{"$error":"#REF!"}]
[{"$f":"#REF!","v":{"$error":"#REF!"}},{"$error":"#REF!"}]
[{"$f":"#REF!","v":{"$error":"#REF!"}},{"$error":"#REF!"}]
[{"$f":"#REF!","v":{"$error":"#REF!"}},{"$error":"#REF!"}]
[{"$f":"#REF!","v":{"$error":"#REF!"}},{"$error":"#REF!"}]
[{"$f":"#REF!","v":{"$error":"#REF!"}},{"$error":"#REF!"}]
[{"$f":"#REF!","v":{"$error":"#REF!"}},{"$f":"IF(A6224=\"\",\"\",IF(VLOOKUP(A6224,base_rpvs_pagas,2)=A$11,A6224,0))","v":{"$error":"#REF!"}}]
[{"$f":"#REF!","v":{"$error":"#REF!"}},{"$error":"#REF!"}]
[{"$f":"#REF!","v":{"$error":"#REF!"}},{"$error":"#REF!"}]
[{"$f":"#REF!","v":{"$error":"#REF!"}},{"$error":"#REF!"}]
[{"$f":"#REF!","v":{"$error":"#REF!"}},{"$error":"#REF!"}]
[{"$f":"#REF!","v":{"$error":"#REF!"}},{"$error":"#REF!"}]
[{"$f":"#REF!","v":{"$error":"#REF!"}},{"$error":"#REF!"}]
[{"$f":"#REF!","v":{"$error":"#REF!"}},{"$error":"#REF!"}]
[{"$f":"#REF!","v":{"$error":"#REF!"}},{"$error":"#REF!"}]
[{"$f":"#REF!","v":{"$error":"#REF!"}},{"$error":"#REF!"}]
[{"$f":"#REF!","v":{"$error":"#REF!"}},{"$error":"#REF!"}]
[{"$f":"#REF!","v":{"$error":"#REF!"}},{"$error":"#REF!"}]
[{"$f":"#REF!","v":{"$error":"#REF!"}},{"$error":"#REF!"}]
[{"$f":"#REF!","v":{"$error":"#REF!"}},{"$error":"#REF!"}]
[{"$f":"#REF!","v":{"$error":"#REF!"}},{"$error":"#REF!"}]
[{"$f":"#REF!","v":{"$error":"#REF!"}},{"$error":"#REF!"}]
[{"$f":"#REF!","v":{"$error":"#REF!"}},{"$error":"#REF!"}]
[{"$f":"#REF!","v":{"$error":"#REF!"}},{"$error":"#REF!"}]
[{"$f":"#REF!","v":{"$error":"#REF!"}},{"$error":"#REF!"}]
[{"$f":"#REF!","v":{"$error":"#REF!"}},{"$error":"#REF!"}]
[{"$f":"#REF!","v":{"$error":"#REF!"}},{"$error":"#REF!"}]
[{"$f":"#REF!","v":{"$error":"#REF!"}},{"$error":"#REF!"}]
[{"$f":"#REF!","v":{"$error":"#REF!"}},{"$error":"#REF!"}]
[{"$f":"#REF!","v":{"$error":"#REF!"}},{"$error":"#REF!"}]
[{"$f":"#REF!","v":{"$error":"#REF!"}},{"$error":"#REF!"}]
[{"$f":"#REF!","v":{"$error":"#REF!"}},{"$error":"#REF!"}]
[{"$f":"#REF!","v":{"$error":"#REF!"}},{"$error":"#REF!"}]
[{"$f":"#REF!","v":{"$error":"#REF!"}},{"$error":"#REF!"}]
[{"$f":"#REF!","v":{"$error":"#REF!"}},{"$error":"#REF!"}]
[{"$f":"#REF!","v":{"$error":"#REF!"}},{"$error":"#REF!"}]
[{"$f":"#REF!","v":{"$error":"#REF!"}},{"$error":"#REF!"}]
[{"$f":"#REF!","v":{"$error":"#REF!"}},{"$error":"#REF!"}]
[{"$f":"#REF!","v":{"$error":"#REF!"}},{"$error":"#REF!"}]
[{"$f":"#REF!","v":{"$error":"#REF!"}},{"$error":"#REF!"}]
[{"$f":"#REF!","v":{"$error":"#REF!"}},{"$error":"#REF!"}]
[{"$f":"#REF!","v":{"$error":"#REF!"}},{"$error":"#REF!"}]
[{"$f":"#REF!","v":{"$error":"#REF!"}},{"$error":"#REF!"}]
[{"$f":"#REF!","v":{"$error":"#REF!"}},{"$error":"#REF!"}]
[{"$f":"#REF!","v":{"$error":"#REF!"}},{"$error":"#REF!"}]
[{"$f":"#REF!","v":{"$error":"#REF!"}},{"$error":"#REF!"}]
[{"$f":"#REF!","v":{"$error":"#REF!"}},{"$error":"#REF!"}]
[{"$f":"#REF!","v":{"$error":"#REF!"}},{"$error":"#REF!"}]
[{"$f":"#REF!","v":{"$error":"#REF!"}},{"$error":"#REF!"}]
[{"$f":"#REF!","v":{"$error":"#REF!"}},{"$error":"#REF!"}]
[{"$f":"#REF!","v":{"$error":"#REF!"}},{"$error":"#REF!"}]
[{"$f":"#REF!","v":{"$error":"#REF!"}},{"$error":"#REF!"}]
[{"$f":"#REF!","v":{"$error":"#REF!"}},{"$error":"#REF!"}]
[{"$f":"#REF!","v":{"$error":"#REF!"}},{"$error":"#REF!"}]
[{"$f":"#REF!","v":{"$error":"#REF!"}},{"$error":"#REF!"}]
[{"$f":"#REF!","v":{"$error":"#REF!"}},{"$error":"#REF!"}]
[{"$f":"#REF!","v":{"$error":"#REF!"}},{"$error":"#REF!"}]
[{"$f":"#REF!","v":{"$error":"#REF!"}},{"$error":"#REF!"}]
[{"$f":"#REF!","v":{"$error":"#REF!"}},{"$error":"#REF!"}]
[{"$f":"#REF!","v":{"$error":"#REF!"}},{"$error":"#REF!"}]
[{"$f":"#REF!","v":{"$error":"#REF!"}},{"$error":"#REF!"}]
[{"$f":"#REF!","v":{"$error":"#REF!"}},{"$error":"#REF!"}]
[{"$f":"#REF!","v":{"$error":"#REF!"}},{"$error":"#REF!"}]
[{"$f":"#REF!","v":{"$error":"#REF!"}},{"$error":"#REF!"}]
[{"$f":"#REF!","v":{"$error":"#REF!"}},{"$error":"#REF!"}]
[{"$f":"#REF!","v":{"$error":"#REF!"}},{"$error":"#REF!"}]
[{"$f":"#REF!","v":{"$error":"#REF!"}},{"$error":"#REF!"}]
[{"$f":"#REF!","v":{"$error":"#REF!"}},{"$error":"#REF!"}]
[{"$f":"#REF!","v":{"$error":"#REF!"}},{"$error":"#REF!"}]
[{"$f":"#REF!","v":{"$error":"#REF!"}},{"$error":"#REF!"}]
[{"$f":"#REF!","v":{"$error":"#REF!"}},{"$f":"IF(A6288=\"\",\"\",IF(VLOOKUP(A6288,base_rpvs_pagas,2)=A$11,A6288,0))","v":{"$error":"#REF!"}}]
[{"$f":"#REF!","v":{"$error":"#REF!"}},{"$error":"#REF!"}]
[{"$f":"#REF!","v":{"$error":"#REF!"}},{"$error":"#REF!"}]
[{"$f":"#REF!","v":{"$error":"#REF!"}},{"$error":"#REF!"}]
[{"$f":"#REF!","v":{"$error":"#REF!"}},{"$error":"#REF!"}]
[{"$f":"#REF!","v":{"$error":"#REF!"}},{"$error":"#REF!"}]
[{"$f":"#REF!","v":{"$error":"#REF!"}},{"$error":"#REF!"}]
[{"$f":"#REF!","v":{"$error":"#REF!"}},{"$error":"#REF!"}]
[{"$f":"#REF!","v":{"$error":"#REF!"}},{"$error":"#REF!"}]
[{"$f":"#REF!","v":{"$error":"#REF!"}},{"$error":"#REF!"}]
[{"$f":"#REF!","v":{"$error":"#REF!"}},{"$error":"#REF!"}]
[{"$f":"#REF!","v":{"$error":"#REF!"}},{"$error":"#REF!"}]
[{"$f":"#REF!","v":{"$error":"#REF!"}},{"$error":"#REF!"}]
[{"$f":"#REF!","v":{"$error":"#REF!"}},{"$error":"#REF!"}]
[{"$f":"#REF!","v":{"$error":"#REF!"}},{"$error":"#REF!"}]
[{"$f":"#REF!","v":{"$error":"#REF!"}},{"$error":"#REF!"}]
[{"$f":"#REF!","v":{"$error":"#REF!"}},{"$error":"#REF!"}]
[{"$f":"#REF!","v":{"$error":"#REF!"}},{"$error":"#REF!"}]
[{"$f":"#REF!","v":{"$error":"#REF!"}},{"$error":"#REF!"}]
[{"$f":"#REF!","v":{"$error":"#REF!"}},{"$error":"#REF!"}]
[{"$f":"#REF!","v":{"$error":"#REF!"}},{"$error":"#REF!"}]
[{"$f":"#REF!","v":{"$error":"#REF!"}},{"$error":"#REF!"}]
[{"$f":"#REF!","v":{"$error":"#REF!"}},{"$error":"#REF!"}]
[{"$f":"#REF!","v":{"$error":"#REF!"}},{"$error":"#REF!"}]
[{"$f":"#REF!","v":{"$error":"#REF!"}},{"$error":"#REF!"}]
[{"$f":"#REF!","v":{"$error":"#REF!"}},{"$error":"#REF!"}]
[{"$f":"#REF!","v":{"$error":"#REF!"}},{"$error":"#REF!"}]
[{"$f":"#REF!","v":{"$error":"#REF!"}},{"$error":"#REF!"}]
[{"$f":"#REF!","v":{"$error":"#REF!"}},{"$error":"#REF!"}]
[{"$f":"#REF!","v":{"$error":"#REF!"}},{"$error":"#REF!"}]
[{"$f":"#REF!","v":{"$error":"#REF!"}},{"$error":"#REF!"}]
[{"$f":"#REF!","v":{"$error":"#REF!"}},{"$error":"#REF!"}]
[{"$f":"#REF!","v":{"$error":"#REF!"}},{"$error":"#REF!"}]
[{"$f":"#REF!","v":{"$error":"#REF!"}},{"$error":"#REF!"}]
[{"$f":"#REF!","v":{"$error":"#REF!"}},{"$error":"#REF!"}]
[{"$f":"#REF!","v":{"$error":"#REF!"}},{"$error":"#REF!"}]
[{"$f":"#REF!","v":{"$error":"#REF!"}},{"$error":"#REF!"}]
[{"$f":"#REF!","v":{"$error":"#REF!"}},{"$error":"#REF!"}]
[{"$f":"#REF!","v":{"$error":"#REF!"}},{"$error":"#REF!"}]
[{"$f":"#REF!","v":{"$error":"#REF!"}},{"$error":"#REF!"}]
[{"$f":"#REF!","v":{"$error":"#REF!"}},{"$error":"#REF!"}]
[{"$f":"#REF!","v":{"$error":"#REF!"}},{"$error":"#REF!"}]
[{"$f":"#REF!","v":{"$error":"#REF!"}},{"$error":"#REF!"}]
[{"$f":"#REF!","v":{"$error":"#REF!"}},{"$error":"#REF!"}]
[{"$f":"#REF!","v":{"$error":"#REF!"}},{"$error":"#REF!"}]
[{"$f":"#REF!","v":{"$error":"#REF!"}},{"$error":"#REF!"}]
[{"$f":"#REF!","v":{"$error":"#REF!"}},{"$error":"#REF!"}]
[{"$f":"#REF!","v":{"$error":"#REF!"}},{"$error":"#REF!"}]
[{"$f":"#REF!","v":{"$error":"#REF!"}},{"$error":"#REF!"}]
[{"$f":"#REF!","v":{"$error":"#REF!"}},{"$error":"#REF!"}]
[{"$f":"#REF!","v":{"$error":"#REF!"}},{"$error":"#REF!"}]
[{"$f":"#REF!","v":{"$error":"#REF!"}},{"$error":"#REF!"}]
[{"$f":"#REF!","v":{"$error":"#REF!"}},{"$error":"#REF!"}]
[{"$f":"#REF!","v":{"$error":"#REF!"}},{"$error":"#REF!"}]
[{"$f":"#REF!","v":{"$error":"#REF!"}},{"$error":"#REF!"}]
[{"$f":"#REF!","v":{"$error":"#REF!"}},{"$error":"#REF!"}]
[{"$f":"#REF!","v":{"$error":"#REF!"}},{"$error":"#REF!"}]
[{"$f":"#REF!","v":{"$error":"#REF!"}},{"$error":"#REF!"}]
[{"$f":"#REF!","v":{"$error":"#REF!"}},{"$error":"#REF!"}]
[{"$f":"#REF!","v":{"$error":"#REF!"}},{"$error":"#REF!"}]
[{"$f":"#REF!","v":{"$error":"#REF!"}},{"$error":"#REF!"}]
[{"$f":"#REF!","v":{"$error":"#REF!"}},{"$error":"#REF!"}]
[{"$f":"#REF!","v":{"$error":"#REF!"}},{"$error":"#REF!"}]
[{"$f":"#REF!","v":{"$error":"#REF!"}},{"$error":"#REF!"}]
[{"$f":"#REF!","v":{"$error":"#REF!"}},{"$f":"IF(A6352=\"\",\"\",IF(VLOOKUP(A6352,base_rpvs_pagas,2)=A$11,A6352,0))","v":{"$error":"#REF!"}}]
[{"$f":"#REF!","v":{"$error":"#REF!"}},{"$error":"#REF!"}]
[{"$f":"#REF!","v":{"$error":"#REF!"}},{"$error":"#REF!"}]
[{"$f":"#REF!","v":{"$error":"#REF!"}},{"$error":"#REF!"}]
[{"$f":"#REF!","v":{"$error":"#REF!"}},{"$error":"#REF!"}]
[{"$f":"#REF!","v":{"$error":"#REF!"}},{"$error":"#REF!"}]
[{"$f":"#REF!","v":{"$error":"#REF!"}},{"$error":"#REF!"}]
[{"$f":"#REF!","v":{"$error":"#REF!"}},{"$error":"#REF!"}]
[{"$f":"#REF!","v":{"$error":"#REF!"}},{"$error":"#REF!"}]
[{"$f":"#REF!","v":{"$error":"#REF!"}},{"$error":"#REF!"}]
[{"$f":"#REF!","v":{"$error":"#REF!"}},{"$error":"#REF!"}]
[{"$f":"#REF!","v":{"$error":"#REF!"}},{"$error":"#REF!"}]
[{"$f":"#REF!","v":{"$error":"#REF!"}},{"$error":"#REF!"}]
[{"$f":"#REF!","v":{"$error":"#REF!"}},{"$error":"#REF!"}]
[{"$f":"#REF!","v":{"$error":"#REF!"}},{"$error":"#REF!"}]
[{"$f":"#REF!","v":{"$error":"#REF!"}},{"$error":"#REF!"}]
[{"$f":"#REF!","v":{"$error":"#REF!"}},{"$error":"#REF!"}]
[{"$f":"#REF!","v":{"$error":"#REF!"}},{"$error":"#REF!"}]
[{"$f":"#REF!","v":{"$error":"#REF!"}},{"$error":"#REF!"}]
[{"$f":"#REF!","v":{"$error":"#REF!"}},{"$error":"#REF!"}]
[{"$f":"#REF!","v":{"$error":"#REF!"}},{"$error":"#REF!"}]
[{"$f":"#REF!","v":{"$error":"#REF!"}},{"$error":"#REF!"}]
[{"$f":"#REF!","v":{"$error":"#REF!"}},{"$error":"#REF!"}]
[{"$f":"#REF!","v":{"$error":"#REF!"}},{"$error":"#REF!"}]
[{"$f":"#REF!","v":{"$error":"#REF!"}},{"$error":"#REF!"}]
[{"$f":"#REF!","v":{"$error":"#REF!"}},{"$error":"#REF!"}]
[{"$f":"#REF!","v":{"$error":"#REF!"}},{"$error":"#REF!"}]
[{"$f":"#REF!","v":{"$error":"#REF!"}},{"$error":"#REF!"}]
[{"$f":"#REF!","v":{"$error":"#REF!"}},{"$error":"#REF!"}]
[{"$f":"#REF!","v":{"$error":"#REF!"}},{"$error":"#REF!"}]
[{"$f":"#REF!","v":{"$error":"#REF!"}},{"$error":"#REF!"}]
[{"$f":"#REF!","v":{"$error":"#REF!"}},{"$error":"#REF!"}]
[{"$f":"#REF!","v":{"$error":"#REF!"}},{"$error":"#REF!"}]
[{"$f":"#REF!","v":{"$error":"#REF!"}},{"$error":"#REF!"}]
[{"$f":"#REF!","v":{"$error":"#REF!"}},{"$error":"#REF!"}]
[{"$f":"#REF!","v":{"$error":"#REF!"}},{"$error":"#REF!"}]
[{"$f":"#REF!","v":{"$error":"#REF!"}},{"$error":"#REF!"}]
[{"$f":"#REF!","v":{"$error":"#REF!"}},{"$error":"#REF!"}]
[{"$f":"#REF!","v":{"$error":"#REF!"}},{"$error":"#REF!"}]
[{"$f":"#REF!","v":{"$error":"#REF!"}},{"$error":"#REF!"}]
[{"$f":"#REF!","v":{"$error":"#REF!"}},{"$error":"#REF!"}]
[{"$f":"#REF!","v":{"$error":"#REF!"}},{"$error":"#REF!"}]
[{"$f":"#REF!","v":{"$error":"#REF!"}},{"$error":"#REF!"}]
[{"$f":"#REF!","v":{"$error":"#REF!"}},{"$error":"#REF!"}]
[{"$f":"#REF!","v":{"$error":"#REF!"}},{"$error":"#REF!"}]
[{"$f":"#REF!","v":{"$error":"#REF!"}},{"$error":"#REF!"}]
[{"$f":"#REF!","v":{"$error":"#REF!"}},{"$error":"#REF!"}]
[{"$f":"#REF!","v":{"$error":"#REF!"}},{"$error":"#REF!"}]
[{"$f":"#REF!","v":{"$error":"#REF!"}},{"$error":"#REF!"}]
[{"$f":"#REF!","v":{"$error":"#REF!"}},{"$error":"#REF!"}]
[{"$f":"#REF!","v":{"$error":"#REF!"}},{"$error":"#REF!"}]
[{"$f":"#REF!","v":{"$error":"#REF!"}},{"$error":"#REF!"}]
[{"$f":"#REF!","v":{"$error":"#REF!"}},{"$error":"#REF!"}]
[{"$f":"#REF!","v":{"$error":"#REF!"}},{"$error":"#REF!"}]
[{"$f":"#REF!","v":{"$error":"#REF!"}},{"$error":"#REF!"}]
[{"$f":"#REF!","v":{"$error":"#REF!"}},{"$error":"#REF!"}]
[{"$f":"#REF!","v":{"$error":"#REF!"}},{"$error":"#REF!"}]
[{"$f":"#REF!","v":{"$error":"#REF!"}},{"$error":"#REF!"}]
[{"$f":"#REF!","v":{"$error":"#REF!"}},{"$error":"#REF!"}]
[{"$f":"#REF!","v":{"$error":"#REF!"}},{"$error":"#REF!"}]
[{"$f":"#REF!","v":{"$error":"#REF!"}},{"$error":"#REF!"}]
[{"$f":"#REF!","v":{"$error":"#REF!"}},{"$error":"#REF!"}]
[{"$f":"#REF!","v":{"$error":"#REF!"}},{"$error":"#REF!"}]
[{"$f":"#REF!","v":{"$error":"#REF!"}},{"$error":"#REF!"}]
[{"$f":"#REF!","v":{"$error":"#REF!"}},{"$f":"IF(A6416=\"\",\"\",IF(VLOOKUP(A6416,base_rpvs_pagas,2)=A$11,A6416,0))","v":{"$error":"#REF!"}}]
[{"$f":"#REF!","v":{"$error":"#REF!"}},{"$error":"#REF!"}]
[{"$f":"#REF!","v":{"$error":"#REF!"}},{"$error":"#REF!"}]
[{"$f":"#REF!","v":{"$error":"#REF!"}},{"$error":"#REF!"}]
[{"$f":"#REF!","v":{"$error":"#REF!"}},{"$error":"#REF!"}]
[{"$f":"#REF!","v":{"$error":"#REF!"}},{"$error":"#REF!"}]
[{"$f":"#REF!","v":{"$error":"#REF!"}},{"$error":"#REF!"}]
[{"$f":"#REF!","v":{"$error":"#REF!"}},{"$error":"#REF!"}]
[{"$f":"#REF!","v":{"$error":"#REF!"}},{"$error":"#REF!"}]
[{"$f":"#REF!","v":{"$error":"#REF!"}},{"$error":"#REF!"}]
[{"$f":"#REF!","v":{"$error":"#REF!"}},{"$error":"#REF!"}]
[{"$f":"#REF!","v":{"$error":"#REF!"}},{"$error":"#REF!"}]
[{"$f":"#REF!","v":{"$error":"#REF!"}},{"$error":"#REF!"}]
[{"$f":"#REF!","v":{"$error":"#REF!"}},{"$error":"#REF!"}]
[{"$f":"#REF!","v":{"$error":"#REF!"}},{"$error":"#REF!"}]
[{"$f":"#REF!","v":{"$error":"#REF!"}},{"$error":"#REF!"}]
[{"$f":"#REF!","v":{"$error":"#REF!"}},{"$error":"#REF!"}]
[{"$f":"#REF!","v":{"$error":"#REF!"}},{"$error":"#REF!"}]
[{"$f":"#REF!","v":{"$error":"#REF!"}},{"$error":"#REF!"}]
[{"$f":"#REF!","v":{"$error":"#REF!"}},{"$error":"#REF!"}]
[{"$f":"#REF!","v":{"$error":"#REF!"}},{"$error":"#REF!"}]
[{"$f":"#REF!","v":{"$error":"#REF!"}},{"$error":"#REF!"}]
[{"$f":"#REF!","v":{"$error":"#REF!"}},{"$error":"#REF!"}]
[{"$f":"#REF!","v":{"$error":"#REF!"}},{"$error":"#REF!"}]
[{"$f":"#REF!","v":{"$error":"#REF!"}},{"$error":"#REF!"}]
[{"$f":"#REF!","v":{"$error":"#REF!"}},{"$error":"#REF!"}]
[{"$f":"#REF!","v":{"$error":"#REF!"}},{"$error":"#REF!"}]
[{"$f":"#REF!","v":{"$error":"#REF!"}},{"$error":"#REF!"}]
[{"$f":"#REF!","v":{"$error":"#REF!"}},{"$error":"#REF!"}]
[{"$f":"#REF!","v":{"$error":"#REF!"}},{"$error":"#REF!"}]
[{"$f":"#REF!","v":{"$error":"#REF!"}},{"$error":"#REF!"}]
[{"$f":"#REF!","v":{"$error":"#REF!"}},{"$error":"#REF!"}]
[{"$f":"#REF!","v":{"$error":"#REF!"}},{"$error":"#REF!"}]
[{"$f":"#REF!","v":{"$error":"#REF!"}},{"$error":"#REF!"}]
[{"$f":"#REF!","v":{"$error":"#REF!"}},{"$error":"#REF!"}]
[{"$f":"#REF!","v":{"$error":"#REF!"}},{"$error":"#REF!"}]
[{"$f":"#REF!","v":{"$error":"#REF!"}},{"$error":"#REF!"}]
[{"$f":"#REF!","v":{"$error":"#REF!"}},{"$error":"#REF!"}]
[{"$f":"#REF!","v":{"$error":"#REF!"}},{"$error":"#REF!"}]
[{"$f":"#REF!","v":{"$error":"#REF!"}},{"$error":"#REF!"}]
[{"$f":"#REF!","v":{"$error":"#REF!"}},{"$error":"#REF!"}]
[{"$f":"#REF!","v":{"$error":"#REF!"}},{"$error":"#REF!"}]
[{"$f":"#REF!","v":{"$error":"#REF!"}},{"$error":"#REF!"}]
[{"$f":"#REF!","v":{"$error":"#REF!"}},{"$error":"#REF!"}]
[{"$f":"#REF!","v":{"$error":"#REF!"}},{"$error":"#REF!"}]
[{"$f":"#REF!","v":{"$error":"#REF!"}},{"$error":"#REF!"}]
[{"$f":"#REF!","v":{"$error":"#REF!"}},{"$error":"#REF!"}]
[{"$f":"#REF!","v":{"$error":"#REF!"}},{"$error":"#REF!"}]
[{"$f":"#REF!","v":{"$error":"#REF!"}},{"$error":"#REF!"}]
[{"$f":"#REF!","v":{"$error":"#REF!"}},{"$error":"#REF!"}]
[{"$f":"#REF!","v":{"$error":"#REF!"}},{"$error":"#REF!"}]
[{"$f":"#REF!","v":{"$error":"#REF!"}},{"$error":"#REF!"}]
[{"$f":"#REF!","v":{"$error":"#REF!"}},{"$error":"#REF!"}]
[{"$f":"#REF!","v":{"$error":"#REF!"}},{"$error":"#REF!"}]
[{"$f":"#REF!","v":{"$error":"#REF!"}},{"$error":"#REF!"}]
[{"$f":"#REF!","v":{"$error":"#REF!"}},{"$error":"#REF!"}]
[{"$f":"#REF!","v":{"$error":"#REF!"}},{"$error":"#REF!"}]
[{"$f":"#REF!","v":{"$error":"#REF!"}},{"$error":"#REF!"}]
[{"$f":"#REF!","v":{"$error":"#REF!"}},{"$error":"#REF!"}]
[{"$f":"#REF!","v":{"$error":"#REF!"}},{"$error":"#REF!"}]
[{"$f":"#REF!","v":{"$error":"#REF!"}},{"$error":"#REF!"}]
[{"$f":"#REF!","v":{"$error":"#REF!"}},{"$error":"#REF!"}]
[{"$f":"#REF!","v":{"$error":"#REF!"}},{"$error":"#REF!"}]
[{"$f":"#REF!","v":{"$error":"#REF!"}},{"$error":"#REF!"}]
[{"$f":"#REF!","v":{"$error":"#REF!"}},{"$f":"IF(A6480=\"\",\"\",IF(VLOOKUP(A6480,base_rpvs_pagas,2)=A$11,A6480,0))","v":{"$error":"#REF!"}}]
[{"$f":"#REF!","v":{"$error":"#REF!"}},{"$error":"#REF!"}]
[{"$f":"#REF!","v":{"$error":"#REF!"}},{"$error":"#REF!"}]
[{"$f":"#REF!","v":{"$error":"#REF!"}},{"$error":"#REF!"}]
[{"$f":"#REF!","v":{"$error":"#REF!"}},{"$error":"#REF!"}]
[{"$f":"#REF!","v":{"$error":"#REF!"}},{"$error":"#REF!"}]
[{"$f":"#REF!","v":{"$error":"#REF!"}},{"$error":"#REF!"}]
[{"$f":"#REF!","v":{"$error":"#REF!"}},{"$error":"#REF!"}]
[{"$f":"#REF!","v":{"$error":"#REF!"}},{"$error":"#REF!"}]
[{"$f":"#REF!","v":{"$error":"#REF!"}},{"$error":"#REF!"}]
[{"$f":"#REF!","v":{"$error":"#REF!"}},{"$error":"#REF!"}]
[{"$f":"#REF!","v":{"$error":"#REF!"}},{"$error":"#REF!"}]
[{"$f":"#REF!","v":{"$error":"#REF!"}},{"$error":"#REF!"}]
[{"$f":"#REF!","v":{"$error":"#REF!"}},{"$error":"#REF!"}]
[{"$f":"#REF!","v":{"$error":"#REF!"}},{"$error":"#REF!"}]
[{"$f":"#REF!","v":{"$error":"#REF!"}},{"$error":"#REF!"}]
[{"$f":"#REF!","v":{"$error":"#REF!"}},{"$error":"#REF!"}]
[{"$f":"#REF!","v":{"$error":"#REF!"}},{"$error":"#REF!"}]
[{"$f":"#REF!","v":{"$error":"#REF!"}},{"$error":"#REF!"}]
[{"$f":"#REF!","v":{"$error":"#REF!"}},{"$error":"#REF!"}]
[{"$f":"#REF!","v":{"$error":"#REF!"}},{"$error":"#REF!"}]
[{"$f":"#REF!","v":{"$error":"#REF!"}},{"$error":"#REF!"}]
[{"$f":"#REF!","v":{"$error":"#REF!"}},{"$error":"#REF!"}]
[{"$f":"#REF!","v":{"$error":"#REF!"}},{"$error":"#REF!"}]
[{"$f":"#REF!","v":{"$error":"#REF!"}},{"$error":"#REF!"}]
[{"$f":"#REF!","v":{"$error":"#REF!"}},{"$error":"#REF!"}]
[{"$f":"#REF!","v":{"$error":"#REF!"}},{"$error":"#REF!"}]
[{"$f":"#REF!","v":{"$error":"#REF!"}},{"$error":"#REF!"}]
[{"$f":"#REF!","v":{"$error":"#REF!"}},{"$error":"#REF!"}]
[{"$f":"#REF!","v":{"$error":"#REF!"}},{"$error":"#REF!"}]
[{"$f":"#REF!","v":{"$error":"#REF!"}},{"$error":"#REF!"}]
[{"$f":"#REF!","v":{"$error":"#REF!"}},{"$error":"#REF!"}]
[{"$f":"#REF!","v":{"$error":"#REF!"}},{"$error":"#REF!"}]
[{"$f":"#REF!","v":{"$error":"#REF!"}},{"$error":"#REF!"}]
[{"$f":"#REF!","v":{"$error":"#REF!"}},{"$error":"#REF!"}]
[{"$f":"#REF!","v":{"$error":"#REF!"}},{"$error":"#REF!"}]
[{"$f":"#REF!","v":{"$error":"#REF!"}},{"$error":"#REF!"}]
[{"$f":"#REF!","v":{"$error":"#REF!"}},{"$error":"#REF!"}]
[{"$f":"#REF!","v":{"$error":"#REF!"}},{"$error":"#REF!"}]
[{"$f":"#REF!","v":{"$error":"#REF!"}},{"$error":"#REF!"}]
[{"$f":"#REF!","v":{"$error":"#REF!"}},{"$error":"#REF!"}]
[{"$f":"#REF!","v":{"$error":"#REF!"}},{"$error":"#REF!"}]
[{"$f":"#REF!","v":{"$error":"#REF!"}},{"$error":"#REF!"}]
[{"$f":"#REF!","v":{"$error":"#REF!"}},{"$error":"#REF!"}]
[{"$f":"#REF!","v":{"$error":"#REF!"}},{"$error":"#REF!"}]
[{"$f":"#REF!","v":{"$error":"#REF!"}},{"$error":"#REF!"}]
[{"$f":"#REF!","v":{"$error":"#REF!"}},{"$error":"#REF!"}]
[{"$f":"#REF!","v":{"$error":"#REF!"}},{"$error":"#REF!"}]
[{"$f":"#REF!","v":{"$error":"#REF!"}},{"$error":"#REF!"}]
[{"$f":"#REF!","v":{"$error":"#REF!"}},{"$error":"#REF!"}]
[{"$f":"#REF!","v":{"$error":"#REF!"}},{"$error":"#REF!"}]
[{"$f":"#REF!","v":{"$error":"#REF!"}},{"$error":"#REF!"}]
[{"$f":"#REF!","v":{"$error":"#REF!"}},{"$error":"#REF!"}]
[{"$f":"#REF!","v":{"$error":"#REF!"}},{"$error":"#REF!"}]
[{"$f":"#REF!","v":{"$error":"#REF!"}},{"$error":"#REF!"}]
[{"$f":"#REF!","v":{"$error":"#REF!"}},{"$error":"#REF!"}]
[{"$f":"#REF!","v":{"$error":"#REF!"}},{"$error":"#REF!"}]
[{"$f":"#REF!","v":{"$error":"#REF!"}},{"$error":"#REF!"}]
[{"$f":"#REF!","v":{"$error":"#REF!"}},{"$error":"#REF!"}]
[{"$f":"#REF!","v":{"$error":"#REF!"}},{"$error":"#REF!"}]
[{"$f":"#REF!","v":{"$error":"#REF!"}},{"$error":"#REF!"}]
[{"$f":"#REF!","v":{"$error":"#REF!"}},{"$error":"#REF!"}]
[{"$f":"#REF!","v":{"$error":"#REF!"}},{"$error":"#REF!"}]
[{"$f":"#REF!","v":{"$error":"#REF!"}},{"$error":"#REF!"}]
[{"$f":"#REF!","v":{"$error":"#REF!"}},{"$f":"IF(A6544=\"\",\"\",IF(VLOOKUP(A6544,base_rpvs_pagas,2)=A$11,A6544,0))","v":{"$error":"#REF!"}}]
[{"$f":"#REF!","v":{"$error":"#REF!"}},{"$error":"#REF!"}]
[{"$f":"#REF!","v":{"$error":"#REF!"}},{"$error":"#REF!"}]
[{"$f":"#REF!","v":{"$error":"#REF!"}},{"$error":"#REF!"}]
[{"$f":"#REF!","v":{"$error":"#REF!"}},{"$error":"#REF!"}]
[{"$f":"#REF!","v":{"$error":"#REF!"}},{"$error":"#REF!"}]
[{"$f":"#REF!","v":{"$error":"#REF!"}},{"$error":"#REF!"}]
[{"$f":"#REF!","v":{"$error":"#REF!"}},{"$error":"#REF!"}]
[{"$f":"#REF!","v":{"$error":"#REF!"}},{"$error":"#REF!"}]
[{"$f":"#REF!","v":{"$error":"#REF!"}},{"$error":"#REF!"}]
[{"$f":"#REF!","v":{"$error":"#REF!"}},{"$error":"#REF!"}]
[{"$f":"#REF!","v":{"$error":"#REF!"}},{"$error":"#REF!"}]
[{"$f":"#REF!","v":{"$error":"#REF!"}},{"$error":"#REF!"}]
[{"$f":"#REF!","v":{"$error":"#REF!"}},{"$error":"#REF!"}]
[{"$f":"#REF!","v":{"$error":"#REF!"}},{"$error":"#REF!"}]
[{"$f":"#REF!","v":{"$error":"#REF!"}},{"$error":"#REF!"}]
[{"$f":"#REF!","v":{"$error":"#REF!"}},{"$error":"#REF!"}]
[{"$f":"#REF!","v":{"$error":"#REF!"}},{"$error":"#REF!"}]
[{"$f":"#REF!","v":{"$error":"#REF!"}},{"$error":"#REF!"}]
[{"$f":"#REF!","v":{"$error":"#REF!"}},{"$error":"#REF!"}]
[{"$f":"#REF!","v":{"$error":"#REF!"}},{"$error":"#REF!"}]
[{"$f":"#REF!","v":{"$error":"#REF!"}},{"$error":"#REF!"}]
[{"$f":"#REF!","v":{"$error":"#REF!"}},{"$error":"#REF!"}]
[{"$f":"#REF!","v":{"$error":"#REF!"}},{"$error":"#REF!"}]
[{"$f":"#REF!","v":{"$error":"#REF!"}},{"$error":"#REF!"}]
[{"$f":"#REF!","v":{"$error":"#REF!"}},{"$error":"#REF!"}]
[{"$f":"#REF!","v":{"$error":"#REF!"}},{"$error":"#REF!"}]
[{"$f":"#REF!","v":{"$error":"#REF!"}},{"$error":"#REF!"}]
[{"$f":"#REF!","v":{"$error":"#REF!"}},{"$error":"#REF!"}]
[{"$f":"#REF!","v":{"$error":"#REF!"}},{"$error":"#REF!"}]
[{"$f":"#REF!","v":{"$error":"#REF!"}},{"$error":"#REF!"}]
[{"$f":"#REF!","v":{"$error":"#REF!"}},{"$error":"#REF!"}]
[{"$f":"#REF!","v":{"$error":"#REF!"}},{"$error":"#REF!"}]
[{"$f":"#REF!","v":{"$error":"#REF!"}},{"$error":"#REF!"}]
[{"$f":"#REF!","v":{"$error":"#REF!"}},{"$error":"#REF!"}]
[{"$f":"#REF!","v":{"$error":"#REF!"}},{"$error":"#REF!"}]
[{"$f":"#REF!","v":{"$error":"#REF!"}},{"$error":"#REF!"}]
[{"$f":"#REF!","v":{"$error":"#REF!"}},{"$error":"#REF!"}]
[{"$f":"#REF!","v":{"$error":"#REF!"}},{"$error":"#REF!"}]
[{"$f":"#REF!","v":{"$error":"#REF!"}},{"$error":"#REF!"}]
[{"$f":"#REF!","v":{"$error":"#REF!"}},{"$error":"#REF!"}]
[{"$f":"#REF!","v":{"$error":"#REF!"}},{"$error":"#REF!"}]
[{"$f":"#REF!","v":{"$error":"#REF!"}},{"$error":"#REF!"}]
[{"$f":"#REF!","v":{"$error":"#REF!"}},{"$error":"#REF!"}]
[{"$f":"#REF!","v":{"$error":"#REF!"}},{"$error":"#REF!"}]
[{"$f":"#REF!","v":{"$error":"#REF!"}},{"$error":"#REF!"}]
[{"$f":"#REF!","v":{"$error":"#REF!"}},{"$error":"#REF!"}]
[{"$f":"#REF!","v":{"$error":"#REF!"}},{"$error":"#REF!"}]
[{"$f":"#REF!","v":{"$error":"#REF!"}},{"$error":"#REF!"}]
[{"$f":"#REF!","v":{"$error":"#REF!"}},{"$error":"#REF!"}]
[{"$f":"#REF!","v":{"$error":"#REF!"}},{"$error":"#REF!"}]
[{"$f":"#REF!","v":{"$error":"#REF!"}},{"$error":"#REF!"}]
[{"$f":"#REF!","v":{"$error":"#REF!"}},{"$error":"#REF!"}]
[{"$f":"#REF!","v":{"$error":"#REF!"}},{"$error":"#REF!"}]
[{"$f":"#REF!","v":{"$error":"#REF!"}},{"$error":"#REF!"}]
[{"$f":"#REF!","v":{"$error":"#REF!"}},{"$error":"#REF!"}]
[{"$f":"#REF!","v":{"$error":"#REF!"}},{"$error":"#REF!"}]
[{"$f":"#REF!","v":{"$error":"#REF!"}},{"$error":"#REF!"}]
[{"$f":"#REF!","v":{"$error":"#REF!"}},{"$error":"#REF!"}]
[{"$f":"#REF!","v":{"$error":"#REF!"}},{"$error":"#REF!"}]
[{"$f":"#REF!","v":{"$error":"#REF!"}},{"$error":"#REF!"}]
[{"$f":"#REF!","v":{"$error":"#REF!"}},{"$error":"#REF!"}]
[{"$f":"#REF!","v":{"$error":"#REF!"}},{"$error":"#REF!"}]
[{"$f":"#REF!","v":{"$error":"#REF!"}},{"$error":"#REF!"}]
[{"$f":"#REF!","v":{"$error":"#REF!"}},{"$f":"IF(A6608=\"\",\"\",IF(VLOOKUP(A6608,base_rpvs_pagas,2)=A$11,A6608,0))","v":{"$error":"#REF!"}}]
[{"$f":"#REF!","v":{"$error":"#REF!"}},{"$error":"#REF!"}]
[{"$f":"#REF!","v":{"$error":"#REF!"}},{"$error":"#REF!"}]
[{"$f":"#REF!","v":{"$error":"#REF!"}},{"$error":"#REF!"}]
[{"$f":"#REF!","v":{"$error":"#REF!"}},{"$error":"#REF!"}]
[{"$f":"#REF!","v":{"$error":"#REF!"}},{"$error":"#REF!"}]
[{"$f":"#REF!","v":{"$error":"#REF!"}},{"$error":"#REF!"}]
[{"$f":"#REF!","v":{"$error":"#REF!"}},{"$error":"#REF!"}]
[{"$f":"#REF!","v":{"$error":"#REF!"}},{"$error":"#REF!"}]
[{"$f":"#REF!","v":{"$error":"#REF!"}},{"$error":"#REF!"}]
[{"$f":"#REF!","v":{"$error":"#REF!"}},{"$error":"#REF!"}]
[{"$f":"#REF!","v":{"$error":"#REF!"}},{"$error":"#REF!"}]
[{"$f":"#REF!","v":{"$error":"#REF!"}},{"$error":"#REF!"}]
[{"$f":"#REF!","v":{"$error":"#REF!"}},{"$error":"#REF!"}]
[{"$f":"#REF!","v":{"$error":"#REF!"}},{"$error":"#REF!"}]
[{"$f":"#REF!","v":{"$error":"#REF!"}},{"$error":"#REF!"}]
[{"$f":"#REF!","v":{"$error":"#REF!"}},{"$error":"#REF!"}]
[{"$f":"#REF!","v":{"$error":"#REF!"}},{"$error":"#REF!"}]
[{"$f":"#REF!","v":{"$error":"#REF!"}},{"$error":"#REF!"}]
[{"$f":"#REF!","v":{"$error":"#REF!"}},{"$error":"#REF!"}]
[{"$f":"#REF!","v":{"$error":"#REF!"}},{"$error":"#REF!"}]
[{"$f":"#REF!","v":{"$error":"#REF!"}},{"$error":"#REF!"}]
[{"$f":"#REF!","v":{"$error":"#REF!"}},{"$error":"#REF!"}]
[{"$f":"#REF!","v":{"$error":"#REF!"}},{"$error":"#REF!"}]
[{"$f":"#REF!","v":{"$error":"#REF!"}},{"$error":"#REF!"}]
[{"$f":"#REF!","v":{"$error":"#REF!"}},{"$error":"#REF!"}]
[{"$f":"#REF!","v":{"$error":"#REF!"}},{"$error":"#REF!"}]
[{"$f":"#REF!","v":{"$error":"#REF!"}},{"$error":"#REF!"}]
[{"$f":"#REF!","v":{"$error":"#REF!"}},{"$error":"#REF!"}]
[{"$f":"#REF!","v":{"$error":"#REF!"}},{"$error":"#REF!"}]
[{"$f":"#REF!","v":{"$error":"#REF!"}},{"$error":"#REF!"}]
[{"$f":"#REF!","v":{"$error":"#REF!"}},{"$error":"#REF!"}]
[{"$f":"#REF!","v":{"$error":"#REF!"}},{"$error":"#REF!"}]
[{"$f":"#REF!","v":{"$error":"#REF!"}},{"$error":"#REF!"}]
[{"$f":"#REF!","v":{"$error":"#REF!"}},{"$error":"#REF!"}]
[{"$f":"#REF!","v":{"$error":"#REF!"}},{"$error":"#REF!"}]
[{"$f":"#REF!","v":{"$error":"#REF!"}},{"$error":"#REF!"}]
[{"$f":"#REF!","v":{"$error":"#REF!"}},{"$error":"#REF!"}]
[{"$f":"#REF!","v":{"$error":"#REF!"}},{"$error":"#REF!"}]
[{"$f":"#REF!","v":{"$error":"#REF!"}},{"$error":"#REF!"}]
[{"$f":"#REF!","v":{"$error":"#REF!"}},{"$error":"#REF!"}]
[{"$f":"#REF!","v":{"$error":"#REF!"}},{"$error":"#REF!"}]
[{"$f":"#REF!","v":{"$error":"#REF!"}},{"$error":"#REF!"}]
[{"$f":"#REF!","v":{"$error":"#REF!"}},{"$error":"#REF!"}]
[{"$f":"#REF!","v":{"$error":"#REF!"}},{"$error":"#REF!"}]
[{"$f":"#REF!","v":{"$error":"#REF!"}},{"$error":"#REF!"}]
[{"$f":"#REF!","v":{"$error":"#REF!"}},{"$error":"#REF!"}]
[{"$f":"#REF!","v":{"$error":"#REF!"}},{"$error":"#REF!"}]
[{"$f":"#REF!","v":{"$error":"#REF!"}},{"$error":"#REF!"}]
[{"$f":"#REF!","v":{"$error":"#REF!"}},{"$error":"#REF!"}]
[{"$f":"#REF!","v":{"$error":"#REF!"}},{"$error":"#REF!"}]
[{"$f":"#REF!","v":{"$error":"#REF!"}},{"$error":"#REF!"}]
[{"$f":"#REF!","v":{"$error":"#REF!"}},{"$error":"#REF!"}]
[{"$f":"#REF!","v":{"$error":"#REF!"}},{"$error":"#REF!"}]
[{"$f":"#REF!","v":{"$error":"#REF!"}},{"$error":"#REF!"}]
[{"$f":"#REF!","v":{"$error":"#REF!"}},{"$error":"#REF!"}]
[{"$f":"#REF!","v":{"$error":"#REF!"}},{"$error":"#REF!"}]
[{"$f":"#REF!","v":{"$error":"#REF!"}},{"$error":"#REF!"}]
[{"$f":"#REF!","v":{"$error":"#REF!"}},{"$error":"#REF!"}]
[{"$f":"#REF!","v":{"$error":"#REF!"}},{"$error":"#REF!"}]
[{"$f":"#REF!","v":{"$error":"#REF!"}},{"$error":"#REF!"}]
[{"$f":"#REF!","v":{"$error":"#REF!"}},{"$error":"#REF!"}]
[{"$f":"#REF!","v":{"$error":"#REF!"}},{"$error":"#REF!"}]
[{"$f":"#REF!","v":{"$error":"#REF!"}},{"$error":"#REF!"}]
[{"$f":"#REF!","v":{"$error":"#REF!"}},{"$f":"IF(A6672=\"\",\"\",IF(VLOOKUP(A6672,base_rpvs_pagas,2)=A$11,A6672,0))","v":{"$error":"#REF!"}}]
[{"$f":"#REF!","v":{"$error":"#REF!"}},{"$error":"#REF!"}]
[{"$f":"#REF!","v":{"$error":"#REF!"}},{"$error":"#REF!"}]
[{"$f":"#REF!","v":{"$error":"#REF!"}},{"$error":"#REF!"}]
[{"$f":"#REF!","v":{"$error":"#REF!"}},{"$error":"#REF!"}]
[{"$f":"#REF!","v":{"$error":"#REF!"}},{"$error":"#REF!"}]
[{"$f":"#REF!","v":{"$error":"#REF!"}},{"$error":"#REF!"}]
[{"$f":"#REF!","v":{"$error":"#REF!"}},{"$error":"#REF!"}]
[{"$f":"#REF!","v":{"$error":"#REF!"}},{"$error":"#REF!"}]
[{"$f":"#REF!","v":{"$error":"#REF!"}},{"$error":"#REF!"}]
[{"$f":"#REF!","v":{"$error":"#REF!"}},{"$error":"#REF!"}]
[{"$f":"#REF!","v":{"$error":"#REF!"}},{"$error":"#REF!"}]
[{"$f":"#REF!","v":{"$error":"#REF!"}},{"$error":"#REF!"}]
[{"$f":"#REF!","v":{"$error":"#REF!"}},{"$error":"#REF!"}]
[{"$f":"#REF!","v":{"$error":"#REF!"}},{"$error":"#REF!"}]
[{"$f":"#REF!","v":{"$error":"#REF!"}},{"$error":"#REF!"}]
[{"$f":"#REF!","v":{"$error":"#REF!"}},{"$error":"#REF!"}]
[{"$f":"#REF!","v":{"$error":"#REF!"}},{"$error":"#REF!"}]
[{"$f":"#REF!","v":{"$error":"#REF!"}},{"$error":"#REF!"}]
[{"$f":"#REF!","v":{"$error":"#REF!"}},{"$error":"#REF!"}]
[{"$f":"#REF!","v":{"$error":"#REF!"}},{"$error":"#REF!"}]
[{"$f":"#REF!","v":{"$error":"#REF!"}},{"$error":"#REF!"}]
[{"$f":"#REF!","v":{"$error":"#REF!"}},{"$error":"#REF!"}]
[{"$f":"#REF!","v":{"$error":"#REF!"}},{"$error":"#REF!"}]
[{"$f":"#REF!","v":{"$error":"#REF!"}},{"$error":"#REF!"}]
[{"$f":"#REF!","v":{"$error":"#REF!"}},{"$error":"#REF!"}]
[{"$f":"#REF!","v":{"$error":"#REF!"}},{"$error":"#REF!"}]
[{"$f":"#REF!","v":{"$error":"#REF!"}},{"$error":"#REF!"}]
[{"$f":"#REF!","v":{"$error":"#REF!"}},{"$error":"#REF!"}]
[{"$f":"#REF!","v":{"$error":"#REF!"}},{"$error":"#REF!"}]
[{"$f":"#REF!","v":{"$error":"#REF!"}},{"$error":"#REF!"}]
[{"$f":"#REF!","v":{"$error":"#REF!"}},{"$error":"#REF!"}]
[{"$f":"#REF!","v":{"$error":"#REF!"}},{"$error":"#REF!"}]
[{"$f":"#REF!","v":{"$error":"#REF!"}},{"$error":"#REF!"}]
[{"$f":"#REF!","v":{"$error":"#REF!"}},{"$error":"#REF!"}]
[{"$f":"#REF!","v":{"$error":"#REF!"}},{"$error":"#REF!"}]
[{"$f":"#REF!","v":{"$error":"#REF!"}},{"$error":"#REF!"}]
[{"$f":"#REF!","v":{"$error":"#REF!"}},{"$error":"#REF!"}]
[{"$f":"#REF!","v":{"$error":"#REF!"}},{"$error":"#REF!"}]
[{"$f":"#REF!","v":{"$error":"#REF!"}},{"$error":"#REF!"}]
[{"$f":"#REF!","v":{"$error":"#REF!"}},{"$error":"#REF!"}]
[{"$f":"#REF!","v":{"$error":"#REF!"}},{"$error":"#REF!"}]
[{"$f":"#REF!","v":{"$error":"#REF!"}},{"$error":"#REF!"}]
[{"$f":"#REF!","v":{"$error":"#REF!"}},{"$error":"#REF!"}]
[{"$f":"#REF!","v":{"$error":"#REF!"}},{"$error":"#REF!"}]
[{"$f":"#REF!","v":{"$error":"#REF!"}},{"$error":"#REF!"}]
[{"$f":"#REF!","v":{"$error":"#REF!"}},{"$error":"#REF!"}]
[{"$f":"#REF!","v":{"$error":"#REF!"}},{"$error":"#REF!"}]
[{"$f":"#REF!","v":{"$error":"#REF!"}},{"$error":"#REF!"}]
[{"$f":"#REF!","v":{"$error":"#REF!"}},{"$error":"#REF!"}]
[{"$f":"#REF!","v":{"$error":"#REF!"}},{"$error":"#REF!"}]
[{"$f":"#REF!","v":{"$error":"#REF!"}},{"$error":"#REF!"}]
[{"$f":"#REF!","v":{"$error":"#REF!"}},{"$error":"#REF!"}]
[{"$f":"#REF!","v":{"$error":"#REF!"}},{"$error":"#REF!"}]
[{"$f":"#REF!","v":{"$error":"#REF!"}},{"$error":"#REF!"}]
[{"$f":"#REF!","v":{"$error":"#REF!"}},{"$error":"#REF!"}]
[{"$f":"#REF!","v":{"$error":"#REF!"}},{"$error":"#REF!"}]

{"sheet":"baseEXPEDIDAS","index":1,"n_rows":3985,"n_cols":15873,"rows_kept":281,"cut":true,"hidden":false,"merged":[[8,77,9,77],[8,78,9,78],[8,53,8,57],[2,2,4,3],[6,7,7,10],[8,26,8,28],[8,14,9,14],[6,19,9,19],[2,4,2,10],[4,4,4,10],[6,13,7,16],[8,16,9,16],[6,20,9,20],[6,18,9,18],[6,2,7,5],[6,31,7,37],[6,58,7,61],[8,58,9,58],[8,59,8,61],[8,68,8,70],[8,62,8,64],[8,29,8,30],[6,22,8,24],[8,50,8,52],[8,44,8,46],[8,47,8,49],[8,31,9,31],[6,38,7,57],[8,41,8,43],[8,32,9,32],[8,33,9,33],[8,34,9,34],[8,35,9,35],[8,36,9,36],[8,37,9,37],[6,109,6,113],[6,114,6,115],[7,110,7,111],[7,112,7,113],[8,65,8,67],[8,71,8,74],[8,80,9,80],[8,81,9,81],[8,83,9,83],[6,75,7,83],[8,90,9,90],[6,85,9,85],[8,75,9,75],[8,82,9,82],[8,79,9,79],[8,76,9,76],[6,86,6,98],[7,93,7,94],[7,95,7,96],[7,97,7,98],[7,86,7,92],[8,86,9,86],[8,87,9,87],[8,91,9,91],[8,92,9,92],[8,89,9,89],[8,88,9,88],[6,122,6,123],[7,118,7,119],[7,120,7,121],[7,122,7,123],[6,124,8,124],[6,117,6,121],[7,114,7,115],[6,101,6,107],[8,38,8,40],[6,0,9,0],[8,13,9,13],[8,15,9,15],[8,8,9,8],[8,10,9,10],[8,7,9,7],[8,5,9,5],[8,1,9,1],[8,2,9,2],[8,3,9,3],[8,4,9,4],[8,9,9,9],[6,26,7,30]],"bounds":{"rows_first":125,"rows_last":31,"rows_between":125,"halvings":4}}
[1,{"$f":"CONSULTA!E12","v":7871},2,{"$f":"C1+1","v":3},{"$f":"D1+1","v":4},5,6,7,8,9,10,11,12,13,14,15,16,17,18,19,20,21,22,23,24,25,26,27,28,29,30,31,32,33,34,35,36,37,38,39,40,41,42,43,44,45,46,47,48,49,50,51,52,53,54,55,56,57,58,59,60,61,62,63,64,65,66,67,{"$f":"BP1+1","v":68},69,70,71,72,73,74,75,76,77,78,79,80,81,82,83,84,85,86,87,88,89,90,91,92,93,94,95,96,97,98,99,100,101,102,103,104,105,106,107,108,109,110,111,112,113,114,115,116,117,118,119,120,121,122,123,124,125,null,null,null,null,null,null,null,null,null,null,null,null,null,null,null,null,null,null,null,null,null,null,null,null,null,null,null,null,null,null,null,null,null,null,null,null,null,null,null,null,null,null,null,null,null,null,null,null,null,null,null,null,null,null,null,null,null,null,null,null,null,null,null,null,null,null,null,null,null,null,null,null,null,null,null,null,null,null,null,null,null,null,null,null,null,null,null,null,null,null,null,null,null,null,null,null,null,null,null,null,null,null,null,null,null,null,null,null,null,null,null,null,null,null,null,null,null,null,null,null,null,null,null,null,null,null,null,null,null,null,null,null,null,null,null,null,null,null,null,null,null,null,null,null,null,null,null,null,null,null,null,null,null,null,null,null,null,null,null,null,null,null,null,null,null,null,null,null,null,null,null,null,null,null,null,null,null,null,null,null,null,null,null,null,null,null,null,null,null,null,null,null,null,null,null,null,null,null,null,null,null,null,null,null,null,null,null,null,null,null,null,null,null,null,null,null,null,null,null,null,null,null,null,null,null,null,null,null,null,null,null,null,null,null,null,null,null,null,null,null,null,null,null,null,null,null,null,null,null,null,null,null,null,null,null,null,null,null,null,null,null,null,null,null,null,null,null,null,null,null,null,null,null,null,null,null,null,null,null,null,null,null,null,null,null,null,null,null,null,null,null,null,null,null,null,null,null,null,null,null,null,null,null,null,null,null,null,null,null,null,null,null,null,null,null,null,null,null,null,null,null,null,null,null,null,null,null,null,null,null,null,null,null,null,null,null,null,null,null,null,null,null,null,null,null,null,null,null,null,null,null,null,null,null,null,null,null,null,null,null,null,null,null,null,null,null,null,null,null,null,null,null,null,null,null,null,null,null,null,null,null,null,null,null,null,null,null,null,null,null,null,null,null,null,null,null,null,null,null,null,null,null,null,null,null,null,null,null,null,null,null,null,null,null,null,null,null,null,null,null,null,null,null,null,null,null,null,null,null,null,null,null,null,null,null,null,null,null,null,null,null,null,null,null,null,null,null,null,null,null,null,null,null,null,null,null,null,null,null,null,null,null,null,null,null,null,null,null,null,null,null,null,null,null,null,null,null,null,null,null,null,null,null,null,null,null,null,null,null,null,null,null,null,null,null,null,null,null,null,null,null,null,null,null,null,null,null,null,null,null,null,null,null,null,null,null,null,null,null,null,null,null,null,null,null,null,null,null,null,null,null,null,null,null,null,null,null,null,null,null,null,null,null,null,null,null,null,null,null,null,null,null,null,null,null,null,null,null,null,null,null,null,null,null,null,null,null,null,null,null,null,null,null,null,null,null,null,null,null,null,null,null,null,null,null,null,null,null,null,null,null,null,null,null,null,null,null,null,null,null,null,null,null,null,null,null,null,null,null,null,null,null,null,null,null,null,null,null,null,null,null,null,null,null,null,null,null,null,null,null,null,null,null,null,null,null,null,null,null,null,null,null,null,null,null,null,null,null,null,null,null,null,null,null,null,null,null,null,null,null,null,null,null,null,null,null,null,null,null,null,null,null,null,null,null,null,null,null,null,null,null,null,null,null,null,null,null,null,null,null,null,null,null,null,null,null,null,null,null,null,null,null,null,null,null,null,null,null,null,null,null,null,null,null,null,null,null,null,null,null,null,null,null,null,null,null,null,null,null,null,null,null,null,null,null,null,null,null,null,null,null,null,null,null,null,null,null,null,null,null,null,null,null,null,null,null,null,null,null,null,null,null,null,null,null,null,null,null,null,null,null,null,null,null,null,null,null,null,null,null,null,null,null,null,null,null,null,null,null,null,null,null,null,null,null,null,null,null,null,null,null,null,null,null,null,null,null,null,null,null,null,null,null,null,null,null,null,null,null,null,null,null,null,null,null,null,null,null,null,null,null,null,null,null,null,null,null,null,null,null,null,null,null,null,null,null,null,null,null,null,null,null,null,null,null,null,null,null,null,null,null,null,null,null,null,null,null,null,null,null,null,null,null,null,null,null,null,null,null,null,null,null,null,null,null,null,null,null,null,null,null,null,null,null,null,null,null,null,null,null,null,null,null,null,null,null,null,null,null,null,null,null,null,null,null,null,null,null,null,null,null,null,null,null,null,null,null,null,null,null,null,null,null,null,null,null,null,null,null,null,null,null,null,null,null,null,null,null,null,null,null,null,null,null,null,null,null,null,null,null,null,null,null,null,null,null,null,null,null,null,null,null,null,null,null,null,null,null,null,null,null,null,null,null,null,null,null,null,null,null,null,null,null,null,null,null,null,null,null,null,null,null,null,null,null,null,null,null,null,null,null,null,null,null,null,null,null,null,null,null,null,null,null,null,null,null,null,null,null,null,null,null,null,null,null,null,null,null,null,null,null,null,null,null,null,null,null,null,null,null,null,null,null,null,null,null,null,null,null,null,null,null,null,null,null,null,null,null,null,null,null,null,null,null,null,null,null,null,null,null,null,null,null,null,null,null,null,null,null,null,null,null,null,null,null,null,null,null,null,null,null,null,null,null,null,null,null,null,null,null,null,null,null,null,null,null,null,null,null,null,null,null,null,null,null,null,null,null,null,null,null,null,null,null,null,null,null,null,null,null,null,null,null,null,null,null,null,null,null,null,null,null,null,null,null,null,null,null,null,null,null,null,null,null,null,null,null,null,null,null,null,null,null,null,null,null,null,null,null,null,null,null,null,null,null,null,null,null,null,null,null,null,null,null,null,null,null,null,null,null,null,null,null,null,null,null,null,null,null,null,null,null,null,null,null,null,null,null,null,null,null,null,null,null,null,null,null,null,null,null,null,null,null,null,null,null,null,null,null,null,null,null,null,null,null,null,null,null,null,null,null,null,null,null,null,null,null,null,null,null,null,null,null,null,null,null,null,null,null,null,null,null,null,null,null,null,null,null,null,null,null,null,null,null,null,null,null,null,null,null,null,null,null,null,null,null,null,null,null,null,null,null,null,null,null,null,null,null,null,null,null,null,null,null,null,null,null,null,null,null,null,null,null,null,null,null,null,null,null,null,null,null,null,null,null,null,null,null,null,null,null,null,null,null,null,null,null,null,null,null,null,null,null,null,null,null,null,null,null,null,null,null,null,null,null,null,null,null,null,null,null,null,null,null,null,null,null,null,null,null,null,null,null,null,null,null,null,null,null,null,null,null,null,null,null,null,null,null,null,null,null,null,null,null,null,null,null,null,null,null,null,null,null,null,null,null,null,null,null,null,null,null,null,null,null,null,null,null,null,null,null,null,null,null,null,null,null,null,null,null,null,null,null,null,null,null,null,null,null,null,null,null,null,null,null,null,null,null,null,null,null,null,null,null,null,null,null,null,null,null,null,null,null,null,null,null,null,null,null,null,null,null,null,null,null,null,null,null,null,null,null,null,null,null,null,null,null,null,null,null,null,null,null,null,null,null,null,null,null,null,null,null,null,null,null,null,null,null,null,null,null,null,null,null,null,null,null,null,null,null,null,null,null,null,null,null,null,null,null,null,null,null,null,null,null,null,null,null,null,null,null,null,null,null,null,null,null,null,null,null,null,null,null,null,null,null,null,null,null,null,null,null,null,null,null,null,null,null,null,null,null,null,null,null,null,null,null,null,null,null,null,null,null,null,null,null,null,null,null,null,null,null,null,null,null,null,null,null,null,null,null,null,null,null,null,null,null,null,null,null,null,null,null,null,null,null,null,null,null,null,null,null,null,null,null,null,null,null,null,null,null,null,null,null,null,null,null,null,null,null,null,null,null,null,null,null,null,null,null,null,null,null,null,null,null,null,null,null,null,null,null,null,null,null,null,null,null,null,null,null,null,null,null,null,null,null,null,null,null,null,null,null,null,null,null,null,null,null,null,null,null,null,null,null,null,null,null,null,null,null,null,null,null,null,null,null,null,null,null,null,null,null,null,null,null,null,null,null,null,null,null,null,null,null,null,null,null,null,null,null,null,null,null,null,null,null,null,null,null,null,null,null,null,null,null,null,null,null,null,null,null,null,null,null,null,null,null,null,null,null,null,null,null,null,null,null,null,null,null,null,null,null,null,null,null,null,null,null,null,null,null,null,null,null,null,null,null,null,null,null,null,null,null,null,null,null,null,null,null,null,null,null,null,null,null,null,null,null,null,null,null,null,null,null,null,null,null,null,null,null,null,null,null,null,null,null,null,null,null,null,null,null,null,null,null,null,null,null,null,null,null,null,null,null,null,null,null,null,null,null,null,null,null,null,null,null,null,null,null,null,null,null,null,null,null,null,null,null,null,null,null,null,null,null,null,null,null,null,null,null,null,null,null,null,null,null,null,null,null,null,null,null,null,null,null,null,null,null,null,null,null,null,null,null,null,null,null,null,null,null,null,null,null,null,null,null,null,null,null,null,null,null,null,null,null,null,null,null,null,null,null,null,null,null,null,null,null,null,null,null,null,null,null,null,null,null,null,null,null,null,null,null,null,null,null,null,null,null,null,null,null,null,null,null,null,null,null,null,null,null,null,null,null,null,null,null,null,null,null,null,null,null,null,null,null,null,null,null,null,null,null,null,null,null,null,null,null,null,null,null,null,null,null,null,null,null,null,null,null,null,null,null,null,null,null,null,null,null,null,null,null,null,null,null,null,null,null,null,null,null,null,null,null,null,null,null,null,null,null,null,null,null,null,null,null,null,null,null,null,null,null,null,null,null,null,null,null,null,null,null,null,null,null,null,null,null,null,null,null,null,null,null,null,null,null,null,null,null,null,null,null,null,null,null,null,null,null,null,null,null,null,null,null,null,null,null,null,null,null,null,null,null,null,null,null,null,null,null,null,null,null,null,null,null,null,null,null,null,null,null,null,null,null,null,null,null,null,null,null,null,null,null,null,null,null,null,null,null,null,null,null,null,null,null,null,null,null,null,null,null,null,null,null,null,null,null,null,null,null,null,null,null,null,null,null,null,null,null,null,null,null,null,null,null,null,null,null,null,null,null,null,null,null,null,null,null,null,null,null,null,null,null,null,null,null,null,null,null,null,null,null,null,null,null,null,null,null,null,null,null,null,null,null,null,null,null,null,null,null,null,null,null,null,null,null,null,null,null,null,null,null,null,null,null,null,null,null,null,null,null,null,null,null,null,null,null,null,null,null,null,null,null,null,null,null,null,null,null,null,null,null,null,null,null,null,null,null,null,null,null,null,null,null,null,null,null,null,null,null,null,null,null,null,null,null,null,null,null,null,null,null,null,null,null,null,null,null,null,null,null,null,null,null,null,null,null,null,null,null,null,null,null,null,null,null,null,null,null,null,null,null,null,null,null,null,null,null,null,null,null,null,null,null,null,null,null,null,null,null,null,null,null,null,null,null,null,null,null,null,null,null,null,null,null,null,null,null,null,null,null,null,null,null,null,null,null,null,null,null,null,null,null,null,null,null,null,null,null,null,null,null,null,null,null,null,null,null,null,null,null,null,null,null,null,null,null,null,null,null,null,null,null,null,null,null,null,null,null,null,null,null,null,null,null,null,null,null,null,null,null,null,null,null,null,null,null,null,null,null,null,null,null,null,null,null,null,null,null,null,null,null,null,null,null,null,null,null,null,null,null,null,null,null,null,null,null,null,null,null,null,null,null,null,null,null,null,null,null,null,null,null,null,null,null,null,null,null,null,null,null,null,null,null,null,null,null,null,null,null,null,null,null,null,null,null,null,null,null,null,null,null,null,null,null,null,null,null,null,null,null,null,null,null,null,null,null,null,null,null,null,null,null,null,null,null,null,null,null,null,null,null,null,null,null,null,null,null,null,null,null,null,null,null,null,null,null,null,null,null,null,null,null,null,null,null,null,null,null,null,null,null,null,null,null,null,null,null,null,null,null,null,null,null,null,null,null,null,null,null,null,null,null,null,null,null,null,null,null,null,null,null,null,null,null,null,null,null,null,null,null,null,null,null,null,null,null,null,null,null,null,null,null,null,null,null,null,null,null,null,null,null,null,null,null,null,null,null,null,null,null,null,null,null,null,null,null,null,null,null,null,null,null,null,null,null,null,null,null,null,null,null,null,null,null,null,null,null,null,null,null,null,null,null,null,null,null,null,null,null,null,null,null,null,null,null,null,null,null,null,null,null,null,null,null,null,null,null,null,null,null,null,null,null,null,null,null,null,null,null,null,null,null,null,null,null,null,null,null,null,null,null,null,null,null,null,null,null,null,null,null,null,null,null,null,null,null,null,null,null,null,null,null,null,null,null,null,null,null,null,null,null,null,null,null,null,null,null,null,null,null,null,null,null,null,null,null,null,null,null,null,null,null,null,null,null,null,null,null,null,null,null,null,null,null,null,null,null,null,null,null,null,null,null,null,null,null,null,null,null,null,null,null,null,null,null,null,null,null,null,null,null,null,null,null,null,null,null,null,null,null,null,null,null,null,null,null,null,null,null,null,null,null,null,null,null,null,null,null,null,null,null,null,null,null,null,null,null,null,null,null,null,null,null,null,null,null,null,null,null,null,null,null,null,null,null,null,null,null,null,null,null,null,null,null,null,null,null,null,null,null,null,null,null,null,null,null,null,null,null,null,null,null,null,null,null,null,null,null,null,null,null,null,null,null,null,null,null,null,null,null,null,null,null,null,null,null,null,null,null,null,null,null,null,null,null,null,null,null,null,null,null,null,null,null,null,null,null,null,null,null,null,null,null,null,null,null,null,null,null,null,null,null,null,null,null,null,null,null,null,null,null,null,null,null,null,null,null,null,null,null,null,null,null,null,null,null,null,null,null,null,null,null,null,null,null,null,null,null,null,null,null,null,null,null,null,null,null,null,null,null,null,null,null,null,null,null,null,null,null,null,null,null,null,null,null,null,null,null,null,null,null,null,null,null,null,null,null,null,null,null,null,null,null,null,null,null,null,null,null,null,null,null,null,null,null,null,null,null,null,null,null,null,null,null,null,null,null,null,null,null,null,null,null,null,null,null,null,null,null,null,null,null,null,null,null,null,null,null,null,null,null,null,null,null,null,null,null,null,null,null,null,null,null,null,null,null,null,null,null,null,null,null,null,null,null,null,null,null,null,null,null,null,null,null,null,null,null,null,null,null,null,null,null,null,null,null,null,null,null,null,null,null,null,null,null,null,null,null,null,null,null,null,null,null,null,null,null,null,null,null,null,null,null,null,null,null,null,null,null,null,null,null,null,null,null,null,null,null,null,null,null,null,null,null,null,null,null,null,null,null,null,null,null,null,null,null,null,null,null,null,null,null,null,null,null,null,null,null,null,null,null,null,null,null,null,null,null,null,null,null,null,null,null,null,null,null,null,null,null,null,null,null,null,null,null,null,null,null,null,null,null,null,null,null,null,null,null,null,null,null,null,null,null,null,null,null,null,null,null,null,null,null,null,null,null,null,null,null,null,null,null,null,null,null,null,null,null,null,null,null,null,null,null,null,null,null,null,null,null,null,null,null,null,null,null,null,null,null,null,null,null,null,null,null,null,null,null,null,null,null,null,null,null,null,null,null,null,null,null,null,null,null,null,null,null,null,null,null,null,null,null,null,null,null,null,null,null,null,null,null,null,null,null,null,null,null,null,null,null,null,null,null,null,null,null,null,null,null,null,null,null,null,null,null,null,null,null,null,null,null,null,null,null,null,null,null,null,null,null,null,null,null,null,null,null,null,null,null,null,null,null,null,null,null,null,null,null,null,null,null,null,null,null,null,null,null,null,null,null,null,null,null,null,null,null,null,null,null,null,null,null,null,null,null,null,null,null,null,null,null,null,null,null,null,null,null,null,null,null,null,null,null,null,null,null,null,null,null,null,null,null,null,null,null,null,null,null,null,null,null,null,null,null,null,null,null,null,null,null,null,null,null,null,null,null,null,null,null,null,null,null,null,null,null,null,null,null,null,null,null,null,null,null,null,null,null,null,null,null,null,null,null,null,null,null,null,null,null,null,null,null,null,null,null,null,null,null,null,null,null,null,null,null,null,null,null,null,null,null,null,null,null,null,null,null,null,null,null,null,null,null,null,null,null,null,null,null,null,null,null,null,null,null,null,null,null,null,null,null,null,null,null,null,null,null,null,null,null,null,null,null,null,null,null,null,null,null,null,null,null,null,null,null,null,null,null,null,null,null,null,null,null,null,null,null,null,null,null,null,null,null,null,null,null,null,null,null,null,null,null,null,null,null,null,null,null,null,null,null,null,null,null,null,null,null,null,null,null,null,null,null,null,null,null,null,null,null,null,null,null,null,null,null,null,null,null,null,null,null,null,null,null,null,null,null,null,null,null,null,null,null,null,null,null,null,null,null,null,null,null,null,null,null,null,null,null,null,null,null,null,null,null,null,null,null,null,null,null,null,null,null,null,null,null,null,null,null,null,null,null,null,null,null,null,null,null,null,null,null,null,null,null,null,null,null,null,null,null,null,null,null,null,null,null,null,null,null,null,null,null,null,null,null,null,null,null,null,null,null,null,null,null,null,null,null,null,null,null,null,null,null,null,null,null,null,null,null,null,null,null,null,null,null,null,null,null,null,null,null,null,null,null,null,null,null,null,null,null,null,null,null,null,null,null,null,null,null,null,null,null,null,null,null,null,null,null,null,null,null,null,null,null,null,null,null,null,null,null,null,null,null,null,null,null,null,null,null,null,null,null,null,null,null,null,null,null,null,null,null,null,null,null,null,null,null,null,null,null,null,null,null,null,null,null,null,null,null,null,null,null,null,null,null,null,null,null,null,null,null,null,null,null,null,null,null,null,null,null,null,null,null,null,null,null,null,null,null,null,null,null,null,null,null,null,null,null,null,null,null,null,null,null,null,null,null,null,null,null,null,null,null,null,null,null,null,null,null,null,null,null,null,null,null,null,null,null,null,null,null,null,null,null,null,null,null,null,null,null,null,null,null,null,null,null,null,null,null,null,null,null,null,null,null,null,null,null,null,null,null,null,null,null,null,null,null,null,null,null,null,null,null,null,null,null,null,null,null,null,null,null,null,null,null,null,null,null,null,null,null,null,null,null,null,null,null,null,null,null,null,null,null,null,null,null,null,null,null,null,null,null,null,null,null,null,null,null,null,null,null,null,null,null,null,null,null,null,null,null,null,null,null,null,null,null,null,null,null,null,null,null,null,null,null,null,null,null,null,null,null,null,null,null,null,null,null,null,null,null,null,null,null,null,null,null,null,null,null,null,null,null,null,null,null,null,null,null,null,null,null,null,null,null,null,null,null,null,null,null,null,null,null,null,null,null,null,null,null,null,null,null,null,null,null,null,null,null,null,null,null,null,null,null,null,null,null,null,null,null,null,null,null,null,null,null,null,null,null,null,null,null,null,null,null,null,null,null,null,null,null,null,null,null,null,null,null,null,null,null,null,null,null,null,null,null,null,null,null,null,null,null,null,null,null,null,null,null,null,null,null,null,null,null,null,null,null,null,null,null,null,null,null,null,null,null,null,null,null,null,null,null,null,null,null,null,null,null,null,null,null,null,null,null,null,null,null,null,null,null,null,null,null,null,null,null,null,null,null,null,null,null,null,null,null,null,null,null,null,null,null,null,null,null,null,null,null,null,null,null,null,null,null,null,null,null,null,null,null,null,null,null,null,null,null,null,null,null,null,null,null,null,null,null,null,null,null,null,null,null,null,null,null,null,null,null,null,null,null,null,null,null,null,null,null,null,null,null,null,null,null,null,null,null,null,null,null,null,null,null,null,null,null,null,null,null,null,null,null,null,null,null,null,null,null,null,null,null,null,null,null,null,null,null,null,null,null,null,null,null,null,null,null,null,null,null,null,null,null,null,null,null,null,null,null,null,null,null,null,null,null,null,null,null,null,null,null,null,null,null,null,null,null,null,null,null,null,null,null,null,null,null,null,null,null,null,null,null,null,null,null,null,null,null,null,null,null,null,null,null,null,null,null,null,null,null,null,null,null,null,null,null,null,null,null,null,null,null,null,null,null,null,null,null,null,null,null,null,null,null,null,null,null,null,null,null,null,null,null,null,null,null,null,null,null,null,null,null,null,null,null,null,null,null,null,null,null,null,null,null,null,null,null,null,null,null,null,null,null,null,null,null,null,null,null,null,null,null,null,null,null,null,null,null,null,null,null,null,null,null,null,null,null,null,null,null,null,null,null,null,null,null,null,null,null,null,null,null,null,null,null,null,null,null,null,null,null,null,null,null,null,null,null,null,null,null,null,null,null,null,null,null,null,null,null,null,null,null,null,null,null,null,null,null,null,null,null,null,null,null,null,null,null,null,null,null,null,null,null,null,null,null,null,null,null,null,null,null,null,null,null,null,null,null,null,null,null,null,null,null,null,null,null,null,null,null,null,null,null,null,null,null,null,null,null,null,null,null,null,null,null,null,null,null,null,null,null,null,null,null,null,null,null,null,null,null,null,null,null,null,null,null,null,null,null,null,null,null,null,null,null,null,null,null,null,null,null,null,null,null,null,null,null,null,null,null,null,null,null,null,null,null,null,null,null,null,null,null,null,null,null,null,null,null,null,null,null,null,null,null,null,null,null,null,null,null,null,null,null,null,null,null,null,null,null,null,null,null,null,null,null,null,null,null,null,null,null,null,null,null,null,null,null,null,null,null,null,null,null,null,null,null,null,null,null,null,null,null,null,null,null,null,null,null,null,null,null,null,null,null,null,null,null,null,null,null,null,null,null,null,null,null,null,null,null,null,null,null,null,null,null,null,null,null,null,null,null,null,null,null,null,null,null,null,null,null,null,null,null,null,null,null,null,null,null,null,null,null,null,null,null,null,null,null,null,null,null,null,null,null,null,null,null,null,null,null,null,null,null,null,null,null,null,null,null,null,null,null,null,null,null,null,null,null,null,null,null,null,null,null,null,null,null,null,null,null,null,null,null,null,null,null,null,null,null,null,null,null,null,null,null,null,null,null,null,null,null,null,null,null,null,null,null,null,null,null,null,null,null,null,null,null,null,null,null,null,null,null,null,null,null,null,null,null,null,null,null,null,null,null,null,null,null,null,null,null,null,null,null,null,null,null,null,null,null,null,null,null,null,null,null,null,null,null,null,null,null,null,null,null,null,null,null,null,null,null,null,null,null,null,null,null,null,null,null,null,null,null,null,null,null,null,null,null,null,null,null,null,null,null,null,null,null,null,null,null,null,null,null,null,null,null,null,null,null,null,null,null,null,null,null,null,null,null,null,null,null,null,null,null,null,null,null,null,null,null,null,null,null,null,null,null,null,null,null,null,null,null,null,null,null,null,null,null,null,null,null,null,null,null,null,null,null,null,null,null,null,null,null,null,null,null,null,null,null,null,null,null,null,null,null,null,null,null,null,null,null,null,null,null,null,null,null,null,null,null,null,null,null,null,null,null,null,null,null,null,null,null,null,null,null,null,null,null,null,null,null,null,null,null,null,null,null,null,null,null,null,null,null,null,null,null,null,null,null,null,null,null,null,null,null,null,null,null,null,null,null,null,null,null,null,null,null,null,null,null,null,null,null,null,null,null,null,null,null,null,null,null,null,null,null,null,null,null,null,null,null,null,null,null,null,null,null,null,null,null,null,null,null,null,null,null,null,null,null,null,null,null,null,null,null,null,null,null,null,null,null,null,null,null,null,null,null,null,null,null,null,null,null,null,null,null,null,null,null,null,null,null,null,null,null,null,null,null,null,null,null,null,null,null,null,null,null,null,null,null,null,null,null,null,null,null,null,null,null,null,null,null,null,null,null,null,null,null,null,null,null,null,null,null,null,null,null,null,null,null,null,null,null,null,null,null,null,null,null,null,null,null,null,null,null,null,null,null,null,null,null,null,null,null,null,null,null,null,null,null,null,null,null,null,null,null,null,null,null,null,null,null,null,null,null,null,null,null,null,null,null,null,null,null,null,null,null,null,null,null,null,null,null,null,null,null,null,null,null,null,null,null,null,null,null,null,null,null,null,null,null,null,null,null,null,null,null,null,null,null,null,null,null,null,null,null,null,null,null,null,null,null,null,null,null,null,null,null,null,null,null,null,null,null,null,null,null,null,null,null,null,null,null,null,null,null,null,null,null,null,null,null,null,null,null,null,null,null,null,null,null,null,null,null,null,null,null,null,null,null,null,null,null,null,null,null,null,null,null,null,null,null,null,null,null,null,null,null,null,null,null,null,null,null,null,null,null,null,null,null,null,null,null,null,null,null,null,null,null,null,null,null,null,null,null,null,null,null,null,null,null,null,null,null,null,null,null,null,null,null,null,null,null,null,null,null,null,null,null,null,null,null,null,null,null,null,null,null,null,null,null,null,null,null,null,null,null,null,null,null,null,null,null,null,null,null,null,null,null,null,null,null,null,null,null,null,null,null,null,null,null,null,null,null,null,null,null,null,null,null,null,null,null,null,null,null,null,null,null,null,null,null,null,null,null,null,null,null,null,null,null,null,null,null,null,null,null,null,null,null,null,null,null,null,null,null,null,null,null,null,null,null,null,null,null,null,null,null,null,null,null,null,null,null,null,null,null,null,null,null,null,null,null,null,null,null,null,null,null,null,null,null,null,null,null,null,null,null,null,null,null,null,null,null,null,null,null,null,null,null,null,null,null,null,null,null,null,null,null,null,null,null,null,null,null,null,null,null,null,null,null,null,null,null,null,null,null,null,null,null,null,null,null,null,null,null,null,null,null,null,null,null,null,null,null,null,null,null,null,null,null,null,null,null,null,null,null,null,null,null,null,null,null,null,null,null,null,null,null,null,null,null,null,null,null,null,null,null,null,null,null,null,null,null,null,null,null,null,null,null,null,null,null,null,null,null,null,null,null,null,null,null,null,null,null,null,null,null,null,null,null,null,null,null,null,null,null,null,null,null,null,null,null,null,null,null,null,null,null,null,null,null,null,null,null,null,null,null,null,null,null,null,null,null,null,null,null,null,null,null,null,null,null,null,null,null,null,null,null,null,null,null,null,null,null,null,null,null,null,null,null,null,null,null,null,null,null,null,null,null,null,null,null,null,null,null,null,null,null,null,null,null,null,null,null,null,null,null,null,null,null,null,null,null,null,null,null,null,null,null,null,null,null,null,null,null,null,null,null,null,null,null,null,null,null,null,null,null,null,null,null,null,null,null,null,null,null,null,null,null,null,null,null,null,null,null,null,null,null,null,null,null,null,null,null,null,null,null,null,null,null,null,null,null,null,null,null,null,null,null,null,null,null,null,null,null,null,null,null,null,null,null,null,null,null,null,null,null,null,null,null,null,null,null,null,null,null,null,null,null,null,null,null,null,null,null,null,null,null,null,null,null,null,null,null,null,null,null,null,null,null,null,null,null,null,null,null,null,null,null,null,null,null,null,null,null,null,null,null,null,null,null,null,null,null,null,null,null,null,null,null,null,null,null,null,null,null,null,null,null,null,null,null,null,null,null,null,null,null,null,null,null,null,null,null,null,null,null,null,null,null,null,null,null,null,null,null,null,null,null,null,null,null,null,null,null,null,null,null,null,null,null,null,null,null,null,null,null,null,null,null,null,null,null,null,null,null,null,null,null,null,null,null,null,null,null,null,null,null,null,null,null,null,null,null,null,null,null,null,null,null,null,null,null,null,null,null,null,null,null,null,null,null,null,null,null,null,null,null,null,null,null,null,null,null,null,null,null,null,null,null,null,null,null,null,null,null,null,null,null,null,null,null,null,null,null,null,null,null,null,null,null,null,null,null,null,null,null,null,null,null,null,null,null,null,null,null,null,null,null,null,null,null,null,null,null,null,null,null,null,null,null,null,null,null,null,null,null,null,null,null,null,null,null,null,null,null,null,null,null,null,null,null,null,null,null,null,null,null,null,null,null,null,null,null,null,null,null,null,null,null,null,null,null,null,null,null,null,null,null,null,null,null,null,null,null,null,null,null,null,null,null,null,null,null,null,null,null,null,null,null,null,null,null,null,null,null,null,null,null,null,null,null,null,null,null,null,null,null,null,null,null,null,null,null,null,null,null,null,null,null,null,null,null,null,null,null,null,null,null,null,null,null,null,null,null,null,null,null,null,null,null,null,null,null,null,null,null,null,null,null,null,null,null,null,null,null,null,null,null,null,null,null,null,null,null,null,null,null,null,null,null,null,null,null,null,null,null,null,null,null,null,null,null,null,null,null,null,null,null,null,null,null,null,null,null,null,null,null,null,null,null,null,null,null,null,null,null,null,null,null,null,null,null,null,null,null,null,null,null,null,null,null,null,null,null,null,null,null,null,null,null,null,null,null,null,null,null,null,null,null,null,null,null,null,null,null,null,null,null,null,null,null,null,null,null,null,null,null,null,null,null,null,null,null,null,null,null,null,null,null,null,null,null,null,null,null,null,null,null,null,null,null,null,null,null,null,null,null,null,null,null,null,null,null,null,null,null,null,null,null,null,null,null,null,null,null,null,null,null,null,null,null,null,null,null,null,null,null,null,null,null,null,null,null,null,null,null,null,null,null,null,null,null,null,null,null,null,null,null,null,null,null,null,null,null,null,null,null,null,null,null,null,null,null,null,null,null,null,null,null,null,null,null,null,null,null,null,null,null,null,null,null,null,null,null,null,null,null,null,null,null,null,null,null,null,null,null,null,null,null,null,null,null,null,null,null,null,null,null,null,null,null,null,null,null,null,null,null,null,null,null,null,null,null,null,null,null,null,null,null,null,null,null,null,null,null,null,null,null,null,null,null,null,null,null,null,null,null,null,null,null,null,null,null,null,null,null,null,null,null,null,null,null,null,null,null,null,null,null,null,null,null,null,null,null,null,null,null,null,null,null,null,null,null,null,null,null,null,null,null,null,null,null,null,null,null,null,null,null,null,null,null,null,null,null,null,null,null,null,null,null,null,null,null,null,null,null,null,null,null,null,null,null,null,null,null,null,null,null,null,null,null,null,null,null,null,null,null,null,null,null,null,null,null,null,null,null,null,null,null,null,null,null,null,null,null,null,null,null,null,null,null,null,null,null,null,null,null,null,null,null,null,null,null,null,null,null,null,null,null,null,null,null,null,null,null,null,null,null,null,null,null,null,null,null,null,null,null,null,null,null,null,null,null,null,null,null,null,null,null,null,null,null,null,null,null,null,null,null,null,null,null,null,null,null,null,null,null,null,null,null,null,null,null,null,null,null,null,null,null,null,null,null,null,null,null,null,null,null,null,null,null,null,null,null,null,null,null,null,null,null,null,null,null,null,null,null,null,null,null,null,null,null,null,null,null,null,null,null,null,null,null,null,null,null,null,null,null,null,null,null,null,null,null,null,null,null,null,null,null,null,null,null,null,null,null,null,null,null,null,null,null,null,null,null,null,null,null,null,null,null,null,null,null,null,null,null,null,null,null,null,null,null,null,null,null,null,null,null,null,null,null,null,null,null,null,null,null,null,null,null,null,null,null,null,null,null,null,null,null,null,null,null,null,null,null,null,null,null,null,null,null,null,null,null,null,null,null,null,null,null,null,null,null,null,null,null,null,null,null,null,null,null,null,null,null,null,null,null,null,null,null,null,null,null,null,null,null,null,null,null,null,null,null,null,null,null,null,null,null,null,null,null,null,null,null,null,null,null,null,null,null,null,null,null,null,null,null,null,null,null,null,null,null,null,null,null,null,null,null,null,null,null,null,null,null,null,null,null,null,null,null,null,null,null,null,null,null,null,null,null,null,null,null,null,null,null,null,null,null,null,null,null,null,null,null,null,null,null,null,null,null,null,null,null,null,null,null,null,null,null,null,null,null,null,null,null,null,null,null,null,null,null,null,null,null,null,null,null,null,null,null,null,null,null,null,null,null,null,null,null,null,null,null,null,null,null,null,null,null,null,null,null,null,null,null,null,null,null,null,null,null,null,null,null,null,null,null,null,null,null,null,null,null,null,null,null,null,null,null,null,null,null,null,null,null,null,null,null,null,null,null,null,null,null,null,null,null,null,null,null,null,null,null,null,null,null,null,null,null,null,null,null,null,null,null,null,null,null,null,null,null,null,null,null,null,null,null,null,null,null,null,null,null,null,null,null,null,null,null,null,null,null,null,null,null,null,null,null,null,null,null,null,null,null,null,null,null,null,null,null,null,null,null,null,null,null,null,null,null,null,null,null,null,null,null,null,null,null,null,null,null,null,null,null,null,null,null,null,null,null,null,null,null,null,null,null,null,null,null,null,null,null,null,null,null,null,null,null,null,null,null,null,null,null,null,null,null,null,null,null,null,null,null,null,null,null,null,null,null,null,null,null,null,null,null,null,null,null,null,null,null,null,null,null,null,null,null,null,null,null,null,null,null,null,null,null,null,null,null,null,null,null,null,null,null,null,null,null,null,null,null,null,null,null,null,null,null,null,null,null,null,null,null,null,null,null,null,null,null,null,null,null,null,null,null,null,null,null,null,null,null,null,null,null,null,null,null,null,null,null,null,null,null,null,null,null,null,null,null,null,null,null,null,null,null,null,null,null,null,null,null,null,null,null,null,null,null,null,null,null,null,null,null,null,null,null,null,null,null,null,null,null,null,null,null,null,null,null,null,null,null,null,null,null,null,null,null,null,null,null,null,null,null,null,null,null,null,null,null,null,null,null,null,null,null,null,null,null,null,null,null,null,null,null,null,null,null,null,null,null,null,null,null,null,null,null,null,null,null,null,null,null,null,null,null,null,null,null,null,null,null,null,null,null,null,null,null,null,null,null,null,null,null,null,null,null,null,null,null,null,null,null,null,null,null,null,null,null,null,null,null,null,null,null,null,null,null,null,null,null,null,null,null,null,null,null,null,null,null,null,null,null,null,null,null,null,null,null,null,null,null,null,null,null,null,null,null,null,null,null,null,null,null,null,null,null,null,null,null,null,null,null,null,null,null,null,null,null,null,null,null,null,null,null,null,null,null,null,null,null,null,null,null,null,null,null,null,null,null,null,null,null,null,null,null,null,null,null,null,null,null,null,null,null,null,null,null,null,null,null,null,null,null,null,null,null,null,null,null,null,null,null,null,null,null,null,null,null,null,null,null,null,null,null,null,null,null,null,null,null,null,null,null,null,null,null,null,null,null,null,null,null,null,null,null,null,null,null,null,null,null,null,null,null,null,null,null,null,null,null,null,null,null,null,null,null,null,null,null,null,null,null,null,null,null,null,null,null,null,null,null,null,null,null,null,null,null,null,null,null,null,null,null,null,null,null,null,null,null,null,null,null,null,null,null,null,null,null,null,null,null,null,null,null,null,null,null,null,null,null,null,null,null,null,null,null,null,null,null,null,null,null,null,null,null,null,null,null,null,null,null,null,null,null,null,null,null,null,null,null,null,null,null,null,null,null,null,null,null,null,null,null,null,null,null,null,null,null,null,null,null,null,null,null,null,null,null,null,null,null,null,null,null,null,null,null,null,null,null,null,null,null,null,null,null,null,null,null,null,null,null,null,null,null,null,null,null,null,null,null,null,null,null,null,null,null,null,null,null,null,null,null,null,null,null,null,null,null,null,null,null,null,null,null,null,null,null,null,null,null,null,null,null,null,null,null,null,null,null,null,null,null,null,null,null,null,null,null,null,null,null,null,null,null,null,null,null,null,null,null,null,null,null,null,null,null,null,null,null,null,null,null,null,null,null,null,null,null,null,null,null,null,null,null,null,null,null,null,null,null,null,null,null,null,null,null,null,null,null,null,null,null,null,null,null,null,null,null,null,null,null,null,null,null,null,null,null,null,null,null,null,null,null,null,null,null,null,null,null,null,null,null,null,null,null,null,null,null,null,null,null,null,null,null,null,null,null,null,null,null,null,null,null,null,null,null,null,null,null,null,null,null,null,null,null,null,null,null,null,null,null,null,null,null,null,null,null,null,null,null,null,null,null,null,null,null,null,null,null,null,null,null,null,null,null,null,null,null,null,null,null,null,null,null,null,null,null,null,null,null,null,null,null,null,null,null,null,null,null,null,null,null,null,null,null,null,null,null,null,null,null,null,null,null,null,null,null,null,null,null,null,null,null,null,null,null,null,null,null,null,null,null,null,null,null,null,null,null,null,null,null,null,null,null,null,null,null,null,null,null,null,null,null,null,null,null,null,null,null,null,null,null,null,null,null,null,null,null,null,null,null,null,null,null,null,null,null,null,null,null,null,null,null,null,null,null,null,null,null,null,null,null,null,null,null,null,null,null,null,null,null,null,null,null,null,null,null,null,null,null,null,null,null,null,null,null,null,null,null,null,null,null,null,null,null,null,null,null,null,null,null,null,null,null,null,null,null,null,null,null,null,null,null,null,null,null,null,null,null,null,null,null,null,null,null,null,null,null,null,null,null,null,null,null,null,null,null,null,null,null,null,null,null,null,null,null,null,null,null,null,null,null,null,null,null,null,null,null,null,null,null,null,null,null,null,null,null,null,null,null,null,null,null,null,null,null,null,null,null,null,null,null,null,null,null,null,null,null,null,null,null,null,null,null,null,null,null,null,null,null,null,null,null,null,null,null,null,null,null,null,null,null,null,null,null,null,null,null,null,null,null,null,null,null,null,null,null,null,null,null,null,null,null,null,null,null,null,null,null,null,null,null,null,null,null,null,null,null,null,null,null,null,null,null,null,null,null,null,null,null,null,null,null,null,null,null,null,null,null,null,null,null,null,null,null,null,null,null,null,null,null,null,null,null,null,null,null,null,null,null,null,null,null,null,null,null,null,null,null,null,null,null,null,null,null,null,null,null,null,null,null,null,null,null,null,null,null,null,null,null,null,null,null,null,null,null,null,null,null,null,null,null,null,null,null,null,null,null,null,null,null,null,null,null,null,null,null,null,null,null,null,null,null,null,null,null,null,null,null,null,null,null,null,null,null,null,null,null,null,null,null,null,null,null,null,null,null,null,null,null,null,null,null,null,null,null,null,null,null,null,null,null,null,null,null,null,null,null,null,null,null,null,null,null,null,null,null,null,null,null,null,null,null,null,null,null,null,null,null,null,null,null,null,null,null,null,null,null,null,null,null,null,null,null,null,null,null,null,null,null,null,null,null,null,null,null,null,null,null,null,null,null,null,null,null,null,null,null,null,null,null,null,null,null,null,null,null,null,null,null,null,null,null,null,null,null,null,null,null,null,null,null,null,null,null,null,null,null,null,null,null,null,null,null,null,null,null,null,null,null,null,null,null,null,null,null,null,null,null,null,null,null,null,null,null,null,null,null,null,null,null,null,null,null,null,null,null,null,null,null,null,null,null,null,null,null,null,null,null,null,null,null,null,null,null,null,null,null,null,null,null,null,null,null,null,null,null,null,null,null,null,null,null,null,null,null,null,null,null,null,null,null,null,null,null,null,null,null,null,null,null,null,null,null,null,null,null,null,null,null,null,null,null,null,null,null,null,null,null,null,null,null,null,null,null,null,null,null,null,null,null,null,null,null,null,null,null,null,null,null,null,null,null,null,null,null,null,null,null,null,null,null,null,null,null,null,null,null,null,null,null,null,null,null,null,null,null,null,null,null,null,null,null,null,null,null,null,null,null,null,null,null,null,null,null,null,null,null,null,null,null,null,null,null,null,null,null,null,null,null,null,null,null,null,null,null,null,null,null,null,null,null,null,null,null,null,null,null,null,null,null,null,null,null,null,null,null,null,null,null,null,null,null,null,null,null,null,null,null,null,null,null,null,null,null,null,null,null,null,null,null,null,null,null,null,null,null,null,null,null,null,null,null,null,null,null,null,null,null,null,null,null,null,null,null,null,null,null,null,null,null,null,null,null,null,null,null,null,null,null,null,null,null,null,null,null,null,null,null,null,null,null,null,null,null,null,null,null,null,null,null,null,null,null,null,null,null,null,null,null,null,null,null,null,null,null,null,null,null,null,null,null,null,null,null,null,null,null,null,null,null,null,null,null,null,null,null,null,null,null,null,null,null,null,null,null,null,null,null,null,null,null,null,null,null,null,null,null,null,null,null,null,null,null,null,null,null,null,null,null,null,null,null,null,null,null,null,null,null,null,null,null,null,null,null,null,null,null,null,null,null,null,null,null,null,null,null,null,null,null,null,null,null,null,null,null,null,null,null,null,null,null,null,null,null,null,null,null,null,null,null,null,null,null,null,null,null,null,null,null,null,null,null,null,null,null,null,null,null,null,null,null,null,null,null,null,null,null,null,null,null,null,null,null,null,null,null,null,null,null,null,null,null,null,null,null,null,null,null,null,null,null,null,null,null,null,null,null,null,null,null,null,null,null,null,null,null,null,null,null,null,null,null,null,null,null,null,null,null,null,null,null,null,null,null,null,null,null,null,null,null,null,null,null,null,null,null,null,null,null,null,null,null,null,null,null,null,null,null,null,null,null,null,null,null,null,null,null,null,null,null,null,null,null,null,null,null,null,null,null,null,null,null,null,null,null,null,null,null,null,null,null,null,null,null,null,null,null,null,null,null,null,null,null,null,null,null,null,null,null,null,null,null,null,null,null,null,null,null,null,null,null,null,null,null,null,null,null,null,null,null,null,null,null,null,null,null,null,null,null,null,null,null,null,null,null,null,null,null,null,null,null,null,null,null,null,null,null,null,null,null,null,null,null,null,null,null,null,null,null,null,null,null,null,null,null,null,null,null,null,null,null,null,null,null,null,null,null,null,null,null,null,null,null,null,null,null,null,null,null,null,null,null,null,null,null,null,null,null,null,null,null,null,null,null,null,null,null,null,null,null,null,null,null,null,null,null,null,null,null,null,null,null,null,null,null,null,null,null,null,null,null,null,null,null,null,null,null,null,null,null,null,null,null,null,null,null,null,null,null,null,null,null,null,null,null,null,null,null,null,null,null,null,null,null,null,null,null,null,null,null,null,null,null,null,null,null,null,null,null,null,null,null,null,null,null,null,null,null,null,null,null,null,null,null,null,null,null,null,null,null,null,null,null,null,null,null,null,null,null,null,null,null,null,null,null,null,null,null,null,null,null,null,null,null,null,null,null,null,null,null,null,null,null,null,null,null,null,null,null,null,null,null,null,null,null,null,null,null,null,null,null,null,null,null,null,null,null,null,null,null,null,null,null,null,null,null,null,null,null,null,null,null,null,null,null,null,null,null,null,null,null,null,null,null,null,null,null,null,null,null,null,null,null,null,null,null,null,null,null,null,null,null,null,null,null,null,null,null,null,null,null,null,null,null,null,null,null,null,null,null,null,null,null,null,null,null,null,null,null,null,null,null,null,null,null,null,null,null,null,null,null,null,null,null,null,null,null,null,null,null,null,null,null,null,null,null,null,null,null,null,null,null,null,null,null,null,null,null,null,null,null,null,null,null,null,null,null,null,null,null,null,null,null,null,null,null,null,null,null,null,null,null,null,null,null,null,null,null,null,null,null,null,null,null,null,null,null,null,null,null,null,null,null,null,null,null,null,null,null,null,null,null,null,null,null,null,null,null,null,null,null,null,null,null,null,null,null,null,null,null,null,null,null,null,null,null,null,null,null,null,null,null,null,null,null,null,null,null,null,null,null,null,null,null,null,null,null,null,null,null,null,null,null,null,null,null,null,null,null,null,null,null,null,null,null,null,null,null,null,null,null,null,null,null,null,null,null,null,null,null,null,null,null,null,null,null,null,null,null,null,null,null,null,null,null,null,null,null,null,null,null,null,null,null,null,null,null,null,null,null,null,null,null,null,null,null,null,null,null,null,null,null,null,null,null,null,null,null,null,null,null,null,null,null,null,null,null,null,null,null,null,null,null,null,null,null,null,null,null,null,null,null,null,null,null,null,null,null,null,null,null,null,null,null,null,null,null,null,null,null,null,null,null,null,null,null,null,null,null,null,null,null,null,null,null,null,null,null,null,null,null,null,null,null,null,null,null,null,null,null,null,null,null,null,null,null,null,null,null,null,null,null,null,null,null,null,null,null,null,null,null,null,null,null,null,null,null,null,null,null,null,null,null,null,null,null,null,null,null,null,null,null,null,null,null,null,null,null,null,null,null,null,null,null,null,null,null,null,null,null,null,null,null,null,null,null,null,null,null,null,null,null,null,null,null,null,null,null,null,null,null,null,null,null,null,null,null,null,null,null,null,null,null,null,null,null,null,null,null,null,null,null,null,null,null,null,null,null,null,null,null,null,null,null,null,null,null,null,null,null,null,null,null,null,null,null,null,null,null,null,null,null,null,null,null,null,null,null,null,null,null,null,null,null,null,null,null,null,null,null,null,null,null,null,null,null,null,null,null,null,null,null,null,null,null,null,null,null,null,null,null,null,null,null,null,null,null,null,null,null,null,null,null,null,null,null,null,null,null,null,null,null,null,null,null,null,null,null,null,null,null,null,null,null,null,null,null,null,null,null,null,null,null,null,null,null,null,null,null,null,null,null,null,null,null,null,null,null,null,null,null,null,null,null,null,null,null,null,null,null,null,null,null,null,null,null,null,null,null,null,null,null,null,null,null,null,null,null,null,null,null,null,null,null,null,null,null,null,null,null,null,null,null,null,null,null,null,null,null,null,null,null,null,null,null,null,null,null,null,null,null,null,null,null,null,null,null,null,null,null,null,null,null,null,null,null,null,null,null,null,null,null,null,null,null,null,null,null,null,null,null,null,null,null,null,null,null,null,null,null,null,null,null,null,null,null,null,null,null,null,null,null,null,null,null,null,null,null,null,null,null,null,null,null,null,null,null,null,null,null,null,null,null,null,null,null,null,null,null,null,null,null,null,null,null,null,null,null,null,null,null,null,null,null,null,null,null,null,null,null,null,null,null,null,null,null,null,null,null,null,null,null,null,null,null,null,null,null,null,null,null,null,null,null,null,null,null,null,null,null,null,null,null,null,null,null,null,null,null,null,null,null,null,null,null,null,null,null,null,null,null,null,null,null,null,null,null,null,null,null,null,null,null,null,null,null,null,null,null,null,null,null,null,null,null,null,null,null,null,null,null,null,null,null,null,null,null,null,null,null,null,null,null,null,null,null,null,null,null,null,null,null,null,null,null,null,null,null,null,null,null,null,null,null,null,null,null,null,null,null,null,null,null,null,null,null,null,null,null,null,null,null,null,null,null,null,null,null,null,null,null,null,null,null,null,null,null,null,null,null,null,null,null,null,null,null,null,null,null,null,null,null,null,null,null,null,null,null,null,null,null,null,null,null,null,null,null,null,null,null,null,null,null,null,null,null,null,null,null,null,null,null,null,null,null,null,null,null,null,null,null,null,null,null,null,null,null,null,null,null,null,null,null,null,null,null,null,null,null,null,null,null,null,null,null,null,null,null,null,null,null,null,null,null,null,null,null,null,null,null,null,null,null,null,null,null,null,null,null,null,null,null,null,null,null,null,null,null,null,null,null,null,null,null,null,null,null,null,null,null,null,null,null,null,null,null,null,null,null,null,null,null,null,null,null,null,null,null,null,null,null,null,null,null,null,null,null,null,null,null,null,null,null,null,null,null,null,null,null,null,null,null,null,null,null,null,null,null,null,null,null,null,null,null,null,null,null,null,null,null,null,null,null,null,null,null,null,null,null,null,null,null,null,null,null,null,null,null,null,null,null,null,null,null,null,null,null,null,null,null,null,null,null,null,null,null,null,null,null,null,null,null,null,null,null,null,null,null,null,null,null,null,null,null,null,null,null,null,null,null,null,null,null,null,null,null,null,null,null,null,null,null,null,null,null,null,null,null,null,null,null,null,null,null,null,null,null,null,null,null,null,null,null,null,null,null,null,null,null,null,null,null,null,null,null,null,null,null,null,null,null,null,null,null,null,null,null,null,null,null,null,null,null,null,null,null,null,null,null,null,null,null,null,null,null,null,null,null,null,null,null,null,null,null,null,null,null,null,null,null,null,null,null,null,null,null,null,null,null,null,null,null,null,null,null,null,null,null,null,null,null,null,null,null,null,null,null,null,null,null,null,null,null,null,null,null,null,null,null,null,null,null,null,null,null,null,null,null,null,null,null,null,null,null,null,null,null,null,null,null,null,null,null,null,null,null,null,null,null,null,null,null,null,null,null,null,null,null,null,null,null,null,null,null,null,null,null,null,null,null,null,null,null,null,null,null,null,null,null,null,null,null,null,null,null,null,null,null,null,null,null,null,null,null,null,null,null,null,null,null,null,null,null,null,null,null,null,null,null,null,null,null,null,null,null,null,null,null,null,null,null,null,null,null,null,null,null,null,null,null,null,null,null,null,null,null,null,null,null,null,null,null,null,null,null,null,null,null,null,null,null,null,null,null,null,null,null,null,null,null,null,null,null,null,null,null,null,null,null,null,null,null,null,null,null,null,null,null,null,null,null,null,null,null,null,null,null,null,null,null,null,null,null,null,null,null,null,null,null,null,null,null,null,null,null,null,null,null,null,null,null,null,null,null,null,null,null,null,null,null,null,null,null,null,null,null,null,null,null,null,null,null,null,null,null,null,null,null,null,null,null,null,null,null,null,null,null,null,null,null,null,null,null,null,null,null,null,null,null,null,null,null,null,null,null,null,null,null,null,null,null,null,null,null,null,null,null,null,null,null,null,null,null,null,null,null,null,null,null,null,null,null,null,null,null,null,null,null,null,null,null,null,null,null,null,null,null,null,null,null,null,null,null,null,null,null,null,null,null,null,null,null,null,null,null,null,null,null,null,null,null,null,null,null,null,null,null,null,null,null,null,null,null,null,null,null,null,null,null,null,null,null,null,null,null,null,null,null,null,null,null,null,null,null,null,null,null,null,null,null,null,null,null,null,null,null,null,null,null,null,null,null,null,null,null,null,null,null,null,null,null,null,null,null,null,null,null,null,null,null,null,null,null,null,null,null,null,null,null,null,null,null,null,null,null,null,null,null,null,null,null,null,null,null,null,null,null,null,null,null,null,null,null,null,null,null,null,null,null,null,null,null,null,null,null,null,null,null,null,null,null,null,null,null,null,null,null,null,null,null,null,null,null,null,null,null,null,null,null,null,null,null,null,null,null,null,null,null,null,null,null,null,null,null,null,null,null,null,null,null,null,null,null,null,null,null,null,null,null,null,null,null,null,null,null,null,null,null,null,null,null,null,null,null,null,null,null,null,null,null,null,null,null,null,null,null,null,null,null,null,null,null,null,null,null,null,null,null,null,null,null,null,null,null,null,null,null,null,null,null,null,null,null,null,null,null,null,null,null,null,null,null,null,null,null,null,null,null,null,null,null,null,null,null,null,null,null,null,null,null,null,null,null,null,null,null,null,null,null,null,null,null,null,null,null,null,null,null,null,null,null,null,null,null,null,null,null,null,null,null,null,null,null,null,null,null,null,null,null,null,null,null,null,null,null,null,null,null,null,null,null,null,null,null,null,null,null,null,null,null,null,null,null,null,null,null,null,null,null,null,null,null,null,null,null,null,null,null,null,null,null,null,null,null,null,null,null,null,null,null,null,null,null,null,null,null,null,null,null,null,null,null,null,null,null,null,null,null,null,null,null,null,null,null,null,null,null,null,null,null,null,null,null,null,null,null,null,null,null,null,null,null,null,null,null,null,null,null,null,null,null,null,null,null,null,null,null,null,null,null,null,null,null,null,null,null,null,null,null,null,null,null,null,null,null,null,null,null,null,null,null,null,null,null,null,null,null,null,null,null,null,null,null,null,null,null,null,null,null,null,null,null,null,null,null,null,null,null,null,null,null,null,null,null,null,null,null,null,null,null,null,null,null,null,null,null,null,null,null,null,null,null,null,null,null,null,null,null,null,null,null,null,null,null,null,null,null,null,null,null,null,null,null,null,null,null,null,null,null,null,null,null,null,null,null,null,null,null,null,null,null,null,null,null,null,null,null,null,null,null,null,null,null,null,null,null,null,null,null,null,null,null,null,null,null,null,null,null,null,null,null,null,null,null,null,null,null,null,null,null,null,null,null,null,null,null,null,null,null,null,null,null,null,null,null,null,null,null,null,null,null,null,null,null,null,null,null,null,null,null,null,null,null,null,null,null,null,null,null,null,null,null,null,null,null,null,null,null,null,null,null,null,null,null,null,null,null,null,null,null,null,null,null,null,null,null,null,null,null,null,null,null,null,null,null,null,null,null,null,null,null,null,null,null,null,null,null,null,null,null,null,null,null,null,null,null,null,null,null,null,null,null,null,null,null,null,null,null,null,null,null,null,null,null,null,null,null,null,null,null,null,null,null,null,null,null,null,null,null,null,null,null,null,null,null,null,null,null,null,null,null,null,null,null,null,null,null,null,null,null,null,null,null,null,null,null,null,null,null,null,null,null,null,null,null,null,null,null,null,null,null,null,null,null,null,null,null,null,null,null,null,null,null,null,null,null,null,null,null,null,null,null,null,null,null,null,null,null,null,null,null,null,null,null,null,null,null,null,null,null,null,null,null,null,null,null,null,null,null,null,null,null,null,null,null,null,null,null,null,null,null,null,null,null,null,null,null,null,null,null,null,null,null,null,null,null,null,null,null,null,null,null,null,null,null,null,null,null,null,null,null,null,null,null,null,null,null,null,null,null,null,null,null,null,null,null,null,null,null,null,null,null,null,null,null,null,null,null,null,null,null,null,null,null,null,null,null,null,null,null,null,null,null,null,null,null,null,null,null,null,null,null,null,null,null,null,null,null,null,null,null,null,null,null,null,null,null,null,null,null,null,null,null,null,null,null,null,null,null,null,null,null,null,null,null,null,null,null,null,null,null,null,null,null,null,null,null,null,null,null,null,null,null,null,null,null,null,null,null,null,null,null,null,null,null,null,null,null,null,null,null,null,null,null,null,null,null,null,null,null,null,null,null,null,null,null,null,null,null,null,null,null,null,null,null,null,null,null,null,null,null,null,null,null,null,null,null,null,null,null,null,null,null,null,null,null,null,null,null,null,null,null,null,null,null,null,null,null,null,null,null,null,null,null,null,null,null,null,null,null,null,null,null,null,null,null,null,null,null,null,null,null,null,null,null,null,null,null,null,null,null,null,null,null,null,null,null,null,null,null,null,null,null,null,null,null,null,null,null,null,null,null,null,null,null,null,null,null,null,null,null,null,null,null,null,null,null,null,null,null,null,null,null,null,null,null,null,null,null,null,null,null,null,null,null,null,null,null,null,null,null,null,null,null,null,null,null,null,null,null,null,null,null,null,null,null,null,null,null,null,null,null,null,null,null,null,null,null,null,null,null,null,null,null,null,null,null,null,null,null,null,null,null,null,null,null,null,null,null,null,null,null,null,null,null,null,null,null,null,null,null,null,null,null,null,null,null,null,null,null,null,null,null,null,null,null,null,null,null,null,null,null,null,null,null,null,null,null,null,null,null,null,null,null,null,null,null,null,null,null,null,null,null,null,null,null,null,null,null,null,null,null,null,null,null,null,null,null,null,null,null,null,null,null,null,null,null,null,null,null,null,null,null,null,null,null,null,null,null,null,null,null,null,null,null,null,null,null,null,null,null,null,null,null,null,null,null,null,null,null,null,null,null,null,null,null,null,null,null,null,null,null,null,null,null,null,null,null,null,null,null,null,null,null,null,null,null,null,null,null,null,null,null,null,null,null,null,null,null,null,null,null,null,null,null,null,null,null,null,null,null,null,null,null,null,null,null,null,null,null,null,null,null,null,null,null,null,null,null,null,null,null,null,null,null,null,null,null,null,null,null,null,null,null,null,null,null,null,null,null,null,null,null,null,null,null,null,null,null,null,null,null,null,null,null,null,null,null,null,null,null,null,null,null,null,null,null,null,null,null,null,null,null,null,null,null,null,null,null,null,null,null,null,null,null,null,null,null,null,null,null,null,null,null,null,null,null,null,null,null,null,null,null,null,null,null,null,null,null,null,null,null,null,null,null,null,null,null,null,null,null,null,null,null,null,null,null,null,null,null,null,null,null,null,null,null,null,null,null,null,null,null,null,null,null,null,null,null,null,null,null,null,null,null,null,null,null,null,null,null,null,null,null,null,null,null,null,null,null,null,null,null,null,null,null,null,null,null,null,null,null,null,null,null,null,null,null,null,null,null,null,null,null,null,null,null,null,null,null,null,null,null,null,null,null,null,null,null,null,null,null,null,null,null,null,null,null,null,null,null,null,null,null,null,null,null,null,null,null,null,null,null,null,null,null,null,null,null,null,null,null,null,null,null,null,null,null,null,null,null,null,null,null,null,null,null,null,null,null,null,null,null,null,null,null,null,null,null,null,null,null,null,null,null,null,null,null,null,null,null,null,null,null,null,null,null,null,null,null,null,null,null,null,null,null,null,null,null,null,null,null,null,null,null,null,null,null,null,null,null,null,null,null,null,null,null,null,null,null,null,null,null,null,null,null,null,null,null,null,null,null,null,null,null,null,null,null,null,null,null,null,null,null,null,null,null,null,null,null,null,null,null,null,null,null,null,null,null,null,null,null,null,null,null,null,null,null,null,null,null,null,null,null,null,null,null,null,null,null,null,null,null,null,null,null,null,null,null,null,null,null,null,null,null,null,null,null,null,null,null,null,null,null,null,null,null,null,null,null,null,null,null,null,null,null,null,null,null,null,null,null,null,null,null,null,null,null,null,null,null,null,null,null,null,null,null,null,null,null,null,null,null,null,null,null,null,null,null,null,null,null,null,null,null,null,null,null,null,null,null,null,null,null,null,null,null,null,null,null,null,null,null,null,null,null,null,null,null,null,null,null,null,null,null,null,null,null,null,null,null,null,null,null,null,null,null,null,null,null,null,null,null,null,null,null,null,null,null,null,null,null,null,null,null,null,null,null,null,null,null,null,null,null,null,null,null,null,null,null,null,null,null,null,null,null,null,null,null,null,null,null,null,null,null,null,null,null,null,null,null,null,null,null,null,null,null,null,null,null,null,null,null,null,null,null,null,null,null,null,null,null,null,null,null,null,null,null,null,null,null,null,null,null,null,null,null,null,null,null,null,null,null,null,null,null,null,null,null,null,null,null,null,null,null,null,null,null,null,null,null,null,null,null,null,null,null,null,null,null,null,null,null,null,null,null,null,null,null,null,null,null,null,null,null,null,null,null,null,null,null,null,null,null,null,null,null,null,null,null,null,null,null,null,null,null,null,null,null,null,null,null,null,null,null,null,null,null,null,null,null,null,null,null,null,null,null,null,null,null,null,null,null,null,null,null,null,null,null,null,null,null,null,null,null,null,null,null,null,null,null,null,null,null,null,null,null,null,null,null,null,null,null,null,null,null,null,null,null,null,null,null,null,null,null,null,null,null,null,null,null,null,null,null,null,null,null,null,null,null,null,null,null,null,null,null,null,null,null,null,null,null,null,null,null,null,null,null,null,null,null,null,null,null,null,null,null,null,null,null,null,null,null,null,null,null,null,null,null,null,null,null,null,null,null,null,null,null,null,null,null,null,null,null,null,null,null,null,null,null,null,null,null,null,null,null,null,null,null,null,null,null,null,null,null,null,null,null,null,null,null,null,null,null,null,null,null,null,null,null,null,null,null,null,null,null,null,null,null,null,null,null,null,null,null,null,null,null,null,null,null,null,null,null,null,null,null,null,null,null,null,null,null,null,null,null,null,null,null,null,null,null,null,null,null,null,null,null,null,null,null,null,null,null,null,null,null,null,null,null,null,null,null,null,null,null,null,null,null,null,null,null,null,null,null,null,null,null,null,null,null,null,null,null,null,null,null,null,null,null,null,null,null,null,null,null,null,null,null,null,null,null,null,null,null,null,null,null,null,null,null,null,null,null,null,null,null,null,null,null,null,null,null,null,null,null,null,null,null,null,null,null,null,null,null,null,null,null,null,null,null,null,null,null,null,null,null,null,null,null,null,null,null,null,null,null,null,null,null,null,null,null,null,null,null,null,null,null,null,null,null,null,null,null,null,null,null,null,null,null,null,null,null,null,null,null,null,null,null,null,null,null,null,null,null,null,null,null,null,null,null,null,null,null,null,null,null,null,null,null,null,null,null,null,null,null,null,null,null,null,null,null,null,null,null,null,null,null,null,null,null,null,null,null,null,null,null,null,null,null,null,null,null,null,null,null,null,null,null,null,null,null,null,null,null,null,null,null,null,null,null,null,null,null,null,null,null,null,null,null,null,null,null,null,null,null,null,null,null,null,null,null,null,null,null,null,null,null,null,null,null,null,null,null,null,null,null,null,null,null,null,null,null,null,null,null,null,null,null,null,null,null,null,null,null,null,null,null,null,null,null,null,null,null,null,null,null,null,null,null,null,null,null,null,null,null,null,null,null,null,null,null,null,null,null,null,null,null,null,null,null,null,null,null,null,null,null,null,null,null,null,null,null,null,null,null,null,null,null,null,null,null,null,null,null,null,null,null,null,null,null,null,null,null,null,null,null,null,null,null,null,null,null,null,null,null,null,null,null,null,null,null,null,null,null,null,null,null,null,null,null,null,null,null,null,null,null,null,null,null,null,null,null,null,null,null,null,null,null,null,null,null,null,null,null,null,null,null,null,null,null,null,null,null,null,null,null,null,null,null,null,null,null,null,null,null,null,null,null,null,null,null,null,null,null,null,null,null,null,null,null,null,null,null,null,null,null,null,null,null,null,null,null,null,null,null,null,null,null,null,null,null,null,null,null,null,null,null,null,null,null,null,null,null,null,null,null,null,null,null,null,null,null,null,null,null,null,null,null,null,null,null,null,null,null,null,null,null,null,null,null,null,null,null,null,null,null,null,null,null,null,null,null,null,null,null,null,null,null,null,null,null,null,null,null,null,null,null,null,null,null,null,null,null,null,null,null,null,null,null,null,null,null,null,null,null,null,null,null,null,null,null,null,null,null,null,null,null,null,null,null,null,null,null,null,null,null,null,null,null,null,null,null,null,null,null,null,null,null,null,null,null,null,null,null,null,null,null,null,null,null,null,null,null,null,null,null,null,null,null,null,null,null,null,null,null,null,null,null,null,null,null,null,null,null,null,null,null,null,null,null,null,null,null,null,null,null,null,null,null,null,null,null,null,null,null,null,null,null,null,null,null,null,null,null,null,null,null,null,null,null,null,null,null,null,null,null,null,null,null,null,null,null,null,null,null,null,null,null,null,null,null,null,null,null,null,null,null,null,null,null,null,null,null,null,null,null,null,null,null,null,null,null,null,null,null,null,null,null,null,null,null,null,null,null,null,null,null,null,null,null,null,null,null,null,null,null,null,null,null,null,null,null,null,null,null,null,null,null,null,null,null,null,null,null,null,null,null,null,null,null,null,null,null,null,null,null,null,null,null,null,null,null,null,null,null,null,null,null,null,null,null,null,null,null,null,null,null,null,null,null,null,null,null,null,null,null,null,null,null,null,null,null,null,null,null,null,null,null,null,null,null,null,null,null,null,null,null,null,null,null,null,null,null,null,null,null,null,null,null,null,null,null,null,null,null,null,null,null,null,null,null,null,null,null,null,null,null,null,null,null,null,null,null,null,null,null,null,null,null,null,null,null,null,null,null,null,null,null,null,null,null,null,null,null,null,null,null,null,null,null,null,null,null,null,null,null,null,null,null,null,null,null,null,null,null,null,null,null,null,null,null,null,null,null,null,null,null,null,null,null,null,null,null,null,null,null,null,null,null,null,null,null,null,null,null,null,null,null,null,null,null,null,null,null,null,null,null,null,null,null,null,null,null,null,null,null,null,null,null,null,null,null,null,null,null,null,null,null,null,null,null,null,null,null,null,null,null,null,null,null,null,null,null,null,null,null,null,null,null,null,null,null,null,null,null,null,null,null,null,null,null,null,null,null,null,null,null,null,null,null,null,null,null,null,null,null,null,null,null,null,null,null,null,null,null,null,null,null,null,null,null,null,null,null,null,null,null,null,null,null,null,null,null,null,null,null,null,null,null,null,null,null,null,null,null,null,null,null,null,null,null,null,null,null,null,null,null,null,null,null,null,null,null,null,null,null,null,null,null,null,null,null,null,null,null,null,null,null,null,null,null,null,null,null,null,null,null,null,null,null,null,null,null,null,null,null,null,null,null,null,null,null,null,null,null,null,null,null,null,null,null,null,null,null,null,null,null,null,null,null,null,null,null,null,null,null,null,null,null,null,null,null,null,null,null,null,null,null,null,null,null,null,null,null,null,null,null,null,null,null,null,null,null,null,null,null,null,null,null,null,null,null,null,null,null,null,null,null,null,null,null,null,null,null,null,null,null,null,null,null,null,null,null,null,null,null,null,null,null,null,null,null,null,null,null,null,null,null,null,null,null,null,null,null,null,null,null,null,null,null,null,null,null,null,null,null,null,null,null,null,null,null,null,null,null,null,null,null,null,null,null,null,null,null,null,null,null,null,null,null,null,null,null,null,null,null,null,null,null,null,null,null,null,null,null,null,null,null,null,null,null,null,null,null,null,null,null,null,null,null,null,null,null,null,null,null,null,null,null,null,null,null,null,null,null,null,null,null,null,null,null,null,null,null,null,null,null,null,null,null,null,null,null,null,null,null,null,null,null,null,null,null,null,null,null,null,null,null,null,null,null,null,null,null,null,null,null,null,null,null,null,null,null,null,null,null,null,null,null,null,null,null,null,null,null,null,null,null,null,null,null,null,null,null,null,null,null,null,null,null,null,null,null,null,null,null,null,null,null,null,null,null,null,null,null,null,null,null,null,null,null,null,null,null,null,null,null,null,null,null,null,null,null,null,null,null,null,null,null,null,null,null,null,null,null,null,null,null,null,null,null,null,null,null,null,null,null,null,null,null,null,null,null,null,null,null,null,null,null,null,null,null,null,null,null,null,null,null,null,null,null,null,null,null,null,null,null,null,null,null,null,null,null,null,null,null,null,null,null,null,null,null,null,null,null,null,null,null,null,null,null,null,null,null,null,null,null,null,null,null,null,null,null,null,null,null,null,null,null,null,null,null,null,null,null,null,null,null,null,null,null,null,null,null,null,null,null,null,null,null,null,null,null,null,null,null,null,null,null,null,null,null,null,null,null,null,null,null,null,null,null,null,null,null,null,null,null,null,null,null,null,null,null,null,null,null,null,null,null,null,null,null,null,null,null,null,null,null,null,null,null,null,null,null,null,null,null,null,null,null,null,null,null,null,null,null,null,null,null,null,null,null,null,null,null,null,null,null,null,null,null,null,null,null,null,null,null,null,null,null,null,null,null,null,null,null,null,null,null,null,null,null,null,null,null,null,null,null,null,null,null,null,null,null,null,null,null,null,null,null,null,null,null,null,null,null,null,null,null,null,null,null,null,null,null,null,null,null,null,null,null,null,null,null,null,null,null,null,null,null,null,null,null,null,null,null,null,null,null,null,null,null,null,null,null,null,null,null,null,null,null,null,null,null,null,null,null,null,null,null,null,null,null,null,null,null,null,null,null,null,null,null,null,null,null,null,null,null,null,null,null,null,null,null,null,null,null,null,null,null,null,null,null,null,null,null,null,null,null,null,null,null,null,null,null,null,null,null,null,null,null,null,null,null,null,null,null,null,null,null,null,null,null,null,null,null,null,null,null,null,null,null,null,null,null,null,null,null,null,null,null,null,null,null,null,null,null,null,null,null,null,null,null,null,null,null,null,null,null,null,null,null,null,null,null,null,null,null,null,null,null,null,null,null,null,null,null,null,null,null,null,null,null,null,null,null,null,null,null,null,null,null,null,null,null,null,null,null,null,null,null,null,null,null,null,null,null,null,null,null,null,null,null,null,null,null,null,null,null,null,null,null,null,null,null,null,null,null,null,null,null,null,null,null,null,null,null,null,null,null,null,null,null,null,null,null,null,null,null,null,null,null,null,null,null,null,null,null,null,null,null,null,null,null,null,null,null,null,null,null,null,null,null,null,null,null,null,null,null,null,null,null,null,null,null,null,null,null,null,null,null,null,null,null,null,null,null,null,null,null,null,null,null,null,null,null,null,null,null,null,null,null,null,null,null,null,null,null,null,null,null,null,null,null,null,null,null,null,null,null,null,null,null,null,null,null,null,null,null,null,null,null,null,null,null,null,null,null,null,null,null,null,null,null,null,null,null,null,null,null,null,null,null,null,null,null,null,null,null,null,null,null,null,null,null,null,null,null,null,null,null,null,null,null,null,null,null,null,null,null,null,null,null,null,null,null,null,null,null,null,null,null,null,null,null,null,null,null,null,null,null,null,null,null,null,null,null,null,null,null,null,null,null,null,null,null,null,null,null,null,null,null,null,null,null,null,null,null,null,null,null,null,null,null,null,null,null,null,null,null,null,null,null,null,null,null,null,null,null,null,null,null,null,null,null,null,null,null,null,null,null,null,null,null,null,null,null,null,null,null,null,null,null,null,null,null,null,null,null,null,null,null,null,null,null,null,null,null,null,null,null,null,null,null,null,null,null,null,null,null,null,null,null,null,null,null,null,null,null,null,null,null,null,null,null,null,null,null,null,null,null,null,null,null,null,null,null,null,null,null,null,null,null,null,null,null,null,null,null,null,null,null,null,null,null,null,null,null,null,null,null,null,null,null,null,null,null,null,null,null,null,null,null,null,null,null,null,null,null,null,null,null,null,null,null,null,null,null,null,null,null,null,null,null,null,null,null,null,null,null,null,null,null,null,null,null,null,null,null,null,null,null,null,null,null,null,null,null,null,null,null,null,null,null,null,null,null,null,null,null,null,null,null,null,null,null,null,null,null,null,null,null,null,null,null,null,null,null,null,null,null,null,null,null,null,null,null,null,null,null,null,null,null,null,null,null,null,null,null,null,null,null,null,null,null,null,null,null,null,null,null,null,null,null,null,null,null,null,null,null,null,null,null,null,null,null,null,null,null,null,null,null,null,null,null,null,null,null,null,null,null,null,null,null,null,null,null,null,null,null,null,null,null,null,null,null,null,null,null,null,null,null,null,null,null,null,null,null,null,null,null,null,null,null,null,null,null,null,null,null,null,null,null,null,null,null,null,null,null,null,null,null,null,null,null,null,null,null,null,null,null,null,null,null,null,null,null,null,null,null,null,null,null,null,null,null,null,null,null,null,null,null,null,null,null,null,null,null,null,null,null,null,null,null,null,null,null,null,null,null,null,null,null,null,null,null,null,null,null,null,null,null,null,null,null,null,null,null,null,null,null,null,null,null,null,null,null,null,null,null,null,null,null,null,null,null,null,null,null,null,null,null,null,null,null,null,null,null,null,null,null,null,null,null,null,null,null,null,null,null,null,null,null,null,null,null,null,null,null,null,null,null,null,null,null,null,null,null,null,null,null,null,null,null,null,null,null,null,null,null,null,null,null,null,null,null,null,null,null,null,null,null,null,null,null,null,null,null,null,null,null,null,null,null,null,null,null,null,null,null,null,null,null,null,null,null,null,null,null,null,null,null,null,null,null,null,null,null,null,null,null,null,null,null,null,null,null,null,null,null,null,null,null,null,null,null,null,null,null,null,null,null,null,null,null,null,null,null,null,null,null,null,null,null,null,null,null,null,null,null,null,null,null,null,null,null,null,null,null,null,null,null,null,null,null,null,null,null,null,null,null,null,null,null,null,null,null,null,null,null,null,null,null,null,null,null,null,null,null,null,null,null,null,null,null,null,null,null,null,null,null,null,null,null,null,null,null,null,null,null,null,null,null,null,null,null,null,null,null,null,null,null,null,null,null,null,null,null,null,null,null,null,null,null,null,null,null,null,null,null,null,null,null,null,null,null,null,null,null,null,null,null,null,null,null,null,null,null,null,null,null,null,null,null,null,null,null,null,null,null,null,null,null,null,null,null,null,null,null,null,null,null,null,null,null,null,null,null,null,null,null,null,null,null,null,null,null,null,"Aguardando pagamento"]
[null,null,null,null,null,null,null,null,null,null,null,null,null,null,null,null,null,null,null,null,null,null,null,null,null,null,null,null,null,null,null,null,null,null,null,null,null,null,null,null,null,null,null,null,null,null,null,null,null,null,null,null,null,null,null,null,null,null,null,null,null,null,null,null,null,null,null,null,null,null,null,null,null,null,null,null,null,null,null,null,null,null,null,null,null,null,null,null,null,null,null,null,null,null,null,null,null,null,null,null,null,null,null,null,null,null,null,null,null,null,null,null,null,null,null,null,null,null,null,null,null,null,null,null,null,null,null,null,null,null,null,null,null,null,null,null,null,null,null,null,null,null,null,null,null,null,null,null,null,null,null,null,null,null,null,null,null,null,null,null,null,null,null,null,null,null,null,null,null,null,null,null,null,null,null,null,null,null,null,null,null,null,null,null,null,null,null,null,null,null,null,null,null,null,null,null,null,null,null,null,null,null,null,null,null,null,null,null,null,null,null,null,null,null,null,null,null,null,null,null,null,null,null,null,null,null,null,null,null,null,null,null,null,null,null,null,null,null,null,null,null,null,null,null,null,null,null,null,null,null,null,null,null,null,null,null,null,null,null,null,null,null,null,null,null,null,null,null,null,null,null,null,null,null,null,null,null,null,null,null,null,null,null,null,null,null,null,null,null,null,null,null,null,null,null,null,null,null,null,null,null,null,null,null,null,null,null,null,null,null,null,null,null,null,null,null,null,null,null,null,null,null,null,null,null,null,null,null,null,null,null,null,null,null,null,null,null,null,null,null,null,null,null,null,null,null,null,null,null,null,null,null,null,null,null,null,null,null,null,null,null,null,null,null,null,null,null,null,null,null,null,null,null,null,null,null,null,null,null,null,null,null,null,null,null,null,null,null,null,null,null,null,null,null,null,null,null,null,null,null,null,null,null,null,null,null,null,null,null,null,null,null,null,null,null,null,null,null,null,null,null,null,null,null,null,null,null,null,null,null,null,null,null,null,null,null,null,null,null,null,null,null,null,null,null,null,null,null,null,null,null,null,null,null,null,null,null,null,null,null,null,null,null,null,null,null,null,null,null,null,null,null,null,null,null,null,null,null,null,null,null,null,null,null,null,null,null,null,null,null,null,null,null,null,null,null,null,null,null,null,null,null,null,null,null,null,null,null,null,null,null,null,null,null,null,null,null,null,null,null,null,null,null,null,null,null,null,null,null,null,null,null,null,null,null,null,null,null,null,null,null,null,null,null,null,null,null,null,null,null,null,null,null,null,null,null,null,null,null,null,null,null,null,null,null,null,null,null,null,null,null,null,null,null,null,null,null,null,null,null,null,null,null,null,null,null,null,null,null,null,null,null,null,null,null,null,null,null,null,null,null,null,null,null,null,null,null,null,null,null,null,null,null,null,null,null,null,null,null,null,null,null,null,null,null,null,null,null,null,null,null,null,null,null,null,null,null,null,null,null,null,null,null,null,null,null,null,null,null,null,null,null,null,null,null,null,null,null,null,null,null,null,null,null,null,null,null,null,null,null,null,null,null,null,null,null,null,null,null,null,null,null,null,null,null,null,null,null,null,null,null,null,null,null,null,null,null,null,null,null,null,null,null,null,null,null,null,null,null,null,null,null,null,null,null,null,null,null,null,null,null,null,null,null,null,null,null,null,null,null,null,null,null,null,null,null,null,null,null,null,null,null,null,null,null,null,null,null,null,null,null,null,null,null,null,null,null,null,null,null,null,null,null,null,null,null,null,null,null,null,null,null,null,null,null,null,null,null,null,null,null,null,null,null,null,null,null,null,null,null,null,null,null,null,null,null,null,null,null,null,null,null,null,null,null,null,null,null,null,null,null,null,null,null,null,null,null,null,null,null,null,null,null,null,null,null,null,null,null,null,null,null,null,null,null,null,null,null,null,null,null,null,null,null,null,null,null,null,null,null,null,null,null,null,null,null,null,null,null,null,null,null,null,null,null,null,null,null,null,null,null,null,null,null,null,null,null,null,null,null,null,null,null,null,null,null,null,null,null,null,null,null,null,null,null,null,null,null,null,null,null,null,null,null,null,null,null,null,null,null,null,null,null,null,null,null,null,null,null,null,null,null,null,null,null,null,null,null,null,null,null,null,null,null,null,null,null,null,null,null,null,null,null,null,null,null,null,null,null,null,null,null,null,null,null,null,null,null,null,null,null,null,null,null,null,null,null,null,null,null,null,null,null,null,null,null,null,null,null,null,null,null,null,null,null,null,null,null,null,null,null,null,null,null,null,null,null,null,null,null,null,null,null,null,null,null,null,null,null,null,null,null,null,null,null,null,null,null,null,null,null,null,null,null,null,null,null,null,null,null,null,null,null,null,null,null,null,null,null,null,null,null,null,null,null,null,null,null,null,null,null,null,null,null,null,null,null,null,null,null,null,null,null,null,null,null,null,null,null,null,null,null,null,null,null,null,null,null,null,null,null,null,null,null,null,null,null,null,null,null,null,null,null,null,null,null,null,null,null,null,null,null,null,null,null,null,null,null,null,null,null,null,null,null,null,null,null,null,null,null,null,null,null,null,null,null,null,null,null,null,null,null,null,null,null,null,null,null,null,null,null,null,null,null,null,null,null,null,null,null,null,null,null,null,null,null,null,null,null,null,null,null,null,null,null,null,null,null,null,null,null,null,null,null,null,null,null,null,null,null,null,null,null,null,null,null,null,null,null,null,null,null,null,null,null,null,null,null,null,null,null,null,null,null,null,null,null,null,null,null,null,null,null,null,null,null,null,null,null,null,null,null,null,null,null,null,null,null,null,null,null,null,null,null,null,null,null,null,null,null,null,null,null,null,null,null,null,null,null,null,null,null,null,null,null,null,null,null,null,null,null,null,null,null,null,null,null,null,null,null,null,null,null,null,null,null,null,null,null,null,null,null,null,null,null,null,null,null,null,null,null,null,null,null,null,null,null,null,null,null,null,null,null,null,null,null,null,null,null,null,null,null,null,null,null,null,null,null,null,null,null,null,null,null,null,null,null,null,null,null,null,null,null,null,null,null,null,null,null,null,null,null,null,null,null,null,null,null,null,null,null,null,null,null,null,null,null,null,null,null,null,null,null,null,null,null,null,null,null,null,null,null,null,null,null,null,null,null,null,null,null,null,null,null,null,null,null,null,null,null,null,null,null,null,null,null,null,null,null,null,null,null,null,null,null,null,null,null,null,null,null,null,null,null,null,null,null,null,null,null,null,null,null,null,null,null,null,null,null,null,null,null,null,null,null,null,null,null,null,null,null,null,null,null,null,null,null,null,null,null,null,null,null,null,null,null,null,null,null,null,null,null,null,null,null,null,null,null,null,null,null,null,null,null,null,null,null,null,null,null,null,null,null,null,null,null,null,null,null,null,null,null,null,null,null,null,null,null,null,null,null,null,null,null,null,null,null,null,null,null,null,null,null,null,null,null,null,null,null,null,null,null,null,null,null,null,null,null,null,null,null,null,null,null,null,null,null,null,null,null,null,null,null,null,null,null,null,null,null,null,null,null,null,null,null,null,null,null,null,null,null,null,null,null,null,null,null,null,null,null,null,null,null,null,null,null,null,null,null,null,null,null,null,null,null,null,null,null,null,null,null,null,null,null,null,null,null,null,null,null,null,null,null,null,null,null,null,null,null,null,null,null,null,null,null,null,null,null,null,null,null,null,null,null,null,null,null,null,null,null,null,null,null,null,null,null,null,null,null,null,null,null,null,null,null,null,null,null,null,null,null,null,null,null,null,null,null,null,null,null,null,null,null,null,null,null,null,null,null,null,null,null,null,null,null,null,null,null,null,null,null,null,null,null,null,null,null,null,null,null,null,null,null,null,null,null,null,null,null,null,null,null,null,null,null,null,null,null,null,null,null,null,null,null,null,null,null,null,null,null,null,null,null,null,null,null,null,null,null,null,null,null,null,null,null,null,null,null,null,null,null,null,null,null,null,null,null,null,null,null,null,null,null,null,null,null,null,null,null,null,null,null,null,null,null,null,null,null,null,null,null,null,null,null,null,null,null,null,null,null,null,null,null,null,null,null,null,null,null,null,null,null,null,null,null,null,null,null,null,null,null,null,null,null,null,null,null,null,null,null,null,null,null,null,null,null,null,null,null,null,null,null,null,null,null,null,null,null,null,null,null,null,null,null,null,null,null,null,null,null,null,null,null,null,null,null,null,null,null,null,null,null,null,null,null,null,null,null,null,null,null,null,null,null,null,null,null,null,null,null,null,null,null,null,null,null,null,null,null,null,null,null,null,null,null,null,null,null,null,null,null,null,null,null,null,null,null,null,null,null,null,null,null,null,null,null,null,null,null,null,null,null,null,null,null,null,null,null,null,null,null,null,null,null,null,null,null,null,null,null,null,null,null,null,null,null,null,null,null,null,null,null,null,null,null,null,null,null,null,null,null,null,null,null,null,null,null,null,null,null,null,null,null,null,null,null,null,null,null,null,null,null,null,null,null,null,null,null,null,null,null,null,null,null,null,null,null,null,null,null,null,null,null,null,null,null,null,null,null,null,null,null,null,null,null,null,null,null,null,null,null,null,null,null,null,null,null,null,null,null,null,null,null,null,null,null,null,null,null,null,null,null,null,null,null,null,null,null,null,null,null,null,null,null,null,null,null,null,null,null,null,null,null,null,null,null,null,null,null,null,null,null,null,null,null,null,null,null,null,null,null,null,null,null,null,null,null,null,null,null,null,null,null,null,null,null,null,null,null,null,null,null,null,null,null,null,null,null,null,null,null,null,null,null,null,null,null,null,null,null,null,null,null,null,null,null,null,null,null,null,null,null,null,null,null,null,null,null,null,null,null,null,null,null,null,null,null,null,null,null,null,null,null,null,null,null,null,null,null,null,null,null,null,null,null,null,null,null,null,null,null,null,null,null,null,null,null,null,null,null,null,null,null,null,null,null,null,null,null,null,null,null,null,null,null,null,null,null,null,null,null,null,null,null,null,null,null,null,null,null,null,null,null,null,null,null,null,null,null,null,null,null,null,null,null,null,null,null,null,null,null,null,null,null,null,null,null,null,null,null,null,null,null,null,null,null,null,null,null,null,null,null,null,null,null,null,null,null,null,null,null,null,null,null,null,null,null,null,null,null,null,null,null,null,null,null,null,null,null,null,null,null,null,null,null,null,null,null,null,null,null,null,null,null,null,null,null,null,null,null,null,null,null,null,null,null,null,null,null,null,null,null,null,null,null,null,null,null,null,null,null,null,null,null,null,null,null,null,null,null,null,null,null,null,null,null,null,null,null,null,null,null,null,null,null,null,null,null,null,null,null,null,null,null,null,null,null,null,null,null,null,null,null,null,null,null,null,null,null,null,null,null,null,null,null,null,null,null,null,null,null,null,null,null,null,null,null,null,null,null,null,null,null,null,null,null,null,null,null,null,null,null,null,null,null,null,null,null,null,null,null,null,null,null,null,null,null,null,null,null,null,null,null,null,null,null,null,null,null,null,null,null,null,null,null,null,null,null,null,null,null,null,null,null,null,null,null,null,null,null,null,null,null,null,null,null,null,null,null,null,null,null,null,null,null,null,null,null,null,null,null,null,null,null,null,null,null,null,null,null,null,null,null,null,null,null,null,null,null,null,null,null,null,null,null,null,null,null,null,null,null,null,null,null,null,null,null,null,null,null,null,null,null,null,null,null,null,null,null,null,null,null,null,null,null,null,null,null,null,null,null,null,null,null,null,null,null,null,null,null,null,null,null,null,null,null,null,null,null,null,null,null,null,null,null,null,null,null,null,null,null,null,null,null,null,null,null,null,null,null,null,null,null,null,null,null,null,null,null,null,null,null,null,null,null,null,null,null,null,null,null,null,null,null,null,null,null,null,null,null,null,null,null,null,null,null,null,null,null,null,null,null,null,null,null,null,null,null,null,null,null,null,null,null,null,null,null,null,null,null,null,null,null,null,null,null,null,null,null,null,null,null,null,null,null,null,null,null,null,null,null,null,null,null,null,null,null,null,null,null,null,null,null,null,null,null,null,null,null,null,null,null,null,null,null,null,null,null,null,null,null,null,null,null,null,null,null,null,null,null,null,null,null,null,null,null,null,null,null,null,null,null,null,null,null,null,null,null,null,null,null,null,null,null,null,null,null,null,null,null,null,null,null,null,null,null,null,null,null,null,null,null,null,null,null,null,null,null,null,null,null,null,null,null,null,null,null,null,null,null,null,null,null,null,null,null,null,null,null,null,null,null,null,null,null,null,null,null,null,null,null,null,null,null,null,null,null,null,null,null,null,null,null,null,null,null,null,null,null,null,null,null,null,null,null,null,null,null,null,null,null,null,null,null,null,null,null,null,null,null,null,null,null,null,null,null,null,null,null,null,null,null,null,null,null,null,null,null,null,null,null,null,null,null,null,null,null,null,null,null,null,null,null,null,null,null,null,null,null,null,null,null,null,null,null,null,null,null,null,null,null,null,null,null,null,null,null,null,null,null,null,null,null,null,null,null,null,null,null,null,null,null,null,null,null,null,null,null,null,null,null,null,null,null,null,null,null,null,null,null,null,null,null,null,null,null,null,null,null,null,null,null,null,null,null,null,null,null,null,null,null,null,null,null,null,null,null,null,null,null,null,null,null,null,null,null,null,null,null,null,null,null,null,null,null,null,null,null,null,null,null,null,null,null,null,null,null,null,null,null,null,null,null,null,null,null,null,null,null,null,null,null,null,null,null,null,null,null,null,null,null,null,null,null,null,null,null,null,null,null,null,null,null,null,null,null,null,null,null,null,null,null,null,null,null,null,null,null,null,null,null,null,null,null,null,null,null,null,null,null,null,null,null,null,null,null,null,null,null,null,null,null,null,null,null,null,null,null,null,null,null,null,null,null,null,null,null,null,null,null,null,null,null,null,null,null,null,null,null,null,null,null,null,null,null,null,null,null,null,null,null,null,null,null,null,null,null,null,null,null,null,null,null,null,null,null,null,null,null,null,null,null,null,null,null,null,null,null,null,null,null,null,null,null,null,null,null,null,null,null,null,null,null,null,null,null,null,null,null,null,null,null,null,null,null,null,null,null,null,null,null,null,null,null,null,null,null,null,null,null,null,null,null,null,null,null,null,null,null,null,null,null,null,null,null,null,null,null,null,null,null,null,null,null,null,null,null,null,null,null,null,null,null,null,null,null,null,null,null,null,null,null,null,null,null,null,null,null,null,null,null,null,null,null,null,null,null,null,null,null,null,null,null,null,null,null,null,null,null,null,null,null,null,null,null,null,null,null,null,null,null,null,null,null,null,null,null,null,null,null,null,null,null,null,null,null,null,null,null,null,null,null,null,null,null,null,null,null,null,null,null,null,null,null,null,null,null,null,null,null,null,null,null,null,null,null,null,null,null,null,null,null,null,null,null,null,null,null,null,null,null,null,null,null,null,null,null,null,null,null,null,null,null,null,null,null,null,null,null,null,null,null,null,null,null,null,null,null,null,null,null,null,null,null,null,null,null,null,null,null,null,null,null,null,null,null,null,null,null,null,null,null,null,null,null,null,null,null,null,null,null,null,null,null,null,null,null,null,null,null,null,null,null,null,null,null,null,null,null,null,null,null,null,null,null,null,null,null,null,null,null,null,null,null,null,null,null,null,null,null,null,null,null,null,null,null,null,null,null,null,null,null,null,null,null,null,null,null,null,null,null,null,null,null,null,null,null,null,null,null,null,null,null,null,null,null,null,null,null,null,null,null,null,null,null,null,null,null,null,null,null,null,null,null,null,null,null,null,null,null,null,null,null,null,null,null,null,null,null,null,null,null,null,null,null,null,null,null,null,null,null,null,null,null,null,null,null,null,null,null,null,null,null,null,null,null,null,null,null,null,null,null,null,null,null,null,null,null,null,null,null,null,null,null,null,null,null,null,null,null,null,null,null,null,null,null,null,null,null,null,null,null,null,null,null,null,null,null,null,null,null,null,null,null,null,null,null,null,null,null,null,null,null,null,null,null,null,null,null,null,null,null,null,null,null,null,null,null,null,null,null,null,null,null,null,null,null,null,null,null,null,null,null,null,null,null,null,null,null,null,null,null,null,null,null,null,null,null,null,null,null,null,null,null,null,null,null,null,null,null,null,null,null,null,null,null,null,null,null,null,null,null,null,null,null,null,null,null,null,null,null,null,null,null,null,null,null,null,null,null,null,null,null,null,null,null,null,null,null,null,null,null,null,null,null,null,null,null,null,null,null,null,null,null,null,null,null,null,null,null,null,null,null,null,null,null,null,null,null,null,null,null,null,null,null,null,null,null,null,null,null,null,null,null,null,null,null,null,null,null,null,null,null,null,null,null,null,null,null,null,null,null,null,null,null,null,null,null,null,null,null,null,null,null,null,null,null,null,null,null,null,null,null,null,null,null,null,null,null,null,null,null,null,null,null,null,null,null,null,null,null,null,null,null,null,null,null,null,null,null,null,null,null,null,null,null,null,null,null,null,null,null,null,null,null,null,null,null,null,null,null,null,null,null,null,null,null,null,null,null,null,null,null,null,null,null,null,null,null,null,null,null,null,null,null,null,null,null,null,null,null,null,null,null,null,null,null,null,null,null,null,null,null,null,null,null,null,null,null,null,null,null,null,null,null,null,null,null,null,null,null,null,null,null,null,null,null,null,null,null,null,null,null,null,null,null,null,null,null,null,null,null,null,null,null,null,null,null,null,null,null,null,null,null,null,null,null,null,null,null,null,null,null,null,null,null,null,null,null,null,null,null,null,null,null,null,null,null,null,null,null,null,null,null,null,null,null,null,null,null,null,null,null,null,null,null,null,null,null,null,null,null,null,null,null,null,null,null,null,null,null,null,null,null,null,null,null,null,null,null,null,null,null,null,null,null,null,null,null,null,null,null,null,null,null,null,null,null,null,null,null,null,null,null,null,null,null,null,null,null,null,null,null,null,null,null,null,null,null,null,null,null,null,null,null,null,null,null,null,null,null,null,null,null,null,null,null,null,null,null,null,null,null,null,null,null,null,null,null,null,null,null,null,null,null,null,null,null,null,null,null,null,null,null,null,null,null,null,null,null,null,null,null,null,null,null,null,null,null,null,null,null,null,null,null,null,null,null,null,null,null,null,null,null,null,null,null,null,null,null,null,null,null,null,null,null,null,null,null,null,null,null,null,null,null,null,null,null,null,null,null,null,null,null,null,null,null,null,null,null,null,null,null,null,null,null,null,null,null,null,null,null,null,null,null,null,null,null,null,null,null,null,null,null,null,null,null,null,null,null,null,null,null,null,null,null,null,null,null,null,null,null,null,null,null,null,null,null,null,null,null,null,null,null,null,null,null,null,null,null,null,null,null,null,null,null,null,null,null,null,null,null,null,null,null,null,null,null,null,null,null,null,null,null,null,null,null,null,null,null,null,null,null,null,null,null,null,null,null,null,null,null,null,null,null,null,null,null,null,null,null,null,null,null,null,null,null,null,null,null,null,null,null,null,null,null,null,null,null,null,null,null,null,null,null,null,null,null,null,null,null,null,null,null,null,null,null,null,null,null,null,null,null,null,null,null,null,null,null,null,null,null,null,null,null,null,null,null,null,null,null,null,null,null,null,null,null,null,null,null,null,null,null,null,null,null,null,null,null,null,null,null,null,null,null,null,null,null,null,null,null,null,null,null,null,null,null,null,null,null,null,null,null,null,null,null,null,null,null,null,null,null,null,null,null,null,null,null,null,null,null,null,null,null,null,null,null,null,null,null,null,null,null,null,null,null,null,null,null,null,null,null,null,null,null,null,null,null,null,null,null,null,null,null,null,null,null,null,null,null,null,null,null,null,null,null,null,null,null,null,null,null,null,null,null,null,null,null,null,null,null,null,null,null,null,null,null,null,null,null,null,null,null,null,null,null,null,null,null,null,null,null,null,null,null,null,null,null,null,null,null,null,null,null,null,null,null,null,null,null,null,null,null,null,null,null,null,null,null,null,null,null,null,null,null,null,null,null,null,null,null,null,null,null,null,null,null,null,null,null,null,null,null,null,null,null,null,null,null,null,null,null,null,null,null,null,null,null,null,null,null,null,null,null,null,null,null,null,null,null,null,null,null,null,null,null,null,null,null,null,null,null,null,null,null,null,null,null,null,null,null,null,null,null,null,null,null,null,null,null,null,null,null,null,null,null,null,null,null,null,null,null,null,null,null,null,null,null,null,null,null,null,null,null,null,null,null,null,null,null,null,null,null,null,null,null,null,null,null,null,null,null,null,null,null,null,null,null,null,null,null,null,null,null,null,null,null,null,null,null,null,null,null,null,null,null,null,null,null,null,null,null,null,null,null,null,null,null,null,null,null,null,null,null,null,null,null,null,null,null,null,null,null,null,null,null,null,null,null,null,null,null,null,null,null,null,null,null,null,null,null,null,null,null,null,null,null,null,null,null,null,null,null,null,null,null,null,null,null,null,null,null,null,null,null,null,null,null,null,null,null,null,null,null,null,null,null,null,null,null,null,null,null,null,null,null,null,null,null,null,null,null,null,null,null,null,null,null,null,null,null,null,null,null,null,null,null,null,null,null,null,null,null,null,null,null,null,null,null,null,null,null,null,null,null,null,null,null,null,null,null,null,null,null,null,null,null,null,null,null,null,null,null,null,null,null,null,null,null,null,null,null,null,null,null,null,null,null,null,null,null,null,null,null,null,null,null,null,null,null,null,null,null,null,null,null,null,null,null,null,null,null,null,null,null,null,null,null,null,null,null,null,null,null,null,null,null,null,null,null,null,null,null,null,null,null,null,null,null,null,null,null,null,null,null,null,null,null,null,null,null,null,null,null,null,null,null,null,null,null,null,null,null,null,null,null,null,null,null,null,null,null,null,null,null,null,null,null,null,null,null,null,null,null,null,null,null,null,null,null,null,null,null,null,null,null,null,null,null,null,null,null,null,null,null,null,null,null,null,null,null,null,null,null,null,null,null,null,null,null,null,null,null,null,null,null,null,null,null,null,null,null,null,null,null,null,null,null,null,null,null,null,null,null,null,null,null,null,null,null,null,null,null,null,null,null,null,null,null,null,null,null,null,null,null,null,null,null,null,null,null,null,null,null,null,null,null,null,null,null,null,null,null,null,null,null,null,null,null,null,null,null,null,null,null,null,null,null,null,null,null,null,null,null,null,null,null,null,null,null,null,null,null,null,null,null,null,null,null,null,null,null,null,null,null,null,null,null,null,null,null,null,null,null,null,null,null,null,null,null,null,null,null,null,null,null,null,null,null,null,null,null,null,null,null,null,null,null,null,null,null,null,null,null,null,null,null,null,null,null,null,null,null,null,null,null,null,null,null,null,null,null,null,null,null,null,null,null,null,null,null,null,null,null,null,null,null,null,null,null,null,null,null,null,null,null,null,null,null,null,null,null,null,null,null,null,null,null,null,null,null,null,null,null,null,null,null,null,null,null,null,null,null,null,null,null,null,null,null,null,null,null,null,null,null,null,null,null,null,null,null,null,null,null,null,null,null,null,null,null,null,null,null,null,null,null,null,null,null,null,null,null,null,null,null,null,null,null,null,null,null,null,null,null,null,null,null,null,null,null,null,null,null,null,null,null,null,null,null,null,null,null,null,null,null,null,null,null,null,null,null,null,null,null,null,null,null,null,null,null,null,null,null,null,null,null,null,null,null,null,null,null,null,null,null,null,null,null,null,null,null,null,null,null,null,null,null,null,null,null,null,null,null,null,null,null,null,null,null,null,null,null,null,null,null,null,null,null,null,null,null,null,null,null,null,null,null,null,null,null,null,null,null,null,null,null,null,null,null,null,null,null,null,null,null,null,null,null,null,null,null,null,null,null,null,null,null,null,null,null,null,null,null,null,null,null,null,null,null,null,null,null,null,null,null,null,null,null,null,null,null,null,null,null,null,null,null,null,null,null,null,null,null,null,null,null,null,null,null,null,null,null,null,null,null,null,null,null,null,null,null,null,null,null,null,null,null,null,null,null,null,null,null,null,null,null,null,null,null,null,null,null,null,null,null,null,null,null,null,null,null,null,null,null,null,null,null,null,null,null,null,null,null,null,null,null,null,null,null,null,null,null,null,null,null,null,null,null,null,null,null,null,null,null,null,null,null,null,null,null,null,null,null,null,null,null,null,null,null,null,null,null,null,null,null,null,null,null,null,null,null,null,null,null,null,null,null,null,null,null,null,null,null,null,null,null,null,null,null,null,null,null,null,null,null,null,null,null,null,null,null,null,null,null,null,null,null,null,null,null,null,null,null,null,null,null,null,null,null,null,null,null,null,null,null,null,null,null,null,null,null,null,null,null,null,null,null,null,null,null,null,null,null,null,null,null,null,null,null,null,null,null,null,null,null,null,null,null,null,null,null,null,null,null,null,null,null,null,null,null,null,null,null,null,null,null,null,null,null,null,null,null,null,null,null,null,null,null,null,null,null,null,null,null,null,null,null,null,null,null,null,null,null,null,null,null,null,null,null,null,null,null,null,null,null,null,null,null,null,null,null,null,null,null,null,null,null,null,null,null,null,null,null,null,null,null,null,null,null,null,null,null,null,null,null,null,null,null,null,null,null,null,null,null,null,null,null,null,null,null,null,null,null,null,null,null,null,null,null,null,null,null,null,null,null,null,null,null,null,null,null,null,null,null,null,null,null,null,null,null,null,null,null,null,null,null,null,null,null,null,null,null,null,null,null,null,null,null,null,null,null,null,null,null,null,null,null,null,null,null,null,null,null,null,null,null,null,null,null,null,null,null,null,null,null,null,null,null,null,null,null,null,null,null,null,null,null,null,null,null,null,null,null,null,null,null,null,null,null,null,null,null,null,null,null,null,null,null,null,null,null,null,null,null,null,null,null,null,null,null,null,null,null,null,null,null,null,null,null,null,null,null,null,null,null,null,null,null,null,null,null,null,null,null,null,null,null,null,null,null,null,null,null,null,null,null,null,null,null,null,null,null,null,null,null,null,null,null,null,null,null,null,null,null,null,null,null,null,null,null,null,null,null,null,null,null,null,null,null,null,null,null,null,null,null,null,null,null,null,null,null,null,null,null,null,null,null,null,null,null,null,null,null,null,null,null,null,null,null,null,null,null,null,null,null,null,null,null,null,null,null,null,null,null,null,null,null,null,null,null,null,null,null,null,null,null,null,null,null,null,null,null,null,null,null,null,null,null,null,null,null,null,null,null,null,null,null,null,null,null,null,null,null,null,null,null,null,null,null,null,null,null,null,null,null,null,null,null,null,null,null,null,null,null,null,null,null,null,null,null,null,null,null,null,null,null,null,null,null,null,null,null,null,null,null,null,null,null,null,null,null,null,null,null,null,null,null,null,null,null,null,null,null,null,null,null,null,null,null,null,null,null,null,null,null,null,null,null,null,null,null,null,null,null,null,null,null,null,null,null,null,null,null,null,null,null,null,null,null,null,null,null,null,null,null,null,null,null,null,null,null,null,null,null,null,null,null,null,null,null,null,null,null,null,null,null,null,null,null,null,null,null,null,null,null,null,null,null,null,null,null,null,null,null,null,null,null,null,null,null,null,null,null,null,null,null,null,null,null,null,null,null,null,null,null,null,null,null,null,null,null,null,null,null,null,null,null,null,null,null,null,null,null,null,null,null,null,null,null,null,null,null,null,null,null,null,null,null,null,null,null,null,null,null,null,null,null,null,null,null,null,null,null,null,null,null,null,null,null,null,null,null,null,null,null,null,null,null,null,null,null,null,null,null,null,null,null,null,null,null,null,null,null,null,null,null,null,null,null,null,null,null,null,null,null,null,null,null,null,null,null,null,null,null,null,null,null,null,null,null,null,null,null,null,null,null,null,null,null,null,null,null,null,null,null,null,null,null,null,null,null,null,null,null,null,null,null,null,null,null,null,null,null,null,null,null,null,null,null,null,null,null,null,null,null,null,null,null,null,null,null,null,null,null,null,null,null,null,null,null,null,null,null,null,null,null,null,null,null,null,null,null,null,null,null,null,null,null,null,null,null,null,null,null,null,null,null,null,null,null,null,null,null,null,null,null,null,null,null,null,null,null,null,null,null,null,null,null,null,null,null,null,null,null,null,null,null,null,null,null,null,null,null,null,null,null,null,null,null,null,null,null,null,null,null,null,null,null,null,null,null,null,null,null,null,null,null,null,null,null,null,null,null,null,null,null,null,null,null,null,null,null,null,null,null,null,null,null,null,null,null,null,null,null,null,null,null,null,null,null,null,null,null,null,null,null,null,null,null,null,null,null,null,null,null,null,null,null,null,null,null,null,null,null,null,null,null,null,null,null,null,null,null,null,null,null,null,null,null,null,null,null,null,null,null,null,null,null,null,null,null,null,null,null,null,null,null,null,null,null,null,null,null,null,null,null,null,null,null,null,null,null,null,null,null,null,null,null,null,null,null,null,null,null,null,null,null,null,null,null,null,null,null,null,null,null,null,null,null,null,null,null,null,null,null,null,null,null,null,null,null,null,null,null,null,null,null,null,null,null,null,null,null,null,null,null,null,null,null,null,null,null,null,null,null,null,null,null,null,null,null,null,null,null,null,null,null,null,null,null,null,null,null,null,null,null,null,null,null,null,null,null,null,null,null,null,null,null,null,null,null,null,null,null,null,null,null,null,null,null,null,null,null,null,null,null,null,null,null,null,null,null,null,null,null,null,null,null,null,null,null,null,null,null,null,null,null,null,null,null,null,null,null,null,null,null,null,null,null,null,null,null,null,null,null,null,null,null,null,null,null,null,null,null,null,null,null,null,null,null,null,null,null,null,null,null,null,null,null,null,null,null,null,null,null,null,null,null,null,null,null,null,null,null,null,null,null,null,null,null,null,null,null,null,null,null,null,null,null,null,null,null,null,null,null,null,null,null,null,null,null,null,null,null,null,null,null,null,null,null,null,null,null,null,null,null,null,null,null,null,null,null,null,null,null,null,null,null,null,null,null,null,null,null,null,null,null,null,null,null,null,null,null,null,null,null,null,null,null,null,null,null,null,null,null,null,null,null,null,null,null,null,null,null,null,null,null,null,null,null,null,null,null,null,null,null,null,null,null,null,null,null,null,null,null,null,null,null,null,null,null,null,null,null,null,null,null,null,null,null,null,null,null,null,null,null,null,null,null,null,null,null,null,null,null,null,null,null,null,null,null,null,null,null,null,null,null,null,null,null,null,null,null,null,null,null,null,null,null,null,null,null,null,null,null,null,null,null,null,null,null,null,null,null,null,null,null,null,null,null,null,null,null,null,null,null,null,null,null,null,null,null,null,null,null,null,null,null,null,null,null,null,null,null,null,null,null,null,null,null,null,null,null,null,null,null,null,null,null,null,null,null,null,null,null,null,null,null,null,null,null,null,null,null,null,null,null,null,null,null,null,null,null,null,null,null,null,null,null,null,null,null,null,null,null,null,null,null,null,null,null,null,null,null,null,null,null,null,null,null,null,null,null,null,null,null,null,null,null,null,null,null,null,null,null,null,null,null,null,null,null,null,null,null,null,null,null,null,null,null,null,null,null,null,null,null,null,null,null,null,null,null,null,null,null,null,null,null,null,null,null,null,null,null,null,null,null,null,null,null,null,null,null,null,null,null,null,null,null,null,null,null,null,null,null,null,null,null,null,null,null,null,null,null,null,null,null,null,null,null,null,null,null,null,null,null,null,null,null,null,null,null,null,null,null,null,null,null,null,null,null,null,null,null,null,null,null,null,null,null,null,null,null,null,null,null,null,null,null,null,null,null,null,null,null,null,null,null,null,null,null,null,null,null,null,null,null,null,null,null,null,null,null,null,null,null,null,null,null,null,null,null,null,null,null,null,null,null,null,null,null,null,null,null,null,null,null,null,null,null,null,null,null,null,null,null,null,null,null,null,null,null,null,null,null,null,null,null,null,null,null,null,null,null,null,null,null,null,null,null,null,null,null,null,null,null,null,null,null,null,null,null,null,null,null,null,null,null,null,null,null,null,null,null,null,null,null,null,null,null,null,null,null,null,null,null,null,null,null,null,null,null,null,null,null,null,null,null,null,null,null,null,null,null,null,null,null,null,null,null,null,null,null,null,null,null,null,null,null,null,null,null,null,null,null,null,null,null,null,null,null,null,null,null,null,null,null,null,null,null,null,null,null,null,null,null,null,null,null,null,null,null,null,null,null,null,null,null,null,null,null,null,null,null,null,null,null,null,null,null,null,null,null,null,null,null,null,null,null,null,null,null,null,null,null,null,null,null,null,null,null,null,null,null,null,null,null,null,null,null,null,null,null,null,null,null,null,null,null,null,null,null,null,null,null,null,null,null,null,null,null,null,null,null,null,null,null,null,null,null,null,null,null,null,null,null,null,null,null,null,null,null,null,null,null,null,null,null,null,null,null,null,null,null,null,null,null,null,null,null,null,null,null,null,null,null,null,null,null,null,null,null,null,null,null,null,null,null,null,null,null,null,null,null,null,null,null,null,null,null,null,null,null,null,null,null,null,null,null,null,null,null,null,null,null,null,null,null,null,null,null,null,null,null,null,null,null,null,null,null,null,null,null,null,null,null,null,null,null,null,null,null,null,null,null,null,null,null,null,null,null,null,null,null,null,null,null,null,null,null,null,null,null,null,null,null,null,null,null,null,null,null,null,null,null,null,null,null,null,null,null,null,null,null,null,null,null,null,null,null,null,null,null,null,null,null,null,null,null,null,null,null,null,null,null,null,null,null,null,null,null,null,null,null,null,null,null,null,null,null,null,null,null,null,null,null,null,null,null,null,null,null,null,null,null,null,null,null,null,null,null,null,null,null,null,null,null,null,null,null,null,null,null,null,null,null,null,null,null,null,null,null,null,null,null,null,null,null,null,null,null,null,null,null,null,null,null,null,null,null,null,null,null,null,null,null,null,null,null,null,null,null,null,null,null,null,null,null,null,null,null,null,null,null,null,null,null,null,null,null,null,null,null,null,null,null,null,null,null,null,null,null,null,null,null,null,null,null,null,null,null,null,null,null,null,null,null,null,null,null,null,null,null,null,null,null,null,null,null,null,null,null,null,null,null,null,null,null,null,null,null,null,null,null,null,null,null,null,null,null,null,null,null,null,null,null,null,null,null,null,null,null,null,null,null,null,null,null,null,null,null,null,null,null,null,null,null,null,null,null,null,null,null,null,null,null,null,null,null,null,null,null,null,null,null,null,null,null,null,null,null,null,null,null,null,null,null,null,null,null,null,null,null,null,null,null,null,null,null,null,null,null,null,null,null,null,null,null,null,null,null,null,null,null,null,null,null,null,null,null,null,null,null,null,null,null,null,null,null,null,null,null,null,null,null,null,null,null,null,null,null,null,null,null,null,null,null,null,null,null,null,null,null,null,null,null,null,null,null,null,null,null,null,null,null,null,null,null,null,null,null,null,null,null,null,null,null,null,null,null,null,null,null,null,null,null,null,null,null,null,null,null,null,null,null,null,null,null,null,null,null,null,null,null,null,null,null,null,null,null,null,null,null,null,null,null,null,null,null,null,null,null,null,null,null,null,null,null,null,null,null,null,null,null,null,null,null,null,null,null,null,null,null,null,null,null,null,null,null,null,null,null,null,null,null,null,null,null,null,null,null,null,null,null,null,null,null,null,null,null,null,null,null,null,null,null,null,null,null,null,null,null,null,null,null,null,null,null,null,null,null,null,null,null,null,null,null,null,null,null,null,null,null,null,null,null,null,null,null,null,null,null,null,null,null,null,null,null,null,null,null,null,null,null,null,null,null,null,null,null,null,null,null,null,null,null,null,null,null,null,null,null,null,null,null,null,null,null,null,null,null,null,null,null,null,null,null,null,null,null,null,null,null,null,null,null,null,null,null,null,null,null,null,null,null,null,null,null,null,null,null,null,null,null,null,null,null,null,null,null,null,null,null,null,null,null,null,null,null,null,null,null,null,null,null,null,null,null,null,null,null,null,null,null,null,null,null,null,null,null,null,null,null,null,null,null,null,null,null,null,null,null,null,null,null,null,null,null,null,null,null,null,null,null,null,null,null,null,null,null,null,null,null,null,null,null,null,null,null,null,null,null,null,null,null,null,null,null,null,null,null,null,null,null,null,null,null,null,null,null,null,null,null,null,null,null,null,null,null,null,null,null,null,null,null,null,null,null,null,null,null,null,null,null,null,null,null,null,null,null,null,null,null,null,null,null,null,null,null,null,null,null,null,null,null,null,null,null,null,null,null,null,null,null,null,null,null,null,null,null,null,null,null,null,null,null,null,null,null,null,null,null,null,null,null,null,null,null,null,null,null,null,null,null,null,null,null,null,null,null,null,null,null,null,null,null,null,null,null,null,null,null,null,null,null,null,null,null,null,null,null,null,null,null,null,null,null,null,null,null,null,null,null,null,null,null,null,null,null,null,null,null,null,null,null,null,null,null,null,null,null,null,null,null,null,null,null,null,null,null,null,null,null,null,null,null,null,null,null,null,null,null,null,null,null,null,null,null,null,null,null,null,null,null,null,null,null,null,null,null,null,null,null,null,null,null,null,null,null,null,null,null,null,null,null,null,null,null,null,null,null,null,null,null,null,null,null,null,null,null,null,null,null,null,null,null,null,null,null,null,null,null,null,null,null,null,null,null,null,null,null,null,null,null,null,null,null,null,null,null,null,null,null,null,null,null,null,null,null,null,null,null,null,null,null,null,null,null,null,null,null,null,null,null,null,null,null,null,null,null,null,null,null,null,null,null,null,null,null,null,null,null,null,null,null,null,null,null,null,null,null,null,null,null,null,null,null,null,null,null,null,null,null,null,null,null,null,null,null,null,null,null,null,null,null,null,null,null,null,null,null,null,null,null,null,null,null,null,null,null,null,null,null,null,null,null,null,null,null,null,null,null,null,null,null,null,null,null,null,null,null,null,null,null,null,null,null,null,null,null,null,null,null,null,null,null,null,null,null,null,null,null,null,null,null,null,null,null,null,null,null,null,null,null,null,null,null,null,null,null,null,null,null,null,null,null,null,null,null,null,null,null,null,null,null,null,null,null,null,null,null,null,null,null,null,null,null,null,null,null,null,null,null,null,null,null,null,null,null,null,null,null,null,null,null,null,null,null,null,null,null,null,null,null,null,null,null,null,null,null,null,null,null,null,null,null,null,null,null,null,null,null,null,null,null,null,null,null,null,null,null,null,null,null,null,null,null,null,null,null,null,null,null,null,null,null,null,null,null,null,null,null,null,null,null,null,null,null,null,null,null,null,null,null,null,null,null,null,null,null,null,null,null,null,null,null,null,null,null,null,null,null,null,null,null,null,null,null,null,null,null,null,null,null,null,null,null,null,null,null,null,null,null,null,null,null,null,null,null,null,null,null,null,null,null,null,null,null,null,null,null,null,null,null,null,null,null,null,null,null,null,null,null,null,null,null,null,null,null,null,null,null,null,null,null,null,null,null,null,null,null,null,null,null,null,null,null,null,null,null,null,null,null,null,null,null,null,null,null,null,null,null,null,null,null,null,null,null,null,null,null,null,null,null,null,null,null,null,null,null,null,null,null,null,null,null,null,null,null,null,null,null,null,null,null,null,null,null,null,null,null,null,null,null,null,null,null,null,null,null,null,null,null,null,null,null,null,null,null,null,null,null,null,null,null,null,null,null,null,null,null,null,null,null,null,null,null,null,null,null,null,null,null,null,null,null,null,null,null,null,null,null,null,null,null,null,null,null,null,null,null,null,null,null,null,null,null,null,null,null,null,null,null,null,null,null,null,null,null,null,null,null,null,null,null,null,null,null,null,null,null,null,null,null,null,null,null,null,null,null,null,null,null,null,null,null,null,null,null,null,null,null,null,null,null,null,null,null,null,null,null,null,null,null,null,null,null,null,null,null,null,null,null,null,null,null,null,null,null,null,null,null,null,null,null,null,null,null,null,null,null,null,null,null,null,null,null,null,null,null,null,null,null,null,null,null,null,null,null,null,null,null,null,null,null,null,null,null,null,null,null,null,null,null,null,null,null,null,null,null,null,null,null,null,null,null,null,null,null,null,null,null,null,null,null,null,null,null,null,null,null,null,null,null,null,null,null,null,null,null,null,null,null,null,null,null,null,null,null,null,null,null,null,null,null,null,null,null,null,null,null,null,null,null,null,null,null,null,null,null,null,null,null,null,null,null,null,null,null,null,null,null,null,null,null,null,null,null,null,null,null,null,null,null,null,null,null,null,null,null,null,null,null,null,null,null,null,null,null,null,null,null,null,null,null,null,null,null,null,null,null,null,null,null,null,null,null,null,null,null,null,null,null,null,null,null,null,null,null,null,null,null,null,null,null,null,null,null,null,null,null,null,null,null,null,null,null,null,null,null,null,null,null,null,null,null,null,null,null,null,null,null,null,null,null,null,null,null,null,null,null,null,null,null,null,null,null,null,null,null,null,null,null,null,null,null,null,null,null,null,null,null,null,null,null,null,null,null,null,null,null,null,null,null,null,null,null,null,null,null,null,null,null,null,null,null,null,null,null,null,null,null,null,null,null,null,null,null,null,null,null,null,null,null,null,null,null,null,null,null,null,null,null,null,null,null,null,null,null,null,null,null,null,null,null,null,null,null,null,null,null,null,null,null,null,null,null,null,null,null,null,null,null,null,null,null,null,null,null,null,null,null,null,null,null,null,null,null,null,null,null,null,null,null,null,null,null,null,null,null,null,null,null,null,null,null,null,null,null,null,null,null,null,null,null,null,null,null,null,null,null,null,null,null,null,null,null,null,null,null,null,null,null,null,null,null,null,null,null,null,null,null,null,null,null,null,null,null,null,null,null,null,null,null,null,null,null,null,null,null,null,null,null,null,null,null,null,null,null,null,null,null,null,null,null,null,null,null,null,null,null,null,null,null,null,null,null,null,null,null,null,null,null,null,null,null,null,null,null,null,null,null,null,null,null,null,null,null,null,null,null,null,null,null,null,null,null,null,null,null,null,null,null,null,null,null,null,null,null,null,null,null,null,null,null,null,null,null,null,null,null,null,null,null,null,null,null,null,null,null,null,null,null,null,null,null,null,null,null,null,null,null,null,null,null,null,null,null,null,null,null,null,null,null,null,null,null,null,null,null,null,null,null,null,null,null,null,null,null,null,null,null,null,null,null,null,null,null,null,null,null,null,null,null,null,null,null,null,null,null,null,null,null,null,null,null,null,null,null,null,null,null,null,null,null,null,null,null,null,null,null,null,null,null,null,null,null,null,null,null,null,null,null,null,null,null,null,null,null,null,null,null,null,null,null,null,null,null,null,null,null,null,null,null,null,null,null,null,null,null,null,null,null,null,null,null,null,null,null,null,null,null,null,null,null,null,null,null,null,null,null,null,null,null,null,null,null,null,null,null,null,null,null,null,null,null,null,null,null,null,null,null,null,null,null,null,null,null,null,null,null,null,null,null,null,null,null,null,null,null,null,null,null,null,null,null,null,null,null,null,null,null,null,null,null,null,null,null,null,null,null,null,null,null,null,null,null,null,null,null,null,null,null,null,null,null,null,null,null,null,null,null,null,null,null,null,null,null,null,null,null,null,null,null,null,null,null,null,null,null,null,null,null,null,null,null,null,null,null,null,null,null,null,null,null,null,null,null,null,null,null,null,null,null,null,null,null,null,null,null,null,null,null,null,null,null,null,null,null,null,null,null,null,null,null,null,null,null,null,null,null,null,null,null,null,null,null,null,null,null,null,null,null,null,null,null,null,null,null,null,null,null,null,null,null,null,null,null,null,null,null,null,null,null,null,null,null,null,null,null,null,null,null,null,null,null,null,null,null,null,null,null,null,null,null,null,null,null,null,null,null,null,null,null,null,null,null,null,null,null,null,null,null,null,null,null,null,null,null,null,null,null,null,null,null,null,null,null,null,null,null,null,null,null,null,null,null,null,null,null,null,null,null,null,null,null,null,null,null,null,null,null,null,null,null,null,null,null,null,null,null,null,null,null,null,null,null,null,null,null,null,null,null,null,null,null,null,null,null,null,null,null,null,null,null,null,null,null,null,null,null,null,null,null,null,null,null,null,null,null,null,null,null,null,null,null,null,null,null,null,null,null,null,null,null,null,null,null,null,null,null,null,null,null,null,null,null,null,null,null,null,null,null,null,null,null,null,null,null,null,null,null,null,null,null,null,null,null,null,null,null,null,null,null,null,null,null,null,null,null,null,null,null,null,null,null,null,null,null,null,null,null,null,null,null,null,null,null,null,null,null,null,null,null,null,null,null,null,null,null,null,null,null,null,null,null,null,null,null,null,null,null,null,null,null,null,null,null,null,null,null,null,null,null,null,null,null,null,null,null,null,null,null,null,null,null,null,null,null,null,null,null,null,null,null,null,null,null,null,null,null,null,null,null,null,null,null,null,null,null,null,null,null,null,null,null,null,null,null,null,null,null,null,null,null,null,null,null,null,null,null,null,null,null,null,null,null,null,null,null,null,null,null,null,null,null,null,null,null,null,null,null,null,null,null,null,null,null,null,null,null,null,null,null,null,null,null,null,null,null,null,null,null,null,null,null,null,null,null,null,null,null,null,null,null,null,null,null,null,null,null,null,null,null,null,null,null,null,null,null,null,null,null,null,null,null,null,null,null,null,null,null,null,null,null,null,null,null,null,null,null,null,null,null,null,null,null,null,null,null,null,null,null,null,null,null,null,null,null,null,null,null,null,null,null,null,null,null,null,null,null,null,null,null,null,null,null,null,null,null,null,null,null,null,null,null,null,null,null,null,null,null,null,null,null,null,null,null,null,null,null,null,null,null,null,null,null,null,null,null,null,null,null,null,null,null,null,null,null,null,null,null,null,null,null,null,null,null,null,null,null,null,null,null,null,null,null,null,null,null,null,null,null,null,null,null,null,null,null,null,null,null,null,null,null,null,null,null,null,null,null,null,null,null,null,null,null,null,null,null,null,null,null,null,null,null,null,null,null,null,null,null,null,null,null,null,null,null,null,null,null,null,null,null,null,null,null,null,null,null,null,null,null,null,null,null,null,null,null,null,null,null,null,null,null,null,null,null,null,null,null,null,null,null,null,null,null,null,null,null,null,null,null,null,null,null,null,null,null,null,null,null,null,null,null,null,null,null,null,null,null,null,null,null,null,null,null,null,null,null,null,null,null,null,null,null,null,null,null,null,null,null,null,null,null,null,null,null,null,null,null,null,null,null,null,null,null,null,null,null,null,null,null,null,null,null,null,null,null,null,null,null,null,null,null,null,null,null,null,null,null,null,null,null,null,null,null,null,null,null,null,null,null,null,null,null,null,null,null,null,null,null,null,null,null,null,null,null,null,null,null,null,null,null,null,null,null,null,null,null,null,null,null,null,null,null,null,null,null,null,null,null,null,null,null,null,null,null,null,null,null,null,null,null,null,null,null,null,null,null,null,null,null,null,null,null,null,null,null,null,null,null,null,null,null,null,null,null,null,null,null,null,null,null,null,null,null,null,null,null,null,null,null,null,null,null,null,null,null,null,null,null,null,null,null,null,null,null,null,null,null,null,null,null,null,null,null,null,null,null,null,null,null,null,null,null,null,null,null,null,null,null,null,null,null,null,null,null,null,null,null,null,null,null,null,null,null,null,null,null,null,null,null,null,null,null,null,null,null,null,null,null,null,null,null,null,null,null,null,null,null,null,null,null,null,null,null,null,null,null,null,null,null,null,null,null,null,null,null,null,null,null,null,null,null,null,null,null,null,null,null,null,null,null,null,null,null,null,null,null,null,null,null,null,null,null,null,null,null,null,null,null,null,null,null,null,null,null,null,null,null,null,null,null,null,null,null,null,null,null,null,null,null,null,null,null,null,null,null,null,null,null,null,null,null,null,null,null,null,null,null,null,null,null,null,null,null,null,null,null,null,null,null,null,null,null,null,null,null,null,null,null,null,null,null,null,null,null,null,null,null,null,null,null,null,null,null,null,null,null,null,null,null,null,null,null,null,null,null,null,null,null,null,null,null,null,null,null,null,null,null,null,null,null,null,null,null,null,null,null,null,null,null,null,null,null,null,null,null,null,null,null,null,null,null,null,null,null,null,null,null,null,null,null,null,null,null,null,null,null,null,null,null,null,null,null,null,null,null,null,null,null,null,null,null,null,null,null,null,null,null,null,null,null,null,null,null,null,null,null,null,null,null,null,null,null,null,null,null,null,null,null,null,null,null,null,null,null,null,null,null,null,null,null,null,null,null,null,null,null,null,null,null,null,null,null,null,null,null,null,null,null,null,null,null,null,null,null,null,null,null,null,null,null,null,null,null,null,null,null,null,null,null,null,null,null,null,null,null,null,null,null,null,null,null,null,null,null,null,null,null,null,null,null,null,null,null,null,null,null,null,null,null,null,null,null,null,null,null,null,null,null,null,null,null,null,null,null,null,null,null,null,null,null,null,null,null,null,null,null,null,null,null,null,null,null,null,null,null,null,null,null,null,null,null,null,null,null,null,null,null,null,null,null,null,null,null,null,null,null,null,null,null,null,null,null,null,null,null,null,null,null,null,null,null,null,null,null,null,null,null,null,null,null,null,null,null,null,null,null,null,null,null,null,null,null,null,null,null,null,null,null,null,null,null,null,null,null,null,null,null,null,null,null,null,null,null,null,null,null,null,null,null,null,null,null,null,null,null,null,null,null,null,null,null,null,null,null,null,null,null,null,null,null,null,null,null,null,null,null,null,null,null,null,null,null,null,null,null,null,null,null,null,null,null,null,null,null,null,null,null,null,null,null,null,null,null,null,null,null,null,null,null,null,null,null,null,null,null,null,null,null,null,null,null,null,null,null,null,null,null,null,null,null,null,null,null,null,null,null,null,null,null,null,null,null,null,null,null,null,null,null,null,null,null,null,null,null,null,null,null,null,null,null,null,null,null,null,null,null,null,null,null,null,null,null,null,null,null,null,null,null,null,null,null,null,null,null,null,null,null,null,null,null,null,null,null,null,null,null,null,null,null,null,null,null,null,null,null,null,null,null,null,null,null,null,null,null,null,null,null,null,null,null,null,null,null,null,null,null,null,null,null,null,null,null,null,null,null,null,null,null,null,null,null,null,null,null,null,null,null,null,null,null,null,null,null,null,null,null,null,null,null,null,null,null,null,null,null,null,null,null,null,null,null,null,null,null,null,null,null,null,null,null,null,null,null,null,null,null,null,null,null,null,null,null,null,null,null,null,null,null,null,null,null,null,null,null,null,null,null,null,null,null,null,null,null,null,null,null,null,null,null,null,null,null,null,null,null,null,null,null,null,null,null,null,null,null,null,null,null,null,null,null,null,null,null,null,null,null,null,null,null,null,null,null,null,null,null,null,null,null,null,null,null,null,null,null,null,null,null,null,null,null,null,null,null,null,null,null,null,null,null,null,null,null,null,null,null,null,null,null,null,null,null,null,null,null,null,null,null,null,null,null,null,null,null,null,null,null,null,null,null,null,null,null,null,null,null,null,null,null,null,null,null,null,null,null,null,null,null,null,null,null,null,null,null,null,null,null,null,null,null,null,null,null,null,null,null,null,null,null,null,null,null,null,null,null,null,null,null,null,null,null,null,null,null,null,null,null,null,null,null,null,null,null,null,null,null,null,null,null,null,null,null,null,null,null,null,null,null,null,null,null,null,null,null,null,null,null,null,null,null,null,null,null,null,null,null,null,null,null,null,null,null,null,null,null,null,null,null,null,null,null,null,null,null,null,null,null,null,null,null,null,null,null,null,null,null,null,null,null,null,null,null,null,null,null,null,null,null,null,null,null,null,null,null,null,null,null,null,null,null,null,null,null,null,null,null,null,null,null,null,null,null,null,null,null,null,null,null,null,null,null,null,null,null,null,null,null,null,null,null,null,null,null,null,null,null,null,null,null,null,null,null,null,null,null,null,null,null,null,null,null,null,null,null,null,null,null,null,null,null,null,null,null,null,null,null,null,null,null,null,null,null,null,null,null,null,null,null,null,null,null,null,null,null,null,null,null,null,null,null,null,null,null,null,null,null,null,null,null,null,null,null,null,null,null,null,null,null,null,null,null,null,null,null,null,null,null,null,null,null,null,null,null,null,null,null,null,null,null,null,null,null,null,null,null,null,null,null,null,null,null,null,null,null,null,null,null,null,null,null,null,null,null,null,null,null,null,null,null,null,null,null,null,null,null,null,null,null,null,null,null,null,null,null,null,null,null,null,null,null,null,null,null,null,null,null,null,null,null,null,null,null,null,null,null,null,null,null,null,null,null,null,null,null,null,null,null,null,null,null,null,null,null,null,null,null,null,null,null,null,null,null,null,null,null,null,null,null,null,null,null,null,null,null,null,null,null,null,null,null,null,null,null,null,null,null,null,null,null,null,null,null,null,null,null,null,null,null,null,null,null,null,null,null,null,null,null,null,null,null,null,null,null,null,null,null,null,null,null,null,null,null,null,null,null,null,null,null,null,null,null,null,null,null,null,null,null,null,null,null,null,null,null,null,null,null,null,null,null,null,null,null,null,null,null,null,null,null,null,null,null,null,null,null,null,null,null,null,null,null,null,null,null,null,null,null,null,null,null,null,null,null,null,null,null,null,null,null,null,null,null,null,null,null,null,null,null,null,null,null,null,null,null,null,null,null,null,null,null,null,null,null,null,null,null,null,null,null,null,null,null,null,null,null,null,null,null,null,null,null,null,null,null,null,null,null,null,null,null,null,null,null,null,null,null,null,null,null,null,null,null,null,null,null,null,null,null,null,null,null,null,null,null,null,null,null,null,null,null,null,null,null,null,null,null,null,null,null,null,null,null,null,null,null,null,null,null,null,null,null,null,null,null,null,null,null,null,null,null,null,null,null,null,null,null,null,null,null,null,null,null,null,null,null,null,null,null,null,null,null,null,null,null,null,null,null,null,null,null,null,null,null,null,null,null,null,null,null,null,null,null,null,null,null,null,null,null,null,null,null,null,null,null,null,null,null,null,null,null,null,null,null,null,null,null,null,null,null,null,null,null,null,null,null,null,null,null,null,null,null,null,null,null,null,null,null,null,null,null,null,null,null,null,null,null,null,null,null,null,null,null,null,null,null,null,null,null,null,null,null,null,null,null,null,null,null,null,null,null,null,null,null,null,null,null,null,null,null,null,null,null,null,null,null,null,null,null,null,null,null,null,null,null,null,null,null,null,null,null,null,null,null,null,null,null,null,null,null,null,null,null,null,null,null,null,null,null,null,null,null,null,null,null,null,null,null,null,null,null,null,null,null,null,null,null,null,null,null,null,null,null,null,null,null,null,null,null,null,null,null,null,null,null,null,null,null,null,null,null,null,null,null,null,null,null,null,null,null,null,null,null,null,null,null,null,null,null,null,null,null,null,null,null,null,null,null,null,null,null,null,null,null,null,null,null,null,null,null,null,null,null,null,null,null,null,null,null,null,null,null,null,null,null,null,null,null,null,null,null,null,null,null,null,null,null,null,null,null,null,null,null,null,null,null,null,null,null,null,null,null,null,null,null,null,null,null,null,null,null,null,null,null,null,null,null,null,null,null,null,null,null,null,null,null,null,null,null,null,null,null,null,null,null,null,null,null,null,null,null,null,null,null,null,null,null,null,null,null,null,null,null,null,null,null,null,null,null,null,null,null,null,null,null,null,null,null,null,null,null,null,null,null,null,null,null,null,null,null,null,null,null,null,null,null,null,null,null,null,null,null,null,null,null,null,null,null,null,null,null,null,null,null,null,null,null,null,null,null,null,null,null,null,null,null,null,null,null,null,null,null,null,null,null,null,null,null,null,null,null,null,null,null,null,null,null,null,null,null,null,null,null,null,null,null,null,null,null,null,null,null,null,null,null,null,null,null,null,null,null,null,null,null,null,null,null,null,null,null,null,null,null,null,null,null,null,null,null,null,null,null,null,null,null,null,null,null,null,null,null,null,null,null,null,null,null,null,null,null,null,null,null,null,null,null,null,null,null,null,null,null,null,null,null,null,null,null,null,null,null,null,null,null,null,null,null,null,null,null,null,null,null,null,null,null,null,null,null,null,null,null,null,null,null,null,null,null,null,null,null,null,null,null,null,null,null,null,null,null,null,null,null,null,null,null,null,null,null,null,null,null,null,null,null,null,null,null,null,null,null,null,null,null,null,null,null,null,null,null,null,null,null,null,null,null,null,null,null,null,null,null,null,null,null,null,null,null,null,null,null,null,null,null,null,null,null,null,null,null,null,null,null,null,null,null,null,null,null,null,null,null,null,null,null,null,null,null,null,null,null,null,null,null,null,null,null,null,null,null,null,null,null,null,null,null,null,null,null,null,null,null,null,null,null,null,null,null,null,null,null,null,null,null,null,null,null,null,null,null,null,null,null,null,null,null,null,null,null,null,null,null,null,null,null,null,null,null,null,null,null,null,null,null,null,null,null,null,null,null,null,null,null,null,null,null,null,null,null,null,null,null,null,null,null,null,null,null,null,null,null,null,null,null,null,null,null,null,null,null,null,null,null,null,null,null,null,null,null,null,null,null,null,null,null,null,null,null,null,null,null,null,null,null,null,null,null,null,null,null,null,null,null,null,null,null,null,null,null,null,null,null,null,null,null,null,null,null,null,null,null,null,null,null,null,null,null,null,null,null,null,null,null,null,null,null,null,null,null,null,null,null,null,null,null,null,null,null,null,null,null,null,null,null,null,null,null,null,null,null,null,null,null,null,null,null,null,null,null,null,null,null,null,null,null,null,null,null,null,null,null,null,null,null,null,null,null,null,null,null,null,null,null,null,null,null,null,null,null,null,null,null,null,null,null,null,null,null,null,null,null,null,null,null,null,null,null,null,null,null,null,null,null,null,null,null,null,null,null,null,null,null,null,null,null,null,null,null,null,null,null,null,null,null,null,null,null,null,null,null,null,null,null,null,null,null,null,null,null,null,null,null,null,null,null,null,null,null,null,null,null,null,null,null,null,null,null,null,null,null,null,null,null,null,null,null,null,null,null,null,null,null,null,null,null,null,null,null,null,null,null,null,null,null,null,null,null,null,null,null,null,null,null,null,null,null,null,null,null,null,null,null,null,null,null,null,null,null,null,null,null,null,null,null,null,null,null,null,null,null,null,null,null,null,null,null,null,null,null,null,null,null,null,null,null,null,null,null,null,null,null,null,null,null,null,null,null,null,null,null,null,null,null,null,null,null,null,null,null,null,null,null,null,null,null,null,null,null,null,null,null,null,null,null,null,null,null,null,null,null,null,null,null,null,null,null,null,null,null,null,null,null,null,null,null,null,null,null,null,null,null,null,null,null,null,null,null,null,null,null,null,null,null,null,null,null,null,null,null,null,null,null,null,null,null,null,null,null,null,null,null,null,null,null,null,null,null,null,null,null,null,null,null,null,null,null,null,null,null,null,null,null,null,null,null,null,null,null,null,null,null,null,null,null,null,null,null,null,null,null,null,null,null,null,null,null,null,null,null,null,null,null,null,null,null,null,null,null,null,null,null,null,null,null,null,null,null,null,null,null,null,null,null,null,null,null,null,null,null,null,null,null,null,null,null,null,null,null,null,null,null,null,null,null,null,null,null,null,null,null,null,null,null,null,null,null,null,null,null,null,null,null,null,null,null,null,null,null,null,null,null,null,null,null,null,null,null,null,null,null,null,null,null,null,null,null,null,null,null,null,null,null,null,null,null,null,null,null,null,null,null,null,null,null,null,null,null,null,null,null,null,null,null,null,null,null,null,null,null,null,null,null,null,null,null,null,null,null,null,null,null,null,null,null,null,null,null,null,null,null,null,null,null,null,null,null,null,null,null,null,null,null,null,null,null,null,null,null,null,null,null,null,null,null,null,null,null,null,null,null,null,null,null,null,null,null,null,null,null,null,null,null,null,null,null,null,null,null,null,null,null,null,null,null,null,null,null,null,null,null,null,null,null,null,null,null,null,null,null,null,null,null,null,null,null,null,null,null,null,null,null,null,null,null,null,null,null,null,null,null,null,null,null,null,null,null,null,null,null,null,null,null,null,null,null,null,null,null,null,null,null,null,null,null,null,null,null,null,null,null,null,null,null,null,null,null,null,null,null,null,null,null,null,null,null,null,null,null,null,null,null,null,null,null,null,null,null,null,null,null,null,null,null,null,null,null,null,null,null,null,null,null,null,null,null,null,null,null,null,null,null,null,null,null,null,null,null,null,null,null,null,null,null,null,null,null,null,null,null,null,null,null,null,null,null,null,null,null,null,null,null,null,null,null,null,null,null,null,null,null,null,null,null,null,null,null,null,null,null,null,null,null,null,null,null,null,null,null,null,null,null,null,null,null,null,null,null,null,null,null,null,null,null,null,null,null,null,null,null,null,null,null,null,null,null,null,null,null,null,null,null,null,null,null,null,null,null,null,null,null,null,null,null,null,null,null,null,null,null,null,null,null,null,null,null,null,null,null,null,null,null,null,null,null,null,null,null,null,null,null,null,null,null,null,null,null,null,null,null,null,null,null,null,null,null,null,null,null,null,null,null,null,null,null,null,null,null,null,null,null,null,null,null,null,null,null,null,null,null,null,null,null,null,null,null,null,null,null,null,null,null,null,null,null,null,null,null,null,null,null,null,null,null,null,null,null,null,null,null,null,null,null,null,null,null,null,null,null,null,null,null,null,null,null,null,null,null,null,null,null,null,null,null,null,null,null,null,null,null,null,null,null,null,null,null,null,null,null,null,null,null,null,null,null,null,null,null,null,null,null,null,null,null,null,null,null,null,null,null,null,null,null,null,null,null,null,null,null,null,null,null,null,null,null,null,null,null,null,null,null,null,null,null,null,null,null,null,null,null,null,null,null,null,null,null,null,null,null,null,null,null,null,null,null,null,null,null,null,null,null,null,null,null,null,null,null,null,null,null,null,null,null,null,null,null,null,null,null,null,null,null,null,null,null,null,null,null,null,null,null,null,null,null,null,null,null,null,null,null,null,null,null,null,null,null,null,null,null,null,null,null,null,null,null,null,null,null,null,null,null,null,null,null,null,null,null,null,null,null,null,null,null,null,null,null,null,null,null,null,null,null,null,null,null,null,null,null,null,null,null,null,null,null,null,null,null,null,null,null,null,null,null,null,null,null,null,null,null,null,null,null,null,null,null,null,null,null,null,null,null,null,null,null,null,null,null,null,null,null,null,null,null,null,null,null,null,null,null,null,null,null,null,null,null,null,null,null,null,null,null,null,null,null,null,null,null,null,null,null,null,null,null,null,null,null,null,null,null,null,null,null,null,null,null,null,null,null,null,null,null,null,null,null,null,null,null,null,null,null,null,null,null,null,null,null,null,null,null,null,null,null,null,null,null,null,null,null,null,null,null,null,null,null,null,null,null,null,null,null,null,null,null,null,null,null,null,null,null,null,null,null,null,null,null,null,null,null,null,null,null,null,null,null,null,null,null,null,null,null,null,null,null,null,null,null,null,null,null,null,null,null,null,null,null,null,null,null,null,null,null,null,null,null,null,null,null,null,null,null,null,null,null,null,null,null,null,null,null,null,null,null,null,null,null,null,null,null,null,null,null,null,null,null,null,null,null,null,null,null,null,null,null,null,null,null,null,null,null,null,null,null,null,null,null,null,null,null,null,null,null,null,null,null,null,null,null,null,null,null,null,null,null,null,null,null,null,null,null,null,null,null,null,null,null,null,null,null,null,null,null,null,null,null,null,null,null,null,null,null,null,null,null,null,null,null,null,null,null,null,null,null,null,null,null,null,null,null,null,null,null,null,null,null,null,null,null,null,null,null,null,null,null,null,null,null,null,null,null,null,null,null,null,null,null,null,null,null,null,null,null,null,null,null,null,null,null,null,null,null,null,null,null,null,null,null,null,null,null,null,null,null,null,null,null,null,null,null,null,null,null,null,null,null,null,null,null,null,null,null,null,null,null,null,null,null,null,null,null,null,null,null,null,null,null,null,null,null,null,null,null,null,null,null,null,null,null,null,null,null,null,null,null,null,null,null,null,null,null,null,null,null,null,null,null,null,null,null,null,null,null,null,null,null,null,null,null,null,null,null,null,null,null,null,null,null,null,null,null,null,null,null,null,null,null,null,null,null,null,null,null,null,null,null,null,null,null,null,null,null,null,null,null,null,null,null,null,null,null,null,null,null,null,null,null,null,null,null,null,null,null,null,null,null,null,null,null,null,null,null,null,null,null,null,null,null,null,null,null,null,null,null,null,null,null,null,null,null,null,null,null,null,null,null,null,null,null,null,null,null,null,null,null,null,null,null,null,null,null,null,null,null,null,null,null,null,null,null,null,null,null,null,null,null,null,null,null,null,null,null,null,null,null,null,null,null,null,null,null,null,null,null,null,null,null,null,null,null,null,null,null,null,null,null,null,null,null,null,null,null,null,null,null,null,null,null,null,null,null,null,null,null,null,null,null,null,null,null,null,null,null,null,null,null,null,null,null,null,null,null,null,null,null,null,null,null,null,null,null,null,null,null,null,null,null,null,null,null,null,null,null,null,null,null,null,null,null,null,null,null,null,null,null,null,null,null,null,null,null,null,null,null,null,null,null,null,null,null,null,null,null,null,null,null,null,null,null,null,null,null,null,null,null,null,null,null,null,null,null,null,null,null,null,null,null,null,null,null,null,null,null,null,null,null,null,null,null,null,null,null,null,null,null,null,null,null,null,null,null,null,null,null,null,null,null,null,null,null,null,null,null,null,null,null,null,null,null,null,null,null,null,null,null,null,null,null,null,null,null,null,null,null,null,null,null,null,null,null,null,null,null,null,null,null,null,null,null,null,null,null,null,null,null,null,null,null,null,null,null,null,null,null,null,null,null,null,null,null,null,null,null,null,null,null,null,null,null,null,null,null,null,null,null,null,null,null,null,null,null,null,null,null,null,null,null,null,null,null,null,null,null,null,null,null,null,null,null,null,null,null,null,null,null,null,null,null,null,null,null,null,null,null,null,null,null,null,null,null,null,null,null,null,null,null,null,null,null,null,null,null,null,null,null,null,null,null,null,null,null,null,null,null,null,null,null,null,null,null,null,null,null,null,null,null,null,null,null,null,null,null,null,null,null,null,null,null,null,null,null,null,null,null,null,null,null,null,null,null,null,null,null,null,null,null,null,null,null,null,null,null,null,null,null,null,null,null,null,null,null,null,null,null,null,null,null,null,null,null,null,null,null,null,null,null,null,null,null,null,null,null,null,null,null,null,null,null,null,null,null,null,null,null,null,null,null,null,null,null,null,null,null,null,null,null,null,null,null,null,null,null,null,null,null,null,null,null,null,null,null,null,null,null,null,null,null,null,null,null,null,null,null,null,null,null,null,null,null,null,null,null,null,null,null,null,null,null,null,null,null,null,null,null,null,null,null,null,null,null,null,null,null,null,null,null,null,null,null,null,null,null,null,null,null,null,null,null,null,null,null,null,null,null,null,null,null,null,null,null,null,null,null,null,null,null,null,null,null,null,null,null,null,null,null,null,null,null,null,null,null,null,null,null,null,null,null,null,null,null,null,null,null,null,null,null,null,null,null,null,null,null,null,null,null,null,null,null,null,null,null,null,null,null,null,null,null,null,null,null,null,null,null,null,null,null,null,null,null,null,null,null,null,null,null,null,null,null,null,null,null,null,null,null,null,null,null,null,null,null,null,null,null,null,null,null,null,null,null,null,null,null,null,null,null,null,null,null,null,null,null,null,null,null,null,null,null,null,null,null,null,null,null,null,null,null,null,null,null,null,null,null,null,null,null,null,null,null,null,null,null,null,null,null,null,null,null,null,null,null,null,null,null,null,null,null,null,null,null,null,null,null,null,null,null,null,null,null,null,null,null,null,null,null,null,null,null,null,null,null,null,null,null,null,null,null,null,null,null,null,null,null,null,null,null,null,null,null,null,null,null,null,null,null,null,null,null,null,null,null,null,null,null,null,null,null,null,null,null,null,null,null,null,null,null,null,null,null,null,null,null,null,null,null,null,null,null,null,null,null,null,null,null,null,null,null,null,null,null,null,null,null,null,null,null,null,null,null,null,null,null,null,null,null,null,null,null,null,null,null,null,null,null,null,null,null,null,null,null,null,null,null,null,null,null,null,null,null,null,null,null,null,null,null,null,null,null,null,null,null,null,null,null,null,null,null,null,null,null,null,null,null,null,null,null,null,null,null,null,null,null,null,null,null,null,null,null,null,null,null,null,null,null,null,null,null,null,null,null,null,null,null,null,null,null,null,null,null,null,null,null,null,null,null,null,null,null,null,null,null,null,null,null,null,null,null,null,null,null,null,null,null,null,null,null,null,null,null,null,null,null,null,null,null,null,null,null,null,null,null,null,null,null,null,null,null,null,null,null,null,null,null,null,null,null,null,null,null,null,null,null,null,null,null,null,null,null,null,null,null,null,null,null,null,null,null,null,null,null,null,null,null,null,null,null,null,null,null,null,null,null,null,null,null,null,null,null,null,null,null,null,null,null,null,null,null,null,null,null,null,null,null,null,null,null,null,null,null,null,null,null,null,null,null,null,null,null,null,null,null,null,null,null,null,null,null,null,null,null,null,null,null,null,null,null,null,null,null,null,null,null,null,null,null,null,null,null,null,null,null,null,null,null,null,null,null,null,null,null,null,null,null,null,null,null,null,null,null,null,null,null,null,null,null,null,null,null,null,null,null,null,null,null,null,null,null,null,null,null,null,null,null,null,null,null,null,null,null,null,null,null,null,null,null,null,null,null,null,null,null,null,null,null,null,null,null,null,null,null,null,null,null,null,null,null,null,null,null,null,null,null,null,null,null,null,null,null,null,null,null,null,null,null,null,null,null,null,null,null,null,null,null,null,null,null,null,null,null,null,null,null,null,null,null,null,null,null,null,null,null,null,null,null,null,null,null,null,null,null,null,null,null,null,null,null,null,null,null,null,null,null,null,null,null,null,null,null,null,null,null,null,null,null,null,null,null,null,null,null,null,null,null,null,null,null,null,null,null,null,null,null,null,null,null,null,null,null,null,null,null,null,null,null,null,null,null,null,null,null,null,null,null,null,null,null,null,null,null,null,null,null,null,null,null,null,null,null,null,null,null,null,null,null,null,null,null,null,null,null,null,null,null,null,null,null,null,null,null,null,null,null,null,null,null,null,null,null,null,null,null,null,null,null,null,null,null,null,null,null,null,null,null,null,null,null,null,null,null,null,null,null,null,null,null,null,null,null,null,null,null,null,null,null,null,null,null,null,null,null,null,null,null,null,null,null,null,null,null,null,null,null,null,null,null,null,null,null,null,null,null,null,null,null,null,null,null,null,null,null,null,null,null,null,null,null,null,null,null,null,null,null,null,null,null,null,null,null,null,null,null,null,null,null,null,null,null,null,null,null,null,null,null,null,null,null,null,null,null,null,null,null,null,null,null,null,null,null,null,null,null,null,null,null,null,null,null,null,null,null,null,null,null,null,null,null,null,null,null,null,null,null,null,null,null,null,null,null,null,null,null,null,null,null,null,null,null,null,null,null,null,null,null,null,null,null,null,null,null,null,null,null,null,null,null,null,null,null,null,null,null,null,null,null,null,null,null,null,null,null,null,null,null,null,null,null,null,null,null,null,null,null,null,null,null,null,null,null,null,null,null,null,null,null,null,null,null,null,null,null,null,null,null,null,null,null,null,null,null,null,null,null,null,null,null,null,null,null,null,null,null,null,null,null,null,null,null,null,null,null,null,null,null,null,null,null,null,null,null,null,null,null,null,null,null,null,null,null,null,null,null,null,null,null,null,null,null,null,null,null,null,null,null,null,null,null,null,null,null,null,null,null,null,null,null,null,null,null,null,null,null,null,null,null,null,null,null,null,null,null,null,null,null,null,null,null,null,null,null,null,null,null,null,null,null,null,null,null,null,null,null,null,null,null,null,null,null,null,null,null,null,null,null,null,null,null,null,null,null,null,null,null,null,null,null,null,null,null,null,null,null,null,null,null,"Paga","Alimentar"]
[null,"NÃO","RPVs destacadas em roxo estão PAGAS",null,"PLANILHA CONTROLE DO PAGAMENTO DE RPVs",null,null,null,null,null,null,null,null,null,null,null,null,null,null,null,null,null,null,null,null,null,null,null,null,null,null,null,null,null,null,null,null,null,null,null,null,null,null,null,null,null,null,null,null,null,null,null,null,null,null,null,null,null,null,null,null,null,null,null,null,null,null,null,null,null,null,null,null,null,null,null,null,null,null,null,null,null,null,null,null,null,null,null,null,null,null,null,null,null,null,null,null,null,null,null,null,null,null,null,null,null,null,null,null,null,null,null,null,null,null,null,null,null,null,null,null,null,null,null,null,null,null,null,null,null,null,null,null,null,null,null,null,null,null,null,null,null,null,null,null,null,null,null,null,null,null,null,null,null,null,null,null,null,null,null,null,null,null,null,null,null,null,null,null,null,null,null,null,null,null,null,null,null,null,null,null,null,null,null,null,null,null,null,null,null,null,null,null,null,null,null,null,null,null,null,null,null,null,null,null,null,null,null,null,null,null,null,null,null,null,null,null,null,null,null,null,null,null,null,null,null,null,null,null,null,null,null,null,null,null,null,null,null,null,null,null,null,null,null,null,null,null,null,null,null,null,null,null,null,null,null,null,null,null,null,null,null,null,null,null,null,null,null,null,null,null,null,null,null,null,null,null,null,null,null,null,null,null,null,null,null,null,null,null,null,null,null,null,null,null,null,null,null,null,null,null,null,null,null,null,null,null,null,null,null,null,null,null,null,null,null,null,null,null,null,null,null,null,null,null,null,null,null,null,null,null,null,null,null,null,null,null,null,null,null,null,null,null,null,null,null,null,null,null,null,null,null,null,null,null,null,null,null,null,null,null,null,null,null,null,null,null,null,null,null,null,null,null,null,null,null,null,null,null,null,null,null,null,null,null,null,null,null,null,null,null,null,null,null,null,null,null,null,null,null,null,null,null,null,null,null,null,null,null,null,null,null,null,null,null,null,null,null,null,null,null,null,null,null,null,null,null,null,null,null,null,null,null,null,null,null,null,null,null,null,null,null,null,null,null,null,null,null,null,null,null,null,null,null,null,null,null,null,null,null,null,null,null,null,null,null,null,null,null,null,null,null,null,null,null,null,null,null,null,null,null,null,null,null,null,null,null,null,null,null,null,null,null,null,null,null,null,null,null,null,null,null,null,null,null,null,null,null,null,null,null,null,null,null,null,null,null,null,null,null,null,null,null,null,null,null,null,null,null,null,null,null,null,null,null,null,null,null,null,null,null,null,null,null,null,null,null,null,null,null,null,null,null,null,null,null,null,null,null,null,null,null,null,null,null,null,null,null,null,null,null,null,null,null,null,null,null,null,null,null,null,null,null,null,null,null,null,null,null,null,null,null,null,null,null,null,null,null,null,null,null,null,null,null,null,null,null,null,null,null,null,null,null,null,null,null,null,null,null,null,null,null,null,null,null,null,null,null,null,null,null,null,null,null,null,null,null,null,null,null,null,null,null,null,null,null,null,null,null,null,null,null,null,null,null,null,null,null,null,null,null,null,null,null,null,null,null,null,null,null,null,null,null,null,null,null,null,null,null,null,null,null,null,null,null,null,null,null,null,null,null,null,null,null,null,null,null,null,null,null,null,null,null,null,null,null,null,null,null,null,null,null,null,null,null,null,null,null,null,null,null,null,null,null,null,null,null,null,null,null,null,null,null,null,null,null,null,null,null,null,null,null,null,null,null,null,null,null,null,null,null,null,null,null,null,null,null,null,null,null,null,null,null,null,null,null,null,null,null,null,null,null,null,null,null,null,null,null,null,null,null,null,null,null,null,null,null,null,null,null,null,null,null,null,null,null,null,null,null,null,null,null,null,null,null,null,null,null,null,null,null,null,null,null,null,null,null,null,null,null,null,null,null,null,null,null,null,null,null,null,null,null,null,null,null,null,null,null,null,null,null,null,null,null,null,null,null,null,null,null,null,null,null,null,null,null,null,null,null,null,null,null,null,null,null,null,null,null,null,null,null,null,null,null,null,null,null,null,null,null,null,null,null,null,null,null,null,null,null,null,null,null,null,null,null,null,null,null,null,null,null,null,null,null,null,null,null,null,null,null,null,null,null,null,null,null,null,null,null,null,null,null,null,null,null,null,null,null,null,null,null,null,null,null,null,null,null,null,null,null,null,null,null,null,null,null,null,null,null,null,null,null,null,null,null,null,null,null,null,null,null,null,null,null,null,null,null,null,null,null,null,null,null,null,null,null,null,null,null,null,null,null,null,null,null,null,null,null,null,null,null,null,null,null,null,null,null,null,null,null,null,null,null,null,null,null,null,null,null,null,null,null,null,null,null,null,null,null,null,null,null,null,null,null,null,null,null,null,null,null,null,null,null,null,null,null,null,null,null,null,null,null,null,null,null,null,null,null,null,null,null,null,null,null,null,null,null,null,null,null,null,null,null,null,null,null,null,null,null,null,null,null,null,null,null,null,null,null,null,null,null,null,null,null,null,null,null,null,null,null,null,null,null,null,null,null,null,null,null,null,null,null,null,null,null,null,null,null,null,null,null,null,null,null,null,null,null,null,null,null,null,null,null,null,null,null,null,null,null,null,null,null,null,null,null,null,null,null,null,null,null,null,null,null,null,null,null,null,null,null,null,null,null,null,null,null,null,null,null,null,null,null,null,null,null,null,null,null,null,null,null,null,null,null,null,null,null,null,null,null,null,null,null,null,null,null,null,null,null,null,null,null,null,null,null,null,null,null,null,null,null,null,null,null,null,null,null,null,null,null,null,null,null,null,null,null,null,null,null,null,null,null,null,null,null,null,null,null,null,null,null,null,null,null,null,null,null,null,null,null,null,null,null,null,null,null,null,null,null,null,null,null,null,null,null,null,null,null,null,null,null,null,null,null,null,null,null,null,null,null,null,null,null,null,null,null,null,null,null,null,null,null,null,null,null,null,null,null,null,null,null,null,null,null,null,null,null,null,null,null,null,null,null,null,null,null,null,null,null,null,null,null,null,null,null,null,null,null,null,null,null,null,null,null,null,null,null,null,null,null,null,null,null,null,null,null,null,null,null,null,null,null,null,null,null,null,null,null,null,null,null,null,null,null,null,null,null,null,null,null,null,null,null,null,null,null,null,null,null,null,null,null,null,null,null,null,null,null,null,null,null,null,null,null,null,null,null,null,null,null,null,null,null,null,null,null,null,null,null,null,null,null,null,null,null,null,null,null,null,null,null,null,null,null,null,null,null,null,null,null,null,null,null,null,null,null,null,null,null,null,null,null,null,null,null,null,null,null,null,null,null,null,null,null,null,null,null,null,null,null,null,null,null,null,null,null,null,null,null,null,null,null,null,null,null,null,null,null,null,null,null,null,null,null,null,null,null,null,null,null,null,null,null,null,null,null,null,null,null,null,null,null,null,null,null,null,null,null,null,null,null,null,null,null,null,null,null,null,null,null,null,null,null,null,null,null,null,null,null,null,null,null,null,null,null,null,null,null,null,null,null,null,null,null,null,null,null,null,null,null,null,null,null,null,null,null,null,null,null,null,null,null,null,null,null,null,null,null,null,null,null,null,null,null,null,null,null,null,null,null,null,null,null,null,null,null,null,null,null,null,null,null,null,null,null,null,null,null,null,null,null,null,null,null,null,null,null,null,null,null,null,null,null,null,null,null,null,null,null,null,null,null,null,null,null,null,null,null,null,null,null,null,null,null,null,null,null,null,null,null,null,null,null,null,null,null,null,null,null,null,null,null,null,null,null,null,null,null,null,null,null,null,null,null,null,null,null,null,null,null,null,null,null,null,null,null,null,null,null,null,null,null,null,null,null,null,null,null,null,null,null,null,null,null,null,null,null,null,null,null,null,null,null,null,null,null,null,null,null,null,null,null,null,null,null,null,null,null,null,null,null,null,null,null,null,null,null,null,null,null,null,null,null,null,null,null,null,null,null,null,null,null,null,null,null,null,null,null,null,null,null,null,null,null,null,null,null,null,null,null,null,null,null,null,null,null,null,null,null,null,null,null,null,null,null,null,null,null,null,null,null,null,null,null,null,null,null,null,null,null,null,null,null,null,null,null,null,null,null,null,null,null,null,null,null,null,null,null,null,null,null,null,null,null,null,null,null,null,null,null,null,null,null,null,null,null,null,null,null,null,null,null,null,null,null,null,null,null,null,null,null,null,null,null,null,null,null,null,null,null,null,null,null,null,null,null,null,null,null,null,null,null,null,null,null,null,null,null,null,null,null,null,null,null,null,null,null,null,null,null,null,null,null,null,null,null,null,null,null,null,null,null,null,null,null,null,null,null,null,null,null,null,null,null,null,null,null,null,null,null,null,null,null,null,null,null,null,null,null,null,null,null,null,null,null,null,null,null,null,null,null,null,null,null,null,null,null,null,null,null,null,null,null,null,null,null,null,null,null,null,null,null,null,null,null,null,null,null,null,null,null,null,null,null,null,null,null,null,null,null,null,null,null,null,null,null,null,null,null,null,null,null,null,null,null,null,null,null,null,null,null,null,null,null,null,null,null,null,null,null,null,null,null,null,null,null,null,null,null,null,null,null,null,null,null,null,null,null,null,null,null,null,null,null,null,null,null,null,null,null,null,null,null,null,null,null,null,null,null,null,null,null,null,null,null,null,null,null,null,null,null,null,null,null,null,null,null,null,null,null,null,null,null,null,null,null,null,null,null,null,null,null,null,null,null,null,null,null,null,null,null,null,null,null,null,null,null,null,null,null,null,null,null,null,null,null,null,null,null,null,null,null,null,null,null,null,null,null,null,null,null,null,null,null,null,null,null,null,null,null,null,null,null,null,null,null,null,null,null,null,null,null,null,null,null,null,null,null,null,null,null,null,null,null,null,null,null,null,null,null,null,null,null,null,null,null,null,null,null,null,null,null,null,null,null,null,null,null,null,null,null,null,null,null,null,null,null,null,null,null,null,null,null,null,null,null,null,null,null,null,null,null,null,null,null,null,null,null,null,null,null,null,null,null,null,null,null,null,null,null,null,null,null,null,null,null,null,null,null,null,null,null,null,null,null,null,null,null,null,null,null,null,null,null,null,null,null,null,null,null,null,null,null,null,null,null,null,null,null,null,null,null,null,null,null,null,null,null,null,null,null,null,null,null,null,null,null,null,null,null,null,null,null,null,null,null,null,null,null,null,null,null,null,null,null,null,null,null,null,null,null,null,null,null,null,null,null,null,null,null,null,null,null,null,null,null,null,null,null,null,null,null,null,null,null,null,null,null,null,null,null,null,null,null,null,null,null,null,null,null,null,null,null,null,null,null,null,null,null,null,null,null,null,null,null,null,null,null,null,null,null,null,null,null,null,null,null,null,null,null,null,null,null,null,null,null,null,null,null,null,null,null,null,null,null,null,null,null,null,null,null,null,null,null,null,null,null,null,null,null,null,null,null,null,null,null,null,null,null,null,null,null,null,null,null,null,null,null,null,null,null,null,null,null,null,null,null,null,null,null,null,null,null,null,null,null,null,null,null,null,null,null,null,null,null,null,null,null,null,null,null,null,null,null,null,null,null,null,null,null,null,null,null,null,null,null,null,null,null,null,null,null,null,null,null,null,null,null,null,null,null,null,null,null,null,null,null,null,null,null,null,null,null,null,null,null,null,null,null,null,null,null,null,null,null,null,null,null,null,null,null,null,null,null,null,null,null,null,null,null,null,null,null,null,null,null,null,null,null,null,null,null,null,null,null,null,null,null,null,null,null,null,null,null,null,null,null,null,null,null,null,null,null,null,null,null,null,null,null,null,null,null,null,null,null,null,null,null,null,null,null,null,null,null,null,null,null,null,null,null,null,null,null,null,null,null,null,null,null,null,null,null,null,null,null,null,null,null,null,null,null,null,null,null,null,null,null,null,null,null,null,null,null,null,null,null,null,null,null,null,null,null,null,null,null,null,null,null,null,null,null,null,null,null,null,null,null,null,null,null,null,null,null,null,null,null,null,null,null,null,null,null,null,null,null,null,null,null,null,null,null,null,null,null,null,null,null,null,null,null,null,null,null,null,null,null,null,null,null,null,null,null,null,null,null,null,null,null,null,null,null,null,null,null,null,null,null,null,null,null,null,null,null,null,null,null,null,null,null,null,null,null,null,null,null,null,null,null,null,null,null,null,null,null,null,null,null,null,null,null,null,null,null,null,null,null,null,null,null,null,null,null,null,null,null,null,null,null,null,null,null,null,null,null,null,null,null,null,null,null,null,null,null,null,null,null,null,null,null,null,null,null,null,null,null,null,null,null,null,null,null,null,null,null,null,null,null,null,null,null,null,null,null,null,null,null,null,null,null,null,null,null,null,null,null,null,null,null,null,null,null,null,null,null,null,null,null,null,null,null,null,null,null,null,null,null,null,null,null,null,null,null,null,null,null,null,null,null,null,null,null,null,null,null,null,null,null,null,null,null,null,null,null,null,null,null,null,null,null,null,null,null,null,null,null,null,null,null,null,null,null,null,null,null,null,null,null,null,null,null,null,null,null,null,null,null,null,null,null,null,null,null,null,null,null,null,null,null,null,null,null,null,null,null,null,null,null,null,null,null,null,null,null,null,null,null,null,null,null,null,null,null,null,null,null,null,null,null,null,null,null,null,null,null,null,null,null,null,null,null,null,null,null,null,null,null,null,null,null,null,null,null,null,null,null,null,null,null,null,null,null,null,null,null,null,null,null,null,null,null,null,null,null,null,null,null,null,null,null,null,null,null,null,null,null,null,null,null,null,null,null,null,null,null,null,null,null,null,null,null,null,null,null,null,null,null,null,null,null,null,null,null,null,null,null,null,null,null,null,null,null,null,null,null,null,null,null,null,null,null,null,null,null,null,null,null,null,null,null,null,null,null,null,null,null,null,null,null,null,null,null,null,null,null,null,null,null,null,null,null,null,null,null,null,null,null,null,null,null,null,null,null,null,null,null,null,null,null,null,null,null,null,null,null,null,null,null,null,null,null,null,null,null,null,null,null,null,null,null,null,null,null,null,null,null,null,null,null,null,null,null,null,null,null,null,null,null,null,null,null,null,null,null,null,null,null,null,null,null,null,null,null,null,null,null,null,null,null,null,null,null,null,null,null,null,null,null,null,null,null,null,null,null,null,null,null,null,null,null,null,null,null,null,null,null,null,null,null,null,null,null,null,null,null,null,null,null,null,null,null,null,null,null,null,null,null,null,null,null,null,null,null,null,null,null,null,null,null,null,null,null,null,null,null,null,null,null,null,null,null,null,null,null,null,null,null,null,null,null,null,null,null,null,null,null,null,null,null,null,null,null,null,null,null,null,null,null,null,null,null,null,null,null,null,null,null,null,null,null,null,null,null,null,null,null,null,null,null,null,null,null,null,null,null,null,null,null,null,null,null,null,null,null,null,null,null,null,null,null,null,null,null,null,null,null,null,null,null,null,null,null,null,null,null,null,null,null,null,null,null,null,null,null,null,null,null,null,null,null,null,null,null,null,null,null,null,null,null,null,null,null,null,null,null,null,null,null,null,null,null,null,null,null,null,null,null,null,null,null,null,null,null,null,null,null,null,null,null,null,null,null,null,null,null,null,null,null,null,null,null,null,null,null,null,null,null,null,null,null,null,null,null,null,null,null,null,null,null,null,null,null,null,null,null,null,null,null,null,null,null,null,null,null,null,null,null,null,null,null,null,null,null,null,null,null,null,null,null,null,null,null,null,null,null,null,null,null,null,null,null,null,null,null,null,null,null,null,null,null,null,null,null,null,null,null,null,null,null,null,null,null,null,null,null,null,null,null,null,null,null,null,null,null,null,null,null,null,null,null,null,null,null,null,null,null,null,null,null,null,null,null,null,null,null,null,null,null,null,null,null,null,null,null,null,null,null,null,null,null,null,null,null,null,null,null,null,null,null,null,null,null,null,null,null,null,null,null,null,null,null,null,null,null,null,null,null,null,null,null,null,null,null,null,null,null,null,null,null,null,null,null,null,null,null,null,null,null,null,null,null,null,null,null,null,null,null,null,null,null,null,null,null,null,null,null,null,null,null,null,null,null,null,null,null,null,null,null,null,null,null,null,null,null,null,null,null,null,null,null,null,null,null,null,null,null,null,null,null,null,null,null,null,null,null,null,null,null,null,null,null,null,null,null,null,null,null,null,null,null,null,null,null,null,null,null,null,null,null,null,null,null,null,null,null,null,null,null,null,null,null,null,null,null,null,null,null,null,null,null,null,null,null,null,null,null,null,null,null,null,null,null,null,null,null,null,null,null,null,null,null,null,null,null,null,null,null,null,null,null,null,null,null,null,null,null,null,null,null,null,null,null,null,null,null,null,null,null,null,null,null,null,null,null,null,null,null,null,null,null,null,null,null,null,null,null,null,null,null,null,null,null,null,null,null,null,null,null,null,null,null,null,null,null,null,null,null,null,null,null,null,null,null,null,null,null,null,null,null,null,null,null,null,null,null,null,null,null,null,null,null,null,null,null,null,null,null,null,null,null,null,null,null,null,null,null,null,null,null,null,null,null,null,null,null,null,null,null,null,null,null,null,null,null,null,null,null,null,null,null,null,null,null,null,null,null,null,null,null,null,null,null,null,null,null,null,null,null,null,null,null,null,null,null,null,null,null,null,null,null,null,null,null,null,null,null,null,null,null,null,null,null,null,null,null,null,null,null,null,null,null,null,null,null,null,null,null,null,null,null,null,null,null,null,null,null,null,null,null,null,null,null,null,null,null,null,null,null,null,null,null,null,null,null,null,null,null,null,null,null,null,null,null,null,null,null,null,null,null,null,null,null,null,null,null,null,null,null,null,null,null,null,null,null,null,null,null,null,null,null,null,null,null,null,null,null,null,null,null,null,null,null,null,null,null,null,null,null,null,null,null,null,null,null,null,null,null,null,null,null,null,null,null,null,null,null,null,null,null,null,null,null,null,null,null,null,null,null,null,null,null,null,null,null,null,null,null,null,null,null,null,null,null,null,null,null,null,null,null,null,null,null,null,null,null,null,null,null,null,null,null,null,null,null,null,null,null,null,null,null,null,null,null,null,null,null,null,null,null,null,null,null,null,null,null,null,null,null,null,null,null,null,null,null,null,null,null,null,null,null,null,null,null,null,null,null,null,null,null,null,null,null,null,null,null,null,null,null,null,null,null,null,null,null,null,null,null,null,null,null,null,null,null,null,null,null,null,null,null,null,null,null,null,null,null,null,null,null,null,null,null,null,null,null,null,null,null,null,null,null,null,null,null,null,null,null,null,null,null,null,null,null,null,null,null,null,null,null,null,null,null,null,null,null,null,null,null,null,null,null,null,null,null,null,null,null,null,null,null,null,null,null,null,null,null,null,null,null,null,null,null,null,null,null,null,null,null,null,null,null,null,null,null,null,null,null,null,null,null,null,null,null,null,null,null,null,null,null,null,null,null,null,null,null,null,null,null,null,null,null,null,null,null,null,null,null,null,null,null,null,null,null,null,null,null,null,null,null,null,null,null,null,null,null,null,null,null,null,null,null,null,null,null,null,null,null,null,null,null,null,null,null,null,null,null,null,null,null,null,null,null,null,null,null,null,null,null,null,null,null,null,null,null,null,null,null,null,null,null,null,null,null,null,null,null,null,null,null,null,null,null,null,null,null,null,null,null,null,null,null,null,null,null,null,null,null,null,null,null,null,null,null,null,null,null,null,null,null,null,null,null,null,null,null,null,null,null,null,null,null,null,null,null,null,null,null,null,null,null,null,null,null,null,null,null,null,null,null,null,null,null,null,null,null,null,null,null,null,null,null,null,null,null,null,null,null,null,null,null,null,null,null,null,null,null,null,null,null,null,null,null,null,null,null,null,null,null,null,null,null,null,null,null,null,null,null,null,null,null,null,null,null,null,null,null,null,null,null,null,null,null,null,null,null,null,null,null,null,null,null,null,null,null,null,null,null,null,null,null,null,null,null,null,null,null,null,null,null,null,null,null,null,null,null,null,null,null,null,null,null,null,null,null,null,null,null,null,null,null,null,null,null,null,null,null,null,null,null,null,null,null,null,null,null,null,null,null,null,null,null,null,null,null,null,null,null,null,null,null,null,null,null,null,null,null,null,null,null,null,null,null,null,null,null,null,null,null,null,null,null,null,null,null,null,null,null,null,null,null,null,null,null,null,null,null,null,null,null,null,null,null,null,null,null,null,null,null,null,null,null,null,null,null,null,null,null,null,null,null,null,null,null,null,null,null,null,null,null,null,null,null,null,null,null,null,null,null,null,null,null,null,null,null,null,null,null,null,null,null,null,null,null,null,null,null,null,null,null,null,null,null,null,null,null,null,null,null,null,null,null,null,null,null,null,null,null,null,null,null,null,null,null,null,null,null,null,null,null,null,null,null,null,null,null,null,null,null,null,null,null,null,null,null,null,null,null,null,null,null,null,null,null,null,null,null,null,null,null,null,null,null,null,null,null,null,null,null,null,null,null,null,null,null,null,null,null,null,null,null,null,null,null,null,null,null,null,null,null,null,null,null,null,null,null,null,null,null,null,null,null,null,null,null,null,null,null,null,null,null,null,null,null,null,null,null,null,null,null,null,null,null,null,null,null,null,null,null,null,null,null,null,null,null,null,null,null,null,null,null,null,null,null,null,null,null,null,null,null,null,null,null,null,null,null,null,null,null,null,null,null,null,null,null,null,null,null,null,null,null,null,null,null,null,null,null,null,null,null,null,null,null,null,null,null,null,null,null,null,null,null,null,null,null,null,null,null,null,null,null,null,null,null,null,null,null,null,null,null,null,null,null,null,null,null,null,null,null,null,null,null,null,null,null,null,null,null,null,null,null,null,null,null,null,null,null,null,null,null,null,null,null,null,null,null,null,null,null,null,null,null,null,null,null,null,null,null,null,null,null,null,null,null,null,null,null,null,null,null,null,null,null,null,null,null,null,null,null,null,null,null,null,null,null,null,null,null,null,null,null,null,null,null,null,null,null,null,null,null,null,null,null,null,null,null,null,null,null,null,null,null,null,null,null,null,null,null,null,null,null,null,null,null,null,null,null,null,null,null,null,null,null,null,null,null,null,null,null,null,null,null,null,null,null,null,null,null,null,null,null,null,null,null,null,null,null,null,null,null,null,null,null,null,null,null,null,null,null,null,null,null,null,null,null,null,null,null,null,null,null,null,null,null,null,null,null,null,null,null,null,null,null,null,null,null,null,null,null,null,null,null,null,null,null,null,null,null,null,null,null,null,null,null,null,null,null,null,null,null,null,null,null,null,null,null,null,null,null,null,null,null,null,null,null,null,null,null,null,null,null,null,null,null,null,null,null,null,null,null,null,null,null,null,null,null,null,null,null,null,null,null,null,null,null,null,null,null,null,null,null,null,null,null,null,null,null,null,null,null,null,null,null,null,null,null,null,null,null,null,null,null,null,null,null,null,null,null,null,null,null,null,null,null,null,null,null,null,null,null,null,null,null,null,null,null,null,null,null,null,null,null,null,null,null,null,null,null,null,null,null,null,null,null,null,null,null,null,null,null,null,null,null,null,null,null,null,null,null,null,null,null,null,null,null,null,null,null,null,null,null,null,null,null,null,null,null,null,null,null,null,null,null,null,null,null,null,null,null,null,null,null,null,null,null,null,null,null,null,null,null,null,null,null,null,null,null,null,null,null,null,null,null,null,null,null,null,null,null,null,null,null,null,null,null,null,null,null,null,null,null,null,null,null,null,null,null,null,null,null,null,null,null,null,null,null,null,null,null,null,null,null,null,null,null,null,null,null,null,null,null,null,null,null,null,null,null,null,null,null,null,null,null,null,null,null,null,null,null,null,null,null,null,null,null,null,null,null,null,null,null,null,null,null,null,null,null,null,null,null,null,null,null,null,null,null,null,null,null,null,null,null,null,null,null,null,null,null,null,null,null,null,null,null,null,null,null,null,null,null,null,null,null,null,null,null,null,null,null,null,null,null,null,null,null,null,null,null,null,null,null,null,null,null,null,null,null,null,null,null,null,null,null,null,null,null,null,null,null,null,null,null,null,null,null,null,null,null,null,null,null,null,null,null,null,null,null,null,null,null,null,null,null,null,null,null,null,null,null,null,null,null,null,null,null,null,null,null,null,null,null,null,null,null,null,null,null,null,null,null,null,null,null,null,null,null,null,null,null,null,null,null,null,null,null,null,null,null,null,null,null,null,null,null,null,null,null,null,null,null,null,null,null,null,null,null,null,null,null,null,null,null,null,null,null,null,null,null,null,null,null,null,null,null,null,null,null,null,null,null,null,null,null,null,null,null,null,null,null,null,null,null,null,null,null,null,null,null,null,null,null,null,null,null,null,null,null,null,null,null,null,null,null,null,null,null,null,null,null,null,null,null,null,null,null,null,null,null,null,null,null,null,null,null,null,null,null,null,null,null,null,null,null,null,null,null,null,null,null,null,null,null,null,null,null,null,null,null,null,null,null,null,null,null,null,null,null,null,null,null,null,null,null,null,null,null,null,null,null,null,null,null,null,null,null,null,null,null,null,null,null,null,null,null,null,null,null,null,null,null,null,null,null,null,null,null,null,null,null,null,null,null,null,null,null,null,null,null,null,null,null,null,null,null,null,null,null,null,null,null,null,null,null,null,null,null,null,null,null,null,null,null,null,null,null,null,null,null,null,null,null,null,null,null,null,null,null,null,null,null,null,null,null,null,null,null,null,null,null,null,null,null,null,null,null,null,null,null,null,null,null,null,null,null,null,null,null,null,null,null,null,null,null,null,null,null,null,null,null,null,null,null,null,null,null,null,null,null,null,null,null,null,null,null,null,null,null,null,null,null,null,null,null,null,null,null,null,null,null,null,null,null,null,null,null,null,null,null,null,null,null,null,null,null,null,null,null,null,null,null,null,null,null,null,null,null,null,null,null,null,null,null,null,null,null,null,null,null,null,null,null,null,null,null,null,null,null,null,null,null,null,null,null,null,null,null,null,null,null,null,null,null,null,null,null,null,null,null,null,null,null,null,null,null,null,null,null,null,null,null,null,null,null,null,null,null,null,null,null,null,null,null,null,null,null,null,null,null,null,null,null,null,null,null,null,null,null,null,null,null,null,null,null,null,null,null,null,null,null,null,null,null,null,null,null,null,null,null,null,null,null,null,null,null,null,null,null,null,null,null,null,null,null,null,null,null,null,null,null,null,null,null,null,null,null,null,null,null,null,null,null,null,null,null,null,null,null,null,null,null,null,null,null,null,null,null,null,null,null,null,null,null,null,null,null,null,null,null,null,null,null,null,null,null,null,null,null,null,null,null,null,null,null,null,null,null,null,null,null,null,null,null,null,null,null,null,null,null,null,null,null,null,null,null,null,null,null,null,null,null,null,null,null,null,null,null,null,null,null,null,null,null,null,null,null,null,null,null,null,null,null,null,null,null,null,null,null,null,null,null,null,null,null,null,null,null,null,null,null,null,null,null,null,null,null,null,null,null,null,null,null,null,null,null,null,null,null,null,null,null,null,null,null,null,null,null,null,null,null,null,null,null,null,null,null,null,null,null,null,null,null,null,null,null,null,null,null,null,null,null,null,null,null,null,null,null,null,null,null,null,null,null,null,null,null,null,null,null,null,null,null,null,null,null,null,null,null,null,null,null,null,null,null,null,null,null,null,null,null,null,null,null,null,null,null,null,null,null,null,null,null,null,null,null,null,null,null,null,null,null,null,null,null,null,null,null,null,null,null,null,null,null,null,null,null,null,null,null,null,null,null,null,null,null,null,null,null,null,null,null,null,null,null,null,null,null,null,null,null,null,null,null,null,null,null,null,null,null,null,null,null,null,null,null,null,null,null,null,null,null,null,null,null,null,null,null,null,null,null,null,null,null,null,null,null,null,null,null,null,null,null,null,null,null,null,null,null,null,null,null,null,null,null,null,null,null,null,null,null,null,null,null,null,null,null,null,null,null,null,null,null,null,null,null,null,null,null,null,null,null,null,null,null,null,null,null,null,null,null,null,null,null,null,null,null,null,null,null,null,null,null,null,null,null,null,null,null,null,null,null,null,null,null,null,null,null,null,null,null,null,null,null,null,null,null,null,null,null,null,null,null,null,null,null,null,null,null,null,null,null,null,null,null,null,null,null,null,null,null,null,null,null,null,null,null,null,null,null,null,null,null,null,null,null,null,null,null,null,null,null,null,null,null,null,null,null,null,null,null,null,null,null,null,null,null,null,null,null,null,null,null,null,null,null,null,null,null,null,null,null,null,null,null,null,null,null,null,null,null,null,null,null,null,null,null,null,null,null,null,null,null,null,null,null,null,null,null,null,null,null,null,null,null,null,null,null,null,null,null,null,null,null,null,null,null,null,null,null,null,null,null,null,null,null,null,null,null,null,null,null,null,null,null,null,null,null,null,null,null,null,null,null,null,null,null,null,null,null,null,null,null,null,null,null,null,null,null,null,null,null,null,null,null,null,null,null,null,null,null,null,null,null,null,null,null,null,null,null,null,null,null,null,null,null,null,null,null,null,null,null,null,null,null,null,null,null,null,null,null,null,null,null,null,null,null,null,null,null,null,null,null,null,null,null,null,null,null,null,null,null,null,null,null,null,null,null,null,null,null,null,null,null,null,null,null,null,null,null,null,null,null,null,null,null,null,null,null,null,null,null,null,null,null,null,null,null,null,null,null,null,null,null,null,null,null,null,null,null,null,null,null,null,null,null,null,null,null,null,null,null,null,null,null,null,null,null,null,null,null,null,null,null,null,null,null,null,null,null,null,null,null,null,null,null,null,null,null,null,null,null,null,null,null,null,null,null,null,null,null,null,null,null,null,null,null,null,null,null,null,null,null,null,null,null,null,null,null,null,null,null,null,null,null,null,null,null,null,null,null,null,null,null,null,null,null,null,null,null,null,null,null,null,null,null,null,null,null,null,null,null,null,null,null,null,null,null,null,null,null,null,null,null,null,null,null,null,null,null,null,null,null,null,null,null,null,null,null,null,null,null,null,null,null,null,null,null,null,null,null,null,null,null,null,null,null,null,null,null,null,null,null,null,null,null,null,null,null,null,null,null,null,null,null,null,null,null,null,null,null,null,null,null,null,null,null,null,null,null,null,null,null,null,null,null,null,null,null,null,null,null,null,null,null,null,null,null,null,null,null,null,null,null,null,null,null,null,null,null,null,null,null,null,null,null,null,null,null,null,null,null,null,null,null,null,null,null,null,null,null,null,null,null,null,null,null,null,null,null,null,null,null,null,null,null,null,null,null,null,null,null,null,null,null,null,null,null,null,null,null,null,null,null,null,null,null,null,null,null,null,null,null,null,null,null,null,null,null,null,null,null,null,null,null,null,null,null,null,null,null,null,null,null,null,null,null,null,null,null,null,null,null,null,null,null,null,null,null,null,null,null,null,null,null,null,null,null,null,null,null,null,null,null,null,null,null,null,null,null,null,null,null,null,null,null,null,null,null,null,null,null,null,null,null,null,null,null,null,null,null,null,null,null,null,null,null,null,null,null,null,null,null,null,null,null,null,null,null,null,null,null,null,null,null,null,null,null,null,null,null,null,null,null,null,null,null,null,null,null,null,null,null,null,null,null,null,null,null,null,null,null,null,null,null,null,null,null,null,null,null,null,null,null,null,null,null,null,null,null,null,null,null,null,null,null,null,null,null,null,null,null,null,null,null,null,null,null,null,null,null,null,null,null,null,null,null,null,null,null,null,null,null,null,null,null,null,null,null,null,null,null,null,null,null,null,null,null,null,null,null,null,null,null,null,null,null,null,null,null,null,null,null,null,null,null,null,null,null,null,null,null,null,null,null,null,null,null,null,null,null,null,null,null,null,null,null,null,null,null,null,null,null,null,null,null,null,null,null,null,null,null,null,null,null,null,null,null,null,null,null,null,null,null,null,null,null,null,null,null,null,null,null,null,null,null,null,null,null,null,null,null,null,null,null,null,null,null,null,null,null,null,null,null,null,null,null,null,null,null,null,null,null,null,null,null,null,null,null,null,null,null,null,null,null,null,null,null,null,null,null,null,null,null,null,null,null,null,null,null,null,null,null,null,null,null,null,null,null,null,null,null,null,null,null,null,null,null,null,null,null,null,null,null,null,null,null,null,null,null,null,null,null,null,null,null,null,null,null,null,null,null,null,null,null,null,null,null,null,null,null,null,null,null,null,null,null,null,null,null,null,null,null,null,null,null,null,null,null,null,null,null,null,null,null,null,null,null,null,null,null,null,null,null,null,null,null,null,null,null,null,null,null,null,null,null,null,null,null,null,null,null,null,null,null,null,null,null,null,null,null,null,null,null,null,null,null,null,null,null,null,null,null,null,null,null,null,null,null,null,null,null,null,null,null,null,null,null,null,null,null,null,null,null,null,null,null,null,null,null,null,null,null,null,null,null,null,null,null,null,null,null,null,null,null,null,null,null,null,null,null,null,null,null,null,null,null,null,null,null,null,null,null,null,null,null,null,null,null,null,null,null,null,null,null,null,null,null,null,null,null,null,null,null,null,null,null,null,null,null,null,null,null,null,null,null,null,null,null,null,null,null,null,null,null,null,null,null,null,null,null,null,null,null,null,null,null,null,null,null,null,null,null,null,null,null,null,null,null,null,null,null,null,null,null,null,null,null,null,null,null,null,null,null,null,null,null,null,null,null,null,null,null,null,null,null,null,null,null,null,null,null,null,null,null,null,null,null,null,null,null,null,null,null,null,null,null,null,null,null,null,null,null,null,null,null,null,null,null,null,null,null,null,null,null,null,null,null,null,null,null,null,null,null,null,null,null,null,null,null,null,null,null,null,null,null,null,null,null,null,null,null,null,null,null,null,null,null,null,null,null,null,null,null,null,null,null,null,null,null,null,null,null,null,null,null,null,null,null,null,null,null,null,null,null,null,null,null,null,null,null,null,null,null,null,null,null,null,null,null,null,null,null,null,null,null,null,null,null,null,null,null,null,null,null,null,null,null,null,null,null,null,null,null,null,null,null,null,null,null,null,null,null,null,null,null,null,null,null,null,null,null,null,null,null,null,null,null,null,null,null,null,null,null,null,null,null,null,null,null,null,null,null,null,null,null,null,null,null,null,null,null,null,null,null,null,null,null,null,null,null,null,null,null,null,null,null,null,null,null,null,null,null,null,null,null,null,null,null,null,null,null,null,null,null,null,null,null,null,null,null,null,null,null,null,null,null,null,null,null,null,null,null,null,null,null,null,null,null,null,null,null,null,null,null,null,null,null,null,null,null,null,null,null,null,null,null,null,null,null,null,null,null,null,null,null,null,null,null,null,null,null,null,null,null,null,null,null,null,null,null,null,null,null,null,null,null,null,null,null,null,null,null,null,null,null,null,null,null,null,null,null,null,null,null,null,null,null,null,null,null,null,null,null,null,null,null,null,null,null,null,null,null,null,null,null,null,null,null,null,null,null,null,null,null,null,null,null,null,null,null,null,null,null,null,null,null,null,null,null,null,null,null,null,null,null,null,null,null,null,null,null,null,null,null,null,null,null,null,null,null,null,null,null,null,null,null,null,null,null,null,null,null,null,null,null,null,null,null,null,null,null,null,null,null,null,null,null,null,null,null,null,null,null,null,null,null,null,null,null,null,null,null,null,null,null,null,null,null,null,null,null,null,null,null,null,null,null,null,null,null,null,null,null,null,null,null,null,null,null,null,null,null,null,null,null,null,null,null,null,null,null,null,null,null,null,null,null,null,null,null,null,null,null,null,null,null,null,null,null,null,null,null,null,null,null,null,null,null,null,null,null,null,null,null,null,null,null,null,null,null,null,null,null,null,null,null,null,null,null,null,null,null,null,null,null,null,null,null,null,null,null,null,null,null,null,null,null,null,null,null,null,null,null,null,null,null,null,null,null,null,null,null,null,null,null,null,null,null,null,null,null,null,null,null,null,null,null,null,null,null,null,null,null,null,null,null,null,null,null,null,null,null,null,null,null,null,null,null,null,null,null,null,null,null,null,null,null,null,null,null,null,null,null,null,null,null,null,null,null,null,null,null,null,null,null,null,null,null,null,null,null,null,null,null,null,null,null,null,null,null,null,null,null,null,null,null,null,null,null,null,null,null,null,null,null,null,null,null,null,null,null,null,null,null,null,null,null,null,null,null,null,null,null,null,null,null,null,null,null,null,null,null,null,null,null,null,null,null,null,null,null,null,null,null,null,null,null,null,null,null,null,null,null,null,null,null,null,null,null,null,null,null,null,null,null,null,null,null,null,null,null,null,null,null,null,null,null,null,null,null,null,null,null,null,null,null,null,null,null,null,null,null,null,null,null,null,null,null,null,null,null,null,null,null,null,null,null,null,null,null,null,null,null,null,null,null,null,null,null,null,null,null,null,null,null,null,null,null,null,null,null,null,null,null,null,null,null,null,null,null,null,null,null,null,null,null,null,null,null,null,null,null,null,null,null,null,null,null,null,null,null,null,null,null,null,null,null,null,null,null,null,null,null,null,null,null,null,null,null,null,null,null,null,null,null,null,null,null,null,null,null,null,null,null,null,null,null,null,null,null,null,null,null,null,null,null,null,null,null,null,null,null,null,null,null,null,null,null,null,null,null,null,null,null,null,null,null,null,null,null,null,null,null,null,null,null,null,null,null,null,null,null,null,null,null,null,null,null,null,null,null,null,null,null,null,null,null,null,null,null,null,null,null,null,null,null,null,null,null,null,null,null,null,null,null,null,null,null,null,null,null,null,null,null,null,null,null,null,null,null,null,null,null,null,null,null,null,null,null,null,null,null,null,null,null,null,null,null,null,null,null,null,null,null,null,null,null,null,null,null,null,null,null,null,null,null,null,null,null,null,null,null,null,null,null,null,null,null,null,null,null,null,null,null,null,null,null,null,null,null,null,null,null,null,null,null,null,null,null,null,null,null,null,null,null,null,null,null,null,null,null,null,null,null,null,null,null,null,null,null,null,null,null,null,null,null,null,null,null,null,null,null,null,null,null,null,null,null,null,null,null,null,null,null,null,null,null,null,null,null,null,null,null,null,null,null,null,null,null,null,null,null,null,null,null,null,null,null,null,null,null,null,null,null,null,null,null,null,null,null,null,null,null,null,null,null,null,null,null,null,null,null,null,null,null,null,null,null,null,null,null,null,null,null,null,null,null,null,null,null,null,null,null,null,null,null,null,null,null,null,null,null,null,null,null,null,null,null,null,null,null,null,null,null,null,null,null,null,null,null,null,null,null,null,null,null,null,null,null,null,null,null,null,null,null,null,null,null,null,null,null,null,null,null,null,null,null,null,null,null,null,null,null,null,null,null,null,null,null,null,null,null,null,null,null,null,null,null,null,null,null,null,null,null,null,null,null,null,null,null,null,null,null,null,null,null,null,null,null,null,null,null,null,null,null,null,null,null,null,null,null,null,null,null,null,null,null,null,null,null,null,null,null,null,null,null,null,null,null,null,null,null,null,null,null,null,null,null,null,null,null,null,null,null,null,null,null,null,null,null,null,null,null,null,null,null,null,null,null,null,null,null,null,null,null,null,null,null,null,null,null,null,null,null,null,null,null,null,null,null,null,null,null,null,null,null,null,null,null,null,null,null,null,null,null,null,null,null,null,null,null,null,null,null,null,null,null,null,null,null,null,null,null,null,null,null,null,null,null,null,null,null,null,null,null,null,null,null,null,null,null,null,null,null,null,null,null,null,null,null,null,null,null,null,null,null,null,null,null,null,null,null,null,null,null,null,null,null,null,null,null,null,null,null,null,null,null,null,null,null,null,null,null,null,null,null,null,null,null,null,null,null,null,null,null,null,null,null,null,null,null,null,null,null,null,null,null,null,null,null,null,null,null,null,null,null,null,null,null,null,null,null,null,null,null,null,null,null,null,null,null,null,null,null,null,null,null,null,null,null,null,null,null,null,null,null,null,null,null,null,null,null,null,null,null,null,null,null,null,null,null,null,null,null,null,null,null,null,null,null,null,null,null,null,null,null,null,null,null,null,null,null,null,null,null,null,null,null,null,null,null,null,null,null,null,null,null,null,null,null,null,null,null,null,null,null,null,null,null,null,null,null,null,null,null,null,null,null,null,null,null,null,null,null,null,null,null,null,null,null,null,null,null,null,null,null,null,null,null,null,null,null,null,null,null,null,null,null,null,null,null,null,null,null,null,null,null,null,null,null,null,null,null,null,null,null,null,null,null,null,null,null,null,null,null,null,null,null,null,null,null,null,null,null,null,null,null,null,null,null,null,null,null,null,null,null,null,null,null,null,null,null,null,null,null,null,null,null,null,null,null,null,null,null,null,null,null,null,null,null,null,null,null,null,null,null,null,null,null,null,null,null,null,null,null,null,null,null,null,null,null,null,null,null,null,null,null,null,null,null,null,null,null,null,null,null,null,null,null,null,null,null,null,null,null,null,null,null,null,null,null,null,null,null,null,null,null,null,null,null,null,null,null,null,null,null,null,null,null,null,null,null,null,null,null,null,null,null,null,null,null,null,null,null,null,null,null,null,null,null,null,null,null,null,null,null,null,null,null,null,null,null,null,null,null,null,null,null,null,null,null,null,null,null,null,null,null,null,null,null,null,null,null,null,null,null,null,null,null,null,null,null,null,null,null,null,null,null,null,null,null,null,null,null,null,null,null,null,null,null,null,null,null,null,null,null,null,null,null,null,null,null,null,null,null,null,null,null,null,null,null,null,null,null,null,null,null,null,null,null,null,null,null,null,null,null,null,null,null,null,null,null,null,null,null,null,null,null,null,null,null,null,null,null,null,null,null,null,null,null,null,null,null,null,null,null,null,null,null,null,null,null,null,null,null,null,null,null,null,null,null,null,null,null,null,null,null,null,null,null,null,null,null,null,null,null,null,null,null,null,null,null,null,null,null,null,null,null,null,null,null,null,null,null,null,null,null,null,null,null,null,null,null,null,null,null,null,null,null,null,null,null,null,null,null,null,null,null,null,null,null,null,null,null,null,null,null,null,null,null,null,null,null,null,null,null,null,null,null,null,null,null,null,null,null,null,null,null,null,null,null,null,null,null,null,null,null,null,null,null,null,null,null,null,null,null,null,null,null,null,null,null,null,null,null,null,null,null,null,null,null,null,null,null,null,null,null,null,null,null,null,null,null,null,null,null,null,null,null,null,null,null,null,null,null,null,null,null,null,null,null,null,null,null,null,null,null,null,null,null,null,null,null,null,null,null,null,null,null,null,null,null,null,null,null,null,null,null,null,null,null,null,null,null,null,null,null,null,null,null,null,null,null,null,null,null,null,null,null,null,null,null,null,null,null,null,null,null,null,null,null,null,null,null,null,null,null,null,null,null,null,null,null,null,null,null,null,null,null,null,null,null,null,null,null,null,null,null,null,null,null,null,null,null,null,null,null,null,null,null,null,null,null,null,null,null,null,null,null,null,null,null,null,null,null,null,null,null,null,null,null,null,null,null,null,null,null,null,null,null,null,null,null,null,null,null,null,null,null,null,null,null,null,null,null,null,null,null,null,null,null,null,null,null,null,null,null,null,null,null,null,null,null,null,null,null,null,null,null,null,null,null,null,null,null,null,null,null,null,null,null,null,null,null,null,null,null,null,null,null,null,null,null,null,null,null,null,null,null,null,null,null,null,null,null,null,null,null,null,null,null,null,null,null,null,null,null,null,null,null,null,null,null,null,null,null,null,null,null,null,null,null,null,null,null,null,null,null,null,null,null,null,null,null,null,null,null,null,null,null,null,null,null,null,null,null,null,null,null,null,null,null,null,null,null,null,null,null,null,null,null,null,null,null,null,null,null,null,null,null,null,null,null,null,null,null,null,null,null,null,null,null,null,null,null,null,null,null,null,null,null,null,null,null,null,null,null,null,null,null,null,null,null,null,null,null,null,null,null,null,null,null,null,null,null,null,null,null,null,null,null,null,null,null,null,null,null,null,null,null,null,null,null,null,null,null,null,null,null,null,null,null,null,null,null,null,null,null,null,null,null,null,null,null,null,null,null,null,null,null,null,null,null,null,null,null,null,null,null,null,null,null,null,null,null,null,null,null,null,null,null,null,null,null,null,null,null,null,null,null,null,null,null,null,null,null,null,null,null,null,null,null,null,null,null,null,null,null,null,null,null,null,null,null,null,null,null,null,null,null,null,null,null,null,null,null,null,null,null,null,null,null,null,null,null,null,null,null,null,null,null,null,null,null,null,null,null,null,null,null,null,null,null,null,null,null,null,null,null,null,null,null,null,null,null,null,null,null,null,null,null,null,null,null,null,null,null,null,null,null,null,null,null,null,null,null,null,null,null,null,null,null,null,null,null,null,null,null,null,null,null,null,null,null,null,null,null,null,null,null,null,null,null,null,null,null,null,null,null,null,null,null,null,null,null,null,null,null,null,null,null,null,null,null,null,null,null,null,null,null,null,null,null,null,null,null,null,null,null,null,null,null,null,null,null,null,null,null,null,null,null,null,null,null,null,null,null,null,null,null,null,null,null,null,null,null,null,null,null,null,null,null,null,null,null,null,null,null,null,null,null,null,null,null,null,null,null,null,null,null,null,null,null,null,null,null,null,null,null,null,null,null,null,null,null,null,null,null,null,null,null,null,null,null,null,null,null,null,null,null,null,null,null,null,null,null,null,null,null,null,null,null,null,null,null,null,null,null,null,null,null,null,null,null,null,null,null,null,null,null,null,null,null,null,null,null,null,null,null,null,null,null,null,null,null,null,null,null,null,null,null,null,null,null,null,null,null,null,null,null,null,null,null,null,null,null,null,null,null,null,null,null,null,null,null,null,null,null,null,null,null,null,null,null,null,null,null,null,null,null,null,null,null,null,null,null,null,null,null,null,null,null,null,null,null,null,null,null,null,null,null,null,null,null,null,null,null,null,null,null,null,null,null,null,null,null,null,null,null,null,null,null,null,null,null,null,null,null,null,null,null,null,null,null,null,null,null,null,null,null,null,null,null,null,null,null,null,null,null,null,null,null,null,null,null,null,null,null,null,null,null,null,null,null,null,null,null,null,null,null,null,null,null,null,null,null,null,null,null,null,null,null,null,null,null,null,null,null,null,null,null,null,null,null,null,null,null,null,null,null,null,null,null,null,null,null,null,null,null,null,null,null,null,null,null,null,null,null,null,null,null,null,null,null,null,null,null,null,null,null,null,null,null,null,null,null,null,null,null,null,null,null,null,null,null,null,null,null,null,null,null,null,null,null,null,null,null,null,null,null,null,null,null,null,null,null,null,null,null,null,null,null,null,null,null,null,null,null,null,null,null,null,null,null,null,null,null,null,null,null,null,null,null,null,null,null,null,null,null,null,null,null,null,null,null,null,null,null,null,null,null,null,null,null,null,null,null,null,null,null,null,null,null,null,null,null,null,null,null,null,null,null,null,null,null,null,null,null,null,null,null,null,null,null,null,null,null,null,null,null,null,null,null,null,null,null,null,null,null,null,null,null,null,null,null,null,null,null,null,null,null,null,null,null,null,null,null,null,null,null,null,null,null,null,null,null,null,null,null,null,null,null,null,null,null,null,null,null,null,null,null,null,null,null,null,null,null,null,null,null,null,null,null,null,null,null,null,null,null,null,null,null,null,null,null,null,null,null,null,null,null,null,null,null,null,null,null,null,null,null,null,null,null,null,null,null,null,null,null,null,null,null,null,null,null,null,null,null,null,null,null,null,null,null,null,null,null,null,null,null,null,null,null,null,null,null,null,null,null,null,null,null,null,null,null,null,null,null,null,null,null,null,null,null,null,null,null,null,null,null,null,null,null,null,null,null,null,null,null,null,null,null,null,null,null,null,null,null,null,null,null,null,null,null,null,null,null,null,null,null,null,null,null,null,null,null,null,null,null,null,null,null,null,null,null,null,null,null,null,null,null,null,null,null,null,null,null,null,null,null,null,null,null,null,null,null,null,null,null,null,null,null,null,null,null,null,null,null,null,null,null,null,null,null,null,null,null,null,null,null,null,null,null,null,null,null,null,null,null,null,null,null,null,null,null,null,null,null,null,null,null,null,null,null,null,null,null,null,null,null,null,null,null,null,null,null,null,null,null,null,null,null,null,null,null,null,null,null,null,null,null,null,null,null,null,null,null,null,null,null,null,null,null,null,null,null,null,null,null,null,null,null,null,null,null,null,null,null,null,null,null,null,null,null,null,null,null,null,null,null,null,null,null,null,null,null,null,null,null,null,null,null,null,null,null,null,null,null,null,null,null,null,null,null,null,null,null,null,null,null,null,null,null,null,null,null,null,null,null,null,null,null,null,null,null,null,null,null,null,null,null,null,null,null,null,null,null,null,null,null,null,null,null,null,null,null,null,null,null,null,null,null,null,null,null,null,null,null,null,null,null,null,null,null,null,null,null,null,null,null,null,null,null,null,null,null,null,null,null,null,null,null,null,null,null,null,null,null,null,null,null,null,null,null,null,null,null,null,null,null,null,null,null,null,null,null,null,null,null,null,null,null,null,null,null,null,null,null,null,null,null,null,null,null,null,null,null,null,null,null,null,null,null,null,null,null,null,null,null,null,null,null,null,null,null,null,null,null,null,null,null,null,null,null,null,null,null,null,null,null,null,null,null,null,null,null,null,null,null,null,null,null,null,null,null,null,null,null,null,null,null,null,null,null,null,null,null,null,null,null,null,null,null,null,null,null,null,null,null,null,null,null,null,null,null,null,null,null,null,null,null,null,null,null,null,null,null,null,null,null,null,null,null,null,null,null,null,null,null,null,null,null,null,null,null,null,null,null,null,null,null,null,null,null,null,null,null,null,null,null,null,null,null,null,null,null,null,null,null,null,null,null,null,null,null,null,null,null,null,null,null,null,null,null,null,null,null,null,null,null,null,null,null,null,null,null,null,null,null,null,null,null,null,null,null,null,null,null,null,null,null,null,null,null,null,null,null,null,null,null,null,null,null,null,null,null,null,null,null,null,null,null,null,null,null,null,null,null,null,null,null,null,null,null,null,null,null,null,null,null,null,null,null,null,null,null,null,null,null,null,null,null,null,null,null,null,null,null,null,null,null,null,null,null,null,null,null,null,null,null,null,null,null,null,null,null,null,null,null,null,null,null,null,null,null,null,null,null,null,null,null,null,null,null,null,null,null,null,null,null,null,null,null,null,null,null,null,null,null,null,null,null,null,null,null,null,null,null,null,null,null,null,null,null,null,null,null,null,null,null,null,null,null,null,null,null,null,null,null,null,null,null,null,null,null,null,null,null,null,null,null,null,null,null,null,null,null,null,null,null,null,null,null,null,null,null,null,null,null,null,null,null,null,null,null,null,null,null,null,null,null,null,null,null,null,null,null,null,null,null,null,null,null,null,null,null,null,null,null,null,null,null,null,null,null,null,null,null,null,null,null,null,null,null,null,null,null,null,null,null,null,null,null,null,null,null,null,null,null,null,null,null,null,null,null,null,null,null,null,null,null,null,null,null,null,null,null,null,null,null,null,null,null,null,null,null,null,null,null,null,null,null,null,null,null,null,null,null,null,null,null,null,null,null,null,null,null,null,null,null,null,null,null,null,null,null,null,null,null,null,null,null,null,null,null,null,null,null,null,null,null,null,null,null,null,null,null,null,null,null,null,null,null,null,null,null,null,null,null,null,null,null,null,null,null,null,null,null,null,null,null,null,null,null,null,null,null,null,null,null,null,null,null,null,null,null,null,null,null,null,null,null,null,null,null,null,null,null,null,null,null,null,null,null,null,null,null,null,null,null,null,null,null,null,null,null,null,null,null,null,null,null,null,null,null,null,null,null,null,null,null,null,null,null,null,null,null,null,null,null,null,null,null,null,null,null,null,null,null,null,null,null,null,null,null,null,null,null,null,null,null,null,null,null,null,null,null,null,null,null,null,null,null,null,null,null,null,null,null,null,null,null,null,null,null,null,null,null,null,null,null,null,null,null,null,null,null,null,null,null,null,null,null,null,null,null,null,null,null,null,null,null,null,null,null,null,null,null,null,null,null,null,null,null,null,null,null,null,null,null,null,null,null,null,null,null,null,null,null,null,null,null,null,null,null,null,null,null,null,null,null,null,null,null,null,null,null,null,null,null,null,null,null,null,null,null,null,null,null,null,null,null,null,null,null,null,null,null,null,null,null,null,null,null,null,null,null,null,null,null,null,null,null,null,null,null,null,null,null,null,null,null,null,null,null,null,null,null,null,null,null,null,null,null,null,null,null,null,null,null,null,null,null,null,null,null,null,null,null,null,null,null,null,null,null,null,null,null,null,null,null,null,null,null,null,null,null,null,null,null,null,null,null,null,null,null,null,null,null,null,null,null,null,null,null,null,null,null,null,null,null,null,null,null,null,null,null,null,null,null,null,null,null,null,null,null,null,null,null,null,null,null,null,null,null,null,null,null,null,null,null,null,null,null,null,null,null,null,null,null,null,null,null,null,null,null,null,null,null,null,null,null,null,null,null,null,null,null,null,null,null,null,null,null,null,null,null,null,null,null,null,null,null,null,null,null,null,null,null,null,null,null,null,null,null,null,null,null,null,null,null,null,null,null,null,null,null,null,null,null,null,null,null,null,null,null,null,null,null,null,null,null,null,null,null,null,null,null,null,null,null,null,null,null,null,null,null,null,null,null,null,null,null,null,null,null,null,null,null,null,null,null,null,null,null,null,null,null,null,null,null,null,null,null,null,null,null,null,null,null,null,null,null,null,null,null,null,null,null,null,null,null,null,null,null,null,null,null,null,null,null,null,null,null,null,null,null,null,null,null,null,null,null,null,null,null,null,null,null,null,null,null,null,null,null,null,null,null,null,null,null,null,null,null,null,null,null,null,null,null,null,null,null,null,null,null,null,null,null,null,null,null,null,null,null,null,null,null,null,null,null,null,null,null,null,null,null,null,null,null,null,null,null,null,null,null,null,null,null,null,null,null,null,null,null,null,null,null,null,null,null,null,null,null,null,null,null,null,null,null,null,null,null,null,null,null,null,null,null,null,null,null,null,null,null,null,null,null,null,null,null,null,null,null,null,null,null,null,null,null,null,null,null,null,null,null,null,null,null,null,null,null,null,null,null,null,null,null,null,null,null,null,null,null,null,null,null,null,null,null,null,null,null,null,null,null,null,null,null,null,null,null,null,null,null,null,null,null,null,null,null,null,null,null,null,null,null,null,null,null,null,null,null,null,null,null,null,null,null,null,null,null,null,null,null,null,null,null,null,null,null,null,null,null,null,null,null,null,null,null,null,null,null,null,null,null,null,null,null,null,null,null,null,null,null,null,null,null,null,null,null,null,null,null,null,null,null,null,null,null,null,null,null,null,null,null,null,null,null,null,null,null,null,null,null,null,null,null,null,null,null,null,null,null,null,null,null,null,null,null,null,null,null,null,null,null,null,null,null,null,null,null,null,null,null,null,null,null,null,null,null,null,null,null,null,null,null,null,null,null,null,null,null,null,null,null,null,null,null,null,null,null,null,null,null,null,null,null,null,null,null,null,null,null,null,null,null,null,null,null,null,null,null,null,null,null,null,null,null,null,null,null,null,null,null,null,null,null,null,null,null,null,null,null,null,null,null,null,null,null,null,null,null,null,null,null,null,null,null,null,null,null,null,null,null,null,null,null,null,null,null,null,null,null,null,null,null,null,null,null,null,null,null,null,null,null,null,null,null,null,null,null,null,null,null,null,null,null,null,null,null,null,null,null,null,null,null,null,null,null,null,null,null,null,null,null,null,null,null,null,null,null,null,null,null,null,null,null,null,null,null,null,null,null,null,null,null,null,null,null,null,null,null,null,null,null,null,null,null,null,null,null,null,null,null,null,null,null,null,null,null,null,null,null,null,null,null,null,null,null,null,null,null,null,null,null,null,null,null,null,null,null,null,null,null,null,null,null,null,null,null,null,null,null,null,null,null,null,null,null,null,null,null,null,null,null,null,null,null,null,null,null,null,null,null,null,null,null,null,null,null,null,null,null,null,null,null,null,null,null,null,null,null,null,null,null,null,null,null,null,null,null,null,null,null,null,null,null,null,null,null,null,null,null,null,null,null,null,null,null,null,null,null,null,null,null,null,null,null,null,null,null,null,null,null,null,null,null,null,null,null,null,null,null,null,null,null,null,null,null,null,null,null,null,null,null,null,null,null,null,null,null,null,null,null,null,null,null,null,null,null,null,null,null,null,null,null,null,null,null,null,null,null,null,null,null,null,null,null,null,null,null,null,null,null,null,null,null,null,null,null,null,null,null,null,null,null,null,null,null,null,null,null,null,null,null,null,null,null,null,null,null,null,null,null,null,null,null,null,null,null,null,null,null,null,null,null,null,null,null,null,null,null,null,null,null,null,null,null,null,null,null,null,null,null,null,null,null,null,null,null,null,null,null,null,null,null,null,null,null,null,null,null,null,null,null,null,null,null,null,null,null,null,null,null,null,null,null,null,null,null,null,null,null,null,null,null,null,null,null,null,null,null,null,null,null,null,null,null,null,null,null,null,null,null,null,null,null,null,null,null,null,null,null,null,null,null,null,null,null,null,null,null,null,null,null,null,null,null,null,null,null,null,null,null,null,null,null,null,null,null,null,null,null,null,null,null,null,null,null,null,null,null,null,null,null,null,null,null,null,null,null,null,null,null,null,null,null,null,null,null,null,null,null,null,null,null,null,null,null,null,null,null,null,null,null,null,null,null,null,null,null,null,null,null,null,null,null,null,null,null,null,null,null,null,null,null,null,null,null,null,null,null,null,null,null,null,null,null,null,null,null,null,null,null,null,null,null,null,null,null,null,null,null,null,null,null,null,null,null,null,null,null,null,null,null,null,null,null,null,null,null,null,null,null,null,null,null,null,null,null,null,null,null,null,null,null,null,null,null,null,null,null,null,null,null,null,null,null,null,null,null,null,null,null,null,null,null,null,null,null,null,null,null,null,null,null,null,null,null,null,null,null,null,null,null,null,null,null,null,null,null,null,null,null,null,null,null,null,null,null,null,null,null,null,null,null,null,null,null,null,null,null,null,null,null,null,null,null,null,null,null,null,null,null,null,null,null,null,null,null,null,null,null,null,null,null,null,null,null,null,null,null,null,null,null,null,null,null,null,null,null,null,null,null,null,null,null,null,null,null,null,null,null,null,null,null,null,null,null,null,null,null,null,null,null,null,null,null,null,null,null,null,null,null,null,null,null,null,null,null,null,null,null,null,null,null,null,null,null,null,null,null,null,null,null,null,null,null,null,null,null,null,null,null,null,null,null,null,null,null,null,null,null,null,null,null,null,null,null,null,null,null,null,null,null,null,null,null,null,null,null,null,null,null,null,null,null,null,null,null,null,null,null,null,null,null,null,null,null,null,null,null,null,null,null,null,null,null,null,null,null,null,null,null,null,null,null,null,null,null,null,null,null,null,null,null,null,null,null,null,null,null,null,null,null,null,null,null,null,null,null,null,null,null,null,null,null,null,null,null,null,null,null,null,null,null,null,null,null,null,null,null,null,null,null,null,null,null,null,null,null,null,null,null,null,null,null,null,null,null,null,null,null,null,null,null,null,null,null,null,null,null,null,null,null,null,null,null,null,null,null,null,null,null,null,null,null,null,null,null,null,null,null,null,null,null,null,null,null,null,null,null,null,null,null,null,null,null,null,null,null,null,null,null,null,null,null,null,null,null,null,null,null,null,null,null,null,null,null,null,null,null,null,null,null,null,null,null,null,null,null,null,null,null,null,null,null,null,null,null,null,null,null,null,null,null,null,null,null,null,null,null,null,null,null,null,null,null,null,null,null,null,null,null,null,null,null,null,null,null,null,null,null,null,null,null,null,null,null,null,null,null,null,null,null,null,null,null,null,null,null,null,null,null,null,null,null,null,null,null,null,null,null,null,null,null,null,null,null,null,null,null,null,null,null,null,null,null,null,null,null,null,null,null,null,null,null,null,null,null,null,null,null,null,null,null,null,null,null,null,null,null,null,null,null,null,null,null,null,null,null,null,null,null,null,null,null,null,null,null,null,null,null,null,null,null,null,null,null,null,null,null,null,null,null,null,null,null,null,null,null,null,null,null,null,null,null,null,null,null,null,null,null,null,null,null,null,null,null,null,null,null,null,null,null,null,null,null,null,null,null,null,null,null,null,null,null,null,null,null,null,null,null,null,null,null,null,null,null,null,null,null,null,null,null,null,null,null,null,null,null,null,null,null,null,null,null,null,null,null,null,null,null,null,null,null,null,null,null,null,null,null,null,null,null,null,null,null,null,null,null,null,null,null,null,null,null,null,null,null,null,null,null,null,null,null,null,null,null,null,null,null,null,null,null,null,null,null,null,null,null,null,null,null,null,null,null,null,null,null,null,null,null,null,null,null,null,null,null,null,null,null,null,null,null,null,null,null,null,null,null,null,null,null,null,null,null,null,null,null,null,null,null,null,null,null,null,null,null,null,null,null,null,null,null,null,null,null,null,null,null,null,null,null,null,null,null,null,null,null,null,null,null,null,null,null,null,null,null,null,null,null,null,null,null,null,null,null,null,null,null,null,null,null,null,null,null,null,null,null,null,null,null,null,null,null,null,null,null,null,null,null,null,null,null,null,null,null,null,null,null,null,null,null,null,null,null,null,null,null,null,null,null,null,null,null,null,null,null,null,null,null,null,null,null,null,null,null,null,null,null,null,null,null,null,null,null,null,null,null,null,null,null,null,null,null,null,null,null,null,null,null,null,null,null,null,null,null,null,null,null,null,null,null,null,null,null,null,null,null,null,null,null,null,null,null,null,null,null,null,null,null,null,null,null,null,null,null,null,null,null,null,null,null,null,null,null,null,null,null,null,null,null,null,null,null,null,null,null,null,null,null,null,null,null,null,null,null,null,null,null,null,null,null,null,null,null,null,null,null,null,null,null,null,null,null,null,null,null,null,null,null,null,null,null,null,null,null,null,null,null,null,null,null,null,null,null,null,null,null,null,null,null,null,null,null,null,null,null,null,null,null,null,null,null,null,null,null,null,null,null,null,null,null,null,null,null,null,null,null,null,null,null,null,null,null,null,null,null,null,null,null,null,null,null,null,null,null,null,null,null,null,null,null,null,null,null,null,null,null,null,null,null,null,null,null,null,null,null,null,null,null,null,null,null,null,null,null,null,null,null,null,null,null,null,null,null,null,null,null,null,null,null,null,null,null,null,null,null,null,null,null,null,null,null,null,null,null,null,null,null,null,null,null,null,null,null,null,null,null,null,null,null,null,null,null,null,null,null,null,null,null,null,null,null,null,null,null,null,null,null,null,null,null,null,null,null,null,null,null,null,null,null,null,null,null,null,null,null,null,null,null,null,null,null,null,null,null,null,null,null,null,null,null,null,null,null,null,null,null,null,null,null,null,null,null,null,null,null,null,null,null,null,null,null,null,null,null,null,null,null,null,null,null,null,null,null,null,null,null,null,null,null,null,null,null,null,null,null,null,null,null,null,null,null,null,null,null,null,null,null,null,null,null,null,null,null,null,null,null,null,null,null,null,null,null,null,null,null,null,null,null,null,null,null,null,null,null,null,null,null,null,null,null,null,null,null,null,null,null,null,null,null,null,null,null,null,null,null,null,null,null,null,null,null,null,null,null,null,null,null,null,null,null,null,null,null,null,null,null,null,null,null,null,null,null,null,null,null,null,null,null,null,null,null,null,null,null,null,null,null,null,null,null,null,null,null,null,null,null,null,null,null,null,null,null,null,null,null,null,null,null,null,null,null,null,null,null,null,null,null,null,null,null,null,null,null,null,null,null,null,null,null,null,null,null,null,null,null,null,null,null,null,null,null,null,null,null,null,null,null,null,null,null,null,null,null,null,null,null,null,null,null,null,null,null,null,null,null,null,null,null,null,null,null,null,null,null,null,null,null,null,null,null,null,null,null,null,null,null,null,null,null,null,null,null,null,null,null,null,null,null,null,null,null,null,null,null,null,null,null,null,null,null,null,null,null,null,null,null,null,null,null,null,null,null,null,null,null,null,null,null,null,null,null,null,null,null,null,null,null,null,null,null,null,null,null,null,null,null,null,null,null,null,null,null,null,null,null,null,null,null,null,null,null,null,null,null,null,null,null,null,null,null,null,null,null,null,null,null,null,null,null,null,null,null,null,null,null,null,null,null,null,null,null,null,null,null,null,null,null,null,null,null,null,null,null,null,null,null,null,null,null,null,null,null,null,null,null,null,null,null,null,null,null,null,null,null,null,null,null,null,null,null,null,null,null,null,null,null,null,null,null,null,null,null,null,null,null,null,null,null,null,null,null,null,null,null,null,null,null,null,null,null,null,null,null,null,null,null,null,null,null,null,null,null,null,null,null,null,null,null,null,null,null,null,null,null,null,null,null,null,null,null,null,null,null,null,null,null,null,null,null,null,null,null,null,null,null,null,null,null,null,null,null,null,null,null,null,null,null,null,null,null,null,null,null,null,null,null,null,null,null,null,null,null,null,null,null,null,null,null,null,null,null,null,null,null,null,null,null,null,null,null,null,null,null,null,null,null,null,null,null,null,null,null,null,null,null,null,null,null,null,null,null,null,null,null,null,null,null,null,null,null,null,null,null,null,null,null,null,null,null,null,null,null,null,null,null,null,null,null,null,null,null,null,null,null,null,null,null,null,null,null,null,null,null,null,null,null,null,null,null,null,null,null,null,null,null,null,null,null,null,null,null,null,null,null,null,null,null,null,null,null,null,null,null,null,null,null,null,null,null,null,null,null,null,null,null,null,null,null,null,null,null,null,null,null,null,null,null,null,null,null,null,null,null,null,null,null,null,null,null,null,null,null,null,null,null,null,null,null,null,null,null,null,null,null,null,null,null,null,null,null,null,null,null,null,null,null,null,null,null,null,null,null,null,null,null,null,null,null,null,null,null,null,null,null,null,null,null,null,null,null,null,null,null,null,null,null,null,null,null,null,null,null,null,null,null,null,null,null,null,null,null,null,null,null,null,null,null,null,null,null,null,null,null,null,null,null,null,null,null,null,null,null,null,null,null,null,null,null,null,null,null,null,null,null,null,null,null,null,null,null,null,null,null,null,null,null,null,null,null,null,null,null,null,null,null,null,null,null,null,null,null,null,null,null,null,null,null,null,null,null,null,null,null,null,null,null,null,null,null,null,null,null,null,null,null,null,null,null,null,null,null,null,null,null,null,null,null,null,null,null,null,null,null,null,null,null,null,null,null,null,null,null,null,null,null,null,null,null,null,null,null,null,null,null,null,null,null,null,null,null,null,null,null,null,null,null,null,null,null,null,null,null,null,null,null,null,null,null,null,null,null,null,null,null,null,null,null,null,null,null,null,null,null,null,null,null,null,null,null,null,null,null,null,null,null,null,null,null,null,null,null,null,null,null,null,null,null,null,null,null,null,null,null,null,null,null,null,null,null,null,null,null,null,null,null,null,null,null,null,null,null,null,null,null,null,null,null,null,null,null,null,null,null,null,null,null,null,null,null,null,null,null,null,null,null,null,null,null,null,null,null,null,null,null,null,null,null,null,null,null,null,null,null,null,null,null,null,null,null,null,null,null,null,null,null,null,null,null,null,null,null,null,null,null,null,null,null,null,null,null,null,null,null,null,null,null,null,null,null,null,null,null,null,null,null,null,null,null,null,null,null,null,null,null,null,null,null,null,null,null,null,null,null,null,null,null,null,null,null,null,null,null,null,null,null,null,null,null,null,null,null,null,null,null,null,null,null,null,null,null,null,null,null,null,null,null,null,null,null,null,null,null,null,null,null,null,null,null,null,null,null,null,null,null,null,null,null,null,null,null,null,null,null,null,null,null,null,null,null,null,null,null,null,null,null,null,null,null,null,null,null,null,null,null,null,null,null,null,null,null,null,null,null,null,null,null,null,null,null,null,null,null,null,null,null,null,null,null,null,null,null,null,null,null,null,null,null,null,null,null,null,null,null,null,null,null,null,null,null,null,null,null,null,null,null,null,null,null,null,null,null,null,null,null,null,null,null,null,null,null,null,null,null,null,null,null,null,null,null,null,null,null,null,null,null,null,null,null,null,null,null,null,null,null,null,null,null,null,null,null,null,null,null,null,null,null,null,null,null,null,null,null,null,null,null,null,null,null,null,null,null,null,null,null,null,null,null,null,null,null,null,null,null,null,null,null,null,null,null,null,null,null,null,null,null,null,null,null,null,null,null,null,null,null,null,null,null,null,null,null,null,null,null,null,null,null,null,null,null,null,null,null,null,null,null,null,null,null,null,null,null,null,null,null,null,null,null,null,null,null,null,null,null,null,null,null,null,null,null,null,null,null,null,null,null,null,null,null,null,null,null,null,null,null,null,null,null,null,null,null,null,null,null,null,null,null,null,null,null,null,null,null,null,null,null,null,null,null,null,null,null,null,null,null,null,null,null,null,null,null,null,null,null,null,null,null,null,null,null,null,null,null,null,null,null,null,null,null,null,null,null,null,null,null,null,null,null,null,null,null,null,null,null,null,null,null,null,null,null,null,null,null,null,null,null,null,null,null,null,null,null,null,null,null,null,null,null,null,null,null,null,null,null,null,null,null,null,null,null,null,null,null,null,null,null,null,null,null,null,null,null,null,null,null,null,null,null,null,null,null,null,null,null,null,null,null,null,null,null,null,null,null,null,null,null,null,null,null,null,null,null,null,null,null,null,null,null,null,null,null,null,null,null,null,null,null,null,null,null,null,null,null,null,null,null,null,null,null,null,null,null,null,null,null,null,null,null,null,null,null,null,null,null,null,null,null,null,null,null,null,null,null,null,null,null,null,null,null,null,null,null,null,null,null,null,null,null,null,null,null,null,null,null,null,null,null,null,null,null,null,null,null,null,null,null,null,null,null,null,null,null,null,null,null,null,null,null,null,null,null,null,null,null,null,null,null,null,null,null,null,null,null,null,null,null,null,null,null,null,null,null,null,null,null,null,null,null,null,null,null,null,null,null,null,null,null,null,null,null,null,null,null,null,null,null,null,null,null,null,null,null,null,null,null,null,null,null,null,null,null,null,null,null,null,null,null,null,null,null,null,null,null,null,null,null,null,null,null,null,null,null,null,null,null,null,null,null,null,null,null,null,null,null,null,null,null,null,null,null,null,null,null,null,null,null,null,null,null,null,null,null,null,null,null,null,null,null,null,null,null,null,null,null,null,null,null,null,null,null,null,null,null,null,null,null,null,null,null,null,null,null,null,null,null,null,null,null,null,null,null,null,null,null,null,null,null,null,null,null,null,null,null,null,null,null,null,null,null,null,null,null,null,null,null,null,null,null,null,null,null,null,null,null,null,null,null,null,null,null,null,null,null,null,null,null,null,null,null,null,null,null,null,null,null,null,null,null,null,null,null,null,null,null,null,null,null,null,null,null,null,null,null,null,null,null,null,null,null,null,null,null,null,null,null,null,null,null,null,null,null,null,null,null,null,null,null,null,null,null,null,null,null,null,null,null,null,null,null,null,null,null,null,null,null,null,null,null,null,null,null,null,null,null,null,null,null,null,null,null,null,null,null,null,null,null,null,null,null,null,null,null,null,null,null,null,null,null,null,null,null,null,null,null,null,null,null,null,null,null,null,null,null,null,null,null,null,null,null,null,null,null,null,null,null,null,null,null,null,null,null,null,null,null,null,null,null,null,null,null,null,null,null,null,null,null,null,null,null,null,null,null,null,null,null,null,null,null,null,null,null,null,null,null,null,null,null,null,null,null,null,null,null,null,null,null,null,null,null,null,null,null,null,null,null,null,null,null,null,null,null,null,null,null,null,null,null,null,null,null,null,null,null,null,null,null,null,null,null,null,null,null,null,null,null,null,null,null,null,null,null,null,null,null,null,null,null,null,null,null,null,null,null,null,null,null,null,null,null,null,null,null,null,null,null,null,null,null,null,null,null,null,null,null,null,null,null,null,null,null,null,null,null,null,null,null,null,null,null,null,null,null,null,null,null,null,null,null,null,null,null,"Devolvida sem pgto","Comum"]
[null,"SIM",null,null,null,null,null,null,null,null,null,null,null,null,null,null,null,null,null,null,null,null,null,null,null,null,null,null,null,null,null,null,null,null,null,null,null,null,null,null,null,null,null,null,null,null,null,null,null,null,null,null,null,null,null,null,null,null,null,null,null,null,null,null,null,null,null,null,null,null,null,null,null,null,null,null,null,null,null,null,null,null,null,null,null,null,null,null,null,null,null,null,null,null,null,null,null,null,null,null,null,null,null,null,null,null,null,null,null,null,null,null,null,null,null,null,null,null,null,null,null,null,null,null,null,null,null,null,null,null,null,null,null,null,null,null,null,null,null,null,null,null,null,null,null,null,null,null,null,null,null,null,null,null,null,null,null,null,null,null,null,null,null,null,null,null,null,null,null,null,null,null,null,null,null,null,null,null,null,null,null,null,null,null,null,null,null,null,null,null,null,null,null,null,null,null,null,null,null,null,null,null,null,null,null,null,null,null,null,null,null,null,null,null,null,null,null,null,null,null,null,null,null,null,null,null,null,null,null,null,null,null,null,null,null,null,null,null,null,null,null,null,null,null,null,null,null,null,null,null,null,null,null,null,null,null,null,null,null,null,null,null,null,null,null,null,null,null,null,null,null,null,null,null,null,null,null,null,null,null,null,null,null,null,null,null,null,null,null,null,null,null,null,null,null,null,null,null,null,null,null,null,null,null,null,null,null,null,null,null,null,null,null,null,null,null,null,null,null,null,null,null,null,null,null,null,null,null,null,null,null,null,null,null,null,null,null,null,null,null,null,null,null,null,null,null,null,null,null,null,null,null,null,null,null,null,null,null,null,null,null,null,null,null,null,null,null,null,null,null,null,null,null,null,null,null,null,null,null,null,null,null,null,null,null,null,null,null,null,null,null,null,null,null,null,null,null,null,null,null,null,null,null,null,null,null,null,null,null,null,null,null,null,null,null,null,null,null,null,null,null,null,null,null,null,null,null,null,null,null,null,null,null,null,null,null,null,null,null,null,null,null,null,null,null,null,null,null,null,null,null,null,null,null,null,null,null,null,null,null,null,null,null,null,null,null,null,null,null,null,null,null,null,null,null,null,null,null,null,null,null,null,null,null,null,null,null,null,null,null,null,null,null,null,null,null,null,null,null,null,null,null,null,null,null,null,null,null,null,null,null,null,null,null,null,null,null,null,null,null,null,null,null,null,null,null,null,null,null,null,null,null,null,null,null,null,null,null,null,null,null,null,null,null,null,null,null,null,null,null,null,null,null,null,null,null,null,null,null,null,null,null,null,null,null,null,null,null,null,null,null,null,null,null,null,null,null,null,null,null,null,null,null,null,null,null,null,null,null,null,null,null,null,null,null,null,null,null,null,null,null,null,null,null,null,null,null,null,null,null,null,null,null,null,null,null,null,null,null,null,null,null,null,null,null,null,null,null,null,null,null,null,null,null,null,null,null,null,null,null,null,null,null,null,null,null,null,null,null,null,null,null,null,null,null,null,null,null,null,null,null,null,null,null,null,null,null,null,null,null,null,null,null,null,null,null,null,null,null,null,null,null,null,null,null,null,null,null,null,null,null,null,null,null,null,null,null,null,null,null,null,null,null,null,null,null,null,null,null,null,null,null,null,null,null,null,null,null,null,null,null,null,null,null,null,null,null,null,null,null,null,null,null,null,null,null,null,null,null,null,null,null,null,null,null,null,null,null,null,null,null,null,null,null,null,null,null,null,null,null,null,null,null,null,null,null,null,null,null,null,null,null,null,null,null,null,null,null,null,null,null,null,null,null,null,null,null,null,null,null,null,null,null,null,null,null,null,null,null,null,null,null,null,null,null,null,null,null,null,null,null,null,null,null,null,null,null,null,null,null,null,null,null,null,null,null,null,null,null,null,null,null,null,null,null,null,null,null,null,null,null,null,null,null,null,null,null,null,null,null,null,null,null,null,null,null,null,null,null,null,null,null,null,null,null,null,null,null,null,null,null,null,null,null,null,null,null,null,null,null,null,null,null,null,null,null,null,null,null,null,null,null,null,null,null,null,null,null,null,null,null,null,null,null,null,null,null,null,null,null,null,null,null,null,null,null,null,null,null,null,null,null,null,null,null,null,null,null,null,null,null,null,null,null,null,null,null,null,null,null,null,null,null,null,null,null,null,null,null,null,null,null,null,null,null,null,null,null,null,null,null,null,null,null,null,null,null,null,null,null,null,null,null,null,null,null,null,null,null,null,null,null,null,null,null,null,null,null,null,null,null,null,null,null,null,null,null,null,null,null,null,null,null,null,null,null,null,null,null,null,null,null,null,null,null,null,null,null,null,null,null,null,null,null,null,null,null,null,null,null,null,null,null,null,null,null,null,null,null,null,null,null,null,null,null,null,null,null,null,null,null,null,null,null,null,null,null,null,null,null,null,null,null,null,null,null,null,null,null,null,null,null,null,null,null,null,null,null,null,null,null,null,null,null,null,null,null,null,null,null,null,null,null,null,null,null,null,null,null,null,null,null,null,null,null,null,null,null,null,null,null,null,null,null,null,null,null,null,null,null,null,null,null,null,null,null,null,null,null,null,null,null,null,null,null,null,null,null,null,null,null,null,null,null,null,null,null,null,null,null,null,null,null,null,null,null,null,null,null,null,null,null,null,null,null,null,null,null,null,null,null,null,null,null,null,null,null,null,null,null,null,null,null,null,null,null,null,null,null,null,null,null,null,null,null,null,null,null,null,null,null,null,null,null,null,null,null,null,null,null,null,null,null,null,null,null,null,null,null,null,null,null,null,null,null,null,null,null,null,null,null,null,null,null,null,null,null,null,null,null,null,null,null,null,null,null,null,null,null,null,null,null,null,null,null,null,null,null,null,null,null,null,null,null,null,null,null,null,null,null,null,null,null,null,null,null,null,null,null,null,null,null,null,null,null,null,null,null,null,null,null,null,null,null,null,null,null,null,null,null,null,null,null,null,null,null,null,null,null,null,null,null,null,null,null,null,null,null,null,null,null,null,null,null,null,null,null,null,null,null,null,null,null,null,null,null,null,null,null,null,null,null,null,null,null,null,null,null,null,null,null,null,null,null,null,null,null,null,null,null,null,null,null,null,null,null,null,null,null,null,null,null,null,null,null,null,null,null,null,null,null,null,null,null,null,null,null,null,null,null,null,null,null,null,null,null,null,null,null,null,null,null,null,null,null,null,null,null,null,null,null,null,null,null,null,null,null,null,null,null,null,null,null,null,null,null,null,null,null,null,null,null,null,null,null,null,null,null,null,null,null,null,null,null,null,null,null,null,null,null,null,null,null,null,null,null,null,null,null,null,null,null,null,null,null,null,null,null,null,null,null,null,null,null,null,null,null,null,null,null,null,null,null,null,null,null,null,null,null,null,null,null,null,null,null,null,null,null,null,null,null,null,null,null,null,null,null,null,null,null,null,null,null,null,null,null,null,null,null,null,null,null,null,null,null,null,null,null,null,null,null,null,null,null,null,null,null,null,null,null,null,null,null,null,null,null,null,null,null,null,null,null,null,null,null,null,null,null,null,null,null,null,null,null,null,null,null,null,null,null,null,null,null,null,null,null,null,null,null,null,null,null,null,null,null,null,null,null,null,null,null,null,null,null,null,null,null,null,null,null,null,null,null,null,null,null,null,null,null,null,null,null,null,null,null,null,null,null,null,null,null,null,null,null,null,null,null,null,null,null,null,null,null,null,null,null,null,null,null,null,null,null,null,null,null,null,null,null,null,null,null,null,null,null,null,null,null,null,null,null,null,null,null,null,null,null,null,null,null,null,null,null,null,null,null,null,null,null,null,null,null,null,null,null,null,null,null,null,null,null,null,null,null,null,null,null,null,null,null,null,null,null,null,null,null,null,null,null,null,null,null,null,null,null,null,null,null,null,null,null,null,null,null,null,null,null,null,null,null,null,null,null,null,null,null,null,null,null,null,null,null,null,null,null,null,null,null,null,null,null,null,null,null,null,null,null,null,null,null,null,null,null,null,null,null,null,null,null,null,null,null,null,null,null,null,null,null,null,null,null,null,null,null,null,null,null,null,null,null,null,null,null,null,null,null,null,null,null,null,null,null,null,null,null,null,null,null,null,null,null,null,null,null,null,null,null,null,null,null,null,null,null,null,null,null,null,null,null,null,null,null,null,null,null,null,null,null,null,null,null,null,null,null,null,null,null,null,null,null,null,null,null,null,null,null,null,null,null,null,null,null,null,null,null,null,null,null,null,null,null,null,null,null,null,null,null,null,null,null,null,null,null,null,null,null,null,null,null,null,null,null,null,null,null,null,null,null,null,null,null,null,null,null,null,null,null,null,null,null,null,null,null,null,null,null,null,null,null,null,null,null,null,null,null,null,null,null,null,null,null,null,null,null,null,null,null,null,null,null,null,null,null,null,null,null,null,null,null,null,null,null,null,null,null,null,null,null,null,null,null,null,null,null,null,null,null,null,null,null,null,null,null,null,null,null,null,null,null,null,null,null,null,null,null,null,null,null,null,null,null,null,null,null,null,null,null,null,null,null,null,null,null,null,null,null,null,null,null,null,null,null,null,null,null,null,null,null,null,null,null,null,null,null,null,null,null,null,null,null,null,null,null,null,null,null,null,null,null,null,null,null,null,null,null,null,null,null,null,null,null,null,null,null,null,null,null,null,null,null,null,null,null,null,null,null,null,null,null,null,null,null,null,null,null,null,null,null,null,null,null,null,null,null,null,null,null,null,null,null,null,null,null,null,null,null,null,null,null,null,null,null,null,null,null,null,null,null,null,null,null,null,null,null,null,null,null,null,null,null,null,null,null,null,null,null,null,null,null,null,null,null,null,null,null,null,null,null,null,null,null,null,null,null,null,null,null,null,null,null,null,null,null,null,null,null,null,null,null,null,null,null,null,null,null,null,null,null,null,null,null,null,null,null,null,null,null,null,null,null,null,null,null,null,null,null,null,null,null,null,null,null,null,null,null,null,null,null,null,null,null,null,null,null,null,null,null,null,null,null,null,null,null,null,null,null,null,null,null,null,null,null,null,null,null,null,null,null,null,null,null,null,null,null,null,null,null,null,null,null,null,null,null,null,null,null,null,null,null,null,null,null,null,null,null,null,null,null,null,null,null,null,null,null,null,null,null,null,null,null,null,null,null,null,null,null,null,null,null,null,null,null,null,null,null,null,null,null,null,null,null,null,null,null,null,null,null,null,null,null,null,null,null,null,null,null,null,null,null,null,null,null,null,null,null,null,null,null,null,null,null,null,null,null,null,null,null,null,null,null,null,null,null,null,null,null,null,null,null,null,null,null,null,null,null,null,null,null,null,null,null,null,null,null,null,null,null,null,null,null,null,null,null,null,null,null,null,null,null,null,null,null,null,null,null,null,null,null,null,null,null,null,null,null,null,null,null,null,null,null,null,null,null,null,null,null,null,null,null,null,null,null,null,null,null,null,null,null,null,null,null,null,null,null,null,null,null,null,null,null,null,null,null,null,null,null,null,null,null,null,null,null,null,null,null,null,null,null,null,null,null,null,null,null,null,null,null,null,null,null,null,null,null,null,null,null,null,null,null,null,null,null,null,null,null,null,null,null,null,null,null,null,null,null,null,null,null,null,null,null,null,null,null,null,null,null,null,null,null,null,null,null,null,null,null,null,null,null,null,null,null,null,null,null,null,null,null,null,null,null,null,null,null,null,null,null,null,null,null,null,null,null,null,null,null,null,null,null,null,null,null,null,null,null,null,null,null,null,null,null,null,null,null,null,null,null,null,null,null,null,null,null,null,null,null,null,null,null,null,null,null,null,null,null,null,null,null,null,null,null,null,null,null,null,null,null,null,null,null,null,null,null,null,null,null,null,null,null,null,null,null,null,null,null,null,null,null,null,null,null,null,null,null,null,null,null,null,null,null,null,null,null,null,null,null,null,null,null,null,null,null,null,null,null,null,null,null,null,null,null,null,null,null,null,null,null,null,null,null,null,null,null,null,null,null,null,null,null,null,null,null,null,null,null,null,null,null,null,null,null,null,null,null,null,null,null,null,null,null,null,null,null,null,null,null,null,null,null,null,null,null,null,null,null,null,null,null,null,null,null,null,null,null,null,null,null,null,null,null,null,null,null,null,null,null,null,null,null,null,null,null,null,null,null,null,null,null,null,null,null,null,null,null,null,null,null,null,null,null,null,null,null,null,null,null,null,null,null,null,null,null,null,null,null,null,null,null,null,null,null,null,null,null,null,null,null,null,null,null,null,null,null,null,null,null,null,null,null,null,null,null,null,null,null,null,null,null,null,null,null,null,null,null,null,null,null,null,null,null,null,null,null,null,null,null,null,null,null,null,null,null,null,null,null,null,null,null,null,null,null,null,null,null,null,null,null,null,null,null,null,null,null,null,null,null,null,null,null,null,null,null,null,null,null,null,null,null,null,null,null,null,null,null,null,null,null,null,null,null,null,null,null,null,null,null,null,null,null,null,null,null,null,null,null,null,null,null,null,null,null,null,null,null,null,null,null,null,null,null,null,null,null,null,null,null,null,null,null,null,null,null,null,null,null,null,null,null,null,null,null,null,null,null,null,null,null,null,null,null,null,null,null,null,null,null,null,null,null,null,null,null,null,null,null,null,null,null,null,null,null,null,null,null,null,null,null,null,null,null,null,null,null,null,null,null,null,null,null,null,null,null,null,null,null,null,null,null,null,null,null,null,null,null,null,null,null,null,null,null,null,null,null,null,null,null,null,null,null,null,null,null,null,null,null,null,null,null,null,null,null,null,null,null,null,null,null,null,null,null,null,null,null,null,null,null,null,null,null,null,null,null,null,null,null,null,null,null,null,null,null,null,null,null,null,null,null,null,null,null,null,null,null,null,null,null,null,null,null,null,null,null,null,null,null,null,null,null,null,null,null,null,null,null,null,null,null,null,null,null,null,null,null,null,null,null,null,null,null,null,null,null,null,null,null,null,null,null,null,null,null,null,null,null,null,null,null,null,null,null,null,null,null,null,null,null,null,null,null,null,null,null,null,null,null,null,null,null,null,null,null,null,null,null,null,null,null,null,null,null,null,null,null,null,null,null,null,null,null,null,null,null,null,null,null,null,null,null,null,null,null,null,null,null,null,null,null,null,null,null,null,null,null,null,null,null,null,null,null,null,null,null,null,null,null,null,null,null,null,null,null,null,null,null,null,null,null,null,null,null,null,null,null,null,null,null,null,null,null,null,null,null,null,null,null,null,null,null,null,null,null,null,null,null,null,null,null,null,null,null,null,null,null,null,null,null,null,null,null,null,null,null,null,null,null,null,null,null,null,null,null,null,null,null,null,null,null,null,null,null,null,null,null,null,null,null,null,null,null,null,null,null,null,null,null,null,null,null,null,null,null,null,null,null,null,null,null,null,null,null,null,null,null,null,null,null,null,null,null,null,null,null,null,null,null,null,null,null,null,null,null,null,null,null,null,null,null,null,null,null,null,null,null,null,null,null,null,null,null,null,null,null,null,null,null,null,null,null,null,null,null,null,null,null,null,null,null,null,null,null,null,null,null,null,null,null,null,null,null,null,null,null,null,null,null,null,null,null,null,null,null,null,null,null,null,null,null,null,null,null,null,null,null,null,null,null,null,null,null,null,null,null,null,null,null,null,null,null,null,null,null,null,null,null,null,null,null,null,null,null,null,null,null,null,null,null,null,null,null,null,null,null,null,null,null,null,null,null,null,null,null,null,null,null,null,null,null,null,null,null,null,null,null,null,null,null,null,null,null,null,null,null,null,null,null,null,null,null,null,null,null,null,null,null,null,null,null,null,null,null,null,null,null,null,null,null,null,null,null,null,null,null,null,null,null,null,null,null,null,null,null,null,null,null,null,null,null,null,null,null,null,null,null,null,null,null,null,null,null,null,null,null,null,null,null,null,null,null,null,null,null,null,null,null,null,null,null,null,null,null,null,null,null,null,null,null,null,null,null,null,null,null,null,null,null,null,null,null,null,null,null,null,null,null,null,null,null,null,null,null,null,null,null,null,null,null,null,null,null,null,null,null,null,null,null,null,null,null,null,null,null,null,null,null,null,null,null,null,null,null,null,null,null,null,null,null,null,null,null,null,null,null,null,null,null,null,null,null,null,null,null,null,null,null,null,null,null,null,null,null,null,null,null,null,null,null,null,null,null,null,null,null,null,null,null,null,null,null,null,null,null,null,null,null,null,null,null,null,null,null,null,null,null,null,null,null,null,null,null,null,null,null,null,null,null,null,null,null,null,null,null,null,null,null,null,null,null,null,null,null,null,null,null,null,null,null,null,null,null,null,null,null,null,null,null,null,null,null,null,null,null,null,null,null,null,null,null,null,null,null,null,null,null,null,null,null,null,null,null,null,null,null,null,null,null,null,null,null,null,null,null,null,null,null,null,null,null,null,null,null,null,null,null,null,null,null,null,null,null,null,null,null,null,null,null,null,null,null,null,null,null,null,null,null,null,null,null,null,null,null,null,null,null,null,null,null,null,null,null,null,null,null,null,null,null,null,null,null,null,null,null,null,null,null,null,null,null,null,null,null,null,null,null,null,null,null,null,null,null,null,null,null,null,null,null,null,null,null,null,null,null,null,null,null,null,null,null,null,null,null,null,null,null,null,null,null,null,null,null,null,null,null,null,null,null,null,null,null,null,null,null,null,null,null,null,null,null,null,null,null,null,null,null,null,null,null,null,null,null,null,null,null,null,null,null,null,null,null,null,null,null,null,null,null,null,null,null,null,null,null,null,null,null,null,null,null,null,null,null,null,null,null,null,null,null,null,null,null,null,null,null,null,null,null,null,null,null,null,null,null,null,null,null,null,null,null,null,null,null,null,null,null,null,null,null,null,null,null,null,null,null,null,null,null,null,null,null,null,null,null,null,null,null,null,null,null,null,null,null,null,null,null,null,null,null,null,null,null,null,null,null,null,null,null,null,null,null,null,null,null,null,null,null,null,null,null,null,null,null,null,null,null,null,null,null,null,null,null,null,null,null,null,null,null,null,null,null,null,null,null,null,null,null,null,null,null,null,null,null,null,null,null,null,null,null,null,null,null,null,null,null,null,null,null,null,null,null,null,null,null,null,null,null,null,null,null,null,null,null,null,null,null,null,null,null,null,null,null,null,null,null,null,null,null,null,null,null,null,null,null,null,null,null,null,null,null,null,null,null,null,null,null,null,null,null,null,null,null,null,null,null,null,null,null,null,null,null,null,null,null,null,null,null,null,null,null,null,null,null,null,null,null,null,null,null,null,null,null,null,null,null,null,null,null,null,null,null,null,null,null,null,null,null,null,null,null,null,null,null,null,null,null,null,null,null,null,null,null,null,null,null,null,null,null,null,null,null,null,null,null,null,null,null,null,null,null,null,null,null,null,null,null,null,null,null,null,null,null,null,null,null,null,null,null,null,null,null,null,null,null,null,null,null,null,null,null,null,null,null,null,null,null,null,null,null,null,null,null,null,null,null,null,null,null,null,null,null,null,null,null,null,null,null,null,null,null,null,null,null,null,null,null,null,null,null,null,null,null,null,null,null,null,null,null,null,null,null,null,null,null,null,null,null,null,null,null,null,null,null,null,null,null,null,null,null,null,null,null,null,null,null,null,null,null,null,null,null,null,null,null,null,null,null,null,null,null,null,null,null,null,null,null,null,null,null,null,null,null,null,null,null,null,null,null,null,null,null,null,null,null,null,null,null,null,null,null,null,null,null,null,null,null,null,null,null,null,null,null,null,null,null,null,null,null,null,null,null,null,null,null,null,null,null,null,null,null,null,null,null,null,null,null,null,null,null,null,null,null,null,null,null,null,null,null,null,null,null,null,null,null,null,null,null,null,null,null,null,null,null,null,null,null,null,null,null,null,null,null,null,null,null,null,null,null,null,null,null,null,null,null,null,null,null,null,null,null,null,null,null,null,null,null,null,null,null,null,null,null,null,null,null,null,null,null,null,null,null,null,null,null,null,null,null,null,null,null,null,null,null,null,null,null,null,null,null,null,null,null,null,null,null,null,null,null,null,null,null,null,null,null,null,null,null,null,null,null,null,null,null,null,null,null,null,null,null,null,null,null,null,null,null,null,null,null,null,null,null,null,null,null,null,null,null,null,null,null,null,null,null,null,null,null,null,null,null,null,null,null,null,null,null,null,null,null,null,null,null,null,null,null,null,null,null,null,null,null,null,null,null,null,null,null,null,null,null,null,null,null,null,null,null,null,null,null,null,null,null,null,null,null,null,null,null,null,null,null,null,null,null,null,null,null,null,null,null,null,null,null,null,null,null,null,null,null,null,null,null,null,null,null,null,null,null,null,null,null,null,null,null,null,null,null,null,null,null,null,null,null,null,null,null,null,null,null,null,null,null,null,null,null,null,null,null,null,null,null,null,null,null,null,null,null,null,null,null,null,null,null,null,null,null,null,null,null,null,null,null,null,null,null,null,null,null,null,null,null,null,null,null,null,null,null,null,null,null,null,null,null,null,null,null,null,null,null,null,null,null,null,null,null,null,null,null,null,null,null,null,null,null,null,null,null,null,null,null,null,null,null,null,null,null,null,null,null,null,null,null,null,null,null,null,null,null,null,null,null,null,null,null,null,null,null,null,null,null,null,null,null,null,null,null,null,null,null,null,null,null,null,null,null,null,null,null,null,null,null,null,null,null,null,null,null,null,null,null,null,null,null,null,null,null,null,null,null,null,null,null,null,null,null,null,null,null,null,null,null,null,null,null,null,null,null,null,null,null,null,null,null,null,null,null,null,null,null,null,null,null,null,null,null,null,null,null,null,null,null,null,null,null,null,null,null,null,null,null,null,null,null,null,null,null,null,null,null,null,null,null,null,null,null,null,null,null,null,null,null,null,null,null,null,null,null,null,null,null,null,null,null,null,null,null,null,null,null,null,null,null,null,null,null,null,null,null,null,null,null,null,null,null,null,null,null,null,null,null,null,null,null,null,null,null,null,null,null,null,null,null,null,null,null,null,null,null,null,null,null,null,null,null,null,null,null,null,null,null,null,null,null,null,null,null,null,null,null,null,null,null,null,null,null,null,null,null,null,null,null,null,null,null,null,null,null,null,null,null,null,null,null,null,null,null,null,null,null,null,null,null,null,null,null,null,null,null,null,null,null,null,null,null,null,null,null,null,null,null,null,null,null,null,null,null,null,null,null,null,null,null,null,null,null,null,null,null,null,null,null,null,null,null,null,null,null,null,null,null,null,null,null,null,null,null,null,null,null,null,null,null,null,null,null,null,null,null,null,null,null,null,null,null,null,null,null,null,null,null,null,null,null,null,null,null,null,null,null,null,null,null,null,null,null,null,null,null,null,null,null,null,null,null,null,null,null,null,null,null,null,null,null,null,null,null,null,null,null,null,null,null,null,null,null,null,null,null,null,null,null,null,null,null,null,null,null,null,null,null,null,null,null,null,null,null,null,null,null,null,null,null,null,null,null,null,null,null,null,null,null,null,null,null,null,null,null,null,null,null,null,null,null,null,null,null,null,null,null,null,null,null,null,null,null,null,null,null,null,null,null,null,null,null,null,null,null,null,null,null,null,null,null,null,null,null,null,null,null,null,null,null,null,null,null,null,null,null,null,null,null,null,null,null,null,null,null,null,null,null,null,null,null,null,null,null,null,null,null,null,null,null,null,null,null,null,null,null,null,null,null,null,null,null,null,null,null,null,null,null,null,null,null,null,null,null,null,null,null,null,null,null,null,null,null,null,null,null,null,null,null,null,null,null,null,null,null,null,null,null,null,null,null,null,null,null,null,null,null,null,null,null,null,null,null,null,null,null,null,null,null,null,null,null,null,null,null,null,null,null,null,null,null,null,null,null,null,null,null,null,null,null,null,null,null,null,null,null,null,null,null,null,null,null,null,null,null,null,null,null,null,null,null,null,null,null,null,null,null,null,null,null,null,null,null,null,null,null,null,null,null,null,null,null,null,null,null,null,null,null,null,null,null,null,null,null,null,null,null,null,null,null,null,null,null,null,null,null,null,null,null,null,null,null,null,null,null,null,null,null,null,null,null,null,null,null,null,null,null,null,null,null,null,null,null,null,null,null,null,null,null,null,null,null,null,null,null,null,null,null,null,null,null,null,null,null,null,null,null,null,null,null,null,null,null,null,null,null,null,null,null,null,null,null,null,null,null,null,null,null,null,null,null,null,null,null,null,null,null,null,null,null,null,null,null,null,null,null,null,null,null,null,null,null,null,null,null,null,null,null,null,null,null,null,null,null,null,null,null,null,null,null,null,null,null,null,null,null,null,null,null,null,null,null,null,null,null,null,null,null,null,null,null,null,null,null,null,null,null,null,null,null,null,null,null,null,null,null,null,null,null,null,null,null,null,null,null,null,null,null,null,null,null,null,null,null,null,null,null,null,null,null,null,null,null,null,null,null,null,null,null,null,null,null,null,null,null,null,null,null,null,null,null,null,null,null,null,null,null,null,null,null,null,null,null,null,null,null,null,null,null,null,null,null,null,null,null,null,null,null,null,null,null,null,null,null,null,null,null,null,null,null,null,null,null,null,null,null,null,null,null,null,null,null,null,null,null,null,null,null,null,null,null,null,null,null,null,null,null,null,null,null,null,null,null,null,null,null,null,null,null,null,null,null,null,null,null,null,null,null,null,null,null,null,null,null,null,null,null,null,null,null,null,null,null,null,null,null,null,null,null,null,null,null,null,null,null,null,null,null,null,null,null,null,null,null,null,null,null,null,null,null,null,null,null,null,null,null,null,null,null,null,null,null,null,null,null,null,null,null,null,null,null,null,null,null,null,null,null,null,null,null,null,null,null,null,null,null,null,null,null,null,null,null,null,null,null,null,null,null,null,null,null,null,null,null,null,null,null,null,null,null,null,null,null,null,null,null,null,null,null,null,null,null,null,null,null,null,null,null,null,null,null,null,null,null,null,null,null,null,null,null,null,null,null,null,null,null,null,null,null,null,null,null,null,null,null,null,null,null,null,null,null,null,null,null,null,null,null,null,null,null,null,null,null,null,null,null,null,null,null,null,null,null,null,null,null,null,null,null,null,null,null,null,null,null,null,null,null,null,null,null,null,null,null,null,null,null,null,null,null,null,null,null,null,null,null,null,null,null,null,null,null,null,null,null,null,null,null,null,null,null,null,null,null,null,null,null,null,null,null,null,null,null,null,null,null,null,null,null,null,null,null,null,null,null,null,null,null,null,null,null,null,null,null,null,null,null,null,null,null,null,null,null,null,null,null,null,null,null,null,null,null,null,null,null,null,null,null,null,null,null,null,null,null,null,null,null,null,null,null,null,null,null,null,null,null,null,null,null,null,null,null,null,null,null,null,null,null,null,null,null,null,null,null,null,null,null,null,null,null,null,null,null,null,null,null,null,null,null,null,null,null,null,null,null,null,null,null,null,null,null,null,null,null,null,null,null,null,null,null,null,null,null,null,null,null,null,null,null,null,null,null,null,null,null,null,null,null,null,null,null,null,null,null,null,null,null,null,null,null,null,null,null,null,null,null,null,null,null,null,null,null,null,null,null,null,null,null,null,null,null,null,null,null,null,null,null,null,null,null,null,null,null,null,null,null,null,null,null,null,null,null,null,null,null,null,null,null,null,null,null,null,null,null,null,null,null,null,null,null,null,null,null,null,null,null,null,null,null,null,null,null,null,null,null,null,null,null,null,null,null,null,null,null,null,null,null,null,null,null,null,null,null,null,null,null,null,null,null,null,null,null,null,null,null,null,null,null,null,null,null,null,null,null,null,null,null,null,null,null,null,null,null,null,null,null,null,null,null,null,null,null,null,null,null,null,null,null,null,null,null,null,null,null,null,null,null,null,null,null,null,null,null,null,null,null,null,null,null,null,null,null,null,null,null,null,null,null,null,null,null,null,null,null,null,null,null,null,null,null,null,null,null,null,null,null,null,null,null,null,null,null,null,null,null,null,null,null,null,null,null,null,null,null,null,null,null,null,null,null,null,null,null,null,null,null,null,null,null,null,null,null,null,null,null,null,null,null,null,null,null,null,null,null,null,null,null,null,null,null,null,null,null,null,null,null,null,null,null,null,null,null,null,null,null,null,null,null,null,null,null,null,null,null,null,null,null,null,null,null,null,null,null,null,null,null,null,null,null,null,null,null,null,null,null,null,null,null,null,null,null,null,null,null,null,null,null,null,null,null,null,null,null,null,null,null,null,null,null,null,null,null,null,null,null,null,null,null,null,null,null,null,null,null,null,null,null,null,null,null,null,null,null,null,null,null,null,null,null,null,null,null,null,null,null,null,null,null,null,null,null,null,null,null,null,null,null,null,null,null,null,null,null,null,null,null,null,null,null,null,null,null,null,null,null,null,null,null,null,null,null,null,null,null,null,null,null,null,null,null,null,null,null,null,null,null,null,null,null,null,null,null,null,null,null,null,null,null,null,null,null,null,null,null,null,null,null,null,null,null,null,null,null,null,null,null,null,null,null,null,null,null,null,null,null,null,null,null,null,null,null,null,null,null,null,null,null,null,null,null,null,null,null,null,null,null,null,null,null,null,null,null,null,null,null,null,null,null,null,null,null,null,null,null,null,null,null,null,null,null,null,null,null,null,null,null,null,null,null,null,null,null,null,null,null,null,null,null,null,null,null,null,null,null,null,null,null,null,null,null,null,null,null,null,null,null,null,null,null,null,null,null,null,null,null,null,null,null,null,null,null,null,null,null,null,null,null,null,null,null,null,null,null,null,null,null,null,null,null,null,null,null,null,null,null,null,null,null,null,null,null,null,null,null,null,null,null,null,null,null,null,null,null,null,null,null,null,null,null,null,null,null,null,null,null,null,null,null,null,null,null,null,null,null,null,null,null,null,null,null,null,null,null,null,null,null,null,null,null,null,null,null,null,null,null,null,null,null,null,null,null,null,null,null,null,null,null,null,null,null,null,null,null,null,null,null,null,null,null,null,null,null,null,null,null,null,null,null,null,null,null,null,null,null,null,null,null,null,null,null,null,null,null,null,null,null,null,null,null,null,null,null,null,null,null,null,null,null,null,null,null,null,null,null,null,null,null,null,null,null,null,null,null,null,null,null,null,null,null,null,null,null,null,null,null,null,null,null,null,null,null,null,null,null,null,null,null,null,null,null,null,null,null,null,null,null,null,null,null,null,null,null,null,null,null,null,null,null,null,null,null,null,null,null,null,null,null,null,null,null,null,null,null,null,null,null,null,null,null,null,null,null,null,null,null,null,null,null,null,null,null,null,null,null,null,null,null,null,null,null,null,null,null,null,null,null,null,null,null,null,null,null,null,null,null,null,null,null,null,null,null,null,null,null,null,null,null,null,null,null,null,null,null,null,null,null,null,null,null,null,null,null,null,null,null,null,null,null,null,null,null,null,null,null,null,null,null,null,null,null,null,null,null,null,null,null,null,null,null,null,null,null,null,null,null,null,null,null,null,null,null,null,null,null,null,null,null,null,null,null,null,null,null,null,null,null,null,null,null,null,null,null,null,null,null,null,null,null,null,null,null,null,null,null,null,null,null,null,null,null,null,null,null,null,null,null,null,null,null,null,null,null,null,null,null,null,null,null,null,null,null,null,null,null,null,null,null,null,null,null,null,null,null,null,null,null,null,null,null,null,null,null,null,null,null,null,null,null,null,null,null,null,null,null,null,null,null,null,null,null,null,null,null,null,null,null,null,null,null,null,null,null,null,null,null,null,null,null,null,null,null,null,null,null,null,null,null,null,null,null,null,null,null,null,null,null,null,null,null,null,null,null,null,null,null,null,null,null,null,null,null,null,null,null,null,null,null,null,null,null,null,null,null,null,null,null,null,null,null,null,null,null,null,null,null,null,null,null,null,null,null,null,null,null,null,null,null,null,null,null,null,null,null,null,null,null,null,null,null,null,null,null,null,null,null,null,null,null,null,null,null,null,null,null,null,null,null,null,null,null,null,null,null,null,null,null,null,null,null,null,null,null,null,null,null,null,null,null,null,null,null,null,null,null,null,null,null,null,null,null,null,null,null,null,null,null,null,null,null,null,null,null,null,null,null,null,null,null,null,null,null,null,null,null,null,null,null,null,null,null,null,null,null,null,null,null,null,null,null,null,null,null,null,null,null,null,null,null,null,null,null,null,null,null,null,null,null,null,null,null,null,null,null,null,null,null,null,null,null,null,null,null,null,null,null,null,null,null,null,null,null,null,null,null,null,null,null,null,null,null,null,null,null,null,null,null,null,null,null,null,null,null,null,null,null,null,null,null,null,null,null,null,null,null,null,null,null,null,null,null,null,null,null,null,null,null,null,null,null,null,null,null,null,null,null,null,null,null,null,null,null,null,null,null,null,null,null,null,null,null,null,null,null,null,null,null,null,null,null,null,null,null,null,null,null,null,null,null,null,null,null,null,null,null,null,null,null,null,null,null,null,null,null,null,null,null,null,null,null,null,null,null,null,null,null,null,null,null,null,null,null,null,null,null,null,null,null,null,null,null,null,null,null,null,null,null,null,null,null,null,null,null,null,null,null,null,null,null,null,null,null,null,null,null,null,null,null,null,null,null,null,null,null,null,null,null,null,null,null,null,null,null,null,null,null,null,null,null,null,null,null,null,null,null,null,null,null,null,null,null,null,null,null,null,null,null,null,null,null,null,null,null,null,null,null,null,null,null,null,null,null,null,null,null,null,null,null,null,null,null,null,null,null,null,null,null,null,null,null,null,null,null,null,null,null,null,null,null,null,null,null,null,null,null,null,null,null,null,null,null,null,null,null,null,null,null,null,null,null,null,null,null,null,null,null,null,null,null,null,null,null,null,null,null,null,null,null,null,null,null,null,null,null,null,null,null,null,null,null,null,null,null,null,null,null,null,null,null,null,null,null,null,null,null,null,null,null,null,null,null,null,null,null,null,null,null,null,null,null,null,null,null,null,null,null,null,null,null,null,null,null,null,null,null,null,null,null,null,null,null,null,null,null,null,null,null,null,null,null,null,null,null,null,null,null,null,null,null,null,null,null,null,null,null,null,null,null,null,null,null,null,null,null,null,null,null,null,null,null,null,null,null,null,null,null,null,null,null,null,null,null,null,null,null,null,null,null,null,null,null,null,null,null,null,null,null,null,null,null,null,null,null,null,null,null,null,null,null,null,null,null,null,null,null,null,null,null,null,null,null,null,null,null,null,null,null,null,null,null,null,null,null,null,null,null,null,null,null,null,null,null,null,null,null,null,null,null,null,null,null,null,null,null,null,null,null,null,null,null,null,null,null,null,null,null,null,null,null,null,null,null,null,null,null,null,null,null,null,null,null,null,null,null,null,null,null,null,null,null,null,null,null,null,null,null,null,null,null,null,null,null,null,null,null,null,null,null,null,null,null,null,null,null,null,null,null,null,null,null,null,null,null,null,null,null,null,null,null,null,null,null,null,null,null,null,null,null,null,null,null,null,null,null,null,null,null,null,null,null,null,null,null,null,null,null,null,null,null,null,null,null,null,null,null,null,null,null,null,null,null,null,null,null,null,null,null,null,null,null,null,null,null,null,null,null,null,null,null,null,null,null,null,null,null,null,null,null,null,null,null,null,null,null,null,null,null,null,null,null,null,null,null,null,null,null,null,null,null,null,null,null,null,null,null,null,null,null,null,null,null,null,null,null,null,null,null,null,null,null,null,null,null,null,null,null,null,null,null,null,null,null,null,null,null,null,null,null,null,null,null,null,null,null,null,null,null,null,null,null,null,null,null,null,null,null,null,null,null,null,null,null,null,null,null,null,null,null,null,null,null,null,null,null,null,null,null,null,null,null,null,null,null,null,null,null,null,null,null,null,null,null,null,null,null,null,null,null,null,null,null,null,null,null,null,null,null,null,null,null,null,null,null,null,null,null,null,null,null,null,null,null,null,null,null,null,null,null,null,null,null,null,null,null,null,null,null,null,null,null,null,null,null,null,null,null,null,null,null,null,null,null,null,null,null,null,null,null,null,null,null,null,null,null,null,null,null,null,null,null,null,null,null,null,null,null,null,null,null,null,null,null,null,null,null,null,null,null,null,null,null,null,null,null,null,null,null,null,null,null,null,null,null,null,null,null,null,null,null,null,null,null,null,null,null,null,null,null,null,null,null,null,null,null,null,null,null,null,null,null,null,null,null,null,null,null,null,null,null,null,null,null,null,null,null,null,null,null,null,null,null,null,null,null,null,null,null,null,null,null,null,null,null,null,null,null,null,null,null,null,null,null,null,null,null,null,null,null,null,null,null,null,null,null,null,null,null,null,null,null,null,null,null,null,null,null,null,null,null,null,null,null,null,null,null,null,null,null,null,null,null,null,null,null,null,null,null,null,null,null,null,null,null,null,null,null,null,null,null,null,null,null,null,null,null,null,null,null,null,null,null,null,null,null,null,null,null,null,null,null,null,null,null,null,null,null,null,null,null,null,null,null,null,null,null,null,null,null,null,null,null,null,null,null,null,null,null,null,null,null,null,null,null,null,null,null,null,null,null,null,null,null,null,null,null,null,null,null,null,null,null,null,null,null,null,null,null,null,null,null,null,null,null,null,null,null,null,null,null,null,null,null,null,null,null,null,null,null,null,null,null,null,null,null,null,null,null,null,null,null,null,null,null,null,null,null,null,null,null,null,null,null,null,null,null,null,null,null,null,null,null,null,null,null,null,null,null,null,null,null,null,null,null,null,null,null,null,null,null,null,null,null,null,null,null,null,null,null,null,null,null,null,null,null,null,null,null,null,null,null,null,null,null,null,null,null,null,null,null,null,null,null,null,null,null,null,null,null,null,null,null,null,null,null,null,null,null,null,null,null,null,null,null,null,null,null,null,null,null,null,null,null,null,null,null,null,null,null,null,null,null,null,null,null,null,null,null,null,null,null,null,null,null,null,null,null,null,null,null,null,null,null,null,null,null,null,null,null,null,null,null,null,null,null,null,null,null,null,null,null,null,null,null,null,null,null,null,null,null,null,null,null,null,null,null,null,null,null,null,null,null,null,null,null,null,null,null,null,null,null,null,null,null,null,null,null,null,null,null,null,null,null,null,null,null,null,null,null,null,null,null,null,null,null,null,null,null,null,null,null,null,null,null,null,null,null,null,null,null,null,null,null,null,null,null,null,null,null,null,null,null,null,null,null,null,null,null,null,null,null,null,null,null,null,null,null,null,null,null,null,null,null,null,null,null,null,null,null,null,null,null,null,null,null,null,null,null,null,null,null,null,null,null,null,null,null,null,null,null,null,null,null,null,null,null,null,null,null,null,null,null,null,null,null,null,null,null,null,null,null,null,null,null,null,null,null,null,null,null,null,null,null,null,null,null,null,null,null,null,null,null,null,null,null,null,null,null,null,null,null,null,null,null,null,null,null,null,null,null,null,null,null,null,null,null,null,null,null,null,null,null,null,null,null,null,null,null,null,null,null,null,null,null,null,null,null,null,null,null,null,null,null,null,null,null,null,null,null,null,null,null,null,null,null,null,null,null,null,null,null,null,null,null,null,null,null,null,null,null,null,null,null,null,null,null,null,null,null,null,null,null,null,null,null,null,null,null,null,null,null,null,null,null,null,null,null,null,null,null,null,null,null,null,null,null,null,null,null,null,null,null,null,null,null,null,null,null,null,null,null,null,null,null,null,null,null,null,null,null,null,null,null,null,null,null,null,null,null,null,null,null,null,null,null,null,null,null,null,null,null,null,null,null,null,null,null,null,null,null,null,null,null,null,null,null,null,null,null,null,null,null,null,null,null,null,null,null,null,null,null,null,null,null,null,null,null,null,null,null,null,null,null,null,null,null,null,null,null,null,null,null,null,null,null,null,null,null,null,null,null,null,null,null,null,null,null,null,null,null,null,null,null,null,null,null,null,null,null,null,null,null,null,null,null,null,null,null,null,null,null,null,null,null,null,null,null,null,null,null,null,null,null,null,null,null,null,null,null,null,null,null,null,null,null,null,null,null,null,null,null,null,null,null,null,null,null,null,null,null,null,null,null,null,null,null,null,null,null,null,null,null,null,null,null,null,null,null,null,null,null,null,null,null,null,null,null,null,null,null,null,null,null,null,null,null,null,null,null,null,null,null,null,null,null,null,null,null,null,null,null,null,null,null,null,null,null,null,null,null,null,null,null,null,null,null,null,null,null,null,null,null,null,null,null,null,null,null,null,null,null,null,null,null,null,null,null,null,null,null,null,null,null,null,null,null,null,null,null,null,null,null,null,null,null,null,null,null,null,null,null,null,null,null,null,null,null,null,null,null,null,null,null,null,null,null,null,null,null,null,null,null,null,null,null,null,null,null,null,null,null,null,null,null,null,null,null,null,null,null,null,null,null,null,null,null,null,null,null,null,null,null,null,null,null,null,null,null,null,null,null,null,null,null,null,null,null,null,null,null,null,null,null,null,null,null,null,null,null,null,null,null,null,null,null,null,null,null,null,null,null,null,null,null,null,null,null,null,null,null,null,null,null,null,null,null,null,null,null,null,null,null,null,null,null,null,null,null,null,null,null,null,null,null,null,null,null,null,null,null,null,null,null,null,null,null,null,null,null,null,null,null,null,null,null,null,null,null,null,null,null,null,null,null,null,null,null,null,null,null,null,null,null,null,null,null,null,null,null,null,null,null,null,null,null,null,null,null,null,null,null,null,null,null,null,null,null,null,null,null,null,null,null,null,null,null,null,null,null,null,null,null,null,null,null,null,null,null,null,null,null,null,null,null,null,null,null,null,null,null,null,null,null,null,null,null,null,null,null,null,null,null,null,null,null,null,null,null,null,null,null,null,null,null,null,null,null,null,null,null,null,null,null,null,null,null,null,null,null,null,null,null,null,null,null,null,null,null,null,null,null,null,null,null,null,null,null,null,null,null,null,null,null,null,null,null,null,null,null,null,null,null,null,null,null,null,null,null,null,null,null,null,null,null,null,null,null,null,null,null,null,null,null,null,null,null,null,null,null,null,null,null,null,null,null,null,null,null,null,null,null,null,null,null,null,null,null,null,null,null,null,null,null,null,null,null,null,null,null,null,null,null,null,null,null,null,null,null,null,null,null,null,null,null,null,null,null,null,null,null,null,null,null,null,null,null,null,null,null,null,null,null,null,null,null,null,null,null,null,null,null,null,null,null,null,null,null,null,null,null,null,null,null,null,null,null,null,null,null,null,null,null,null,null,null,null,null,null,null,null,null,null,null,null,null,null,null,null,null,null,null,null,null,null,null,null,null,null,null,null,null,null,null,null,null,null,null,null,null,null,null,null,null,null,null,null,null,null,null,null,null,null,null,null,null,null,null,null,null,null,null,null,null,null,null,null,null,null,null,null,null,null,null,null,null,null,null,null,null,null,null,null,null,null,null,null,null,null,null,null,null,null,null,null,null,null,null,null,null,null,null,null,null,null,null,null,null,null,null,null,null,null,null,null,null,null,null,null,null,null,null,null,null,null,null,null,null,null,null,null,null,null,null,null,null,null,null,null,null,null,null,null,null,null,null,null,null,null,null,null,null,null,null,null,null,null,null,null,null,null,null,null,null,null,null,null,null,null,null,null,null,null,null,null,null,null,null,null,null,null,null,null,null,null,null,null,null,null,null,null,null,null,null,null,null,null,null,null,null,null,null,null,null,null,null,null,null,null,null,null,null,null,null,null,null,null,null,null,null,null,null,null,null,null,null,null,null,null,null,null,null,null,null,null,null,null,null,null,null,null,null,null,null,null,null,null,null,null,null,null,null,null,null,null,null,null,null,null,null,null,null,null,null,null,null,null,null,null,null,null,null,null,null,null,null,null,null,null,null,null,null,null,null,null,null,null,null,null,null,null,null,null,null,null,null,null,null,null,null,null,null,null,null,null,null,null,null,null,null,null,null,null,null,null,null,null,null,null,null,null,null,null,null,null,null,null,null,null,null,null,null,null,null,null,null,null,null,null,null,null,null,null,null,null,null,null,null,null,null,null,null,null,null,null,null,null,null,null,null,null,null,null,null,null,null,null,null,null,null,null,null,null,null,null,null,null,null,null,null,null,null,null,null,null,null,null,null,null,null,null,null,null,null,null,null,null,null,null,null,null,null,null,null,null,null,null,null,null,null,null,null,null,null,null,null,null,null,null,null,null,null,null,null,null,null,null,null,null,null,null,null,null,null,null,null,null,null,null,null,null,null,null,null,null,null,null,null,null,null,null,null,null,null,null,null,null,null,null,null,null,null,null,null,null,null,null,null,null,null,null,null,null,null,null,null,null,null,null,null,null,null,null,null,null,null,null,null,null,null,null,null,null,null,null,null,null,null,null,null,null,null,null,null,null,null,null,null,null,null,null,null,null,null,null,null,null,null,null,null,null,null,null,null,null,null,null,null,null,null,null,null,null,null,null,null,null,null,null,null,null,null,null,null,null,null,null,null,null,null,null,null,null,null,null,null,null,null,null,null,null,null,null,null,null,null,null,null,null,null,null,null,null,null,null,null,null,null,null,null,null,null,null,null,null,null,null,null,null,null,null,null,null,null,null,null,null,null,null,null,null,null,null,null,null,null,null,null,null,null,null,null,null,null,null,null,null,null,null,null,null,null,null,null,null,null,null,null,null,null,null,null,null,null,null,null,null,null,null,null,null,null,null,null,null,null,null,null,null,null,null,null,null,null,null,null,null,null,null,null,null,null,null,null,null,null,null,null,null,null,null,null,null,null,null,null,null,null,null,null,null,null,null,null,null,null,null,null,null,null,null,null,null,null,null,null,null,null,null,null,null,null,null,null,null,null,null,null,null,null,null,null,null,null,null,null,null,null,null,null,null,null,null,null,null,null,null,null,null,null,null,null,null,null,null,null,null,null,null,null,null,null,null,null,null,null,null,null,null,null,null,null,null,null,null,null,null,null,null,null,null,null,null,null,null,null,null,null,null,null,null,null,null,null,null,null,null,null,null,null,null,null,null,null,null,null,null,null,null,null,null,null,null,null,null,null,null,null,null,null,null,null,null,null,null,null,null,null,null,null,null,null,null,null,null,null,null,null,null,null,null,null,null,null,null,null,null,null,null,null,null,null,null,null,null,null,null,null,null,null,null,null,null,null,null,null,null,null,null,null,null,null,null,null,null,null,null,null,null,null,null,null,null,null,null,null,null,null,null,null,null,null,null,null,null,null,null,null,null,null,null,null,null,null,null,null,null,null,null,null,null,null,null,null,null,null,null,null,null,null,null,null,null,null,null,null,null,null,null,null,null,null,null,null,null,null,null,null,null,null,null,null,null,null,null,null,null,null,null,null,null,null,null,null,null,null,null,null,null,null,null,null,null,null,null,null,null,null,null,null,null,null,null,null,null,null,null,null,null,null,null,null,null,null,null,null,null,null,null,null,null,null,null,null,null,null,null,null,null,null,null,null,null,null,null,null,null,null,null,null,null,null,null,null,null,null,null,null,null,null,null,null,null,null,null,null,null,null,null,null,null,null,null,null,null,null,null,null,null,null,null,null,null,null,null,null,null,null,null,null,null,null,null,null,null,null,null,null,null,null,null,null,null,null,null,null,null,null,null,null,null,null,null,null,null,null,null,null,null,null,null,null,null,null,null,null,null,null,null,null,null,null,null,null,null,null,null,null,null,null,null,null,null,null,null,null,null,null,null,null,null,null,null,null,null,null,null,null,null,null,null,null,null,null,null,null,null,null,null,null,null,null,null,null,null,null,null,null,null,null,null,null,null,null,null,null,null,null,null,null,null,null,null,null,null,null,null,null,null,null,null,null,null,null,null,null,null,null,null,null,null,null,null,null,null,null,null,null,null,null,null,null,null,null,null,null,null,null,null,null,null,null,null,null,null,null,null,null,null,null,null,null,null,null,null,null,null,null,null,null,null,null,null,null,null,null,null,null,null,null,null,null,null,null,null,null,null,null,null,null,null,null,null,null,null,null,null,null,null,null,null,null,null,null,null,null,null,null,null,null,null,null,null,null,null,null,null,null,null,null,null,null,null,null,null,null,null,null,null,null,null,null,null,null,null,null,null,null,null,null,null,null,null,null,null,null,null,null,null,null,null,null,null,null,null,null,null,null,null,null,null,null,null,null,null,null,null,null,null,null,null,null,null,null,null,null,null,null,null,null,null,null,null,null,null,null,null,null,null,null,null,null,null,null,null,null,null,null,null,null,null,null,null,null,null,null,null,null,null,null,null,null,null,null,null,null,null,null,null,null,null,null,null,null,null,null,null,null,null,null,null,null,null,null,null,null,null,null,null,null,null,null,null,null,null,null,null,null,null,null,null,null,null,null,null,null,null,null,null,null,null,null,null,null,null,null,null,null,null,null,null,null,null,null,null,null,null,null,null,null,null,null,null,null,null,null,null,null,null,null,null,null,null,null,null,null,null,null,null,null,null,null,null,null,null,null,null,null,null,null,null,null,null,null,null,null,null,null,null,null,null,null,null,null,null,null,null,null,null,null,null,null,null,null,null,null,null,null,null,null,null,null,null,null,null,null,null,null,null,null,null,null,null,null,null,null,null,null,null,null,null,null,null,null,null,null,null,null,null,null,null,null,null,null,null,null,null,null,null,null,null,null,null,null,null,null,null,null,null,null,null,null,null,null,null,null,null,null,null,null,null,null,null,null,null,null,null,null,null,null,null,null,null,null,null,null,null,null,null,null,null,null,null,null,null,null,null,null,null,null,null,null,null,null,null,null,null,null,null,null,null,null,null,null,null,null,null,null,null,null,null,null,null,null,null,null,null,null,null,null,null,null,null,null,null,null,null,null,null,null,null,null,null,null,null,null,null,null,null,null,null,null,null,null,null,null,null,null,null,null,null,null,null,null,null,null,null,null,null,null,null,null,null,null,null,null,null,null,null,null,null,null,null,null,null,null,null,null,null,null,null,null,null,null,null,null,null,null,null,null,null,null,null,null,null,null,null,null,null,null,null,null,null,null,null,null,null,null,null,null,null,null,null,null,null,null,null,null,null,null,null,null,null,null,null,null,null,null,null,null,null,null,null,null,null,null,null,null,null,null,null,null,null,null,null,null,null,null,null,null,null,null,null,null,null,null,null,null,null,null,null,null,null,null,null,null,null,null,null,null,null,null,null,null,null,null,null,null,null,null,null,null,null,null,null,null,null,null,null,null,null,null,null,null,null,null,null,null,null,null,null,null,null,null,null,null,null,null,null,null,null,null,null,null,null,null,null,null,null,null,null,null,null,null,null,null,null,null,null,null,null,null,null,null,null,null,null,null,null,null,null,null,null,null,null,null,null,null,null,null,null,null,null,null,null,null,null,null,null,null,null,null,null,null,null,null,null,null,null,null,null,null,null,null,null,null,null,null,null,null,null,null,null,null,null,null,null,null,null,null,null,null,null,null,null,null,null,null,null,null,null,null,null,null,null,null,null,null,null,null,null,null,null,null,null,null,null,null,null,null,null,null,null,null,null,null,null,null,null,null,null,null,null,null,null,null,null,null,null,null,null,null,null,null,null,null,null,null,null,null,null,null,null,null,null,null,null,null,null,null,null,null,null,null,null,null,null,null,null,null,null,null,null,null,null,null,null,null,null,null,null,null,null,null,null,null,null,null,null,null,null,null,null,null,null,null,null,null,null,null,null,null,null,null,null,null,null,null,null,null,null,null,null,null,null,null,null,null,null,null,null,null,null,null,null,null,null,null,null,null,null,null,null,null,null,null,null,null,null,null,null,null,null,null,null,null,null,null,null,null,null,null,null,null,null,null,null,null,null,null,null,null,null,null,null,null,null,null,null,null,null,null,null,null,null,null,null,null,null,null,null,null,null,null,null,null,null,null,null,null,null,null,null,null,null,null,null,null,null,null,null,null,null,null,null,null,null,null,null,null,null,null,null,null,null,null,null,null,null,null,null,null,null,null,null,null,null,null,null,null,null,null,null,null,null,null,null,null,null,null,null,null,null,null,null,null,null,null,null,null,null,null,null,null,null,null,null,null,null,null,null,null,null,null,null,null,null,null,null,null,null,null,null,null,null,null,null,null,null,null,null,null,null,null,null,null,null,null,null,null,null,null,null,null,null,null,null,null,null,null,null,null,null,null,null,null,null,null,null,null,null,null,null,null,null,null,null,null,null,null,null,null,null,null,null,null,null,null,null,null,null,null,null,null,null,null,null,null,null,null,null,null,null,null,null,null,null,null,null,null,null,null,null,null,null,null,null,null,null,null,null,null,null,null,null,null,null,null,null,null,null,null,null,null,null,null,null,null,null,null,null,null,null,null,null,null,null,null,null,null,null,null,null,null,null,null,null,null,null,null,null,null,null,null,null,null,null,null,null,null,null,null,null,null,null,null,null,null,null,null,null,null,null,null,null,null,null,null,null,null,null,null,null,null,null,null,null,null,null,null,null,null,null,null,null,null,null,null,null,null,null,null,null,null,null,null,null,null,null,null,null,null,null,null,null,null,null,null,null,null,null,null,null,null,null,null,null,null,null,null,null,null,null,null,null,null,null,null,null,null,null,null,null,null,null,null,null,null,null,null,null,null,null,null,null,null,null,null,null,null,null,null,null,null,null,null,null,null,null,null,null,null,null,null,null,null,null,null,null,null,null,null,null,null,null,null,null,null,null,null,null,null,null,null,null,null,null,null,null,null,null,null,null,null,null,null,null,null,null,null,null,null,null,null,null,null,null,null,null,null,null,null,null,null,null,null,null,null,null,null,null,null,null,null,null,null,null,null,null,null,null,null,null,null,null,null,null,null,null,null,null,null,null,null,null,null,null,null,null,null,null,null,null,null,null,null,null,null,null,null,null,null,null,null,null,null,null,null,null,null,null,null,null,null,null,null,null,null,null,null,null,null,null,null,null,null,null,null,null,null,null,null,null,null,null,null,null,null,null,null,null,null,null,null,null,null,null,null,null,null,null,null,null,null,null,null,null,null,null,null,null,null,null,null,null,null,null,null,null,null,null,null,null,null,null,null,null,null,null,null,null,null,null,null,null,null,null,null,null,null,null,null,null,null,null,null,null,null,null,null,null,null,null,null,null,null,null,null,null,null,null,null,null,null,null,null,null,null,null,null,null,null,null,null,null,null,null,null,null,null,null,null,null,null,null,null,null,null,null,null,null,null,null,null,null,null,null,null,null,null,null,null,null,null,null,null,null,null,null,null,null,null,null,null,null,null,null,null,null,null,null,null,null,null,null,null,null,null,null,null,null,null,null,null,null,null,null,null,null,null,null,null,null,null,null,null,null,null,null,null,null,null,null,null,null,null,null,null,null,null,null,null,null,null,null,null,null,null,null,null,null,null,null,null,null,null,null,null,null,null,null,null,null,null,null,null,null,null,null,null,null,null,null,null,null,null,null,null,null,null,null,null,null,null,null,null,null,null,null,null,null,null,null,null,null,null,null,null,null,null,null,null,null,null,null,null,null,null,null,null,null,null,null,null,null,null,null,null,null,null,null,null,null,null,null,null,null,null,null,null,null,null,null,null,null,null,null,null,null,null,null,null,null,null,null,null,null,null,null,null,null,null,null,null,null,null,null,null,null,null,null,null,null,null,null,null,null,null,null,null,null,null,null,null,null,null,null,null,null,null,null,null,null,null,null,null,null,null,null,null,null,null,null,null,null,null,null,null,null,null,null,null,null,null,null,null,null,null,null,null,null,null,null,null,null,null,null,null,null,null,null,null,null,null,null,null,null,null,null,null,null,null,null,null,null,null,null,null,null,null,null,null,null,null,null,null,null,null,null,null,null,null,null,null,null,null,null,null,null,null,null,null,null,null,null,null,null,null,null,null,null,null,null,null,null,null,null,null,null,null,null,null,null,null,null,null,null,null,null,null,null,null,null,null,null,null,null,null,null,null,null,null,null,null,null,null,null,null,null,null,null,null,null,null,null,null,null,null,null,null,null,null,null,null,null,null,null,null,null,null,null,null,null,null,null,null,null,null,null,null,null,null,null,null,null,null,null,null,null,null,null,null,null,null,null,null,null,null,null,null,null,null,null,null,null,null,null,null,null,null,null,null,null,null,null,null,null,null,null,null,null,null,null,null,null,null,null,null,null,null,null,null,null,null,null,null,null,null,null,null,null,null,null,null,null,null,null,null,null,null,null,null,null,null,null,null,null,null,null,null,null,null,null,null,null,null,null,null,null,null,null,null,null,null,null,null,null,null,null,null,null,null,null,null,null,null,null,null,null,null,null,null,null,null,null,null,null,null,null,null,null,null,null,null,null,null,null,null,null,null,null,null,null,null,null,null,null,null,null,null,null,null,null,null,null,null,null,null,null,null,null,null,null,null,null,null,null,null,null,null,null,null,null,null,null,null,null,null,null,null,null,null,null,null,null,null,null,null,null,null,null,null,null,null,null,null,null,null,null,null,null,null,null,null,null,null,null,null,null,null,null,null,null,null,null,null,null,null,null,null,null,null,null,null,null,null,null,null,null,null,null,null,null,null,null,null,null,null,null,null,null,null,null,null,null,null,null,null,null,null,null,null,null,null,null,null,null,null,null,null,null,null,null,null,null,null,null,null,null,null,null,null,null,null,null,null,null,null,null,null,null,null,null,null,null,null,null,null,null,null,null,null,null,null,null,null,null,null,null,null,null,null,null,null,null,null,null,null,null,null,null,null,null,null,null,null,null,null,null,null,null,null,null,null,null,null,null,null,null,null,null,null,null,null,null,null,null,null,null,null,null,null,null,null,null,null,null,null,null,null,null,null,null,null,null,null,null,null,null,null,null,null,null,null,null,null,null,null,null,null,null,null,null,null,null,null,null,null,null,null,null,null,null,null,null,null,null,null,null,null,null,null,null,null,null,null,null,null,null,null,null,null,null,null,null,null,null,null,null,null,null,null,null,null,null,null,null,null,null,null,null,null,null,null,null,null,null,null,null,null,null,null,null,null,null,null,null,null,null,null,null,null,null,null,null,null,null,null,null,null,null,null,null,null,null,null,null,null,null,null,null,null,null,null,null,null,null,null,null,null,null,null,null,null,null,null,null,null,null,null,null,null,null,null,null,null,null,null,null,null,null,null,null,null,null,null,null,null,null,null,null,null,null,null,null,null,null,null,null,null,null,null,null,null,null,null,null,null,null,null,null,null,null,null,null,null,null,null,null,null,null,null,null,null,null,null,null,null,null,null,null,null,null,null,null,null,null,null,null,null,null,null,null,null,null,null,null,null,null,null,null,null,null,null,null,null,null,null,null,null,null,null,null,null,null,null,null,null,null,null,null,null,null,null,null,null,null,null,null,null,null,null,null,null,null,null,null,null,null,null,null,null,null,null,null,null,null,null,null,null,null,null,null,null,null,null,null,null,null,null,null,null,null,null,null,null,null,null,null,null,null,null,null,null,null,null,null,null,null,null,null,null,null,null,null,null,null,null,null,null,null,null,null,null,null,null,null,null,null,null,null,null,null,null,null,null,null,null,null,null,null,null,null,null,null,null,null,null,null,null,null,null,null,null,null,null,null,null,null,null,null,null,null,null,null,null,null,null,null,null,null,null,null,null,null,null,null,null,null,null,null,null,null,null,null,null,null,null,null,null,null,null,null,null,null,null,null,null,null,null,null,null,null,null,null,null,null,null,null,null,null,null,null,null,null,null,null,null,null,null,null,null,null,null,null,null,null,null,null,null,null,null,null,null,null,null,null,null,null,null,null,null,null,null,null,null,null,null,null,null,null,null,null,null,null,null,null,null,null,null,null,null,null,null,null,null,null,null,null,null,null,null,null,null,null,null,null,null,null,null,null,null,null,null,null,null,null,null,null,null,null,null,null,null,null,null,null,null,null,null,null,null,null,null,null,null,null,null,null,null,null,null,null,null,null,null,null,null,null,null,null,null,null,null,null,null,null,null,null,null,null,null,null,null,null,null,null,null,null,null,null,null,null,null,null,null,null,null,null,null,null,null,null,null,null,null,null,null,null,null,null,null,null,null,null,null,null,null,null,null,null,null,null,null,null,null,null,null,null,null,null,null,null,null,null,null,null,null,null,null,null,null,null,null,null,null,null,null,null,null,null,null,null,null,null,null,null,null,null,null,null,null,null,null,null,null,null,null,null,null,null,null,null,null,null,null,null,null,null,null,null,null,null,null,null,null,null,null,null,null,null,null,null,null,null,null,null,null,null,null,null,null,null,null,null,null,null,null,null,null,null,null,null,null,null,null,null,null,null,null,null,null,null,null,null,null,null,null,null,null,null,null,null,null,null,null,null,null,null,null,null,null,null,null,null,null,null,null,null,null,null,null,null,null,null,null,null,null,null,null,null,null,null,null,null,null,null,null,null,null,null,null,null,null,null,null,null,null,null,null,null,null,null,null,null,null,null,null,null,null,null,null,null,null,null,null,null,null,null,null,null,null,null,null,null,null,null,null,null,null,null,null,null,null,null,null,null,null,null,null,null,null,null,null,null,null,null,null,null,null,null,null,null,null,null,null,null,null,null,null,null,null,null,null,null,null,null,null,null,null,null,null,null,null,null,null,null,null,null,null,null,null,null,null,null,null,null,null,null,null,null,null,null,null,null,null,null,null,null,null,null,null,null,null,null,null,null,null,null,null,null,null,null,null,null,null,null,null,null,null,null,null,null,null,null,null,null,null,null,null,null,null,null,null,null,null,null,null,null,null,null,null,null,null,null,null,null,null,null,null,null,null,null,null,null,null,null,null,null,null,null,null,null,null,null,null,null,null,null,null,null,null,null,null,null,null,null,null,null,null,null,null,null,null,null,null,null,null,null,null,null,null,null,null,null,null,null,null,null,null,null,null,null,null,null,null,null,null,null,null,null,null,null,null,null,null,null,null,null,null,null,null,null,null,null,null,null,null,null,null,null,null,null,null,null,null,null,null,null,null,null,null,null,null,null,null,null,null,null,null,null,null,null,null,null,null,null,null,null,null,null,null,null,null,null,null,null,null,null,null,null,null,null,null,null,null,null,null,null,null,null,null,null,null,null,null,null,null,null,null,null,null,null,null,null,null,null,null,null,null,null,null,null,null,null,null,null,null,null,null,null,null,null,null,null,null,null,null,null,null,null,null,null,null,null,null,null,null,null,null,null,null,null,null,null,null,null,null,null,null,null,null,null,null,null,null,null,null,null,null,null,null,null,null,null,null,null,null,null,null,null,null,null,null,null,null,null,null,null,null,null,null,null,null,null,null,null,null,null,null,null,null,null,null,null,null,null,null,null,null,null,null,null,null,null,null,null,null,null,null,null,null,null,null,null,null,null,null,null,null,null,null,null,null,null,null,null,null,null,null,null,null,null,null,null,null,null,null,null,null,null,null,null,null,null,null,null,null,null,null,null,null,null,null,null,null,null,null,null,null,null,null,null,null,null,null,null,null,null,null,null,null,null,null,null,null,null,null,null,null,null,null,null,null,null,null,null,null,null,null,null,null,null,null,null,null,null,null,null,null,null,null,null,null,null,null,null,null,null,null,null,null,null,null,null,null,null,null,null,null,null,null,null,null,null,null,null,null,null,null,null,null,null,null,null,null,null,null,null,null,null,null,null,null,null,null,null,null,null,null,null,null,null,null,null,null,null,null,null,null,null,null,null,null,null,null,null,null,null,null,null,null,null,null,null,null,null,null,null,null,null,null,null,null,null,null,null,null,null,null,null,null,null,null,null,null,null,null,null,null,null,null,null,null,null,null,null,null,null,null,null,null,null,null,null,null,null,null,null,null,null,null,null,null,null,null,null,null,null,null,null,null,null,null,null,null,null,null,null,null,null,null,null,null,null,null,null,null,null,null,null,null,null,null,null,null,null,null,null,null,null,null,null,null,null,null,null,null,null,null,null,null,null,null,null,null,null,null,null,null,null,null,null,null,null,null,null,null,null,null,null,null,null,null,null,null,null,null,null,null,null,null,null,null,null,null,null,null,null,null,null,null,null,null,null,null,null,null,null,null,null,null,null,null,null,null,null,null,null,null,null,null,null,null,null,null,null,null,null,null,null,null,null,null,null,null,null,null,null,null,null,null,null,null,null,null,null,null,null,null,null,null,null,null,null,null,null,null,null,null,null,null,null,null,null,null,null,null,null,null,null,null,null,null,null,null,null,null,null,null,null,null,null,null,null,null,null,null,null,null,null,null,null,null,null,null,null,null,null,null,null,null,null,null,null,null,null,null,null,null,null,null,null,null,null,null,null,null,null,null,null,null,null,null,null,null,null,null,null,null,null,null,null,null,null,null,null,null,null,null,null,null,null,null,null,null,null,null,null,null,null,null,null,null,null,null,null,null,null,null,null,null,null,null,null,null,null,null,null,null,null,null,null,null,null,null,null,null,null,null,null,null,null,null,null,null,null,null,null,null,null,null,null,null,null,null,null,null,null,null,null,null,null,null,null,null,null,null,null,null,null,null,null,null,null,null,null,null,null,null,null,null,null,null,null,null,null,null,null,null,null,null,null,null,null,null,null,null,null,null,null,null,null,null,null,null,null,null,null,null,null,null,null,null,null,null,null,null,null,null,null,null,null,null,null,null,null,null,null,null,null,null,null,null,null,null,null,null,null,null,null,null,null,null,null,null,null,null,null,null,null,null,null,null,null,null,null,null,null,null,null,null,null,null,null,null,null,null,null,null,null,null,null,null,null,null,null,null,null,null,null,null,null,null,null,null,null,null,null,null,null,null,null,null,null,null,null,null,null,null,null,null,null,null,null,null,null,null,null,null,null,null,null,null,null,null,null,null,null,null,null,null,null,null,null,null,null,null,null,null,null,null,null,null,null,null,null,null,null,null,null,null,null,null,null,null,null,null,null,null,null,null,null,null,null,null,null,null,null,null,null,null,null,null,null,null,null,null,null,null,null,null,null,null,null,null,null,null,null,null,null,null,null,null,null,null,null,null,null,null,null,null,null,null,null,null,null,null,null,null,null,null,null,null,null,null,null,null,null,null,null,null,null,null,null,null,null,null,null,null,null,null,null,null,null,null,null,null,null,null,null,null,null,null,null,null,null,null,null,null,null,null,null,null,null,null,null,null,null,null,null,null,null,null,null,null,null,null,null,null,null,null,null,null,null,null,null,null,null,null,null,null,null,null,null,null,null,null,null,null,null,null,null,null,null,null,null,null,null,null,null,null,null,null,null,null,null,null,null,null,null,null,null,null,null,null,null,null,null,null,null,null,null,null,null,null,null,null,null,null,null,null,null,null,null,null,null,null,null,null,null,null,null,null,null,null,null,null,null,null,null,null,null,null,null,null,null,null,null,null,null,null,null,null,null,null,null,null,null,null,null,null,null,null,null,null,null,null,null,null,null,null,null,null,null,null,null,null,null,null,null,null,null,null,null,null,null,null,null,null,null,null,null,null,null,null,null,null,null,null,null,null,null,null,null,null,null,null,null,null,null,null,null,null,null,null,null,null,null,null,null,null,null,null,null,null,null,null,null,null,null,null,null,null,null,null,null,null,null,null,null,null,null,null,null,null,null,null,null,null,null,null,null,null,null,null,null,null,null,null,null,null,null,null,null,null,null,null,null,null,null,null,null,null,null,null,null,null,null,null,null,null,null,null,null,null,null,null,null,null,null,null,null,null,null,null,null,null,null,null,null,null,null,null,null,null,null,null,null,null,null,null,null,null,null,null,null,null,null,null,null,null,null,null,null,null,null,null,null,null,null,null,null,null,null,null,null,null,null,null,null,null,null,null,null,null,null,null,null,null,null,null,null,null,null,null,null,null,null,null,null,null,null,null,null,null,null,null,null,null,null,null,null,null,null,null,null,null,null,null,null,null,null,null,null,null,null,null,null,null,null,null,null,null,null,null,null,null,null,null,null,null,null,null,null,null,null,null,null,null,null,null,null,null,null,null,null,null,null,null,null,null,null,null,null,null,null,null,null,null,null,null,null,null,null,null,null,null,null,null,null,null,null,null,null,null,null,null,null,null,null,null,null,null,null,null,null,null,null,null,null,null,null,null,null,null,null,null,null,null,null,null,null,null,null,null,null,null,null,null,null,null,null,null,null,null,null,null,null,null,null,null,null,null,null,null,null,null,null,null,null,null,null,null,null,null,null,null,null,null,null,null,null,null,null,null,null,null,null,null,null,null,null,null,null,null,null,null,null,null,null,null,null,null,null,null,null,null,null,null,null,null,null,null,null,null,null,null,null,null,null,null,null,null,null,null,null,null,null,null,null,null,null,null,null,null,null,null,null,null,null,null,null,null,null,null,null,null,null,null,null,null,null,null,null,null,null,null,null,null,null,null,null,null,null,null,null,null,null,null,null,null,null,null,null,null,null,null,null,null,null,null,null,null,null,null,null,null,null,null,null,null,null,null,null,null,null,null,null,null,null,null,null,null,null,null,null,null,null,null,null,null,null,null,null,null,null,null,null,null,null,null,null,null,null,null,null,null,null,null,null,null,null,null,null,null,null,null,null,null,null,null,null,null,null,null,null,null,null,null,null,null,null,null,null,null,null,null,null,null,null,null,null,null,null,null,null,null,null,null,null,null,null,null,null,null,null,null,null,null,null,null,null,null,null,null,null,null,null,null,null,null,null,null,null,null,null,null,null,null,null,null,null,null,null,null,null,null,null,null,null,null,null,null,null,null,null,null,null,null,null,null,null,null,null,null,null,null,null,null,null,null,null,null,null,null,null,null,null,null,null,null,null,null,null,null,null,null,null,null,null,null,null,null,null,null,null,null,null,null,null,null,null,null,null,null,null,null,null,null,null,null,null,null,null,null,null,null,null,null,null,null,null,null,null,null,null,null,null,null,null,null,null,null,null,null,null,null,null,null,null,null,null,null,null,null,null,null,null,null,null,null,null,null,null,null,null,null,null,null,null,null,null,null,null,null,null,null,null,null,null,null,null,null,null,null,null,null,null,null,null,null,null,null,null,null,null,null,null,null,null,null,null,null,null,null,null,null,null,null,null,null,null,null,null,null,null,null,null,null,null,null,null,null,null,null,null,null,null,null,null,null,null,null,null,null,null,null,null,null,null,null,null,null,null,null,null,null,null,null,null,null,null,null,null,null,null,null,null,null,null,null,null,null,null,null,null,null,null,null,null,null,null,null,null,null,null,null,null,null,null,null,null,null,null,null,null,null,null,null,null,null,null,null,null,null,null,null,null,null,null,null,null,null,null,null,null,null,null,null,null,null,null,null,null,null,null,null,null,null,null,null,null,null,null,null,null,null,null,null,null,null,null,null,null,null,null,null,null,null,null,null,null,null,null,null,null,null,null,null,null,null,null,null,null,null,null,null,null,null,null,null,null,null,null,null,null,null,null,null,null,null,null,null,null,null,null,null,null,null,null,null,null,null,null,null,null,null,null,null,null,null,null,null,null,null,null,null,null,null,null,null,null,null,null,null,null,null,null,null,null,null,null,null,null,null,null,null,null,null,null,null,null,null,null,null,null,null,null,null,null,null,null,null,null,null,null,null,null,null,null,null,null,null,null,null,null,null,null,null,null,null,null,null,null,null,null,null,null,null,null,null,null,null,null,null,null,null,null,null,null,null,null,null,null,null,null,null,null,null,null,null,null,null,null,null,null,null,null,null,null,null,null,null,null,null,null,null,null,null,null,null,null,null,null,null,null,null,null,null,null,null,null,null,null,null,null,null,null,null,null,null,null,null,null,null,null,null,null,null,null,null,null,null,null,null,null,null,null,null,null,null,null,null,null,null,null,null,null,null,null,null,null,null,null,null,null,null,null,null,null,null,null,null,null,null,null,null,null,null,null,null,null,null,null,null,null,null,null,null,null,null,null,null,null,null,null,null,null,null,null,null,null,null,null,null,null,null,null,null,null,null,null,null,null,null,null,null,null,null,null,null,null,null,null,null,null,null,null,null,null,null,null,null,null,null,null,null,null,null,null,null,null,null,null,null,null,null,null,null,null,null,null,null,null,null,null,null,null,null,"pagando"]
[null,null,null,null,"RPVs   autuadas a partir de 2016"]
[]
["RPVs       PAGAS",null,"REQUSIÇÃO DE PEQUENO VALOR",null,null,null,null,"PAGAMENTO",null,null,null,null,null,"PROCESSO DE ORIGEM",null,null,null,null,"TIPO DE CAUSA","ÓRGÃO DE ORIGEM","ENTIDADE DEVEDORA",null,"EXECUÇÃO",null,null,null,"R E Q U E R E N T E",null,null,null,null,"A D V O G A D O S",null,null,null,null,null,null,"VALORES REQUISITADOS - (face)",null,null,null,null,null,null,null,null,null,null,null,null,null,null,null,null,null,null,null,"VALORES A BLOQUEAR a ÉPOCA DO PGTO",null,null,null,null,null,null,null,null,null,null,null,null,null,null,null,null,"INDICADORES DA RPV",null,null,null,null,null,null,null,null,null,"Atuada em","RPVS PAGAS ",null,null,null,null,null,null,null,null,null,null,null,null,null,null,"RPVs autuadas",null,null,null,null,null,null,null,"ATUALIZADAS PARA PAGAMENTO",null,null,null,null,{"$f":"TODAY()","v":"2020-01-03"},null,null,"PENDENTES DE PAGAMENTO",null,null,null,null,{"$f":"DK7","v":"2020-01-03"},null,"utlima rpv autuada"]
[null,null,null,null,null,null,null,null,null,null,null,null,null,null,null,null,null,null,null,null,null,null,null,null,null,null,null,null,null,null,null,null,null,null,null,null,null,null,null,null,null,null,null,null,null,null,null,null,null,null,null,null,null,null,null,null,null,null,null,null,null,null,null,null,null,null,null,null,null,null,null,null,null,null,null,null,null,null,null,null,null,null,null,null,null,null,null,null,null,null,null,null,null,"T O T A L",null,"ALIMENTAR",null,"COMUM",null,null,null,null,null,null,null,null,null,null,null,"variação do","T O T A L",null,"ALIMENTAR",null,"COMUM",null,null,"variação do","T O T A L",null,"ALIMENTAR",null,"COMUM"]
[null,"Nº","Classe","Nº","Registro   STJ","Autuado em",null,"STATUS","S I T U A Ç Ã O","data do PGTO","BLOQUEIO",null,null,"Ação","Registro","Ajuizada em","Trânsito",null,null,null,null,null,null,null,null,null,"DADOS PESSOAIS",null,null,"CRÉDITO",null,"% hon","ADVOGADO I","CPF / CNPJ","ADVOGADO II","CPF / CNPJ","% hon","Origem do crédito","Parâmetros para atualização",null,null,"TOTAL REQUISITADO",null,null,"adv I",null,null,"adv II",null,null,"Reqte",null,null,"DESCONTOS",null,null,null,null,"Motivo","TOTAL",null,null,"ADV  I",null,null,"ADV  II",null,null,"REQTE",null,null,"DESCONTOS",null,null,null,"Tributário","EC 94 2016","Lei 13.463 2017","PRC/RPV de origem","Nº DA GRU","DOENÇA GRAVE","Deficiência física","Isento de IR","% de hon adv",null,null,"Data base","Data do pgto","Fator","Reqte","Adv I","Adv II","Total","QTDE","TOTAL","QTDE","TOTAL","QTDE","TOTAL",null,null,"qtde","valor total","qtde alimentar","alimentar","qtde comum","comum",null,null,"indice","VALOR","QTDE","QTDE","TOTAL","QTDE","TOTAL",null,"indice","VALOR","QTDE","QTDE","TOTAL","QTDE","TOTAL"]
[null,null,null,null,null,null,null,null,null,null,null,null,null,null,null,null,null,null,null,null,null,null,"PROCESSO","Registro","Trânsito",null,"Nome","CPF / CNPJ","Situação Funcional","Origem do crédito","NATUREZA",null,null,null,null,null,null,null,"Índice aplicado","data base","Valor histórico","principal","juros","TOTAL","principal","juros","subtotal","principal","juros","subtotal","principal","juros","subtotal","Base PSSS","Desc PSSS","Patronal","NMA","Desc RRA",null,"Principal","juros","subtotal","Principal","juros","subtotal","Principal","juros","subtotal","Principal","juros","subtotal","BASE","DESC","PATRONAL","RRA",null,null,null,null,null,null,null,null,null,null,null,null,null,null,null,null,null,null,{"$f":"SUM(CP12:CP2073)","v":1994},{"$error":"#REF!"},1985,{"$error":"#REF!"},9,5684.45,null,null,{"$f":"SUM(CX12:CX3972)","v":3723},{"$f":"SUM(CY12:CY3972)","v":55050202.580000632},{"$f":"SUM(CZ12:CZ3972)","v":3683},{"$f":"SUM(DA12:DA3972)","v":54910700.630000643},{"$f":"SUM(DB12:DB2073)","v":9},{"$f":"SUM(DC12:DC2073)","v":5417.54},null,null,{"$f":"VLOOKUP(DK7,indice,3)","v":{"$error":"#REF!"}},{"$f":"SUM(DG12:DG3972)","v":0},0,0,0,0,0,null,{"$f":"VLOOKUP(DS7,indice,3)","v":{"$error":"#REF!"}},{"$f":"SUM(DO12:DO3972)","v":{"$error":"#REF!"}},1427,{"$error":"#REF!"},{"$error":"#REF!"},{"$error":"#REF!"},{"$error":"#REF!"},9141]
[]
[{"$f":"#REF!","v":{"$error":"#REF!"}},{"$f":"IF(D12=\"\",\"\",D12)","v":2452},"RPV",2452,"2016/0099369-6","2016-04-05",null,"Aguardando Pagamento","sem verba para pgto","",null,null,null,"MS 6.864/DF",null,"2000-04-04","2006-05-03",null,"Administrativo - Servidor Público Civil - Sistema Remuneratório e Benefícios","Ministério do Planejamento, Orçamento e Gestão","Instituto Nacional do Seguro Social - INSS",null,"Mandado de Segurança 6.864/DF","2007/0262201-0","2014-09-24",null,"Alfredo Francisco Alvarez Marcos ","001.513.351-68","Pensionista Civil","Reajuste 3,17% - Lei 8.880/94","Alimentar",null,"Mota & Advogados Associados","03.996.810/0001-38","-","-",null,"Dedução de Honorários Contratuais","IPCA-e","2015-03-01",2.7727708322354001,null,"",19226.849999999999,0,1153.6099999999999,1153.6099999999999,0,0,0,0,{"$error":"#VALUE!"},18073.239999999998,0,0,0,23,0,null,null,null,null,null,null,null,null,null,null,null,null,null,null,null,null,null,"Não","Não","Não","-","-","Não informado","Não informado","Não",6,10,4,"","","",0,0,0,0,0,0,0,0,0,0,null,null,1,19226.849999999999,1,19226.849999999999,0,0,null,null,0,0,0,0,0,0,0,null,"2019-11-07",24363.167649873889,1,1,24363.167649873889,0,0,0,2016]
[{"$f":"#REF!","v":{"$error":"#REF!"}},{"$f":"IF(D13=\"\",\"\",D13)","v":2453},"RPV",2453,"2016/0099370-0","2016-04-05",null,"Aguardando Pagamento","sem verba para pgto","",null,null,null,"MS 6.864/DF",null,"2000-04-04","2006-05-03",null,"Administrativo - Servidor Público Civil - Sistema Remuneratório e Benefícios","Ministério do Planejamento, Orçamento e Gestão","Instituto Nacional do Seguro Social - INSS",null,"Mandado de Segurança 6.864/DF","2007/0262201-0","2014-09-24",null,"Creuza Da Costa Araujo ","692.805.921-49","Pensionista Civil","Reajuste 3,17% - Lei 8.880/94","Alimentar",null,"Mota & Advogados Associados","03.996.810/0001-38","-","-",null,"Dedução de Honorários Contratuais","IPCA-e","2015-03-01",2.7727708322354001,null,"",27859.34,0,1671.56,1671.56,0,0,0,0,{"$error":"#VALUE!"},26187.78,0,0,0,47,0,null,null,null,null,null,null,null,null,null,null,null,null,null,null,null,null,null,"Não","Não","Não","-","-","Não informado","Não informado","Não",6,10,4,"","","",0,0,0,0,0,0,0,0,0,0,null,null,1,27859.34,1,27859.34,0,0,null,null,0,0,0,0,0,0,0,null,"2019-11-07",35301.766593843386,1,1,35301.766593843386,0,0,0,2016]
[{"$f":"#REF!","v":{"$error":"#REF!"}},2454,"RPV",2454,"2016/0099376-1","2016-04-05",null,"Aguardando Pagamento","sem verba para pgto","",null,null,null,"MS 6.864/DF",null,"2000-04-04","2006-05-03",null,"Administrativo - Servidor Público Civil - Sistema Remuneratório e Benefícios","Ministério do Planejamento, Orçamento e Gestão","Instituto Nacional do Seguro Social - INSS",null,"Mandado de Segurança 6.864/DF","2007/0262201-0","2014-09-24",null,"Eliene Audrey Arantes Correa","114.308.931-68","Pensionista Civil","Reajuste 3,17% - Lei 8.880/94","Alimentar",null,"Mota & Advogados Associados","03.996.810/0001-38","-","-",null,"Dedução de Honorários Contratuais","IPCA-e","2015-03-01",2.7727708322354001,null,"",5169.4399999999996,0,310.16000000000003,310.16000000000003,0,0,0,0,{"$error":"#VALUE!"},4859.28,0,0,0,47,0,null,null,null,null,null,null,null,null,null,null,null,null,null,null,null,null,null,"Não","Não","Não","-","-","Não informado","Não informado","Não",6,10,4,"","","",0,0,0,0,0,0,0,0,0,0,null,null,1,5169.4399999999996,1,5169.4399999999996,0,0,null,null,0,0,0,0,0,0,0,null,"2019-11-07",6550.4195110464834,1,1,6550.4195110464834,0,0,0,2016]
[{"$f":"#REF!","v":{"$error":"#REF!"}},2457,"RPV",2457,"2016/0099391-4","2016-04-05",null,"Aguardando Pagamento","sem verba para pgto","",null,null,null,"MS 6.864/DF",null,"2000-04-04","2006-05-03",null,"Administrativo - Servidor Público Civil - Sistema Remuneratório e Benefícios","Ministério do Planejamento, Orçamento e Gestão","Instituto Nacional do Seguro Social - INSS",null,"Mandado de Segurança 6.864/DF","2007/0262201-0","2014-09-24",null,"Josina Neves Braz ","309.817.941-49","Pensionista Civil","Reajuste 3,17% - Lei 8.880/94","Alimentar",null,"Mota & Advogados Associados","03.996.810/0001-38","-","-",null,"Dedução de Honorários Contratuais","IPCA-e","2015-03-01",2.7727708322354001,null,"",41572.25,0,2494.33,2494.33,0,0,0,0,{"$error":"#VALUE!"},39077.919999999998,0,0,0,47,0,null,null,null,null,null,null,null,null,null,null,null,null,null,null,null,null,null,"Não","Não","Não","-","-","Não informado","Não informado","Não",6,10,4,"","","",0,0,0,0,0,0,0,0,0,0,null,null,1,41572.25,1,41572.25,0,0,null,null,0,0,0,0,0,0,0,null,"2019-11-07",52677.983982424055,1,1,52677.983982424055,0,0,0,2016]
[{"$f":"#REF!","v":{"$error":"#REF!"}},2458,"RPV",2458,"2016/0099396-3","2016-04-05",null,"Aguardando Pagamento","sem verba para pgto","",null,null,null,"MS 6.864/DF",null,"2000-04-04","2006-05-03",null,"Administrativo - Servidor Público Civil - Sistema Remuneratório e Benefícios","Ministério do Planejamento, Orçamento e Gestão","Instituto Nacional do Seguro Social - INSS",null,"Mandado de Segurança 6.864/DF","2007/0262201-0","2014-09-24",null,"Lucival Celso Da Costa Araujo ","116.697.721-87","Pensionista Civil","Reajuste 3,17% - Lei 8.880/94","Alimentar",null,"Mota & Advogados Associados","03.996.810/0001-38","-","-",null,"Dedução de Honorários Contratuais","IPCA-e","2015-03-01",2.7727708322354001,null,"",27859.34,0,1671.56,1671.56,0,0,0,0,{"$error":"#VALUE!"},26187.78,0,0,0,47,0,null,null,null,null,null,null,null,null,null,null,null,null,null,null,null,null,null,"Não","Não","Não","-","-","Não informado","Não informado","Não",6,10,4,"","","",0,0,0,0,0,0,0,0,0,0,null,null,1,27859.34,1,27859.34,0,0,null,null,0,0,0,0,0,0,0,null,"2019-11-07",35301.766593843386,1,1,35301.766593843386,0,0,0,2016]
[{"$f":"#REF!","v":{"$error":"#REF!"}},2461,"RPV",2461,"2016/0099425-3","2016-04-05",null,"Aguardando Pagamento","sem verba para pgto","",null,null,null,"MS 6.864/DF",null,"2000-04-04","2006-05-03",null,"Administrativo - Servidor Público Civil - Sistema Remuneratório e Benefícios","Ministério do Planejamento, Orçamento e Gestão","Instituto Nacional do Seguro Social - INSS",null,"Mandado de Segurança 6.864/DF","2007/0262201-0","2014-09-24",null,"Maria Do Carmo Pereira ","664.597.888-04","Pensionista Civil","Reajuste 3,17% - Lei 8.880/94","Alimentar",null,"Mota & Advogados Associados","03.996.810/0001-38","-","-",null,"Dedução de Honorários Contratuais","IPCA-e","2015-03-01",2.7727708322354001,null,"",10809.67,0,648.58000000000004,648.58000000000004,0,0,0,0,{"$error":"#VALUE!"},10161.09,0,0,0,47,0,null,null,null,null,null,null,null,null,null,null,null,null,null,null,null,null,null,"Não","Não","Não","-","-","Não informado","Não informado","Não",6,10,4,"","","",0,0,0,0,0,0,0,0,0,0,null,null,1,10809.67,1,10809.67,0,0,null,null,0,0,0,0,0,0,0,null,"2019-11-07",13697.397256951206,1,1,13697.397256951206,0,0,0,2016]
[{"$f":"#REF!","v":{"$error":"#REF!"}},2463,"RPV",2463,"2016/0099433-0","2016-04-05",null,"Aguardando Pagamento","sem verba para pgto","",null,null,null,"MS 6.864/DF",null,"2000-04-04","2006-05-03",null,"Administrativo - Servidor Público Civil - Sistema Remuneratório e Benefícios","Ministério do Planejamento, Orçamento e Gestão","Instituto Nacional do Seguro Social - INSS",null,"Mandado de Segurança 6.864/DF","2007/0262201-0","2014-09-24",null,"Vania Maria Galdino De Carvalho ","223.972.723-34","Pensionista Civil","Reajuste 3,17% - Lei 8.880/94","Alimentar",null,"Mota & Advogados Associados","03.996.810/0001-38","-","-",null,"Dedução de Honorários Contratuais","IPCA-e","2015-03-01",2.7727708322354001,null,"",26237.03,0,1574.22,1574.22,0,0,0,0,{"$error":"#VALUE!"},24662.809999999998,0,0,0,47,0,null,null,null,null,null,null,null,null,null,null,null,null,null,null,null,null,null,"Não","Não","Não","-","-","Não informado","Não informado","Não",6,10,4,"","","",0,0,0,0,0,0,0,0,0,0,null,null,1,26237.03,1,26237.03,0,0,null,null,0,0,0,0,0,0,0,null,"2019-11-07",33246.067895925269,1,1,33246.067895925269,0,0,0,2016]
[{"$f":"#REF!","v":{"$error":"#REF!"}},2464,"RPV",2464,"2016/0099440-6","2016-04-05",null,"Aguardando Pagamento","sem verba para pgto","",null,null,null,"MS 6.864/DF",null,"2000-04-04","2006-05-03",null,"Administrativo - Servidor Público Civil - Sistema Remuneratório e Benefícios","Ministério do Planejamento, Orçamento e Gestão","Instituto Nacional do Seguro Social - INSS",null,"Mandado de Segurança 6.864/DF","2007/0257613-7","2014-09-24",null,"Adelia Maria De Araujo ","024.056.097-38","Pensionista Civil","Reajuste 3,17% - Lei 8.880/94","Alimentar",null,"Mota & Advogados Associados","03.996.810/0001-38","-","-",null,"Dedução de Honorários Contratuais","IPCA-e","2015-01-01",2.71223809881789,null,"",15963.78,0,957.82,957.82,0,0,0,0,{"$error":"#VALUE!"},15005.960000000001,0,0,0,23,0,null,null,null,null,null,null,null,null,null,null,null,null,null,null,null,null,null,"Não","Não","Não","-","-","Não informado","Não informado","Não",6,10,4,"","","",0,0,0,0,0,0,0,0,0,0,null,null,1,15963.78,1,15963.78,0,0,null,null,0,0,0,0,0,0,0,null,"2019-11-07",20679.85619164932,1,1,20679.85619164932,0,0,0,2016]
[{"$f":"#REF!","v":{"$error":"#REF!"}},2606,"RPV",2606,"2016/0112977-6","2016-04-18",null,"Aguardando Pagamento","sem verba para pgto","",null,null,null,"MS 6.864/DF",null,"2000-04-04","2006-05-03",null,"Administrativo - Servidor Público Civil - Sistema Remuneratório e Benefícios","Ministério do Planejamento, Orçamento e Gestão","Instituto Nacional do Seguro Social - INSS",null,"Mandado de Segurança 6.864/DF","2007/0260595-5","2014-09-25",null,"Clarice Sillos De Castro ","883.860.236-00","Pensionista Civil","Reajuste 3,17% - Lei 8.880/94","Alimentar",null,"Mota & Advogados Associados","03.996.810/0001-38","-","-",null,"Dedução de Honorários Contratuais","IPCA-e","2015-02-01",2.7363770178973601,null,"",25344.87,0,1520.69,1520.69,0,0,0,0,{"$error":"#VALUE!"},23824.18,0,0,0,47,0,null,null,null,null,null,null,null,null,null,null,null,null,null,null,null,null,null,"Não","Não","Não","-","-","Não informado","Não informado","Não",6,10,4,"","","",0,0,0,0,0,0,0,0,0,0,null,null,1,25344.87,1,25344.87,0,0,null,null,0,0,0,0,0,0,0,null,"2019-11-07",32542.710760664802,1,1,32542.710760664802,0,0,0,2016]
[{"$f":"#REF!","v":{"$error":"#REF!"}},2607,"RPV",2607,"2016/0112978-8","2016-04-18",null,"Aguardando Pagamento","sem verba para pgto","",null,null,null,"MS 6.864/DF",null,"2000-04-04","2006-05-03",null,"Administrativo - Servidor Público Civil - Sistema Remuneratório e Benefícios","Ministério do Planejamento, Orçamento e Gestão","Instituto Nacional do Seguro Social - INSS",null,"Mandado de Segurança 6.864/DF","2007/0260595-5","2014-09-25",null,"Claudia Mariza Moreira Marinho ","248.223.886-20","Pensionista Civil","Reajuste 3,17% - Lei 8.880/94","Alimentar",null,"Mota & Advogados Associados","03.996.810/0001-38","-","-",null,"Dedução de Honorários Contratuais","IPCA-e","2015-02-01",2.7363770178973601,null,"",27890.37,0,1673.42,1673.42,0,0,0,0,{"$error":"#VALUE!"},26216.949999999997,0,0,0,47,0,null,null,null,null,null,null,null,null,null,null,null,null,null,null,null,null,null,"Não","Não","Não","-","-","Não informado","Não informado","Não",6,10,4,"","","",0,0,0,0,0,0,0,0,0,0,null,null,1,27890.37,1,27890.37,0,0,null,null,0,0,0,0,0,0,0,null,"2019-11-07",35811.122484270891,1,1,35811.122484270891,0,0,0,2016]
[{"$f":"#REF!","v":{"$error":"#REF!"}},2608,"RPV",2608,"2016/0112981-6","2016-04-18",null,"Paga","Paga - MAI/2019 - 1ª remessa","2019-05-01","NÃO",null,null,"MS 6.864/DF",null,"2000-04-04","2006-05-03",null,"Administrativo - Servidor Público Civil - Sistema Remuneratório e Benefícios","Ministério do Planejamento, Orçamento e Gestão","Instituto Nacional do Seguro Social - INSS",null,"Mandado de Segurança 6.864/DF","2007/0260595-5","2014-09-25",null,"Claudia Stark Aroeira ","565.846.876-00","Pensionista Civil","Reajuste 3,17% - Lei 8.880/94","Alimentar",null,"Mota & Advogados Associados","03.996.810/0001-38","-","-",null,"Dedução de Honorários Contratuais","IPCA-e","2015-02-01",2.7363770178973601,8726.7199999999993,13136.42,21863.14,523.6,788.18,1311.78,0,0,0,8203.119999999999,12348.24,20551.36,0,0,0,47,0,null,null,null,null,null,null,null,null,null,null,null,null,null,null,null,null,null,"Não","Não","Não","-","-","Não informado","Não informado","Não",6,10,4,"2015-02-01","2019-05-01",1.2742845526013671,26188.28,1671.58,0,27859.86,1,27859.86,1,27859.86,0,0,null,null,1,21863.14,1,21863.14,0,0,null,null,0,0,0,0,0,0,0,null,"",0,0,0,0,0,0,0,2016]
[{"$f":"#REF!","v":{"$error":"#REF!"}},2611,"RPV",2611,"2016/0112993-0","2016-04-18",null,"Paga","Paga - out/2018 - 1ª remessa","2018-10-01","NÃO",null,null,"MS 6.864/DF",null,"2000-04-04","2006-05-03",null,"Administrativo - Servidor Público Civil - Sistema Remuneratório e Benefícios","Ministério do Planejamento, Orçamento e Gestão","Instituto Nacional do Seguro Social - INSS",null,"Mandado de Segurança 6.864/DF","2007/0260633-4","2014-09-25",null,"Guido Dornas Sobrinho ","023.664.126-30","Pensionista Civil","Reajuste 3,17% - Lei 8.880/94","Alimentar",null,"Mota & Advogados Associados","03.996.810/0001-38","-","-",null,"Dedução de Honorários Contratuais","IPCA-e","2015-01-01",2.71223809881789,2661.78,4006.6599999999994,6668.44,159.69999999999999,240.40000000000003,400.1,0,0,0,2502.0800000000004,3766.2599999999993,6268.3399999999992,0,0,0,47,0,null,null,null,null,null,null,null,null,null,null,null,null,null,null,null,null,null,"Não","Não","Não","-","-","Não informado","Não informado","Não",6,10,4,"2015-01-01","2018-10-01",1.2538463861200773,7859.53,501.66,0,8361.19,1,8361.19,1,8361.19,0,0,null,null,1,6668.44,1,6668.44,0,0,null,null,0,0,0,0,0,0,0,null,"",0,0,0,0,0,0,0,2016]
[{"$f":"#REF!","v":{"$error":"#REF!"}},2612,"RPV",2612,"2016/0112997-8","2016-04-18",null,"Aguardando Pagamento","sem verba para pgto","",null,null,null,"MS 6.864/DF",null,"2000-04-04","2006-05-03",null,"Administrativo - Servidor Público Civil - Sistema Remuneratório e Benefícios","Ministério do Planejamento, Orçamento e Gestão","Instituto Nacional do Seguro Social - INSS",null,"Mandado de Segurança 6.864/DF","2007/0260633-4","2014-09-25",null,"Herculina Alves Lopes ","439.910.766-91","Pensionista Civil","Reajuste 3,17% - Lei 8.880/94","Alimentar",null,"Mota & Advogados Associados","03.996.810/0001-38","-","-",null,"Dedução de Honorários Contratuais","IPCA-e","2015-01-01",2.71223809881789,8587.89,12939.600000000002,21527.49,515.27,776.37000000000012,1291.6400000000001,0,0,0,8072.619999999999,12163.230000000001,20235.850000000002,0,0,0,47,0,null,null,null,null,null,null,null,null,null,null,null,null,null,null,null,null,null,"Não","Não","Não","-","-","Não informado","Não informado","Não",6,10,4,"","","",0,0,0,0,0,0,0,0,0,0,null,null,1,21527.49,1,21527.49,0,0,null,null,0,0,0,0,0,0,0,null,"2019-11-07",27887.217022983834,1,1,27887.217022983834,0,0,0,2016]
[{"$f":"#REF!","v":{"$error":"#REF!"}},2613,"RPV",2613,"2016/0113002-4","2016-04-18",null,"Paga","Paga - MAI/2019 - 1ª remessa","2019-05-01","NÃO",null,null,"MS 6.864/DF",null,"2000-04-04","2006-05-03",null,"Administrativo - Servidor Público Civil - Sistema Remuneratório e Benefícios","Ministério do Planejamento, Orçamento e Gestão","Instituto Nacional do Seguro Social - INSS",null,"Mandado de Segurança 6.864/DF","2007/0260633-4","2014-09-25",null,"Ilka Pereira Coutinho ","175.333.256-72","Pensionista Civil","Reajuste 3,17% - Lei 8.880/94","Alimentar",null,"Mota & Advogados Associados","03.996.810/0001-38","-","-",null,"Dedução de Honorários Contratuais","IPCA-e","2015-01-01",2.71223809881789,15487.56,23303.270000000004,38790.83,929.25,1398.19,2327.44,0,0,0,14558.31,21905.080000000005,36463.39,0,0,0,47,0,null,null,null,null,null,null,null,null,null,null,null,null,null,null,null,null,null,"Não","Não","Não","-","-","Não informado","Não informado","Não",6,10,4,"2015-01-01","2019-05-01",1.2856256851195149,46878.27,2992.21,0,49870.479999999996,1,49870.479999999996,1,49870.479999999996,0,0,null,null,1,38790.83,1,38790.83,0,0,null,null,0,0,0,0,0,0,0,null,"",0,0,0,0,0,0,0,2016]
[{"$f":"#REF!","v":{"$error":"#REF!"}},2614,"RPV",2614,"2016/0113003-6","2016-04-18",null,"Paga","Paga - MAI/2019 - 1ª remessa","2019-05-01","NÃO",null,null,"MS 6.864/DF",null,"2000-04-04","2006-05-03",null,"Administrativo - Servidor Público Civil - Sistema Remuneratório e Benefícios","Ministério do Planejamento, Orçamento e Gestão","Instituto Nacional do Seguro Social - INSS",null,"Mandado de Segurança 6.864/DF","2007/0260633-4","2014-09-25",null,"Ilza Soares Lacerda ","008.018.876-15","Pensionista Civil","Reajuste 3,17% - Lei 8.880/94","Alimentar",null,"Mota & Advogados Associados","03.996.810/0001-38","-","-",null,"Dedução de Honorários Contratuais","IPCA-e","2015-01-01",2.71223809881789,7964.81,12067.8,20032.61,477.88,724.07,1201.95,0,0,0,7486.93,11343.73,18830.66,0,0,0,47,0,null,null,null,null,null,null,null,null,null,null,null,null,null,null,null,null,null,"Não","Não","Não","-","-","Não informado","Não informado","Não",6,10,4,"2015-01-01","2019-05-01",1.2856256851195149,24209.18,1545.25,0,25754.43,1,25754.43,1,25754.43,0,0,null,null,1,20032.61,1,20032.61,0,0,null,null,0,0,0,0,0,0,0,null,"",0,0,0,0,0,0,0,2016]
[{"$f":"#REF!","v":{"$error":"#REF!"}},2615,"RPV",2615,"2016/0113004-8","2016-04-18",null,"Aguardando Pagamento","sem verba para pgto","",null,null,null,"MS 6.864/DF",null,"2000-04-04","2006-05-03",null,"Administrativo - Servidor Público Civil - Sistema Remuneratório e Benefícios","Ministério do Planejamento, Orçamento e Gestão","Instituto Nacional do Seguro Social - INSS",null,"Mandado de Segurança 6.864/DF","2007/0260633-4","2014-09-25",null,"Iracema Arantes Correa ","477.577.606-15","Pensionista Civil","Reajuste 3,17% - Lei 8.880/94","Alimentar",null,"Mota & Advogados Associados","03.996.810/0001-38","-","-",null,"Dedução de Honorários Contratuais","IPCA-e","2015-01-01",2.71223809881789,7120.59,10779.669999999998,17900.259999999998,427.23,646.78,1074.01,0,0,0,6693.3600000000006,10132.889999999998,16826.25,0,0,0,47,0,null,null,null,null,null,null,null,null,null,null,null,null,null,null,null,null,null,"Não","Não","Não","-","-","Não informado","Não informado","Não",6,10,4,"","","",0,0,0,0,0,0,0,0,0,0,null,null,1,17900.259999999998,1,17900.259999999998,0,0,null,null,0,0,0,0,0,0,0,null,"2019-11-07",23188.417943189685,1,1,23188.417943189685,0,0,0,2016]
[{"$f":"#REF!","v":{"$error":"#REF!"}},2616,"RPV",2616,"2016/0113006-1","2016-04-18",null,"Paga","Paga - MAI/2019 - 1ª remessa","2019-05-01","NÃO",null,null,"MS 6.864/DF",null,"2000-04-04","2006-05-03",null,"Administrativo - Servidor Público Civil - Sistema Remuneratório e Benefícios","Ministério do Planejamento, Orçamento e Gestão","Instituto Nacional do Seguro Social - INSS",null,"Mandado de Segurança 6.864/DF","2007/0260633-4","2014-09-25",null,"Irene Stark Aroeira ","118.368.576-91","Pensionista Civil","Reajuste 3,17% - Lei 8.880/94","Alimentar",null,"Mota & Advogados Associados","03.996.810/0001-38","-","-",null,"Dedução de Honorários Contratuais","IPCA-e","2015-01-01",2.71223809881789,8719.07,13124.91,21843.98,523.14,787.49000000000012,1310.6300000000001,0,0,0,8195.93,12337.42,20533.349999999999,0,0,0,47,0,null,null,null,null,null,null,null,null,null,null,null,null,null,null,null,null,null,"Não","Não","Não","-","-","Não informado","Não informado","Não",6,10,4,"2015-01-01","2019-05-01",1.2856256851195149,26398.2,1684.97,0,28083.170000000002,1,28083.170000000002,1,28083.170000000002,0,0,null,null,1,21843.98,1,21843.98,0,0,null,null,0,0,0,0,0,0,0,null,"",0,0,0,0,0,0,0,2016]
[{"$f":"#REF!","v":{"$error":"#REF!"}},2617,"RPV",2617,"2016/0113008-5","2016-04-18",null,"Aguardando Pagamento","sem verba para pgto","",null,null,null,"MS 6.864/DF",null,"2000-04-04","2006-05-03",null,"Administrativo - Servidor Público Civil - Sistema Remuneratório e Benefícios","Ministério do Planejamento, Orçamento e Gestão","Instituto Nacional do Seguro Social - INSS",null,"Mandado de Segurança 6.864/DF","2007/0260633-4","2014-09-25",null,"Iria Mudado Maletta ","482.465.496-34","Pensionista Civil","Reajuste 3,17% - Lei 8.880/94","Alimentar",null,"Mota & Advogados Associados","03.996.810/0001-38","-","-",null,"Dedução de Honorários Contratuais","IPCA-e","2015-01-01",2.71223809881789,10375.219999999999,16914.29,27289.51,622.51,1014.8599999999999,1637.37,0,0,0,9752.7099999999991,15899.43,25652.14,0,0,0,23,0,null,null,null,null,null,null,null,null,null,null,null,null,null,null,null,null,null,"Não","Não","Não","-","-","Não informado","Não informado","Não",6,10,4,"","","",0,0,0,0,0,0,0,0,0,0,null,null,1,27289.51,1,27289.51,0,0,null,null,0,0,0,0,0,0,0,null,"2019-11-07",35351.47329395519,1,1,35351.47329395519,0,0,0,2016]
[{"$f":"#REF!","v":{"$error":"#REF!"}},2618,"RPV",2618,"2016/0113010-1","2016-04-18",null,"Paga","Paga - MAI/2019 - 1ª remessa","2019-05-01","NÃO",null,null,"MS 6.864/DF",null,"2000-04-04","2006-05-03",null,"Administrativo - Servidor Público Civil - Sistema Remuneratório e Benefícios","Ministério do Planejamento, Orçamento e Gestão","Instituto Nacional do Seguro Social - INSS",null,"Mandado de Segurança 6.864/DF","2007/0260633-4","2014-09-25",null,"Isaura Cocenza Scarpa ","411.007.196-87","Pensionista Civil","Reajuste 3,17% - Lei 8.880/94","Alimentar",null,"Mota & Advogados Associados","03.996.810/0001-38","-","-",null,"Dedução de Honorários Contratuais","IPCA-e","2015-01-01",2.71223809881789,8187.77,13347.509999999998,21535.279999999999,491.26,800.84999999999991,1292.1099999999999,0,0,0,7696.51,12546.659999999998,20243.169999999998,0,0,0,23,0,null,null,null,null,null,null,null,null,null,null,null,null,null,null,null,null,null,"Não","Não","Não","-","-","Não informado","Não informado","Não",6,10,4,"2015-01-01","2019-05-01",1.2856256851195149,26025.13,1661.16,0,27686.29,1,27686.29,1,27686.29,0,0,null,null,1,21535.279999999999,1,21535.279999999999,0,0,null,null,0,0,0,0,0,0,0,null,"",0,0,0,0,0,0,0,2016]
[{"$f":"#REF!","v":{"$error":"#REF!"}},2652,"RPV",2652,"2016/0113091-0","2016-04-18",null,"Paga","Paga - MAI/2019 - 1ª remessa","2019-05-01","NÃO",null,null,"MS 6.864/DF",null,"2000-04-04","2006-05-03",null,"Administrativo - Servidor Público Civil - Sistema Remuneratório e Benefícios","Ministério do Planejamento, Orçamento e Gestão","Instituto Nacional do Seguro Social - INSS",null,"Mandado de Segurança 6.864/DF","2007/0260690-4","2014-09-25",null,"Juliana Dos Santos Fernandes Barbalho ","008.453.554-73","Pensionista Civil","Reajuste 3,17% - Lei 8.880/94","Alimentar",null,"Mota & Advogados Associados","03.996.810/0001-38","-","-",null,"Dedução de Honorários Contratuais","IPCA-e","2015-02-01",2.7363770178973601,2257.88,3690.3499999999995,5948.23,0,356.89,356.89,0,0,0,2257.88,3333.4599999999996,5591.3399999999992,0,0,0,22,0,null,null,null,null,null,null,null,null,null,null,null,null,null,null,null,null,null,"Não","Não","Não","-","-","Não informado","Não informado","Não",6,10,4,"2015-02-01","2019-05-01",1.2742845526013671,7124.95,454.77,0,7579.7199999999993,1,7579.7199999999993,1,7579.7199999999993,0,0,null,null,1,5948.23,1,5948.23,0,0,null,null,0,0,0,0,0,0,0,null,"",0,0,0,0,0,0,0,2016]
[{"$f":"#REF!","v":{"$error":"#REF!"}},2703,"RPV",2703,"2016/0119458-6","2016-04-26",null,"Aguardando Pagamento","sem verba para pgto","",null,null,null,"AR 1.169/CE",null,"1999-10-18","2004-06-07",null,"Administrativo - Servidor Público Civil - Sistema Remuneratório e Benefícios","Instituto Nacional do Seguro Social - INSS","Instituto Nacional do Seguro Social - INSS",null,"Ação Recisória nº 1.169/CE","2009/0055114-0","2014-05-20",null,"Deilde Sombra Ferreira ","016.736.023-04","Servidor Público Civil Ativo","Anuênios","Alimentar",null,"Glayddes Sindeaux Advogados","17.291.820/0001-82","-","-",null,"Dedução de Honorários Contratuais","IPCA-e","2015-08-01",2.89947614596139,null,"",35187.71,0,7037.54,7037.54,0,0,0,0,{"$error":"#VALUE!"},28150.17,5831.71,641.48,1282.96,111,641.48,null,null,null,null,null,null,null,null,null,null,null,null,null,null,null,null,null,"Não","Não","Não","-","-","Não informado","Não informado","Não",20,10,4,"","","",0,0,0,0,0,0,0,0,0,0,null,null,1,35187.71,1,35187.71,0,0,null,null,0,0,0,0,0,0,0,null,"2019-11-07",42639.397203640779,1,1,42639.397203640779,0,0,0,2016]
[{"$f":"#REF!","v":{"$error":"#REF!"}},2723,"RPV",2723,"2016/0126015-9","2016-05-02",null,"Aguardando Pagamento","sem verba para pgto","",null,null,null,"AR 1.169/CE",null,"1999-10-18","2004-06-07",null,"Administrativo - Servidor Público Civil - Sistema Remuneratório e Benefícios","Instituto Nacional do Seguro Social - INSS","Instituto Nacional do Seguro Social - INSS",null,"Ação Recisória nº 1.169/CE","2009/0055231-4","2014-12-04",null,"Edith Rossas Medeiros ","013.513.893-00","Servidor Público Civil Ativo","Anuênios","Alimentar",null,"Glayddes Sindeaux Advogados","17.291.820/0001-82","-","-",null,"Dedução de Honorários Contratuais","IPCA-e","2015-08-01",2.89947614596139,23125,18832.839999999997,41957.84,4625,3766.5599999999995,8391.56,0,0,0,18500,15066.279999999997,33566.28,41957.84,4615.3599999999997,9230.7199999999993,116,4615.3599999999997,null,null,null,null,null,null,null,null,null,null,null,null,null,null,null,null,null,"Não","Não","Não","-","-","Não informado","Não informado","Não",20,10,5,"","","",0,0,0,0,0,0,0,0,0,0,null,null,1,41957.84,1,41957.84,0,0,null,null,0,0,0,0,0,0,0,null,"2019-11-07",50843.234912610314,1,1,50843.234912610314,0,0,0,2016]
[{"$f":"#REF!","v":{"$error":"#REF!"}},2801,"RPV",2801,"2016/0133178-2","2016-05-09",null,"Paga","Paga - MAI/2019 - 1ª remessa","2019-05-01","NÃO",null,null,"MS 6.864/DF",null,"2000-04-04","2006-05-03",null,"Administrativo - Servidor Público Civil - Sistema Remuneratório e Benefícios","Ministério do Planejamento, Orçamento e Gestão","Instituto Nacional do Seguro Social - INSS",null,"Mandado de Segurança 6.864/DF","2007/0260754-6","2014-09-25",null,"Yvonne Lemos Rezende Monteiro","675.881.668-00","Pensionista Civil","Reajuste 3,17% - Lei 8.880/94","Alimentar",null,"Mota & Advogados Associados","03.996.810/0001-38","-","-",null,"Dedução de Honorários Contratuais","IPCA-e","2015-02-01",2.7363770178973601,10968.45,16541.599999999999,27510.05,658.1,992.49999999999989,1650.6,0,0,0,10310.35,15549.099999999999,25859.45,0,0,0,47,0,null,null,null,null,null,null,null,null,null,null,null,null,null,null,null,null,null,"Não","Não","Não","-","-","Não informado","Não informado","Não",6,10,5,"2015-02-01","2019-05-01",1.2742845526013671,32952.29,2103.33,0,35055.620000000003,1,35055.620000000003,1,35055.620000000003,0,0,null,null,1,27510.05,1,27510.05,0,0,null,null,0,0,0,0,0,0,0,null,"",0,0,0,0,0,0,0,2016]
[{"$f":"#REF!","v":{"$error":"#REF!"}},2812,"RPV",2812,"2016/0133234-0","2016-05-09",null,"Aguardando Pagamento","sem verba para pgto",null,null,null,null,"MS 6.864/DF",null,"2000-04-04","2006-05-03",null,"Administrativo - Servidor Público Civil - Sistema Remuneratório e Benefícios","Ministério do Planejamento, Orçamento e Gestão","Instituto Nacional do Seguro Social - INSS",null,"Mandado de Segurança 6.864/DF","2007/0261302-2","2014-09-24",null,"Odette Curi Kachan Faria ","038.240.638-91","Pensionista Civil","Reajuste 3,17% - Lei 8.880/94","Alimentar",null,"Mota & Advogados Associados","03.996.810/0001-38","-","-",null,"Dedução de Honorários Contratuais","IPCA-e","2015-03-01",2.7727708322354001,null,"",25049.79,0,1502.98,1502.98,0,0,0,0,{"$error":"#VALUE!"},23546.81,0,0,0,47,0,null,null,null,null,null,null,null,null,null,null,null,null,null,null,null,null,null,"Não","Não","Não","-","-","Não informado","Não informado","Não",6,10,5,"","","",0,0,0,0,0,0,0,0,0,0,null,null,1,25049.79,1,25049.79,0,0,null,null,0,0,0,0,0,0,0,null,"2019-11-07",31741.66508627958,1,1,31741.66508627958,0,0,0,2016]
[{"$f":"#REF!","v":{"$error":"#REF!"}},2823,"RPV",2823,"2016/0133284-4","2016-05-09",null,"Paga","Paga - MAI/2019 - 1ª remessa","2019-05-01","NÃO",null,null,"MS 6.864/DF",null,"2000-04-04","2006-05-03",null,"Administrativo - Servidor Público Civil - Sistema Remuneratório e Benefícios","Ministério do Planejamento, Orçamento e Gestão","Instituto Nacional do Seguro Social - INSS",null,"Mandado de Segurança 6.864/DF","2007/0261395-6","2014-09-24",null,"Isaura Antoniacomi Rodrigues ","358.580.289-34","Pensionista Civil","Reajuste 3,17% - Lei 8.880/94","Alimentar",null,"Mota & Advogados Associados","03.996.810/0001-38","-","-",null,"Dedução de Honorários Contratuais","IPCA-e","2015-02-01",2.7363770178973601,18881.400000000001,28481.33,47362.73,1132.8800000000001,1708.88,2841.76,0,0,0,17748.52,26772.45,44520.97,0,0,0,47,0,null,null,null,null,null,null,null,null,null,null,null,null,null,null,null,null,null,"Não","Não","Não","-","-","Não informado","Não informado","Não",6,10,5,"2015-02-01","2019-05-01",1.2742845526013671,56732.38,3621.21,0,60353.59,1,60353.59,1,60353.59,0,0,null,null,1,47362.73,1,47362.73,0,0,null,null,0,0,0,0,0,0,0,null,"",0,0,0,0,0,0,0,2016]
[{"$f":"#REF!","v":{"$error":"#REF!"}},2876,"RPV",2876,"2016/0152415-1","2016-05-25",null,"Paga","Paga - MAI/2019 - 1ª remessa","2019-05-01","NÃO",null,null,"MS 6.864/DF",null,"2000-04-04","2006-05-03",null,"Administrativo - Servidor Público Civil - Sistema Remuneratório e Benefícios","Ministério do Planejamento, Orçamento e Gestão","Instituto Nacional do Seguro Social - INSS",null,"Mandado de Segurança 6.864/DF","2007/0262318-1","2014-09-24",null,"Maria Do Carmo Ferreira Furtado ","586.582.626-34","Pensionista Civil","Reajuste 3,17% - Lei 8.880/94","Alimentar",null,"Mota & Advogados Associados","03.996.810/0001-38","-","-",null,"Dedução de Honorários Contratuais","IPCA-e","2015-03-01",2.7727708322354001,19903.62,30090.430000000004,49994.05,1194.21,1805.4299999999998,2999.64,0,0,0,18709.41,28285.000000000004,46994.41,0,0,0,47,0,null,null,null,null,null,null,null,null,null,null,null,null,null,null,null,null,null,"Não","Não","Não","-","-","Não informado","Não informado","Não",6,11,5,"2015-03-01","2019-05-01",1.2575590176664015,59098.239999999998,3772.22,0,62870.46,1,62870.46,1,62870.46,0,0,null,null,1,49994.05,1,49994.05,0,0,null,null,0,0,0,0,0,0,0,null,"",0,0,0,0,0,0,0,2016]
[{"$f":"#REF!","v":{"$error":"#REF!"}},2877,"RPV",2877,"2016/0152419-9","2016-05-25",null,"Aguardando Pagamento","sem verba para pgto",null,null,null,null,"MS 6.864/DF",null,"2000-04-04","2006-05-03",null,"Administrativo - Servidor Público Civil - Sistema Remuneratório e Benefícios","Ministério do Planejamento, Orçamento e Gestão","Instituto Nacional do Seguro Social - INSS",null,"Mandado de Segurança 6.864/DF","2007/0262318-1","2014-09-24",null,"Maria Do Ceu Alvarenga ","261.424.226-87","Pensionista Civil","Reajuste 3,17% - Lei 8.880/94","Alimentar",null,"Mota & Advogados Associados","03.996.810/0001-38","-","-",null,"Dedução de Honorários Contratuais","IPCA-e","2015-03-01",2.7727708322354001,null,"",21397.73,0,1283.8599999999999,1283.8599999999999,0,0,0,0,{"$error":"#VALUE!"},20113.87,0,0,0,47,0,null,null,null,null,null,null,null,null,null,null,null,null,null,null,null,null,null,"Não","Não","Não","-","-","Não informado","Não informado","Não",6,11,5,"","","",0,0,0,0,0,0,0,0,0,0,null,null,1,21397.73,1,21397.73,0,0,null,null,0,0,0,0,0,0,0,null,"2019-11-07",27113.98296219797,1,1,27113.98296219797,0,0,0,2016]
[{"$f":"#REF!","v":{"$error":"#REF!"}},2879,"RPV",2879,"2016/0152438-9","2016-05-25",null,"Paga","Paga - MAI/2019 - 1ª remessa","2019-05-01","NÃO",null,null,"MS 6.864/DF",null,"2000-04-04","2006-05-03",null,"Administrativo - Servidor Público Civil - Sistema Remuneratório e Benefícios","Ministério do Planejamento, Orçamento e Gestão","Instituto Nacional do Seguro Social - INSS",null,"Mandado de Segurança 6.864/DF","2007/0262318-1","2014-09-24",null,"Maria Iracy Figueiredo Itabaiana De Oliveira ","092.586.477-34","Pensionista Civil","Reajuste 3,17% - Lei 8.880/94","Alimentar",null,"Mota & Advogados Associados","03.996.810/0001-38","-","-",null,"Dedução de Honorários Contratuais","IPCA-e","2015-03-01",2.7727708322354001,8876.02,13391.399999999998,22267.42,532.55999999999995,803.48,1336.04,0,0,0,8343.4600000000009,12587.919999999998,20931.379999999997,0,0,0,47,0,null,null,null,null,null,null,null,null,null,null,null,null,null,null,null,null,null,"Não","Não","Não","-","-","Não informado","Não informado","Não",6,11,5,"2015-03-01","2019-05-01",1.2575590176664015,26322.44,1680.14,0,28002.579999999998,1,28002.579999999998,1,28002.579999999998,0,0,null,null,1,22267.42,1,22267.42,0,0,null,null,0,0,0,0,0,0,0,null,"",0,0,0,0,0,0,0,2016]
[{"$f":"#REF!","v":{"$error":"#REF!"}},2880,"RPV",2880,"2016/0152461-9","2016-05-25",null,"Paga","Paga - MAI/2019 - 1ª remessa","2019-05-01","NÃO",null,null,"MS 6.864/DF",null,"2000-04-04","2006-05-03",null,"Administrativo - Servidor Público Civil - Sistema Remuneratório e Benefícios","Ministério do Planejamento, Orçamento e Gestão","Instituto Nacional do Seguro Social - INSS",null,"Mandado de Segurança 6.864/DF","2007/0262318-1","2014-09-24",null,"Maria Irene De Castro ","177.345.766-72","Pensionista Civil","Reajuste 3,17% - Lei 8.880/94","Alimentar",null,"Mota & Advogados Associados","03.996.810/0001-38","-","-",null,"Dedução de Honorários Contratuais","IPCA-e","2015-03-01",2.7727708322354001,5041.88,7642.5199999999995,12684.4,302.51,458.54999999999995,761.06,0,0,0,4739.37,7183.9699999999993,11923.34,0,0,0,47,0,null,null,null,null,null,null,null,null,null,null,null,null,null,null,null,null,null,"Não","Não","Não","-","-","Não informado","Não informado","Não",6,11,5,"2015-03-01","2019-05-01",1.2575590176664015,14994.3,957.07,0,15951.369999999999,1,15951.369999999999,1,15951.369999999999,0,0,null,null,1,12684.4,1,12684.4,0,0,null,null,0,0,0,0,0,0,0,null,"",0,0,0,0,0,0,0,2016]
[{"$f":"#REF!","v":{"$error":"#REF!"}},2883,"RPV",2883,"2016/0152465-6","2016-05-25",null,"Aguardando Pagamento","sem verba para pgto",null,null,null,null,"MS 6.864/DF",null,"2000-04-04","2006-05-03",null,"Administrativo - Servidor Público Civil - Sistema Remuneratório e Benefícios","Ministério do Planejamento, Orçamento e Gestão","Instituto Nacional do Seguro Social - INSS",null,"Mandado de Segurança 6.864/DF","2007/0262318-1","2014-09-24",null,"Maria Marcia de Magalhães Gomes Alvarenga ","751.918.906-63","Pensionista Civil","Reajuste 3,17% - Lei 8.880/94","Alimentar",null,"Mota & Advogados Associados","03.996.810/0001-38","-","-",null,"Dedução de Honorários Contratuais","IPCA-e","2015-03-01",2.7727708322354001,null,"",21397.73,0,1283.8599999999999,1283.8599999999999,0,0,0,0,{"$error":"#VALUE!"},20113.87,0,0,0,47,0,null,null,null,null,null,null,null,null,null,null,null,null,null,null,null,null,null,"Não","Não","Não","-","-","Não informado","Não informado","Não",6,11,5,"","","",0,0,0,0,0,0,0,0,0,0,null,null,1,21397.73,1,21397.73,0,0,null,null,0,0,0,0,0,0,0,null,"2019-11-07",27113.98296219797,1,1,27113.98296219797,0,0,0,2016]
[{"$f":"#REF!","v":{"$error":"#REF!"}},2884,"RPV",2884,"2016/0152467-0","2016-05-25",null,"Paga","Paga - MAI/2019 - 1ª remessa","2019-05-01","NÃO",null,null,"MS 6.864/DF",null,"2000-04-04","2006-05-03",null,"Administrativo - Servidor Público Civil - Sistema Remuneratório e Benefícios","Ministério do Planejamento, Orçamento e Gestão","Instituto Nacional do Seguro Social - INSS",null,"Mandado de Segurança 6.864/DF","2007/0262318-1","2014-09-24",null,"Maria Nazareth Lopes De Paula ","369.684.396-20","Pensionista Civil","Reajuste 3,17% - Lei 8.880/94","Alimentar",null,"Mota & Advogados Associados","03.996.810/0001-38","-","-",null,"Dedução de Honorários Contratuais","IPCA-e","2015-03-01",2.7727708322354001,17797.95,26828.139999999996,44626.09,1067.8699999999999,1609.69,2677.56,0,0,0,16730.080000000002,25218.449999999997,41948.53,0,0,0,47,0,null,null,null,null,null,null,null,null,null,null,null,null,null,null,null,null,null,"Não","Não","Não","-","-","Não informado","Não informado","Não",6,11,5,"2015-03-01","2019-05-01",1.2575590176664015,52752.75,3367.18,0,56119.93,1,56119.93,1,56119.93,0,0,null,null,1,44626.09,1,44626.09,0,0,null,null,0,0,0,0,0,0,0,null,"",0,0,0,0,0,0,0,2016]
[{"$f":"#REF!","v":{"$error":"#REF!"}},2886,"RPV",2886,"2016/0152470-8","2016-05-25",null,"Aguardando Pagamento","sem verba para pgto",null,null,null,null,"MS 6.864/DF",null,"2000-04-04","2006-05-03",null,"Administrativo - Servidor Público Civil - Sistema Remuneratório e Benefícios","Ministério do Planejamento, Orçamento e Gestão","Instituto Nacional do Seguro Social - INSS",null,"Mandado de Segurança 6.864/DF","2007/0262318-1","2014-09-24",null,"Maria Thereza Batista Cruz ","681.022.246-49","Pensionista Civil","Reajuste 3,17% - Lei 8.880/94","Alimentar",null,"Mota & Advogados Associados","03.996.810/0001-38","-","-",null,"Dedução de Honorários Contratuais","IPCA-e","2015-03-01",2.7727708322354001,null,"",50263.4,0,3015.8,3015.8,0,0,0,0,{"$error":"#VALUE!"},47247.6,0,0,0,47,0,null,null,null,null,null,null,null,null,null,null,null,null,null,null,null,null,null,"Não","Não","Não","-","-","Não informado","Não informado","Não",6,0,5,"","","",0,0,0,0,0,0,0,0,0,0,null,null,1,50263.4,1,50263.4,0,0,null,null,0,0,0,0,0,0,0,null,"2019-11-07",63690.913532516839,1,1,63690.913532516839,0,0,0,2016]
[{"$f":"#REF!","v":{"$error":"#REF!"}},2887,"RPV",2887,"2016/0152473-3","2016-05-25",null,"Paga","Paga - MAI/2019 - 1ª remessa","2019-05-01","NÃO",null,null,"MS 6.864/DF",null,"2000-04-04","2006-05-03",null,"Administrativo - Servidor Público Civil - Sistema Remuneratório e Benefícios","Ministério do Planejamento, Orçamento e Gestão","Instituto Nacional do Seguro Social - INSS",null,"Mandado de Segurança 6.864/DF","2007/0262318-1","2014-09-24",null,"Maria Vitoria Monteiro ","063.880.436-15","Pensionista Civil","Reajuste 3,17% - Lei 8.880/94","Alimentar",null,"Mota & Advogados Associados","03.996.810/0001-38","-","-",null,"Dedução de Honorários Contratuais","IPCA-e","2015-03-01",2.7727708322354001,4312.34,6839.09,11151.43,258.74,410.34000000000003,669.08,0,0,0,4053.6000000000004,6428.75,10482.35,0,0,0,7,0,null,null,null,null,null,null,null,null,null,null,null,null,null,null,null,null,null,"Não","Não","Não","-","-","Não informado","Não informado","Não",6,20,5,"2015-03-01","2019-05-01",1.2575590176664015,13182.17,841.4,0,14023.57,1,14023.57,1,14023.57,0,0,null,null,1,11151.43,1,11151.43,0,0,null,null,0,0,0,0,0,0,0,null,"",0,0,0,0,0,0,0,2016]
[{"$f":"#REF!","v":{"$error":"#REF!"}},2892,"RPV",2892,"2016/0152527-4","2016-05-25",null,"Paga","Paga - MAR/2019 - 1ª remessa","2019-03-01","NÃO",null,null,"MS 6.864/DF",null,"2000-04-04","2006-05-03",null,"Administrativo - Servidor Público Civil - Sistema Remuneratório e Benefícios","Ministério do Planejamento, Orçamento e Gestão","Instituto Nacional do Seguro Social - INSS",null,"Mandado de Segurança 6.864/DF","2007/0262406-5","2014-09-25",null,"Francisca Irandir De Siqueira ","045.035.203-00","Pensionista Civil","Reajuste 3,17% - Lei 8.880/94","Alimentar",null,"Mota & Advogados Associados","03.996.810/0001-38","-","-",null,"Dedução de Honorários Contratuais","IPCA-e","2015-02-01",2.7363770178973601,12386.26,18853.25,31239.51,743.17,1131.1999999999998,1874.37,0,0,0,11643.08,17722.059999999998,29365.14,0,0,0,47,0,null,null,null,null,null,null,null,null,null,null,null,null,null,null,null,null,null,"Não","Não","Não","-","-","Não informado","Não informado","Não",6,0,5,"2015-02-01","2019-03-01",1.258380038305511,36952.5,2358.66,0,39311.160000000003,1,39311.160000000003,1,39311.160000000003,0,0,null,null,1,31239.51,1,31239.51,0,0,null,null,0,0,0,0,0,0,0,null,"",0,0,0,0,0,0,0,2016]
[{"$f":"#REF!","v":{"$error":"#REF!"}},2894,"RPV",2894,"2016/0152533-8","2016-05-25",null,"Paga","Paga - MAI/2019 - 1ª remessa","2019-05-01","NÃO",null,null,"MS 6.864/DF",null,"2000-04-04","2006-05-03",null,"Administrativo - Servidor Público Civil - Sistema Remuneratório e Benefícios","Ministério do Planejamento, Orçamento e Gestão","Instituto Nacional do Seguro Social - INSS",null,"Mandado de Segurança 6.864/DF","2007/0262406-5","2014-09-25",null,"Gláucia Juca Alves Garcia ","317.488.723-20","Pensionista Civil","Reajuste 3,17% - Lei 8.880/94","Alimentar",null,"Mota & Advogados Associados","03.996.810/0001-38","-","-",null,"Dedução de Honorários Contratuais","IPCA-e","2015-02-01",2.7363770178973601,11178.12,16994.190000000002,28172.31,670.68,1019.65,1690.33,0,0,0,10507.44,15974.540000000003,26481.980000000003,0,0,0,47,0,null,null,null,null,null,null,null,null,null,null,null,null,null,null,null,null,null,"Não","Não","Não","-","-","Não informado","Não informado","Não",6,20,5,"2015-02-01","2019-05-01",1.2742845526013671,33745.57,2153.96,0,35899.53,1,35899.53,1,35899.53,0,0,null,null,1,28172.31,1,28172.31,0,0,null,null,0,0,0,0,0,0,0,null,"",0,0,0,0,0,0,0,2016]
[{"$f":"#REF!","v":{"$error":"#REF!"}},2895,"RPV",2895,"2016/0152537-5","2016-05-25",null,"Paga","Paga - MAI/2019 - 1ª remessa","2019-05-01","NÃO",null,null,"MS 6.864/DF",null,"2000-04-04","2006-05-03",null,"Administrativo - Servidor Público Civil - Sistema Remuneratório e Benefícios","Ministério do Planejamento, Orçamento e Gestão","Instituto Nacional do Seguro Social - INSS",null,"Mandado de Segurança 6.864/DF","2007/0262406-5","2014-09-25",null,"Iclea Freire De Alencar ","436.889.693-91","Pensionista Civil","Reajuste 3,17% - Lei 8.880/94","Alimentar",null,"Mota & Advogados Associados","03.996.810/0001-38","-","-",null,"Dedução de Honorários Contratuais","IPCA-e","2015-02-01",2.7363770178973601,7474.77,12180.02,19654.79,448.48,730.8,1179.28,0,0,0,7026.2900000000009,11449.220000000001,18475.510000000002,0,0,0,23,0,null,null,null,null,null,null,null,null,null,null,null,null,null,null,null,null,null,"Não","Não","Não","-","-","Não informado","Não informado","Não",6,20,5,"2015-02-01","2019-05-01",1.2742845526013671,23543.05,1502.73,0,25045.78,1,25045.78,1,25045.78,0,0,null,null,1,19654.79,1,19654.79,0,0,null,null,0,0,0,0,0,0,0,null,"",0,0,0,0,0,0,0,2016]
[{"$f":"#REF!","v":{"$error":"#REF!"}},2896,"RPV",2896,"2016/0152578-0","2016-05-25",null,"Paga","Paga - MAI/2019 - 1ª remessa","2019-05-01","NÃO",null,null,"MS 6.864/DF",null,"2000-04-04","2006-05-03",null,"Administrativo - Servidor Público Civil - Sistema Remuneratório e Benefícios","Ministério do Planejamento, Orçamento e Gestão","Instituto Nacional do Seguro Social - INSS",null,"Mandado de Segurança 6.864/DF","2007/0262406-5","2014-09-25",null,"Irene Moreira Tavares De Assis ","004.782.023-34","Pensionista Civil","Reajuste 3,17% - Lei 8.880/94","Alimentar",null,"Mota & Advogados Associados","03.996.810/0001-38","-","-",null,"Dedução de Honorários Contratuais","IPCA-e","2015-02-01",2.7363770178973601,9698.69,14736.65,24435.34,581.91999999999996,884.19999999999993,1466.12,0,0,0,9116.77,13852.449999999999,22969.22,0,0,0,47,0,null,null,null,null,null,null,null,null,null,null,null,null,null,null,null,null,null,"Não","Não","Não","-","-","Não informado","Não informado","Não",6,20,5,"2015-02-01","2019-05-01",1.2742845526013671,29269.32,1868.25,0,31137.57,1,31137.57,1,31137.57,0,0,null,null,1,24435.34,1,24435.34,0,0,null,null,0,0,0,0,0,0,0,null,"",0,0,0,0,0,0,0,2016]
[{"$f":"#REF!","v":{"$error":"#REF!"}},3364,"RPV",3364,"2016/0265335-9","2016-09-30",null,"Aguardando Pagamento","sem verba para pgto",null,null,null,null,"MS 10.424/DF",null,"2005-02-17","2005-10-27",null,"Administrativo - Servidor Público Civil - Sistema Remuneratório e Benefícios - Gratificações","Ministério do Planejamento, Orçamento e Gestão","UNIÃO",null,"Mandado de Segurança 10.424/DF","2006/0180813-2","2015-05-19",null,"Zilda Francisca Cardoso","079.205.472-53","Servidor Público Civil  Ativo","Gratificação Específica de Atividade Docente - GEAD","Alimentar",null,"Fonseca e Assis Advogados Associados","01.971.231/0001-05","-","-",null,"Dedução de Honorários Contratuais","IPCA-e","2016-09-01",3.1726052831709302,null,"",12294.7,0,1352.41,1352.41,0,0,0,0,{"$error":"#VALUE!"},10942.29,7345.86,808.04,1616.08,9,808.04,null,null,null,null,null,null,null,null,null,null,null,null,null,null,null,null,null,"Não","Não","Não","-","-","Não informado","Não informado","Não",11,10,9,"","","",0,0,0,0,0,0,0,0,0,0,null,null,1,12294.7,1,12294.7,0,0,null,null,0,0,0,0,0,0,0,null,"2019-11-07",13615.747390955681,1,1,13615.747390955681,0,0,0,2016]
[{"$f":"#REF!","v":{"$error":"#REF!"}},3409,"RPV",3409,"2016/0281835-3","2016-10-19",null,"Aguardando Pagamento","sem verba para pgto",null,null,null,null,"MS 6.864/DF",null,"2000-04-04","2006-05-03",null,"Administrativo - Servidor Público Civil - Sistema Remuneratório e Benefícios","Ministério do Planejamento, Orçamento e Gestão","Instituto Nacional do Seguro Social - INSS",null,"Mandado de Segurança 6.864/DF","2007/0258074-2","2014-09-24",null,"Talma De Bona Sorato Lobo","024.088.327-64","Pensionista Civil","Reajuste 3,17% - Lei 8.880/94","Alimentar",null,"Mota & Advogados Associados","03.996.810/0001-38","-","-",null,"Dedução de Honorários Contratuais","IPCA-e","2015-03-01",2.7727708322354001,null,"",24000.46,0,1440.02,1440.02,0,0,0,0,{"$error":"#VALUE!"},22560.44,0,0,0,{"$error":"#REF!"},0,null,null,null,null,null,null,null,null,null,null,null,null,null,null,null,null,null,"Não","Não","Não","-","-","Não informado","Não informado","Não",6,15,10,"","","",0,0,0,0,0,0,0,0,0,0,null,null,1,24000.46,1,24000.46,0,0,null,null,0,0,0,0,0,0,0,null,"2019-11-07",30412.01396245835,1,1,30412.01396245835,0,0,0,2016]
[{"$f":"#REF!","v":{"$error":"#REF!"}},4002,"RPV",4002,"2017/0022953-1","2017-02-06",null,"Aguardando Pagamento","sem verba para pgto",null,null,null,null,"MS 6.864/DF",null,"2000-04-04","2006-05-03",null,"Administrativo - Servidor Público Civil - Sistema Remuneratório e Benefícios","Ministério do Planejamento, Orçamento e Gestão","Instituto Nacional do Seguro Social - INSS",null,"Mandado de Segurança 6.864/DF","2007/0262490-2","2014-09-25",null,"Sebastiana Aquino Paes Loureiro ","229.060.021-00","Pensionista","Reajuste 3,17%","Alimentar",null,"Mota & Advogados Associados","03.996.810/0001-38","-","-",null,"Dedução de Honorários Contratuais","IPCA-e","2015-02-01",2.7363770178973601,null,"",37273.82,0,2236.42,2236.42,0,0,0,0,{"$error":"#VALUE!"},35037.4,0,0,0,47,0,null,null,null,null,null,null,null,null,null,null,null,null,null,null,null,null,null,"Não","Não","Não","-","-","Não informado","Não informado","Não",6,6,2,"","","",0,0,0,0,0,0,0,0,0,0,null,null,1,37273.82,1,37273.82,0,0,null,null,0,0,0,0,0,0,0,null,"2019-11-07",47859.434402507606,1,1,47859.434402507606,0,0,0,2017]
[{"$f":"#REF!","v":{"$error":"#REF!"}},4315,"RPV",4315,"2017/0065843-0","2017-03-28",null,"Paga","Paga - jun/2018 - 1ª remessa","2018-06-01","NÃO",null,null,"MS 3.557/DF",null,"1994-07-06","2004-08-09",null,"Administrativo - Servidor Público Civil - Reajustes de Remuneração, Proventos ou Pensão - Índice de 28,86% Lei 8.622/1993 e 8.627/1993","Ministério da Defesa","UNIÃO",null,"Mandado de Segurança 3.557/DF","2005/0127748-5","2014-10-17",null,"Espólio de Elisabeth Maria Caetano Torres","359.169.747-87","Servidor Público Civil Ativo","Reajuste  28,86% ","Alimentar",null,"Mauro Roberto Gomes de Mattos","815.042.097-53","-","-",null,"Dedução de Honorários Contratuais","IPCA-e","2015-02-01",2.7363770178973601,1260.93,0,1260.93,0,0,252.18,0,0,0,1260.93,0,1008.75,0,0,0,52,0,null,null,null,null,null,null,null,null,null,null,null,null,null,null,null,null,null,"Não","Não","Não","-","-","Não informado","Não informado","Não",0,10,3,"2015-02-01","2018-06-01",1.2186431919247618,1229.3,307.31,0,1536.61,1,1536.61,1,1536.61,0,0,null,null,1,1260.93,1,1260.93,0,0,null,null,0,0,0,0,0,0,0,null,"",0,0,0,0,0,0,0,2017]
[{"$f":"#REF!","v":{"$error":"#REF!"}},4811,"RPV",4811,"2017/0096227-2","2017-05-03",null,"Paga","Paga - nov/2017 - 1ª remessa","2017-11-01","NÃO",null,null,"MS 10.424/DF",null,"2005-02-17","2005-10-27",null,"Administrativo - Servidor Público Civil - Sistema Remuneratório e Benefícios - Gratificações","Ministério do Planejamento, Orçamento e Gestão","UNIÃO",null,"Mandado de Segurança 10.424/DF","2006/0199697-2","2016-02-12",null,"Giesela Elisabeth Fuhrmann Ferrari","142.985.462-68","Servidor Público Civil Inativo","Gratificação Específica de Atividade Docente - GEAD","Alimentar",null,"Fonseca e Assis Advogados Associados","01.971.231/0001-05","-","-",null,"Dedução de Honorários Contratuais","IPCA-e","2017-04-01",3.23239399948416,12677.53,0,12677.53,0,0,1394.52,0,0,0,12677.53,0,11283.01,7419.44,816.13,0,9,816.13,null,null,null,null,null,null,null,null,null,null,null,null,null,null,null,null,null,"Não","Não","Não","-","-","Não informado","Não informado","Não",0,11,5,"2017-04-01","2017-11-01",1.0123552429632134,11422.41,1411.74,0,12834.15,1,12834.15,1,12834.15,0,0,null,null,1,12677.53,1,12677.53,0,0,null,null,0,0,0,0,0,0,0,null,"",0,0,0,0,0,0,0]
[{"$f":"#REF!","v":{"$error":"#REF!"}},4938,"RPV",4938,"2017/0126160-6","2017-05-31",null,"Aguardando Pagamento","sem verba para pgto",null,null,null,null,"MS 8.532/DF",null,"2002-08-12","2004-10-28",null,"Administrativo  - Servidor Público Civil - Sistema Remuneratório e Benefícios - Gratificações","Ministério do Planejamento, Orçamento e Gestão","UNIÃO",null,"Mandado de Segurança 8.532/DF","2009/0220500-0","2017-03-15",null,"Zilda Melo de Araújo","399.600.481-87","Pensionista","Gratificação por Orperações Especiais - GOE","Alimentar",null,"Cruz & Silva Advogados Associados LTDA","06.268.824/0001-23","-","-",null,"Dedução de Honorários Contratuais","IPCA-e","2016-05-01",3.1022339368660701,8067.06,0,8067.06,1613.41,0,1613.41,0,0,0,6453.6500000000005,0,6453.6500000000005,7129.87,784.28,0,42,784.28,null,null,null,null,null,null,null,null,null,null,null,null,null,null,null,null,null,"Não","Não","Não","-","-","Não informado","Não informado","Não",20,20,5,"","","",0,0,0,0,0,0,0,0,0,0,null,null,1,8067.06,1,8067.06,0,0,null,null,0,0,0,0,0,0,0,null,"2019-11-07",9136.5100249028364,1,1,9136.5100249028364,0,0,0]
[{"$f":"#REF!","v":{"$error":"#REF!"}},4940,"RPV",4940,"2017/0126173-2","2017-05-31",null,"Paga","Paga - nov/2017 - 1ª remessa","2017-11-01","NÃO",null,null,"MS 8.532/DF",null,"2002-08-12","2004-10-28",null,"Administrativo - Servidor Público Civil - Sistema Remuneratório e Benefícios - Gratificações","Ministério do Planejamento, Orçamento e Gestão","UNIÃO",null,"Mandado de Segurança 8.532/DF","2009/0228571-6","2017-03-15",null,"Norma Suely Araújo do Nascimento Sousa","412.826.552-72","Pensionista","Gratificação por Orperações Especiais - GOE","Alimentar",null,"Cruz & Silva Advogados Associados LTDA","06.268.824/0001-23","-","-",null,"Dedução de Honorários Contratuais","IPCA-e","2016-06-01",3.1289131487231199,24793.13,0,24793.13,0,0,4958.62,0,0,0,24793.13,0,19834.510000000002,2769.75,304.67,0,31,304.67,null,null,null,null,null,null,null,null,null,null,null,null,null,null,null,null,null,"Não","Não","Não","-","-","Não informado","Não informado","Não",0,20,5,"2016-06-01","2017-11-01",1.0458363198850782,20743.650000000001,5185.8999999999996,0,25929.550000000003,1,25929.550000000003,1,25929.550000000003,0,0,null,null,1,24793.13,1,24793.13,0,0,null,null,0,0,0,0,0,0,0,null,"",0,0,0,0,0,0,0]
[{"$f":"#REF!","v":{"$error":"#REF!"}},4942,"RPV",4942,"2017/0126231-3","2017-05-31",null,"Aguardando Pagamento","sem verba para pgto",null,null,null,null,"MS 8.532/DF",null,"2002-08-12","2004-10-28",null,"Administrativo - Servidor Público Civil - Sistema Remuneratório e Benefícios - Gratificações","Ministério do Planejamento, Orçamento e Gestão","UNIÃO",null,"Mandado de Segurança 8.532/DF","2009/0228571-6","2017-03-15",null,"Rita Menezes Jucá","051.911.222-91","Pensionista","Gratificação por Orperações Especiais - GOE","Alimentar",null,"Cruz & Silva Advogados Associados LTDA","06.268.824/0001-23","-","-",null,"Dedução de Honorários Contratuais","IPCA-e","2016-06-01",3.1289131487231199,5729.07,0,5729.07,343.74,802.06999999999994,1145.81,0,0,0,5385.33,-802.06999999999994,4583.26,3818.04,419.98,0,42,419.98,null,null,null,null,null,null,null,null,null,null,null,null,null,null,null,null,null,"Não","Não","Não","-","-","Não informado","Não informado","Não",6,20,5,"","","",0,0,0,0,0,0,0,0,0,0,null,null,1,5729.07,1,5729.07,0,0,null,null,0,0,0,0,0,0,0,null,"2019-11-07",6433.2468026744573,1,1,6433.2468026744573,0,0,0]
[{"$f":"#REF!","v":{"$error":"#REF!"}},4943,"RPV",4943,"2017/0126463-6","2017-05-31",null,"Paga","Paga - nov/2017 - 1ª remessa","2017-11-01","NÃO",null,null,"MS 8.532/DF",null,"2002-08-12","2004-10-28",null,"Administrativo - Servidor Público Civil - Sistema Remuneratório e Benefícios - Gratificações","Ministério do Planejamento, Orçamento e Gestão","UNIÃO",null,"Mandado de Segurança 8.532/DF","2009/0228571-6","2017-03-15",null,"Rosita Paim Torres","011.710.972-04","Pensionista","Gratificação por Orperações Especiais - GOE","Alimentar",null,"Cruz & Silva Advogados Associados LTDA","06.268.824/0001-23","-","-",null,"Dedução de Honorários Contratuais","IPCA-e","2016-06-01",3.1289131487231199,21656.98,0,21656.98,0,0,4331.3900000000003,0,0,0,21656.98,0,17325.59,0,0,0,22,0,null,null,null,null,null,null,null,null,null,null,null,null,null,null,null,null,null,"Não","Não","Não","-","-","Não informado","Não informado","Não",0,20,5,"2016-06-01","2017-11-01",1.0458363198850782,18119.73,4529.92,0,22649.65,1,22649.65,1,22649.65,0,0,null,null,1,21656.98,1,21656.98,0,0,null,null,0,0,0,0,0,0,0,null,"",0,0,0,0,0,0,0]
[{"$f":"#REF!","v":{"$error":"#REF!"}},4944,"RPV",4944,"2017/0126466-1","2017-05-31",null,"Paga","Paga - nov/2017 - 1ª remessa","2017-11-01","NÃO",null,null,"MS 8.532/DF",null,"2002-08-12","2004-10-28",null,"Administrativo - Servidor Público Civil - Sistema Remuneratório e Benefícios - Gratificações","Ministério do Planejamento, Orçamento e Gestão","UNIÃO",null,"Mandado de Segurança 8.532/DF","2009/0228571-6","2017-03-15",null,"Rute Sales da Rocha","508.551.402-59","Pensionista","Gratificação por Orperações Especiais - GOE","Alimentar",null,"Cruz & Silva Advogados Associados LTDA","06.268.824/0001-23","-","-",null,"Dedução de Honorários Contratuais","IPCA-e","2016-06-01",3.1289131487231199,20372.349999999999,0,20372.349999999999,0,0,4074.47,0,0,0,20372.349999999999,0,16297.88,4465.58,491.21,0,42,491.21,null,null,null,null,null,null,null,null,null,null,null,null,null,null,null,null,null,"Não","Não","Não","-","-","Não informado","Não informado","Não",0,20,5,"2016-06-01","2017-11-01",1.0458363198850782,17044.91,4261.22,0,21306.13,1,21306.13,1,21306.13,0,0,null,null,1,20372.349999999999,1,20372.349999999999,0,0,null,null,0,0,0,0,0,0,0,null,"",0,0,0,0,0,0,0]
[{"$f":"#REF!","v":{"$error":"#REF!"}},4946,"RPV",4946,"2017/0126478-6","2017-05-31",null,"Paga","Paga - nov/2017 - 1ª remessa","2017-11-01","NÃO",null,null,"MS 6.864/DF",null,"2000-04-05","2006-05-03",null,"Administrativo - Servidor Público Civil - Sistema Remuneratório e Benefícios","Ministério do Planejamento, Orçamento e Gestão","Instituto Nacional do Seguro Social - INSS",null,"Mandado de Segurança 6.864/DF","2007/0149141-8","2015-03-24",null,"Alfredo Correa do Nascimento Neto ","336.519.142-91","Servidor Público Civil Ativo","Reajuste  3,17% ","Alimentar",null,"Mota & Advogados Associados","03.996.810/0001-38","-","-",null,"Dedução de Honorários Contratuais","IPCA-e","2016-09-01",3.1726052831709302,53045.919999999998,0,53045.919999999998,0,0,3182.75,0,0,0,53045.919999999998,0,49863.17,20548.21,2260.3000000000002,4520.6000000000004,47,2260.3000000000002,null,null,null,null,null,null,null,null,null,null,null,null,null,null,null,null,null,"Não","Não","Não","-","-","Não informado","Não informado","Não",0,20,5,"2016-09-01","2017-11-01",1.0314333869576162,51430.53,3282.79,0,54713.32,1,54713.32,1,54713.32,0,0,null,null,1,53045.919999999998,1,53045.919999999998,0,0,null,null,0,0,0,0,0,0,0,null,"",0,0,0,0,0,0,0]
[{"$f":"#REF!","v":{"$error":"#REF!"}},4956,"RPV",4956,"2017/0126554-5","2017-05-31",null,"Paga","Paga - mar/2018 - 2ª remessa","2018-03-01","NÃO",null,null,"MS 6.864/DF",null,"2000-04-05","2006-05-03",null,"Administrativo - Servidor Público Civil - Sistema Remuneratório e Benefícios","Ministério do Planejamento, Orçamento e Gestão","Instituto Nacional do Seguro Social - INSS",null,"Mandado de Segurança 6.864/DF","2007/0149141-8","2015-03-24",null,"Margarida Nubia Matos Figueiredo ","133.903.414-04","Servidor Público Civil Ativo","Reajuste  3,17% ","Alimentar",null,"Mota & Advogados Associados","03.996.810/0001-38","-","-",null,"Dedução de Honorários Contratuais","IPCA-e","2016-09-01",3.1726052831709302,36190.28,0,36190.28,0,0,2171.41,0,0,0,36190.28,0,34018.869999999995,14161.93,1557.81,3115.62,45,1557.81,null,null,null,null,null,null,null,null,null,null,null,null,null,null,null,null,null,"Não","Não","Não","-","-","Não informado","Não informado","Não",0,20,5,"2016-09-01","2018-03-01",1.0463662688230935,35596.19,2272.09,0,37868.28,1,37868.28,1,37868.28,0,0,null,null,1,36190.28,1,36190.28,0,0,null,null,0,0,0,0,0,0,0,null,"",0,0,0,0,0,0,0]
[{"$f":"#REF!","v":{"$error":"#REF!"}},4980,"RPV",4980,"2017/0134088-6","2017-06-07",null,"Paga","Paga - nov/2017 - 1ª remessa","2017-11-01","NÃO",null,null,"MS 6.864/DF",null,"2000-04-05","2006-05-03",null,"Administrativo - Servidor Público Civil - Sistema Remuneratório e Benefícios","Ministério do Planejamento, Orçamento e Gestão","Instituto Nacional do Seguro Social - INSS",null,"Mandado de Segurança 6.864/DF","2007/0149592-7","2015-03-24",null,"Ana Cristina Magalhães Henriques ","026.269.417-43","Servidor Público Civil Ativo","Reajuste  3,17% ","Alimentar",null,"Mota & Advogados Associados","03.996.810/0001-38","-","-",null,"Dedução de Honorários Contratuais","IPCA-e","2016-09-01",3.1726052831709302,51811.88,0,51811.88,0,0,3108.71,0,0,0,51811.88,0,48703.17,20091.810000000001,2210.09,4420.18,47,2210.09,null,null,null,null,null,null,null,null,null,null,null,null,null,null,null,null,null,"Não","Não","Não","-","-","Não informado","Não informado","Não",0,20,6,"2016-09-01","2017-11-01",1.0314333869576162,50234.07,3206.42,0,53440.49,1,53440.49,1,53440.49,0,0,null,null,1,51811.88,1,51811.88,0,0,null,null,0,0,0,0,0,0,0,null,"",0,0,0,0,0,0,0]
[{"$f":"#REF!","v":{"$error":"#REF!"}},4985,"RPV",4985,"2017/0134130-5","2017-06-07",null,"Paga","Paga - mar/2018 - 2ª remessa","2018-03-01","NÃO",null,null,"MS 6.864/DF",null,"2000-04-05","2006-05-03",null,"Administrativo - Servidor Público Civil - Sistema Remuneratório e Benefícios","Ministério do Planejamento, Orçamento e Gestão","Instituto Nacional do Seguro Social - INSS",null,"Mandado de Segurança 6.864/DF","2007/0149592-7","2015-03-24",null,"Andrea Da Costa Alves Godart ","012.170.187-51","Servidor Público Civil Ativo","Reajuste  3,17% ","Alimentar",null,"Mota & Advogados Associados","03.996.810/0001-38","-","-",null,"Dedução de Honorários Contratuais","IPCA-e","2016-09-01",3.1726052831709302,49740.46,0,49740.46,0,0,2984.42,0,0,0,49740.46,0,46756.04,19275.93,2120.35,4240.7,47,2120.35,null,null,null,null,null,null,null,null,null,null,null,null,null,null,null,null,null,"Não","Não","Não","-","-","Não informado","Não informado","Não",0,0,6,"2016-09-01","2018-03-01",1.0463662688230935,48923.94,3122.79,0,52046.73,1,52046.73,1,52046.73,0,0,null,null,1,49740.46,1,49740.46,0,0,null,null,0,0,0,0,0,0,0,null,"",0,0,0,0,0,0,0]
[{"$f":"#REF!","v":{"$error":"#REF!"}},4989,"RPV",4989,"2017/0134165-7","2017-06-07",null,"Paga","Paga - nov/2017 - 1ª remessa","2017-11-01","NÃO",null,null,"MS 6.864/DF",null,"2000-04-05","2006-05-03",null,"Administrativo - Servidor Público Civil - Sistema Remuneratório e Benefícios","Ministério do Planejamento, Orçamento e Gestão","Instituto Nacional do Seguro Social - INSS",null,"Mandado de Segurança 6.864/DF","2007/0149731-6","2015-03-24",null,"Elizete Inácia Ferreira De Almeida Mello ","271.881.591-49","Servidor Público Civil Ativo","Reajuste  3,17% ","Alimentar",null,"Mota & Advogados Associados","03.996.810/0001-38","-","-",null,"Dedução de Honorários Contratuais","IPCA-e","2016-10-01",3.1799022753222301,54561.65,0,54561.65,0,0,3273.69,0,0,0,54561.65,0,51287.96,21129.11,2324.1999999999998,4648.3999999999996,47,2324.1999999999998,null,null,null,null,null,null,null,null,null,null,null,null,null,null,null,null,null,"Não","Não","Não","-","-","Não informado","Não informado","Não",0,10,6,"2016-10-01","2017-11-01",1.0290665339295761,52778.720000000001,3368.84,0,56147.56,1,56147.56,1,56147.56,0,0,null,null,1,54561.65,1,54561.65,0,0,null,null,0,0,0,0,0,0,0,null,"",0,0,0,0,0,0,0]
[{"$f":"#REF!","v":{"$error":"#REF!"}},5014,"RPV",5014,"2017/0134974-1","2017-06-08",null,"Paga","Paga - nov/2017 - 1ª remessa","2017-11-01","NÃO",null,null,"MS 6.864/DF",null,"2000-04-05","2006-05-03",null,"Administrativo - Servidor Público Civil - Sistema Remuneratório e Benefícios","Ministério do Planejamento, Orçamento e Gestão","Instituto Nacional do Seguro Social - INSS",null,"Mandado de Segurança 6.864/DF","2007/0150443-7","2015-03-24",null,"Marconi Jacaranda Lakiss ","295.367.231-15","Servidor Público Civil Ativo","Reajuste  3,17% ","Alimentar",null,"Mota & Advogados Associados","03.996.810/0001-38","-","-",null,"Dedução de Honorários Contratuais","IPCA-e","2016-10-01",3.1799022753222301,53260.55,0,53260.55,0,0,3195.63,0,0,0,53260.55,0,50064.920000000006,20623.21,2268.5500000000002,4537.1000000000004,47,2268.5500000000002,null,null,null,null,null,null,null,null,null,null,null,null,null,null,null,null,null,"Não","Não","Não","-","-","Não informado","Não informado","Não",0,10,6,"2016-10-01","2017-11-01",1.0290665339295761,51520.13,3288.51,0,54808.639999999999,1,54808.639999999999,1,54808.639999999999,0,0,null,null,1,53260.55,1,53260.55,0,0,null,null,0,0,0,0,0,0,0,null,"",0,0,0,0,0,0,0]
[{"$f":"#REF!","v":{"$error":"#REF!"}},5017,"RPV",5017,"2017/0134991-8","2017-06-08",null,"Paga","Paga - nov/2017 - 1ª remessa","2017-11-01","NÃO",null,null,"MS 6.864/DF",null,"2000-04-05","2006-05-03",null,"Administrativo - Servidor Público Civil - Sistema Remuneratório e Benefícios","Ministério do Planejamento, Orçamento e Gestão","Instituto Nacional do Seguro Social - INSS",null,"Mandado de Segurança 6.864/DF","2007/0150563-7","2015-03-24",null,"Ariontino Dantas Padilha","140.529.700-04","Servidor Público Civil Inativo","Reajuste  3,17% ","Alimentar",null,"Mota & Advogados Associados","03.996.810/0001-38","-","-",null,"Dedução de Honorários Contratuais","IPCA-e","2016-10-01",3.1799022753222301,33376.36,0,33376.36,0,0,2002.58,0,0,0,33376.36,0,31373.78,0,0,0,47,0,null,null,null,null,null,null,null,null,null,null,null,null,null,null,null,null,null,"Não","Não","Não","-","-","Não informado","Não informado","Não",0,10,6,"2016-10-01","2017-11-01",1.0290665339295761,32285.7,2060.7800000000002,0,34346.480000000003,1,34346.480000000003,1,34346.480000000003,0,0,null,null,1,33376.36,1,33376.36,0,0,null,null,0,0,0,0,0,0,0,null,"",0,0,0,0,0,0,0]
[{"$f":"#REF!","v":{"$error":"#REF!"}},5043,"RPV",5043,"2017/0135878-8","2017-06-08",null,"Paga","Paga - nov/2017 - 1ª remessa","2017-11-01","NÃO",null,null,"MS 4.149/DF",null,"1995-07-21","1998-09-23",null,"Administrativo - Servidor Público Civil - Sistema Remuneratório e Benefícios","INCRA","UNIÃO",null,"Mandado de Segurança 4.149/DF","2008/0048442-5","2017-05-22",null,"Jaime de Souza Coelho","032.233.962-68","Servidor Público Civil Ativo","Diferença de remuneração - 3,17%","Alimentar",null,"Josilma Saraiva Advogados Associados","09.384.741/0001-98","-","-",null,"Dedução de Honorários Contratuais","IPCA-e","2016-08-01",3.1583925168451299,29816.22,0,29816.22,0,0,2981.62,0,0,0,29816.22,0,26834.600000000002,12279.02,1350.69,2701.38,85,1350.69,null,null,null,null,null,null,null,null,null,null,null,null,null,null,null,null,null,"Não","Não","Não","-","-","Não informado","Não informado","Não",0,11,6,"2016-08-01","2017-11-01",1.0360748371989246,27802.65,3089.18,0,30891.83,1,30891.83,1,30891.83,0,0,null,null,1,29816.22,1,29816.22,0,0,null,null,0,0,0,0,0,0,0,null,"",0,0,0,0,0,0,0]
[{"$f":"#REF!","v":{"$error":"#REF!"}},5056,"RPV",5056,"2017/0142371-9","2017-06-16",null,"Paga","Paga - mar/2018 - 3ª remessa","2018-03-01","NÃO",null,null,"MS 10.438/DF",null,"2005-02-22","2007-09-13",null,"Administrativo - Militar - Pensão","Ministério da Fazenda","UNIÃO",null,"Mandado de Segurança 10.438/DF","2008/0079461-1","2007-09-13",null,"Adhemar da Silva","922.543.498-72","Servidor Público Militar Inativo","Diferença de remuneração","Alimentar",null,"Paulo Alexandre Correia de Vasconcelos","579.912.002-72","Carlos Rodrigo Correia de Vasconcelos","615.035.412-15",null,"Dedução de Honorários Contratuais","IPCA-e","2016-09-01",3.1726052831709302,54703.86,0,54703.86,5470.38,0,5470.38,5470.38,0,5470.38,43763.100000000006,0,43763.100000000006,0,0,0,23,0,null,null,null,null,null,null,null,null,null,null,null,null,null,null,null,null,null,"Não","Não","Não","-","-","Não informado","Não informado","Não",20,11,6,"2016-09-01","2018-03-01",1.0463662688230935,45792.23,5724.02,5724.02,57240.270000000004,1,57240.270000000004,1,57240.270000000004,0,0,null,null,1,54703.86,1,54703.86,0,0,null,null,0,0,0,0,0,0,0,null,"",0,0,0,0,0,0,0]
[{"$f":"#REF!","v":{"$error":"#REF!"}},5059,"RPV",5059,"2017/0142390-9","2017-06-16",null,"Paga","Paga - mar/2018 - 1ª remessa","2018-03-01","NÃO",null,null,"MS 10.438/DF",null,"2005-02-22","2007-09-13",null,"Administrativo - Militar - Pensão","Ministério da Fazenda","UNIÃO",null,"Mandado de Segurança 10.438/DF","2008/0079461-1","2007-09-13",null,"Amauri Alves das Neves","127.686.184-20","Servidor Público Militar Inativo","Diferença de remuneração","Alimentar",null,"Paulo Alexandre Correia de Vasconcelos","579.912.002-72","Carlos Rodrigo Correia de Vasconcelos","615.035.412-15",null,"Dedução de Honorários Contratuais","IPCA-e","2016-09-01",3.1726052831709302,52590.95,0,52590.95,5259.09,0,5259.09,5259.09,0,5259.09,42072.770000000004,0,42072.770000000004,0,0,0,23,0,null,null,null,null,null,null,null,null,null,null,null,null,null,null,null,null,null,"Não","Não","Não","-","-","Não informado","Não informado","Não",20,11,6,"2016-09-01","2018-03-01",1.0463662688230935,44023.519999999997,5502.93,5502.93,55029.38,1,55029.38,1,55029.38,0,0,null,null,1,52590.95,1,52590.95,0,0,null,null,0,0,0,0,0,0,0,null,"",0,0,0,0,0,0,0]
[{"$f":"#REF!","v":{"$error":"#REF!"}},5062,"RPV",5062,"2017/0142399-5","2017-06-16",null,"Paga","Paga - mar/2018 - 1ª remessa","2018-03-01","NÃO",null,null,"MS 10.438/DF",null,"2005-02-22","2007-09-13",null,"Administrativo - Militar - Pensão","Ministério da Fazenda","UNIÃO",null,"Mandado de Segurança 10.438/DF","2008/0079461-1","2007-09-13",null,"Antônio Carlos Gouvea Nogueira","112.105.082-49","Servidor Público Militar Inativo","Diferença de remuneração","Alimentar",null,"Paulo Alexandre Correia de Vasconcelos","579.912.002-72","Carlos Rodrigo Correia de Vasconcelos","615.035.412-15",null,"Dedução de Honorários Contratuais","IPCA-e","2016-09-01",3.1726052831709302,52898.55,0,52898.55,5289.85,0,5289.85,5289.85,0,5289.85,42318.850000000006,0,42318.850000000006,0,0,0,23,0,null,null,null,null,null,null,null,null,null,null,null,null,null,null,null,null,null,"Não","Não","Não","-","-","Não informado","Não informado","Não",20,11,6,"2016-09-01","2018-03-01",1.0463662688230935,44281.01,5535.12,5535.12,55351.250000000007,1,55351.250000000007,1,55351.250000000007,0,0,null,null,1,52898.55,1,52898.55,0,0,null,null,0,0,0,0,0,0,0,null,"",0,0,0,0,0,0,0]
[{"$f":"#REF!","v":{"$error":"#REF!"}},5063,"RPV",5063,"2017/0142400-9","2017-06-16",null,"Paga","Paga - mar/2018 - 1ª remessa","2018-03-01","NÃO",null,null,"MS 10.438/DF",null,"2005-02-22","2007-09-13",null,"Administrativo - Militar - Pensão","Ministério da Fazenda","UNIÃO",null,"Mandado de Segurança 10.438/DF","2008/0079461-1","2007-09-13",null,"Antônio Carlos Trindade Pereira","113.636.302-53","Servidor Público Militar Inativo","Diferença de remuneração","Alimentar",null,"Paulo Alexandre Correia de Vasconcelos","579.912.002-72","Carlos Rodrigo Correia de Vasconcelos","615.035.412-15",null,"Dedução de Honorários Contratuais","IPCA-e","2016-09-01",3.1726052831709302,54697.82,0,54697.82,5469.78,-9.0949470177292824E-13,5469.7799999999988,5469.78,-9.0949470177292824E-13,5469.7799999999988,43758.26,1.8189894035458565E-12,43758.26,0,0,0,23,0,null,null,null,null,null,null,null,null,null,null,null,null,null,null,null,null,null,"Não","Não","Não","-","-","Não informado","Não informado","Não",20,11,6,"2016-09-01","2018-03-01",1.0463662688230935,45787.16,5723.39,5723.39,57233.94,1,57233.94,1,57233.94,0,0,null,null,1,54697.82,1,54697.82,0,0,null,null,0,0,0,0,0,0,0,null,"",0,0,0,0,0,0,0]
[{"$f":"#REF!","v":{"$error":"#REF!"}},5067,"RPV",5067,"2017/0142416-0","2017-06-16",null,"Paga","Paga - nov/2017 - 1ª remessa","2017-11-01","NÃO",null,null,"AR 1.169/CE",null,"1999-10-18","2004-06-07",null,"Administrativo - Servidor Público Civil - Anuênio","Instituto Nacional do Seguro Social - INSS","Instituto Nacional do Seguro Social - INSS",null,"Ação Rescisória 1.169/CE","2009/0056479-6","2004-06-07",null,"Roselita Cavalcante Bastos ","222.185.133-15","Servidor Público Civil Ativo","Anuênios","Alimentar",null,"Glayddes Sindeaux Advogados","17.291.820/0001-82","-","-",null,"Dedução de Honorários Contratuais","IPCA-e","2016-04-01",3.08649282346639,4497.3100000000004,0,4497.3100000000004,0,0,899.46,0,0,0,4497.3100000000004,0,3597.8500000000004,2348.4699999999998,258.33,516.66,47,258.33,null,null,null,null,null,null,null,null,null,null,null,null,null,null,null,null,null,"Não","Não","Não","-","-","Não informado","Não informado","Não",0,11,6,"2016-04-01","2017-11-01",1.0602101478484951,3814.47,953.61,0,4768.08,1,4768.08,1,4768.08,0,0,null,null,1,4497.3100000000004,1,4497.3100000000004,0,0,null,null,0,0,0,0,0,0,0,null,"",0,0,0,0,0,0,0]
[{"$f":"#REF!","v":{"$error":"#REF!"}},5074,"RPV",5074,"2017/0142451-5","2017-06-16",null,"Paga","Paga - nov/2017 - 1ª remessa","2017-11-01","NÃO",null,null,"AR 1.169/CE",null,"1999-10-18","2004-06-07",null,"Administrativo - Servidor Público Civil - Anuênio","Instituto Nacional do Seguro Social - INSS","Instituto Nacional do Seguro Social - INSS",null,"Ação Rescisória 1.169/CE","2009/0056479-6","2004-06-07",null,"Ruth Dantas De Almeida Victor ","469.946.883-72","Servidor Público Civil Ativo","Anuênios","Alimentar",null,"Glayddes Sindeaux Advogados","17.291.820/0001-82","-","-",null,"Dedução de Honorários Contratuais","IPCA-e","2016-04-01",3.08649282346639,5390,0,5390,0,0,539,0,0,0,5390,0,4851,2814.62,309.60000000000002,619.20000000000005,47,309.60000000000002,null,null,null,null,null,null,null,null,null,null,null,null,null,null,null,null,null,"Não","Não","Não","-","-","Não informado","Não informado","Não",0,11,6,"2016-04-01","2017-11-01",1.0602101478484951,5143.07,571.45000000000005,0,5714.5199999999995,1,5714.5199999999995,1,5714.5199999999995,0,0,null,null,1,5390,1,5390,0,0,null,null,0,0,0,0,0,0,0,null,"",0,0,0,0,0,0,0]
[{"$f":"#REF!","v":{"$error":"#REF!"}},5076,"RPV",5076,"2017/0142456-4","2017-06-16",null,"Paga","Paga - nov/2017 - 1ª remessa","2017-11-01","NÃO",null,null,"AR 1.169/CE",null,"1999-10-18","2004-06-07",null,"Administrativo - Servidor Público Civil - Anuênio","Instituto Nacional do Seguro Social - INSS","Instituto Nacional do Seguro Social - INSS",null,"Ação Rescisória 1.169/CE","2009/0056479-6","2004-06-07",null,"Ruy Libório Feitosa ","013.632.123-20","Servidor Público Civil Ativo","Anuênios","Alimentar",null,"Glayddes Sindeaux Advogados","17.291.820/0001-82","-","-",null,"Dedução de Honorários Contratuais","IPCA-e","2016-04-01",3.08649282346639,20280.59,0,20280.59,0,0,4056.11,0,0,0,20280.59,0,16224.48,10590.39,1164.94,2329.88,47,1164.94,null,null,null,null,null,null,null,null,null,null,null,null,null,null,null,null,null,"Não","Não","Não","-","-","Não informado","Não informado","Não",0,11,6,"2016-04-01","2017-11-01",1.0602101478484951,17201.349999999999,4300.32,0,21501.67,1,21501.67,1,21501.67,0,0,null,null,1,20280.59,1,20280.59,0,0,null,null,0,0,0,0,0,0,0,null,"",0,0,0,0,0,0,0]
[{"$f":"#REF!","v":{"$error":"#REF!"}},5083,"RPV",5083,"2017/0142476-6","2017-06-16",null,"Paga","Paga - nov/2017 - 1ª remessa","2017-11-01","NÃO",null,null,"AR 1.169/CE",null,"1999-10-18","2004-06-07",null,"Administrativo - Servidor Público Civil - Anuênio","Instituto Nacional do Seguro Social - INSS","Instituto Nacional do Seguro Social - INSS",null,"Ação Rescisória 1.169/CE","2009/0056479-6","2004-06-07",null,"Sandra Maria Cordeiro Araújo ","091.692.293-68","Servidor Público Civil Ativo","Anuênios","Alimentar",null,"Glayddes Sindeaux Advogados","17.291.820/0001-82","-","-",null,"Dedução de Honorários Contratuais","IPCA-e","2016-04-01",3.08649282346639,8222.3799999999992,0,8222.3799999999992,0,0,822.23,0,0,0,8222.3799999999992,0,7400.15,4293.67,472.3,944.6,47,472.3,null,null,null,null,null,null,null,null,null,null,null,null,null,null,null,null,null,"Não","Não","Não","-","-","Não informado","Não informado","Não",0,11,6,"2016-04-01","2017-11-01",1.0602101478484951,7845.71,871.73,0,8717.44,1,8717.44,1,8717.44,0,0,null,null,1,8222.3799999999992,1,8222.3799999999992,0,0,null,null,0,0,0,0,0,0,0,null,"",0,0,0,0,0,0,0]
[{"$f":"#REF!","v":{"$error":"#REF!"}},5085,"RPV",5085,"2017/0142478-0","2017-06-16",null,"Paga","Paga - nov/2017 - 1ª remessa","2017-11-01","NÃO",null,null,"AR 1.169/CE",null,"1999-10-18","2004-06-07",null,"Administrativo - Servidor Público Civil - Anuênio","Instituto Nacional do Seguro Social - INSS","Instituto Nacional do Seguro Social - INSS",null,"Ação Rescisória 1.169/CE","2009/0056479-6","2004-06-07",null,"Sandra Maria Fernandes Veras ","203.375.743-91","Servidor Público Civil Ativo","Anuênios","Alimentar",null,"Glayddes Sindeaux Advogados","17.291.820/0001-82","-","-",null,"Dedução de Honorários Contratuais","IPCA-e","2016-04-01",3.08649282346639,5932.59,0,5932.59,0,0,593.25,0,0,0,5932.59,0,5339.34,3097.96,340.77,681.54,47,340.77,null,null,null,null,null,null,null,null,null,null,null,null,null,null,null,null,null,"Não","Não","Não","-","-","Não informado","Não informado","Não",0,11,6,"2016-04-01","2017-11-01",1.0602101478484951,5660.82,628.96,0,6289.78,1,6289.78,1,6289.78,0,0,null,null,1,5932.59,1,5932.59,0,0,null,null,0,0,0,0,0,0,0,null,"",0,0,0,0,0,0,0]
[{"$f":"#REF!","v":{"$error":"#REF!"}},5093,"RPV",5093,"2017/0152328-3","2017-06-28",null,"Paga","Paga - nov/2017 - 1ª remessa","2017-11-01","NÃO",null,null,"MS 4.149/DF",null,"1995-07-21","1998-09-23",null,"Administrativo - Servidor Público Civil - Sistema Remuneratório e Benefícios","x x x","UNIÃO",null,"Mandado de Segurança 4.149/DF","2008/0048442-5","2017-05-22",null,"Josilma Saraiva Advogados Associados","09.384.741/0001-98","x . x . x","Honorários de Sucumbência","Alimentar",null,"Josilma Saraiva Advogados Associados","09.384.741/0001-98","-","-",null,"Honorários sucumbenciais, art 23, Lei 8.906/94","IPCA-e","2016-08-01",3.1583925168451299,16707.28,0,16707.28,0,0,0,0,0,0,16707.28,0,16707.28,0,0,0,0,0,null,null,null,null,null,null,null,null,null,null,null,null,null,null,null,null,null,"Não","Não","Não","-","-","Não informado","Não informado","Não",0,11,6,"2016-08-01","2017-11-01",1.0360748371989246,17309.990000000002,0,0,17309.990000000002,1,17309.990000000002,1,17309.990000000002,0,0,null,null,1,16707.28,1,16707.28,0,0,null,null,0,0,0,0,0,0,0,null,"",0,0,0,0,0,0,0]
[{"$f":"#REF!","v":{"$error":"#REF!"}},{"$f":"IF(D77=\"\",\"\",D77)","v":5094},"RPV",5094,"2017/0152332-3","2017-06-28",null,"Paga","Paga - nov/2017 - 1ª remessa","2017-11-01","NÃO",null,null,"MS 4.149/DF",null,"1995-07-21","1998-09-23",null,"Administrativo - Servidor Público Civil - Sistema Remuneratório e Benefícios","INCRA","UNIÃO",null,"Mandado de Segurança 4.149/DF","2007/0282234-0","2014-09-26",null,"Abigail Passos","109.595.306-06","Servidor Público Civil Inativo","Diferença de remuneração - 3,17%","Alimentar",null,"Josilma Saraiva Advogados Associados","09.384.741/0001-98","-","-",null,"Dedução de Honorários Contratuais","IPCA-e","2015-12-01",2.9676063088959199,24881.46,0,24881.46,0,0,2488.14,0,0,0,24881.46,0,22393.32,0,0,0,65,0,null,null,null,null,null,null,null,null,null,null,null,null,null,null,null,null,null,"Não","Não","Não","-","-","Não informado","Não informado","Não",0,11,6,"2015-12-01","2017-11-01",1.1026836689527295,24692.74,2743.63,0,27436.370000000003,1,27436.370000000003,1,27436.370000000003,0,0,null,null,1,24881.46,1,24881.46,0,0,null,null,0,0,0,0,0,0,0,null,"",0,0,0,0,0,0,0]
[{"$f":"#REF!","v":{"$error":"#REF!"}},5096,"RPV",5096,"2017/0152350-1","2017-06-28",null,"Paga","Paga - nov/2017 - 1ª remessa","2017-11-01","NÃO",null,null,"MS 4.149/DF",null,"1995-07-21","1998-09-23",null,"Administrativo - Servidor Público Civil - Sistema Remuneratório e Benefícios","INCRA","UNIÃO",null,"Mandado de Segurança 4.149/DF","2007/0282234-0","2014-09-26",null,"Acir Gomes Coelho","000.703.781-34","Servidor Público Civil Ativo","Diferença de remuneração - 3,17%","Alimentar",null,"Josilma Saraiva Advogados Associados","09.384.741/0001-98","-","-",null,"Dedução de Honorários Contratuais","IPCA-e","2015-12-01",2.9676063088959199,28244.41,0,28244.41,0,0,2824.44,0,0,0,28244.41,0,25419.97,35.700000000000003,3.92,0,85,3.92,null,null,null,null,null,null,null,null,null,null,null,null,null,null,null,null,null,"Não","Não","Não","-","-","Não informado","Não informado","Não",0,10,6,"2015-12-01","2017-11-01",1.1026836689527295,28030.18,3114.46,0,31144.639999999999,1,31144.639999999999,1,31144.639999999999,0,0,null,null,1,28244.41,1,28244.41,0,0,null,null,0,0,0,0,0,0,0,null,"",0,0,0,0,0,0,0]
[{"$f":"#REF!","v":{"$error":"#REF!"}},5097,"RPV",5097,"2017/0152354-9","2017-06-28",null,"Paga","Paga - nov/2017 - 1ª remessa","2017-11-01","NÃO",null,null,"MS 4.149/DF",null,"1995-07-21","1998-09-23",null,"Administrativo - Servidor Público Civil - Sistema Remuneratório e Benefícios","INCRA","UNIÃO",null,"Mandado de Segurança 4.149/DF","2007/0282234-0","2014-09-26",null,"Agostinho Reis","001.631.043-87","Servidor Público Civil Inativo","Diferença de remuneração - 3,17%","Alimentar",null,"Josilma Saraiva Advogados Associados","09.384.741/0001-98","-","-",null,"Dedução de Honorários Contratuais","IPCA-e","2015-12-01",2.9676063088959199,38523.919999999998,0,38523.919999999998,0,0,3852.39,0,0,0,38523.919999999998,0,34671.53,0,0,0,85,0,null,null,null,null,null,null,null,null,null,null,null,null,null,null,null,null,null,"Não","Não","Não","-","-","Não informado","Não informado","Não",0,10,6,"2015-12-01","2017-11-01",1.1026836689527295,38231.72,4247.96,0,42479.68,1,42479.68,1,42479.68,0,0,null,null,1,38523.919999999998,1,38523.919999999998,0,0,null,null,0,0,0,0,0,0,0,null,"",0,0,0,0,0,0,0]
[{"$f":"#REF!","v":{"$error":"#REF!"}},5098,"RPV",5098,"2017/0152355-0","2017-06-28",null,"Paga","Paga - nov/2017 - 1ª remessa","2017-11-01","NÃO",null,null,"MS 4.149/DF",null,"1995-07-21","1998-09-23",null,"Administrativo - Servidor Público Civil - Sistema Remuneratório e Benefícios","INCRA","UNIÃO",null,"Mandado de Segurança 4.149/DF","2007/0282234-0","2014-09-26",null,"Alaíde Teodoro de Araújo","119.325.111-72","Servidor Público Civil Ativo","Diferença de remuneração - 3,17%","Alimentar",null,"Josilma Saraiva Advogados Associados","09.384.741/0001-98","-","-",null,"Dedução de Honorários Contratuais","IPCA-e","2015-12-01",2.9676063088959199,41219.230000000003,0,41219.230000000003,0,0,4121.92,0,0,0,41219.230000000003,0,37097.310000000005,18513.400000000001,2036.47,4072.94,85,2036.47,null,null,null,null,null,null,null,null,null,null,null,null,null,null,null,null,null,"Não","Não","Não","-","-","Não informado","Não informado","Não",0,10,6,"2015-12-01","2017-11-01",1.1026836689527295,40906.589999999997,4545.17,0,45451.759999999995,1,45451.759999999995,1,45451.759999999995,0,0,null,null,1,41219.230000000003,1,41219.230000000003,0,0,null,null,0,0,0,0,0,0,0,null,"",0,0,0,0,0,0,0]
[{"$f":"#REF!","v":{"$error":"#REF!"}},5099,"RPV",5099,"2017/0152358-6","2017-06-28",null,"Paga","Paga - nov/2017 - 1ª remessa","2017-11-01","NÃO",null,null,"MS 4.149/DF",null,"1995-07-21","1998-09-23",null,"Administrativo - Servidor Público Civil - Sistema Remuneratório e Benefícios","INCRA","UNIÃO",null,"Mandado de Segurança 4.149/DF","2007/0282234-0","2014-09-26",null,"Albino Fonseca da Silva Netto","000.537.752-87","Servidor Público Civil Inativo","Diferença de remuneração - 3,17%","Alimentar",null,"Josilma Saraiva Advogados Associados","09.384.741/0001-98","-","-",null,"Dedução de Honorários Contratuais","IPCA-e","2015-12-01",2.9676063088959199,46962.6,0,46962.6,0,0,4696.26,0,0,0,46962.6,0,42266.34,0,0,0,85,0,null,null,null,null,null,null,null,null,null,null,null,null,null,null,null,null,null,"Não","Não","Não","-","-","Não informado","Não informado","Não",0,10,6,"2015-12-01","2017-11-01",1.1026836689527295,46606.400000000001,5178.4799999999996,0,51784.880000000005,1,51784.880000000005,1,51784.880000000005,0,0,null,null,1,46962.6,1,46962.6,0,0,null,null,0,0,0,0,0,0,0,null,"",0,0,0,0,0,0,0]
[{"$f":"#REF!","v":{"$error":"#REF!"}},5100,"RPV",5100,"2017/0152361-4","2017-06-28",null,"Paga","Paga - nov/2017 - 1ª remessa","2017-11-01","NÃO",null,null,"MS 4.149/DF",null,"1995-07-21","1998-09-23",null,"Administrativo - Servidor Público Civil - Sistema Remuneratório e Benefícios","INCRA","UNIÃO",null,"Mandado de Segurança 4.149/DF","2007/0282234-0","2014-09-26",null,"Alceu Fernando Azevedo","046.344.207-59","Servidor Público Civil Ativo","Diferença de remuneração - 3,17%","Alimentar",null,"Josilma Saraiva Advogados Associados","09.384.741/0001-98","-","-",null,"Dedução de Honorários Contratuais","IPCA-e","2015-12-01",2.9676063088959199,53188.77,0,53188.77,0,0,5318.87,0,0,0,53188.77,0,47869.899999999994,10691.16,1176.02,2352.04,85,1176.02,null,null,null,null,null,null,null,null,null,null,null,null,null,null,null,null,null,"Não","Não","Não","-","-","Não informado","Não informado","Não",0,10,6,"2015-12-01","2017-11-01",1.1026836689527295,52785.35,5865.03,0,58650.38,1,58650.38,1,58650.38,0,0,null,null,1,53188.77,1,53188.77,0,0,null,null,0,0,0,0,0,0,0,null,"",0,0,0,0,0,0,0]
[{"$f":"#REF!","v":{"$error":"#REF!"}},5105,"RPV",5105,"2017/0152381-6","2017-06-28",null,"Paga","Paga - nov/2017 - 1ª remessa","2017-11-01","NÃO",null,null,"MS 4.149/DF",null,"1995-07-21","1998-09-23",null,"Administrativo - Servidor Público Civil - Sistema Remuneratório e Benefícios","INCRA","UNIÃO",null,"Mandado de Segurança 4.149/DF","2007/0282234-0","2014-09-26",null,"Antônio das Graças Santana","089.183.501-63","Servidor Público Civil Ativo","Diferença de remuneração - 3,17%","Alimentar",null,"Josilma Saraiva Advogados Associados","09.384.741/0001-98","-","-",null,"Dedução de Honorários Contratuais","IPCA-e","2015-12-01",2.9676063088959199,23630.04,0,23630.04,0,0,2363,0,0,0,23630.04,0,21267.040000000001,9115.1,1002.66,2005.32,85,1002.66,null,null,null,null,null,null,null,null,null,null,null,null,null,null,null,null,null,"Não","Não","Não","-","-","Não informado","Não informado","Não",0,10,6,"2015-12-01","2017-11-01",1.1026836689527295,23450.81,2605.64,0,26056.45,1,26056.45,1,26056.45,0,0,null,null,1,23630.04,1,23630.04,0,0,null,null,0,0,0,0,0,0,0,null,"",0,0,0,0,0,0,0]
[{"$f":"#REF!","v":{"$error":"#REF!"}},5107,"RPV",5107,"2017/0152384-1","2017-06-28",null,"Paga","Paga - nov/2017 - 1ª remessa","2017-11-01","NÃO",null,null,"MS 4.149/DF",null,"1995-07-21","1998-09-23",null,"Administrativo - Servidor Público Civil - Sistema Remuneratório e Benefícios","INCRA","UNIÃO",null,"Mandado de Segurança 4.149/DF","2007/0282234-0","2014-09-26",null,"Antônio Gonzalez Lopes","129.295.497-34","Servidor Público Civil Ativo","Diferença de remuneração - 3,17%","Alimentar",null,"Josilma Saraiva Advogados Associados","09.384.741/0001-98","-","-",null,"Dedução de Honorários Contratuais","IPCA-e","2015-12-01",2.9676063088959199,36089.31,0,36089.31,0,0,3608.93,0,0,0,36089.31,0,32480.379999999997,7673.7,844.1,1688.2,85,844.1,null,null,null,null,null,null,null,null,null,null,null,null,null,null,null,null,null,"Não","Não","Não","-","-","Não informado","Não informado","Não",0,10,6,"2015-12-01","2017-11-01",1.1026836689527295,35815.58,3979.5,0,39795.08,1,39795.08,1,39795.08,0,0,null,null,1,36089.31,1,36089.31,0,0,null,null,0,0,0,0,0,0,0,null,"",0,0,0,0,0,0,0]
[{"$f":"#REF!","v":{"$error":"#REF!"}},5108,"RPV",5108,"2017/0152385-3","2017-06-28",null,"Paga","Paga - nov/2017 - 1ª remessa","2017-11-01","NÃO",null,null,"MS 4.149/DF",null,"1995-07-21","1998-09-23",null,"Administrativo - Servidor Público Civil - Sistema Remuneratório e Benefícios","INCRA","UNIÃO",null,"Mandado de Segurança 4.149/DF","2007/0282234-0","2014-09-26",null,"Antônio Jorge Sobral","061.357.067-72","Servidor Público Civil Inativo","Diferença de remuneração - 3,17%","Alimentar",null,"Josilma Saraiva Advogados Associados","09.384.741/0001-98","-","-",null,"Dedução de Honorários Contratuais","IPCA-e","2015-12-01",2.9676063088959199,53704.7,0,53704.7,0,0,5370.47,0,0,0,53704.7,0,48334.229999999996,0,0,0,85,0,null,null,null,null,null,null,null,null,null,null,null,null,null,null,null,null,null,"Não","Não","Não","-","-","Não informado","Não informado","Não",0,10,6,"2015-12-01","2017-11-01",1.1026836689527295,53297.36,5921.92,0,59219.28,1,59219.28,1,59219.28,0,0,null,null,1,53704.7,1,53704.7,0,0,null,null,0,0,0,0,0,0,0,null,"",0,0,0,0,0,0,0]
[{"$f":"#REF!","v":{"$error":"#REF!"}},5109,"RPV",5109,"2017/0152387-7","2017-06-28",null,"Paga","Paga - nov/2017 - 1ª remessa","2017-11-01","NÃO",null,null,"MS 4.149/DF",null,"1995-07-21","1998-09-23",null,"Administrativo - Servidor Público Civil - Sistema Remuneratório e Benefícios","INCRA","UNIÃO",null,"Mandado de Segurança 4.149/DF","2007/0282234-0","2014-09-26",null,"Aparecido Antônio","864.713.768-04","Servidor Público Civil Ativo","Diferença de remuneração - 3,17%","Alimentar",null,"Josilma Saraiva Advogados Associados","09.384.741/0001-98","-","-",null,"Dedução de Honorários Contratuais","IPCA-e","2015-12-01",2.9676063088959199,30539.59,0,30539.59,0,0,3053.95,0,0,0,30539.59,0,27485.64,13742.61,1511.68,3023.36,85,1511.68,null,null,null,null,null,null,null,null,null,null,null,null,null,null,null,null,null,"Não","Não","Não","-","-","Não informado","Não informado","Não",0,10,6,"2015-12-01","2017-11-01",1.1026836689527295,30307.96,3367.54,0,33675.5,1,33675.5,1,33675.5,0,0,null,null,1,30539.59,1,30539.59,0,0,null,null,0,0,0,0,0,0,0,null,"",0,0,0,0,0,0,0]
[{"$f":"#REF!","v":{"$error":"#REF!"}},5110,"RPV",5110,"2017/0152389-0","2017-06-28",null,"Paga","Paga - nov/2017 - 1ª remessa","2017-11-01","NÃO",null,null,"MS 4.149/DF",null,"1995-07-21","1998-09-23",null,"Administrativo - Servidor Público Civil - Sistema Remuneratório e Benefícios","INCRA","UNIÃO",null,"Mandado de Segurança 4.149/DF","2007/0282234-0","2014-09-26",null,"Augusto Cláudio Duarte","031.630.247-34","Servidor Público Civil Inativo","Diferença de remuneração - 3,17%","Alimentar",null,"Josilma Saraiva Advogados Associados","09.384.741/0001-98","-","-",null,"Dedução de Honorários Contratuais","IPCA-e","2015-12-01",2.9676063088959199,51666.62,0,51666.62,0,0,5166.66,0,0,0,51666.62,0,46499.960000000006,0,0,0,65,0,null,null,null,null,null,null,null,null,null,null,null,null,null,null,null,null,null,"Não","Não","Não","-","-","Não informado","Não informado","Não",0,10,6,"2015-12-01","2017-11-01",1.1026836689527295,51274.74,5697.19,0,56971.93,1,56971.93,1,56971.93,0,0,null,null,1,51666.62,1,51666.62,0,0,null,null,0,0,0,0,0,0,0,null,"",0,0,0,0,0,0,0]
[{"$f":"#REF!","v":{"$error":"#REF!"}},5111,"RPV",5111,"2017/0152429-3","2017-06-28",null,"Paga","Paga - nov/2017 - 1ª remessa","2017-11-01","NÃO",null,null,"MS 4.149/DF",null,"1995-07-21","1998-09-23",null,"Administrativo - Servidor Público Civil - Sistema Remuneratório e Benefícios","INCRA","UNIÃO",null,"Mandado de Segurança 4.149/DF","2007/0282234-0","2014-09-26",null,"Aurélio de Jesus Silva","184.396.401-53","Servidor Público Civil Ativo","Diferença de remuneração - 3,17%","Alimentar",null,"Josilma Saraiva Advogados Associados","09.384.741/0001-98","-","-",null,"Dedução de Honorários Contratuais","IPCA-e","2015-12-01",2.9676063088959199,19031.990000000002,0,19031.990000000002,0,0,1903.19,0,0,0,19031.990000000002,0,17128.800000000003,5970.46,656.75,1313.5,65,656.75,null,null,null,null,null,null,null,null,null,null,null,null,null,null,null,null,null,"Não","Não","Não","-","-","Não informado","Não informado","Não",0,10,6,"2015-12-01","2017-11-01",1.1026836689527295,18887.64,2098.61,0,20986.25,1,20986.25,1,20986.25,0,0,null,null,1,19031.990000000002,1,19031.990000000002,0,0,null,null,0,0,0,0,0,0,0,null,"",0,0,0,0,0,0,0]
[{"$f":"#REF!","v":{"$error":"#REF!"}},5112,"RPV",5112,"2017/0152464-8","2017-06-28",null,"Paga","Paga - nov/2017 - 1ª remessa","2017-11-01","NÃO",null,null,"MS 4.149/DF",null,"1995-07-21","1998-09-23",null,"Administrativo - Servidor Público Civil - Sistema Remuneratório e Benefícios","INCRA","UNIÃO",null,"Mandado de Segurança 4.149/DF","2007/0282234-0","2014-09-26",null,"Carlos Antônio Virgolino Guedes","003.514.665-68","Servidor Público Civil Inativo","Diferença de remuneração - 3,17%","Alimentar",null,"Josilma Saraiva Advogados Associados","09.384.741/0001-98","-","-",null,"Dedução de Honorários Contratuais","IPCA-e","2015-12-01",2.9676063088959199,32618.91,0,32618.91,0,0,3261.89,0,0,0,32618.91,0,29357.02,0,0,0,85,0,null,null,null,null,null,null,null,null,null,null,null,null,null,null,null,null,null,"Não","Não","Não","-","-","Não informado","Não informado","Não",0,10,6,"2015-12-01","2017-11-01",1.1026836689527295,32371.5,3596.83,0,35968.33,1,35968.33,1,35968.33,0,0,null,null,1,32618.91,1,32618.91,0,0,null,null,0,0,0,0,0,0,0,null,"",0,0,0,0,0,0,0]
[{"$f":"#REF!","v":{"$error":"#REF!"}},5115,"RPV",5115,"2017/0152486-3","2017-06-28",null,"Paga","Paga - nov/2017 - 1ª remessa","2017-11-01","NÃO",null,null,"MS 4.149/DF",null,"1995-07-21","1998-09-23",null,"Administrativo - Servidor Público Civil - Sistema Remuneratório e Benefícios","INCRA","UNIÃO",null,"Mandado de Segurança 4.149/DF","2008/0092533-2","2014-09-26",null,"Sérgio Fernando de Souza","004.374.681-00","Servidor Público Civil Inativo","Diferença de remuneração - 3,17%","Alimentar",null,"Josilma Saraiva Advogados Associados","09.384.741/0001-98","-","-",null,"Dedução de Honorários Contratuais","IPCA-e","2017-03-01",3.2275526704784401,31177.11,0,31177.11,0,0,3117.71,0,0,0,31177.11,0,28059.4,0,0,0,85,0,null,null,null,null,null,null,null,null,null,null,null,null,null,null,null,null,null,"Não","Não","Não","-","-","Não informado","Não informado","Não",0,10,6,"2017-03-01","2017-11-01",1.0138737758276588,28448.68,3160.96,0,31609.64,1,31609.64,1,31609.64,0,0,null,null,1,31177.11,1,31177.11,0,0,null,null,0,0,0,0,0,0,0,null,"",0,0,0,0,0,0,0]
[{"$f":"#REF!","v":{"$error":"#REF!"}},5116,"RPV",5116,"2017/0152495-2","2017-06-28",null,"Paga","Paga - nov/2017 - 1ª remessa","2017-11-01","NÃO",null,null,"MS 4.149/DF",null,"1995-07-21","1998-09-23",null,"Administrativo - Servidor Público Civil - Sistema Remuneratório e Benefícios","INCRA","UNIÃO",null,"Mandado de Segurança 4.149/DF","2008/0092533-2","2014-09-26",null,"Silvia Elisabeth de Castro Sampaio Cardim","082.875.895-68","Servidor Público Civil Ativo","Diferença de remuneração - 3,17%","Alimentar",null,"Josilma Saraiva Advogados Associados","09.384.741/0001-98","-","-",null,"Dedução de Honorários Contratuais","IPCA-e","2017-03-01",3.2275526704784401,32842.35,0,32842.35,0,0,3284.23,0,0,0,32842.35,0,29558.12,12853.22,1413.85,2827.7,85,1413.85,null,null,null,null,null,null,null,null,null,null,null,null,null,null,null,null,null,"Não","Não","Não","-","-","Não informado","Não informado","Não",0,10,6,"2017-03-01","2017-11-01",1.0138737758276588,29968.2,3329.79,0,33297.99,1,33297.99,1,33297.99,0,0,null,null,1,32842.35,1,32842.35,0,0,null,null,0,0,0,0,0,0,0,null,"",0,0,0,0,0,0,0]
[{"$f":"#REF!","v":{"$error":"#REF!"}},5117,"RPV",5117,"2017/0152501-5","2017-06-28",null,"Paga","Paga - nov/2017 - 1ª remessa","2017-11-01","NÃO",null,null,"MS 4.149/DF",null,"1995-07-21","1998-09-23",null,"Administrativo - Servidor Público Civil - Sistema Remuneratório e Benefícios","INCRA","UNIÃO",null,"Mandado de Segurança 4.149/DF","2008/0092533-2","2014-09-26",null,"Sinoval Antônio Eneias","001.982.931-00","Servidor Público Civil Inativo","Diferença de remuneração - 3,17%","Alimentar",null,"Josilma Saraiva Advogados Associados","09.384.741/0001-98","-","-",null,"Dedução de Honorários Contratuais","IPCA-e","2017-03-01",3.2275526704784401,45113.78,0,45113.78,0,0,4511.37,0,0,0,45113.78,0,40602.409999999996,0,0,0,85,0,null,null,null,null,null,null,null,null,null,null,null,null,null,null,null,null,null,"Não","Não","Não","-","-","Não informado","Não informado","Não",0,0,6,"2017-03-01","2017-11-01",1.0138737758276588,41165.71,4573.95,0,45739.659999999996,1,45739.659999999996,1,45739.659999999996,0,0,null,null,1,45113.78,1,45113.78,0,0,null,null,0,0,0,0,0,0,0,null,"",0,0,0,0,0,0,0]
[{"$f":"#REF!","v":{"$error":"#REF!"}},5118,"RPV",5118,"2017/0152526-6","2017-06-28",null,"Paga","Paga - nov/2017 - 1ª remessa","2017-11-01","NÃO",null,null,"MS 4.149/DF",null,"1995-07-21","1998-09-23",null,"Administrativo - Servidor Público Civil - Sistema Remuneratório e Benefícios","INCRA","UNIÃO",null,"Mandado de Segurança 4.149/DF","2008/0092533-2","2014-09-26",null,"Sonia Maria Garcez Teixeira","004.428.103-00","Servidor Público Civil Inativo","Diferença de remuneração - 3,17%","Alimentar",null,"Josilma Saraiva Advogados Associados","09.384.741/0001-98","-","-",null,"Dedução de Honorários Contratuais","IPCA-e","2017-03-01",3.2275526704784401,30541.51,0,30541.51,0,0,3054.15,0,0,0,30541.51,0,27487.359999999997,0,0,0,85,0,null,null,null,null,null,null,null,null,null,null,null,null,null,null,null,null,null,"Não","Não","Não","-","-","Não informado","Não informado","Não",0,0,6,"2017-03-01","2017-11-01",1.0138737758276588,27868.71,3096.52,0,30965.23,1,30965.23,1,30965.23,0,0,null,null,1,30541.51,1,30541.51,0,0,null,null,0,0,0,0,0,0,0,null,"",0,0,0,0,0,0,0]
[{"$f":"#REF!","v":{"$error":"#REF!"}},5120,"RPV",5120,"2017/0152556-9","2017-06-28",null,"Paga","Paga - nov/2017 - 1ª remessa","2017-11-01","NÃO",null,null,"MS 4.149/DF",null,"1995-07-21","1998-09-23",null,"Administrativo - Servidor Público Civil - Sistema Remuneratório e Benefícios","INCRA","UNIÃO",null,"Mandado de Segurança 4.149/DF","2008/0092533-2","2014-09-26",null,"Tadeu Dewes","330.025.410-87","Servidor Público Civil Ativo","Diferença de remuneração - 3,17%","Alimentar",null,"Josilma Saraiva Advogados Associados","09.384.741/0001-98","-","-",null,"Dedução de Honorários Contratuais","IPCA-e","2017-03-01",3.2275526704784401,30057.49,0,30057.49,0,0,3005.74,0,0,0,30057.49,0,27051.75,11313.64,1244.5,2489,85,1244.5,null,null,null,null,null,null,null,null,null,null,null,null,null,null,null,null,null,"Não","Não","Não","-","-","Não informado","Não informado","Não",0,0,6,"2017-03-01","2017-11-01",1.0138737758276588,27427.05,3047.44,0,30474.489999999998,1,30474.489999999998,1,30474.489999999998,0,0,null,null,1,30057.49,1,30057.49,0,0,null,null,0,0,0,0,0,0,0,null,"",0,0,0,0,0,0,0]
[{"$f":"#REF!","v":{"$error":"#REF!"}},5125,"RPV",5125,"2017/0152603-7","2017-06-28",null,"Paga","Paga - nov/2017 - 1ª remessa","2017-11-01","NÃO",null,null,"MS 4.149/DF",null,"1995-07-21","1998-09-23",null,"Administrativo - Servidor Público Civil - Sistema Remuneratório e Benefícios","INCRA","UNIÃO",null,"Mandado de Segurança 4.149/DF","2008/0092533-2","2014-09-26",null,"Zelia Maria da Silva","085.313.231-34","Servidor Público Civil Ativo","Diferença de remuneração - 3,17%","Alimentar",null,"Josilma Saraiva Advogados Associados","09.384.741/0001-98","-","-",null,"Dedução de Honorários Contratuais","IPCA-e","2017-03-01",3.2275526704784401,2304.6,0,2304.6,0,0,230.46,0,0,0,2304.6,0,2074.14,15.6,1.71,3.42,6,1.71,null,null,null,null,null,null,null,null,null,null,null,null,null,null,null,null,null,"Não","Não","Não","-","-","Não informado","Não informado","Não",0,0,6,"2017-03-01","2017-11-01",1.0138737758276588,2102.91,233.65,0,2336.56,1,2336.56,1,2336.56,0,0,null,null,1,2304.6,1,2304.6,0,0,null,null,0,0,0,0,0,0,0,null,"",0,0,0,0,0,0,0]
[{"$f":"#REF!","v":{"$error":"#REF!"}},5126,"RPV",5126,"2017/0152609-8","2017-06-28",null,"Paga","Paga - nov/2017 - 1ª remessa","2017-11-01","NÃO",null,null,"MS 4.149/DF",null,"1995-07-21","1998-09-23",null,"Administrativo - Servidor Público Civil - Sistema Remuneratório e Benefícios","x x x","UNIÃO",null,"Mandado de Segurança 4.149/DF","2008/0092533-2","2014-09-26",null,"Josilma Saraiva Advogados Associados","09.384.741/0001-98","x . x . x","Honorários de Sucumbência","Alimentar",null,"Josilma Saraiva Advogados Associados","09.384.741/0001-98","-","-",null,"Honorários sucumbenciais, art 23, Lei 8.906/94","IPCA-e","2017-03-01",3.2275526704784401,9273.17,0,9273.17,0,0,0,0,0,0,9273.17,0,9273.17,0,0,0,0,0,null,null,null,null,null,null,null,null,null,null,null,null,null,null,null,null,null,"Não","Não","Não","-","-","Não informado","Não informado","Não",0,0,6,"2017-03-01","2017-11-01",1.0138737758276588,9401.82,0,0,9401.82,1,9401.82,1,9401.82,0,0,null,null,1,9273.17,1,9273.17,0,0,null,null,0,0,0,0,0,0,0,null,"",0,0,0,0,0,0,0]
[{"$f":"#REF!","v":{"$error":"#REF!"}},5127,"RPV",5127,"2017/0152614-0","2017-06-28",null,"Paga","Paga - nov/2017 - 1ª remessa","2017-11-01","NÃO",null,null,"MS 4.149/DF",null,"1995-07-21","1998-09-23",null,"Administrativo - Servidor Público Civil - Sistema Remuneratório e Benefícios","INCRA","UNIÃO",null,"Mandado de Segurança 4.149/DF","2008/0092170-8","2014-09-26",null,"Nara Figueiredo","220.486.771-34","Servidor Público Civil Ativo","Diferença de remuneração - 3,17%","Alimentar",null,"Josilma Saraiva Advogados Associados","09.384.741/0001-98","-","-",null,"Dedução de Honorários Contratuais","IPCA-e","2016-04-01",3.08649282346639,39369.370000000003,0,39369.370000000003,0,0,3936.93,0,0,0,39369.370000000003,0,35432.44,15769.29,1734.62,3469.24,85,1734.62,null,null,null,null,null,null,null,null,null,null,null,null,null,null,null,null,null,"Não","Não","Não","-","-","Não informado","Não informado","Não",0,0,6,"2016-04-01","2017-11-01",1.0602101478484951,37565.83,4173.97,0,41739.800000000003,1,41739.800000000003,1,41739.800000000003,0,0,null,null,1,39369.370000000003,1,39369.370000000003,0,0,null,null,0,0,0,0,0,0,0,null,"",0,0,0,0,0,0,0]
[{"$f":"#REF!","v":{"$error":"#REF!"}},5128,"RPV",5128,"2017/0152618-7","2017-06-28",null,"Paga","Paga - jun/2018 - 1ª remessa","2018-06-01","NÃO",null,null,"MS 4.149/DF",null,"1995-07-21","1998-09-23",null,"Administrativo - Servidor Público Civil - Sistema Remuneratório e Benefícios","INCRA","UNIÃO",null,"Mandado de Segurança 4.149/DF","2008/0092170-8","2014-09-26",null,"Paulo Cesar Rebello Mendes de Oliveira","121.162.031-04","Servidor Público Civil Ativo","Diferença de remuneração - 3,17%","Alimentar",null,"Josilma Saraiva Advogados Associados","09.384.741/0001-98","-","-",null,"Dedução de Honorários Contratuais","IPCA-e","2016-04-01",3.08649282346639,31051.65,0,31051.65,0,0,3105.16,0,0,0,31051.65,0,27946.49,12370.48,1360.75,2721.5,85,1360.75,null,null,null,null,null,null,null,null,null,null,null,null,null,null,null,null,null,"Não","Não","Não","-","-","Não informado","Não informado","Não",0,0,6,"2016-04-01","2018-06-01",1.0804066019680192,30193.57,3354.83,0,33548.400000000001,1,33548.400000000001,1,33548.400000000001,0,0,null,null,1,31051.65,1,31051.65,0,0,null,null,0,0,0,0,0,0,0,null,"",0,0,0,0,0,0,0]
[{"$f":"#REF!","v":{"$error":"#REF!"}},5129,"RPV",5129,"2017/0152621-5","2017-06-28",null,"Paga","Paga - jun/2018 - 1ª remessa","2018-06-01","NÃO",null,null,"MS 4.149/DF",null,"1995-07-21","1998-09-23",null,"Administrativo - Servidor Público Civil - Sistema Remuneratório e Benefícios","INCRA","UNIÃO",null,"Mandado de Segurança 4.149/DF","2008/0092170-8","2014-09-26",null,"Paulo Gonçalves","024.259.631-20","Servidor Público Civil Inativo","Diferença de remuneração - 3,17%","Alimentar",null,"Josilma Saraiva Advogados Associados","09.384.741/0001-98","-","-",null,"Dedução de Honorários Contratuais","IPCA-e","2016-04-01",3.08649282346639,41981.36,0,41981.36,0,0,4198.13,0,0,0,41981.36,0,37783.230000000003,0,0,0,85,0,null,null,null,null,null,null,null,null,null,null,null,null,null,null,null,null,null,"Não","Não","Não","-","-","Não informado","Não informado","Não",0,0,6,"2016-04-01","2018-06-01",1.0804066019680192,40821.25,4535.68,0,45356.93,1,45356.93,1,45356.93,0,0,null,null,1,41981.36,1,41981.36,0,0,null,null,0,0,0,0,0,0,0,null,"",0,0,0,0,0,0,0]
[{"$f":"#REF!","v":{"$error":"#REF!"}},5130,"RPV",5130,"2017/0152624-0","2017-06-28",null,"Paga","Paga - jun/2018 - 1ª remessa","2018-06-01","NÃO",null,null,"MS 4.149/DF",null,"1995-07-21","1998-09-23",null,"Administrativo - Servidor Público Civil - Sistema Remuneratório e Benefícios","INCRA","UNIÃO",null,"Mandado de Segurança 4.149/DF","2008/0092170-8","2014-09-26",null,"Paulo Porto e Albuquerque","023.525.247-68","Servidor Público Civil Inativo","Diferença de remuneração - 3,17%","Alimentar",null,"Josilma Saraiva Advogados Associados","09.384.741/0001-98","-","-",null,"Dedução de Honorários Contratuais","IPCA-e","2016-04-01",3.08649282346639,28518.01,0,28518.01,0,0,2851.8,0,0,0,28518.01,0,25666.21,0,0,0,36,0,null,null,null,null,null,null,null,null,null,null,null,null,null,null,null,null,null,"Não","Não","Não","-","-","Não informado","Não informado","Não",0,0,6,"2016-04-01","2018-06-01",1.0804066019680192,27729.94,3081.1,0,30811.039999999997,1,30811.039999999997,1,30811.039999999997,0,0,null,null,1,28518.01,1,28518.01,0,0,null,null,0,0,0,0,0,0,0,null,"",0,0,0,0,0,0,0]
[{"$f":"#REF!","v":{"$error":"#REF!"}},5132,"RPV",5132,"2017/0152636-5","2017-06-28",null,"Paga","Paga - nov/2017 - 1ª remessa","2017-11-01","NÃO",null,null,"MS 4.149/DF",null,"1995-07-21","1998-09-23",null,"Administrativo - Servidor Público Civil - Sistema Remuneratório e Benefícios","INCRA","UNIÃO",null,"Mandado de Segurança 4.149/DF","2008/0092170-8","2014-09-26",null,"Raimundo João Amorim Pereira","095.096.823-49","Servidor Público Civil Ativo","Diferença de remuneração - 3,17%","Alimentar",null,"Josilma Saraiva Advogados Associados","09.384.741/0001-98","-","-",null,"Dedução de Honorários Contratuais","IPCA-e","2016-04-01",3.08649282346639,27200.53,0,27200.53,0,0,2720.05,0,0,0,27200.53,0,24480.48,10890.89,1197.99,2395.98,85,1197.99,null,null,null,null,null,null,null,null,null,null,null,null,null,null,null,null,null,"Não","Não","Não","-","-","Não informado","Não informado","Não",0,0,6,"2016-04-01","2017-11-01",1.0602101478484951,25954.45,2883.82,0,28838.27,1,28838.27,1,28838.27,0,0,null,null,1,27200.53,1,27200.53,0,0,null,null,0,0,0,0,0,0,0,null,"",0,0,0,0,0,0,0]
[{"$f":"#REF!","v":{"$error":"#REF!"}},5133,"RPV",5133,"2017/0152640-5","2017-06-28",null,"Paga","Paga - nov/2017 - 1ª remessa","2017-11-01","NÃO",null,null,"MS 4.149/DF",null,"1995-07-21","1998-09-23",null,"Administrativo - Servidor Público Civil - Sistema Remuneratório e Benefícios","INCRA","UNIÃO",null,"Mandado de Segurança 4.149/DF","2008/0092170-8","2014-09-26",null,"Raimundo Nonato Bezerra da Costa","038.796.821-00","Servidor Público Civil Inativo","Diferença de remuneração - 3,17%","Alimentar",null,"Josilma Saraiva Advogados Associados","09.384.741/0001-98","-","-",null,"Dedução de Honorários Contratuais","IPCA-e","2016-04-01",3.08649282346639,27807.79,0,27807.79,0,0,2780.77,0,0,0,27807.79,0,25027.02,0,0,0,85,0,null,null,null,null,null,null,null,null,null,null,null,null,null,null,null,null,null,"Não","Não","Não","-","-","Não informado","Não informado","Não",0,0,6,"2016-04-01","2017-11-01",1.0602101478484951,26533.9,2948.2,0,29482.100000000002,1,29482.100000000002,1,29482.100000000002,0,0,null,null,1,27807.79,1,27807.79,0,0,null,null,0,0,0,0,0,0,0,null,"",0,0,0,0,0,0,0]
[{"$f":"#REF!","v":{"$error":"#REF!"}},5134,"RPV",5134,"2017/0152643-0","2017-06-28",null,"Paga","Paga - nov/2017 - 1ª remessa","2017-11-01","NÃO",null,null,"MS 4.149/DF",null,"1995-07-21","1998-09-23",null,"Administrativo - Servidor Público Civil - Sistema Remuneratório e Benefícios","INCRA","UNIÃO",null,"Mandado de Segurança 4.149/DF","2008/0092170-8","2014-09-26",null,"Raul David do Valle Junior","013.055.298-47","Servidor Público Civil Ativo","Diferença de remuneração - 3,17%","Alimentar",null,"Josilma Saraiva Advogados Associados","09.384.741/0001-98","-","-",null,"Dedução de Honorários Contratuais","IPCA-e","2016-04-01",3.08649282346639,53666.17,0,53666.17,0,0,5366.61,0,0,0,53666.17,0,48299.56,5064.93,557.14,1114.28,85,557.14,null,null,null,null,null,null,null,null,null,null,null,null,null,null,null,null,null,"Não","Não","Não","-","-","Não informado","Não informado","Não",0,0,6,"2016-04-01","2017-11-01",1.0602101478484951,51207.68,5689.73,0,56897.41,1,56897.41,1,56897.41,0,0,null,null,1,53666.17,1,53666.17,0,0,null,null,0,0,0,0,0,0,0,null,"",0,0,0,0,0,0,0]
[{"$f":"#REF!","v":{"$error":"#REF!"}},5136,"RPV",5136,"2017/0152720-1","2017-06-28",null,"Paga","Paga - nov/2017 - 1ª remessa","2017-11-01","NÃO",null,null,"MS 4.149/DF",null,"1995-07-21","1998-09-23",null,"Administrativo - Servidor Público Civil - Sistema Remuneratório e Benefícios","INCRA","UNIÃO",null,"Mandado de Segurança 4.149/DF","2008/0092170-8","2014-09-26",null,"Renato Pimentel","024.370.071-72","Servidor Público Civil Inativo","Diferença de remuneração - 3,17%","Alimentar",null,"Josilma Saraiva Advogados Associados","09.384.741/0001-98","-","-",null,"Dedução de Honorários Contratuais","IPCA-e","2016-04-01",3.08649282346639,17675.2,0,17675.2,0,0,1767.52,0,0,0,17675.2,0,15907.68,0,0,0,85,0,null,null,null,null,null,null,null,null,null,null,null,null,null,null,null,null,null,"Não","Não","Não","-","-","Não informado","Não informado","Não",0,0,6,"2016-04-01","2017-11-01",1.0602101478484951,16865.48,1873.94,0,18739.419999999998,1,18739.419999999998,1,18739.419999999998,0,0,null,null,1,17675.2,1,17675.2,0,0,null,null,0,0,0,0,0,0,0,null,"",0,0,0,0,0,0,0]
[{"$f":"#REF!","v":{"$error":"#REF!"}},5137,"RPV",5137,"2017/0152730-2","2017-06-28",null,"Paga","Paga - nov/2017 - 1ª remessa","2017-11-01","NÃO",null,null,"MS 4.149/DF",null,"1995-07-21","1998-09-23",null,"Administrativo - Servidor Público Civil - Sistema Remuneratório e Benefícios","INCRA","UNIÃO",null,"Mandado de Segurança 4.149/DF","2008/0092170-8","2014-09-26",null,"Renato Rodrigues Vieira","044.927.657-00","Servidor Público Civil Inativo","Diferença de remuneração - 3,17%","Alimentar",null,"Josilma Saraiva Advogados Associados","09.384.741/0001-98","-","-",null,"Dedução de Honorários Contratuais","IPCA-e","2016-04-01",3.08649282346639,42907.28,0,42907.28,0,0,4290.72,0,0,0,42907.28,0,38616.559999999998,0,0,0,85,0,null,null,null,null,null,null,null,null,null,null,null,null,null,null,null,null,null,"Não","Não","Não","-","-","Não informado","Não informado","Não",0,0,6,"2016-04-01","2017-11-01",1.0602101478484951,40941.660000000003,4549.0600000000004,0,45490.720000000001,1,45490.720000000001,1,45490.720000000001,0,0,null,null,1,42907.28,1,42907.28,0,0,null,null,0,0,0,0,0,0,0,null,"",0,0,0,0,0,0,0]
[{"$f":"#REF!","v":{"$error":"#REF!"}},5138,"RPV",5138,"2017/0152737-5","2017-06-28",null,"Paga","Paga - nov/2017 - 1ª remessa","2017-11-01","NÃO",null,null,"MS 4.149/DF",null,"1995-07-21","1998-09-23",null,"Administrativo - Servidor Público Civil - Sistema Remuneratório e Benefícios","INCRA","UNIÃO",null,"Mandado de Segurança 4.149/DF","2008/0092170-8","2014-09-26",null,"Roberto Jose Rodrigues da Silva","019.282.284-53","Servidor Público Civil Inativo","Diferença de remuneração - 3,17%","Alimentar",null,"Josilma Saraiva Advogados Associados","09.384.741/0001-98","-","-",null,"Dedução de Honorários Contratuais","IPCA-e","2016-04-01",3.08649282346639,44214.78,0,44214.78,0,0,4421.47,0,0,0,44214.78,0,39793.31,0,0,0,85,0,null,null,null,null,null,null,null,null,null,null,null,null,null,null,null,null,null,"Não","Não","Não","-","-","Não informado","Não informado","Não",0,0,6,"2016-04-01","2017-11-01",1.0602101478484951,42189.27,4687.68,0,46876.95,1,46876.95,1,46876.95,0,0,null,null,1,44214.78,1,44214.78,0,0,null,null,0,0,0,0,0,0,0,null,"",0,0,0,0,0,0,0]
[{"$f":"#REF!","v":{"$error":"#REF!"}},5141,"RPV",5141,"2017/0152893-1","2017-06-28",null,"Paga","Paga - mai/2017 - 1ª remessa","2018-05-01","NÃO",null,null,"MS 6.864/DF",null,"2000-04-05","2006-05-03",null,"Administrativo - Servidor Público Civil - Sistema Remuneratório e Benefícios","Ministério do Planejamento, Orçamento e Gestão","Instituto Nacional do Seguro Social - INSS",null,"Mandado de Segurança 6.864/DF","2007/0150608-9","2015-03-24",null,"Eduardo Solera ","385.705.058-68","Servidor Público Civil Inativo","Reajuste  3,17% ","Alimentar",null,"Mota & Advogados Associados","03.996.810/0001-38","-","-",null,"Dedução de Honorários Contratuais","IPCA-e","2016-11-01",3.1859440896453401,40588.68,0,40588.68,0,0,2435.3200000000002,0,0,0,40588.68,0,38153.360000000001,0,0,0,47,0,null,null,null,null,null,null,null,null,null,null,null,null,null,null,null,null,null,"Não","Não","Não","-","-","Não informado","Não informado","Não",0,0,6,"2016-11-01","2018-05-01",1.0452177195836154,39878.559999999998,2545.4299999999998,0,42423.99,1,42423.99,1,42423.99,0,0,null,null,1,40588.68,1,40588.68,0,0,null,null,0,0,0,0,0,0,0,null,"",0,0,0,0,0,0,0]
[{"$f":"#REF!","v":{"$error":"#REF!"}},5144,"RPV",5144,"2017/0152954-8","2017-06-28",null,"Paga","Paga - nov/2017 - 1ª remessa","2017-11-01","NÃO",null,null,"MS 6.864/DF",null,"2000-04-05","2006-05-03",null,"Administrativo - Servidor Público Civil - Sistema Remuneratório e Benefícios","x x x","Instituto Nacional do Seguro Social - INSS",null,"Mandado de Segurança 6.864/DF","2007/0150608-9","2015-03-24",null,"Associação Nacional dos Auditores Fiscais da Receita Federal do Brasil","03.636.693/0001-00","xxx","Multa 1% (art. 538, parágrafo único, do CPC)","Comum",null,"Mota & Advogados Associados","03.996.810/0001-38","-","-",null,"Honorários sucumbenciais, art 23, Lei 8.906/94","IPCA-e","2016-11-01",3.1859440896453401,702.99,0,702.99,0,0,0,0,0,0,702.99,0,702.99,0,0,0,0,0,null,null,null,null,null,null,null,null,null,null,null,null,null,null,null,null,null,"Não","Não","Não","-","-","Não informado","Não informado","Não",0,0,6,"2016-11-01","2017-11-01",1.0271150154003161,722.05,0,0,722.05,1,722.05,0,0,1,722.05,null,null,1,702.99,0,0,1,702.99,null,null,0,0,0,0,0,0,0,null,"",0,0,0,0,0,0,0]
[{"$f":"#REF!","v":{"$error":"#REF!"}},5146,"RPV",5146,"2017/0153806-6","2017-06-29",null,"Paga","Paga - nov/2017 - 1ª remessa","2017-11-01","NÃO",null,null,"MS 4.149/DF",null,"1995-07-21","1998-09-23",null,"Administrativo - Servidor Público Civil - Sistema Remuneratório e Benefícios","INCRA","UNIÃO",null,"Mandado de Segurança 4.149/DF","2008/0232924-9","2014-09-26",null,"Maria Aparecida Teixeira Ribeiro","008.955.636-49","Servidor Público Civil Inativo","Diferença de remuneração - 3,17%","Alimentar",null,"Josilma Saraiva Advogados Associados","09.384.741/0001-98","-","-",null,"Dedução de Honorários Contratuais","IPCA-e","2015-06-01",2.8542128680722199,35928.18,0,35928.18,0,0,3592.81,0,0,0,35928.18,0,32335.37,0,0,0,65,0,null,null,null,null,null,null,null,null,null,null,null,null,null,null,null,null,null,"Não","Não","Não","-","-","Não informado","Não informado","Não",0,0,6,"2015-06-01","2017-11-01",1.146491577171959,37072.22,4119.12,0,41191.340000000004,1,41191.340000000004,1,41191.340000000004,0,0,null,null,1,35928.18,1,35928.18,0,0,null,null,0,0,0,0,0,0,0,null,"",0,0,0,0,0,0,0]
[{"$f":"#REF!","v":{"$error":"#REF!"}},5195,"RPV",5195,"2017/0154821-6","2017-06-30",null,"Paga","Paga - mai/2017 - 1ª remessa","2018-05-01","NÃO",null,null,"MS 6.864/DF",null,"2000-04-05","2006-05-03",null,"Administrativo - Servidor Público Civil - Sistema Remuneratório e Benefícios","Ministério do Planejamento, Orçamento e Gestão","Instituto Nacional do Seguro Social - INSS",null,"Mandado de Segurança 6.864/DF","2007/0151807-0","2015-03-24",null,"Fábio Dominguez Kapps ","002.235.987-71","Servidor Público Civil Ativo","Reajuste  3,17% ","Alimentar",null,"Mota & Advogados Associados","03.996.810/0001-38","-","-",null,"Dedução de Honorários Contratuais","IPCA-e","2017-03-01",3.2275526704784401,50336.99,0,50336.99,0,0,3020.21,0,0,0,50336.99,0,47316.78,19508.25,2145.9,4291.8,47,2145.9,null,null,null,null,null,null,null,null,null,null,null,null,null,null,null,null,null,"Não","Não","Não","-","-","Não informado","Não informado","Não",0,0,6,"2017-03-01","2018-05-01",1.0317431057155677,48818.76,3116.08,0,51934.840000000004,1,51934.840000000004,1,51934.840000000004,0,0,null,null,1,50336.99,1,50336.99,0,0,null,null,0,0,0,0,0,0,0,null,"",0,0,0,0,0,0,0]
[{"$f":"#REF!","v":{"$error":"#REF!"}},5197,"RPV",5197,"2017/0154825-3","2017-06-30",null,"Paga","Paga - mai/2017 - 1ª remessa","2018-05-01","NÃO",null,null,"MS 6.864/DF",null,"2000-04-05","2006-05-03",null,"Administrativo - Servidor Público Civil - Sistema Remuneratório e Benefícios","Ministério do Planejamento, Orçamento e Gestão","Instituto Nacional do Seguro Social - INSS",null,"Mandado de Segurança 6.864/DF","2007/0155147-6","2015-03-24",null,"Denise Esteves Fernandez ","668.008.707-49","Servidor Público Civil Ativo","Reajuste  3,17% ","Alimentar",null,"Mota & Advogados Associados","03.996.810/0001-38","-","-",null,"Dedução de Honorários Contratuais","IPCA-e","2017-03-01",3.2275526704784401,51334.05,0,51334.05,0,0,3080.04,0,0,0,51334.05,0,48254.01,19929.84,2192.2800000000002,4384.5600000000004,47,2192.2800000000002,null,null,null,null,null,null,null,null,null,null,null,null,null,null,null,null,null,"Não","Não","Não","-","-","Não informado","Não informado","Não",0,0,6,"2017-03-01","2018-05-01",1.0317431057155677,49785.74,3177.81,0,52963.549999999996,1,52963.549999999996,1,52963.549999999996,0,0,null,null,1,51334.05,1,51334.05,0,0,null,null,0,0,0,0,0,0,0,null,"",0,0,0,0,0,0,0]
[{"$f":"#REF!","v":{"$error":"#REF!"}},5202,"RPV",5202,"2017/0154840-6","2017-06-30",null,"Paga","Paga - mai/2017 - 1ª remessa","2018-05-01","NÃO",null,null,"MS 6.864/DF",null,"2000-04-05","2006-05-03",null,"Administrativo - Servidor Público Civil - Sistema Remuneratório e Benefícios","Ministério do Planejamento, Orçamento e Gestão","Instituto Nacional do Seguro Social - INSS",null,"Mandado de Segurança 6.864/DF","2007/0155147-6","2015-03-24",null,"Elias Chaves Sobrinho ","603.826.437-04","Servidor Público Civil Ativo","Reajuste  3,17% ","Alimentar",null,"Mota & Advogados Associados","03.996.810/0001-38","-","-",null,"Dedução de Honorários Contratuais","IPCA-e","2017-03-01",3.2275526704784401,50273.38,0,50273.38,0,0,3016.4,0,0,0,50273.38,0,47256.979999999996,19476.02,2142.36,4284.72,47,2142.36,null,null,null,null,null,null,null,null,null,null,null,null,null,null,null,null,null,"Não","Não","Não","-","-","Não informado","Não informado","Não",0,0,6,"2017-03-01","2018-05-01",1.0317431057155677,48757.06,3112.14,0,51869.2,1,51869.2,1,51869.2,0,0,null,null,1,50273.38,1,50273.38,0,0,null,null,0,0,0,0,0,0,0,null,"",0,0,0,0,0,0,0]
[{"$f":"#REF!","v":{"$error":"#REF!"}},5209,"RPV",5209,"2017/0154869-4","2017-06-30",null,"Paga","Paga - mai/2017 - 1ª remessa","2018-05-01","NÃO",null,null,"MS 6.864/DF",null,"2000-04-05","2006-05-03",null,"Administrativo - Servidor Público Civil - Sistema Remuneratório e Benefícios","Ministério do Planejamento, Orçamento e Gestão","Instituto Nacional do Seguro Social - INSS",null,"Mandado de Segurança 6.864/DF","2007/0152609-5","2015-03-24",null,"Fladimir Paes Barreto De Oliveira ","166.741.702-91","Servidor Público Civil Ativo","Reajuste  3,17% ","Alimentar",null,"Mota & Advogados Associados","03.996.810/0001-38","-","-",null,"Dedução de Honorários Contratuais","IPCA-e","2017-03-01",3.2275526704784401,50744.53,0,50744.53,0,0,3044.67,0,0,0,50744.53,0,47699.86,19669.439999999999,2163.63,4327.26,47,2163.63,null,null,null,null,null,null,null,null,null,null,null,null,null,null,null,null,null,"Não","Não","Não","-","-","Não informado","Não informado","Não",0,0,6,"2017-03-01","2018-05-01",1.0317431057155677,49214,3141.31,0,52355.31,1,52355.31,1,52355.31,0,0,null,null,1,50744.53,1,50744.53,0,0,null,null,0,0,0,0,0,0,0,null,"",0,0,0,0,0,0,0]
[{"$f":"#REF!","v":{"$error":"#REF!"}},5214,"RPV",5214,"2017/0154889-6","2017-06-30",null,"Paga","Paga - mai/2017 - 1ª remessa","2018-05-01","NÃO",null,null,"MS 6.864/DF",null,"2000-04-05","2006-05-03",null,"Administrativo - Servidor Público Civil - Sistema Remuneratório e Benefícios","Ministério do Planejamento, Orçamento e Gestão","Instituto Nacional do Seguro Social - INSS",null,"Mandado de Segurança 6.864/DF","2007/0152609-5","2015-03-24",null,"Henrique Castro Gomes Filho ","000.750.352-00","Servidor Público Civil Ativo","Reajuste  3,17% ","Alimentar",null,"Mota & Advogados Associados","03.996.810/0001-38","-","-",null,"Dedução de Honorários Contratuais","IPCA-e","2017-03-01",3.2275526704784401,52454.11,0,52454.11,0,0,3147.24,0,0,0,52454.11,0,49306.87,20301.02,2233.11,4466.22,47,2233.11,null,null,null,null,null,null,null,null,null,null,null,null,null,null,null,null,null,"Não","Não","Não","-","-","Não informado","Não informado","Não",0,0,6,"2017-03-01","2018-05-01",1.0317431057155677,50872.02,3247.14,0,54119.159999999996,1,54119.159999999996,1,54119.159999999996,0,0,null,null,1,52454.11,1,52454.11,0,0,null,null,0,0,0,0,0,0,0,null,"",0,0,0,0,0,0,0]
[{"$f":"#REF!","v":{"$error":"#REF!"}},5227,"RPV",5227,"2017/0154951-7","2017-06-30",null,"Aguardando Pagamento","sem verba para pgto",null,null,null,null,"MS 6.864/DF",null,"2000-04-05","2006-05-03",null,"Administrativo - Servidor Público Civil - Sistema Remuneratório e Benefícios","Ministério do Planejamento, Orçamento e Gestão","Instituto Nacional do Seguro Social - INSS",null,"Mandado de Segurança 6.864/DF","2007/0151839-7","2015-03-24",null,"Neuza Maria Grilo Da Silva ","137.822.825-15","Servidor Público Civil Ativo","Reajuste  3,17% ","Alimentar",null,"Mota & Advogados Associados","03.996.810/0001-38","-","-",null,"Dedução de Honorários Contratuais","IPCA-e","2017-03-01",3.2275526704784401,21588.97,12366.32,33955.29,1295.33,741.98,2037.31,0,0,0,20293.64,11624.34,31917.98,13260.08,1458.6,2917.2,35,1458.6,null,null,null,null,null,null,null,null,null,null,null,null,null,null,null,null,null,"Não","Não","Não","-","-","Não informado","Não informado","Não",6,0,6,"","","",0,0,0,0,0,0,0,0,0,0,null,null,1,33955.29,1,33955.29,0,0,null,null,0,0,0,0,0,0,0,null,"2019-11-07",36963.552023297554,1,1,36963.552023297554,0,0,0]
[{"$f":"#REF!","v":{"$error":"#REF!"}},5245,"RPV",5245,"2017/0155028-0","2017-06-30",null,"Paga","Paga - mai/2017 - 1ª remessa","2018-05-01","NÃO",null,null,"MS 6.864/DF",null,"2000-04-05","2006-05-03",null,"Administrativo - Servidor Público Civil - Sistema Remuneratório e Benefícios","Ministério do Planejamento, Orçamento e Gestão","Instituto Nacional do Seguro Social - INSS",null,"Mandado de Segurança 6.864/DF","2007/0151730-2","2015-03-24",null,"Lidice Maria Gomes Ribeiro Dos Santos ","049.899.455-49","Servidor Público Civil Inativo","Reajuste  3,17% ","Alimentar",null,"Mota & Advogados Associados","03.996.810/0001-38","-","-",null,"Dedução de Honorários Contratuais","IPCA-e","2017-03-01",3.2275526704784401,32370.65,0,32370.65,0,0,1942.23,0,0,0,32370.65,0,30428.420000000002,0,0,0,47,0,null,null,null,null,null,null,null,null,null,null,null,null,null,null,null,null,null,"Não","Não","Não","-","-","Não informado","Não informado","Não",0,0,6,"2017-03-01","2018-05-01",1.0317431057155677,31394.31,2003.88,0,33398.19,1,33398.19,1,33398.19,0,0,null,null,1,32370.65,1,32370.65,0,0,null,null,0,0,0,0,0,0,0,null,"",0,0,0,0,0,0,0]
[{"$f":"#REF!","v":{"$error":"#REF!"}},5256,"RPV",5256,"2017/0155144-3","2017-06-30",null,"Paga","Paga - mai/2017 - 1ª remessa","2018-05-01","NÃO",null,null,"MS 6.864/DF",null,"2000-04-05","2006-05-03",null,"Administrativo - Servidor Público Civil - Sistema Remuneratório e Benefícios","x x x","Instituto Nacional do Seguro Social - INSS",null,"Mandado de Segurança 6.864/DF","2007/0151441-0","2015-03-24",null,"Associação Nacional dos Auditores Fiscais da Receita Federal do Brasil","03.636.693/0001-00","xxx","Multa 1% (art. 538, parágrafo único, do CPC)","Comum",null,"Mota & Advogados Associados","03.996.810/0001-38","-","-",null,"Honorários sucumbenciais, art 23, Lei 8.906/94","IPCA-e","2016-12-01",3.1942275442784198,1219.53,0,1219.53,0,0,0,0,0,0,1219.53,0,1219.53,0,0,0,0,0,null,null,null,null,null,null,null,null,null,null,null,null,null,null,null,null,null,"Não","Não","Não","-","-","Não informado","Não informado","Não",0,0,6,"2016-12-01","2018-05-01",1.0425072008613754,1271.3599999999999,0,0,1271.3599999999999,1,1271.3599999999999,0,0,1,1271.3599999999999,null,null,1,1219.53,0,0,1,1219.53,null,null,0,0,0,0,0,0,0,null,"",0,0,0,0,0,0,0]
[{"$f":"#REF!","v":{"$error":"#REF!"}},5274,"RPV",5274,"2017/0155231-5","2017-06-30",null,"Paga","Paga - mar/2018 - 3ª remessa","2018-03-01","NÃO",null,null,"MS 10.438/DF",null,"2005-02-22","2007-09-13",null,"Administrativo - Militar - Pensão","Ministério da Fazenda","UNIÃO",null,"Mandado de Segurança 10.438/DF","2008/0079212-2","2016-12-02",null,"Terezinha Macaneiro Bueno","162.089.602-82","Pensionista Militar","Diferença de remuneração","Alimentar",null,"Carlos Roberto Vieira de Vasconcelos","071.652.004-44","-","-",null,"Dedução de Honorários Contratuais","IPCA-e","2016-12-01",3.1942275442784198,50441.08,0,50441.08,0,0,10088.209999999999,0,0,0,50441.08,0,40352.870000000003,0,0,0,23,0,null,null,null,null,null,null,null,null,null,null,null,null,null,null,null,null,null,"Não","Não","Não","-","-","Não informado","Não informado","Não",0,0,6,"2016-12-01","2018-03-01",1.0392832403397005,41938.06,10484.5,0,52422.559999999998,1,52422.559999999998,1,52422.559999999998,0,0,null,null,1,50441.08,1,50441.08,0,0,null,null,0,0,0,0,0,0,0,null,"",0,0,0,0,0,0,0]
[{"$f":"#REF!","v":{"$error":"#REF!"}},5286,"RPV",5286,"2017/0155280-8","2017-06-30",null,"Paga","Paga - set/2018 - 2ª remessa","2018-09-01","NÃO",null,null,"MS 10.438/DF",null,"2005-02-22","2007-09-13",null,"Administrativo - Militar - Pensão","Ministério da Fazenda","UNIÃO",null,"Mandado de Segurança 10.438/DF","2008/0079338-3","2016-06-28",null,"Ariosvaldo Acacio do Nascimento","106.578.192-04","Servidor Público Militar Inativo","Diferença de remuneração","Alimentar",null,"Carlos Roberto Vieira de Vasconcelos","071.652.004-44","-","-",null,"Dedução de Honorários Contratuais","IPCA-e","2016-09-01",3.1726052831709302,33628.67,21070.53,54699.199999999997,6725.73,4214.1100000000006,10939.84,0,0,0,26902.94,16856.419999999998,43759.360000000001,0,0,0,23,0,null,null,null,null,null,null,null,null,null,null,null,null,null,null,null,null,null,"Não","Não","Não","-","-","Não informado","Não informado","Não",20,0,6,"2016-09-01","2018-09-01",1.0709406718897354,46863.67,11715.91,0,58579.58,1,58579.58,1,58579.58,0,0,null,null,1,54699.199999999997,1,54699.199999999997,0,0,null,null,0,0,0,0,0,0,0,null,"",0,0,0,0,0,0,0]
[{"$f":"#REF!","v":{"$error":"#REF!"}},5291,"RPV",5291,"2017/0155318-4","2017-06-30",null,"Paga","Paga - mai/2017 - 1ª remessa","2018-05-01","NÃO",null,null,"MS 6.864/DF",null,"2000-04-05","2006-05-03",null,"Administrativo - Servidor Público Civil - Sistema Remuneratório e Benefícios","Ministério do Planejamento, Orçamento e Gestão","Instituto Nacional do Seguro Social - INSS",null,"Mandado de Segurança 6.864/DF","2007/0151520-5","2015-03-31",null,"José Da Silveira Sales","005.975.895-34","Servidor Público Civil Inativo","Reajuste  3,17% ","Alimentar",null,"Mota & Advogados Associados","03.996.810/0001-38","-","-",null,"Dedução de Honorários Contratuais","IPCA-e","2016-12-01",3.1942275442784198,53393.09,0,53393.09,0,0,3203.58,0,0,0,53393.09,0,50189.509999999995,0,0,0,47,0,null,null,null,null,null,null,null,null,null,null,null,null,null,null,null,null,null,"Não","Não","Não","-","-","Não informado","Não informado","Não",0,0,6,"2016-12-01","2018-05-01",1.0425072008613754,52322.92,3339.75,0,55662.67,1,55662.67,1,55662.67,0,0,null,null,1,53393.09,1,53393.09,0,0,null,null,0,0,0,0,0,0,0,null,"",0,0,0,0,0,0,0]
[{"$f":"#REF!","v":{"$error":"#REF!"}},5293,"RPV",5293,"2017/0155335-0","2017-06-30",null,"Paga","Paga - mai/2017 - 1ª remessa","2018-05-01","NÃO",null,null,"MS 6.864/DF",null,"2000-04-05","2006-05-03",null,"Administrativo - Servidor Público Civil - Sistema Remuneratório e Benefícios","x x x","Instituto Nacional do Seguro Social - INSS",null,"Mandado de Segurança 6.864/DF","2007/0151520-5","2015-03-31",null,"Associação Nacional dos Auditores Fiscais da Receita Federal do Brasil","03.636.693/0001-00","xxx","Multa 1% (art. 538, parágrafo único, do CPC)","Comum",null,"Mota & Advogados Associados","03.996.810/0001-38","-","-",null,"Honorários sucumbenciais, art 23, Lei 8.906/94","IPCA-e","2016-12-01",3.1942275442784198,183.95,0,183.95,0,0,0,0,0,0,183.95,0,183.95,0,0,0,0,0,null,null,null,null,null,null,null,null,null,null,null,null,null,null,null,null,null,"Não","Não","Não","-","-","Não informado","Não informado","Não",0,0,6,"2016-12-01","2018-05-01",1.0425072008613754,191.76,0,0,191.76,1,191.76,0,0,1,191.76,null,null,1,183.95,0,0,1,183.95,null,null,0,0,0,0,0,0,0,null,"",0,0,0,0,0,0,0]
[{"$f":"#REF!","v":{"$error":"#REF!"}},5299,"RPV",5299,"2017/0155349-9","2017-06-30",null,"Paga","Paga - mai/2017 - 1ª remessa","2018-05-01","NÃO",null,null,"MS 6.864/DF",null,"2000-04-05","2006-05-03",null,"Administrativo - Servidor Público Civil - Sistema Remuneratório e Benefícios","Ministério do Planejamento, Orçamento e Gestão","Instituto Nacional do Seguro Social - INSS",null,"Mandado de Segurança 6.864/DF","2007/0151226-1","2015-03-24",null,"Maria Rita De Santana Nunes ","038.446.685-00","Servidor Público Civil Inativo","Reajuste  3,17% ","Alimentar",null,"Mota & Advogados Associados","03.996.810/0001-38","-","-",null,"Dedução de Honorários Contratuais","IPCA-e","2016-11-01",3.1859440896453401,48397.23,0,48397.23,0,0,2903.83,0,0,0,48397.23,0,45493.4,0,0,0,47,0,null,null,null,null,null,null,null,null,null,null,null,null,null,null,null,null,null,"Não","Não","Não","-","-","Não informado","Não informado","Não",0,0,6,"2016-11-01","2018-05-01",1.0452177195836154,47550.5,3035.13,0,50585.63,1,50585.63,1,50585.63,0,0,null,null,1,48397.23,1,48397.23,0,0,null,null,0,0,0,0,0,0,0,null,"",0,0,0,0,0,0,0]
[{"$f":"#REF!","v":{"$error":"#REF!"}},5304,"RPV",5304,"2017/0189105-0","2017-08-03",null,"Paga","Paga - jun/2018 - 1ª remessa","2018-06-01","NÃO",null,null,"MS 11.371/DF",null,"2006-01-09","2006-08-07",null,"Administrativo - Servidor Público Civil - Sistema Remuneratório e Benefícios -Gratificação Incorporada/Quintos e Décimos/VPNI","Ministério do Planejamento, Orçamento e Gestão","UNIÃO",null,"Mandado de Segurança 11.371/DF","2007/0245950-9","2014-05-06",null,"Regina Lucia Cardoso Lopes","069.401.102-91","Servidor Público Civil Inativo","Gratificação Específica de Atividade Docente - GEAD","Alimentar",null,"Fernando Jorge Araújo dos Santos","090.078.062-20","-","-",null,"Dedução de Honorários Contratuais","IPCA-e","2014-10-01",2.6679860180390902,0,304.76,304.76,0,30.47,30.47,0,0,0,0,274.28999999999996,274.28999999999996,304.76,33.520000000000003,0,6,33.520000000000003,null,null,null,null,null,null,null,null,null,null,null,null,null,null,null,null,null,"Não","Não","Não","-","-","Não informado","Não informado","Não",0,0,8,"2014-10-01","2018-06-01",1.2498818212888931,342.83,38.08,0,380.90999999999997,1,380.90999999999997,1,380.90999999999997,0,0,null,null,1,304.76,1,304.76,0,0,null,null,0,0,0,0,0,0,0,null,"",0,0,0,0,0,0,0]
[{"$f":"#REF!","v":{"$error":"#REF!"}},5311,"RPV",5311,"2017/0189132-7","2017-08-03",null,"Paga","Paga - ABR/2018 - 2ª remessa","2018-04-01","NÃO",null,null,"MS 11.371/DF",null,"2006-01-09","2006-08-07",null,"Administrativo - Servidor Público Civil - Sistema Remuneratório e Benefícios -Gratificação Incorporada/Quintos e Décimos/VPNI","Ministério do Planejamento, Orçamento e Gestão","UNIÃO",null,"Mandado de Segurança 11.371/DF","2007/0245950-9","2014-05-06",null,"Renilde de Sá Ramos","032.646.292-91","Servidor Público Civil Inativo","Gratificação Específica de Atividade Docente - GEAD","Alimentar",null,"Fernando Jorge Araújo dos Santos","090.078.062-20","-","-",null,"Dedução de Honorários Contratuais","IPCA-e","2014-10-01",2.6679860180390902,0,299.48,299.48,0,29.94,29.94,0,0,0,0,269.54000000000002,269.54000000000002,299.48,32.94,0,6,32.94,null,null,null,null,null,null,null,null,null,null,null,null,null,null,null,null,null,"Não","Não","Não","-","-","Não informado","Não informado","Não",0,0,8,"2014-10-01","2018-04-01",1.2455188435141615,335.71,37.29,0,373,1,373,1,373,0,0,null,null,1,299.48,1,299.48,0,0,null,null,0,0,0,0,0,0,0,null,"",0,0,0,0,0,0,0]
[{"$f":"#REF!","v":{"$error":"#REF!"}},5312,"RPV",5312,"2017/0189136-4","2017-08-03",null,"Paga","Paga - ABR/2018 - 2ª remessa","2018-04-01","NÃO",null,null,"MS 11.371/DF",null,"2006-01-09","2006-08-07",null,"Administrativo - Servidor Público Civil - Sistema Remuneratório e Benefícios -Gratificação Incorporada/Quintos e Décimos/VPNI","Ministério do Planejamento, Orçamento e Gestão","UNIÃO",null,"Mandado de Segurança 11.371/DF","2007/0245950-9","2014-05-06",null,"Renise Maria Maia Cardoso","180.849.312-53","Servidor Público Civil Inativo","Gratificação Específica de Atividade Docente - GEAD","Alimentar",null,"Fernando Jorge Araújo dos Santos","090.078.062-20","-","-",null,"Dedução de Honorários Contratuais","IPCA-e","2014-10-01",2.6679860180390902,0,304.76,304.76,0,30.47,30.47,0,0,0,0,274.28999999999996,274.28999999999996,304.76,33.520000000000003,0,6,33.520000000000003,null,null,null,null,null,null,null,null,null,null,null,null,null,null,null,null,null,"Não","Não","Não","-","-","Não informado","Não informado","Não",0,0,8,"2014-10-01","2018-04-01",1.2455188435141615,341.63,37.950000000000003,0,379.58,1,379.58,1,379.58,0,0,null,null,1,304.76,1,304.76,0,0,null,null,0,0,0,0,0,0,0,null,"",0,0,0,0,0,0,0]
[{"$f":"#REF!","v":{"$error":"#REF!"}},{"$f":"IF(D141=\"\",\"\",D141)","v":5361},"RPV",5361,"2017/0189713-6","2017-08-04",null,"Paga","Paga - set/2018 - 1ª Remessa","2018-09-01","NÃO",null,null,"MS 6.864/DF",null,"2000-04-05","2006-05-03",null,"Administrativo - Servidor Público Civil - Sistema Remuneratório e Benefícios","Ministério do Planejamento, Orçamento e Gestão","Instituto Nacional do Seguro Social - INSS",null,"Mandado de Segurança 6.864/DF","2007/0149345-1","2015-03-24",null,"Vitoria Yoshie Igarashi ","926.479.528-68","Servidor Público Civil Ativo","Reajuste  3,17% ","Alimentar",null,"Mota & Advogados Associados","03.996.810/0001-38","-","-",null,"Dedução de Honorários Contratuais","IPCA-e","2016-09-01",3.1726052831709302,19962.21,31569.61,51531.82,0,0,3091.9,0,0,0,19962.21,31569.61,48439.92,19962.21,2195.84,4391.68,47,2195.84,null,null,null,null,null,null,null,null,null,null,null,null,null,null,null,null,null,"Não","Não","Não","-","-","Não informado","Não informado","Não",0,10,8,"2016-09-01","2018-09-01",1.0709406718897354,51876.28,3311.24,0,55187.519999999997,1,55187.519999999997,1,55187.519999999997,0,0,null,null,1,51531.82,1,51531.82,0,0,null,null,0,0,0,0,0,0,0,null,"",0,0,0,0,0,0,0]
[{"$f":"#REF!","v":{"$error":"#REF!"}},5456,"RPV",5456,"2017/0232688-6","2017-09-11",null,"Paga","Paga - mar/2018 - 2ª remessa","2018-03-01","NÃO",null,null,"MS 4.149/DF",null,"1995-07-21","1998-09-23",null,"Administrativo - Servidor Público Civil - Sistema Remuneratório e Benefícios","INCRA","UNIÃO",null,"Mandado de Segurança 4.149/DF","2007/0230335-4","2014-09-26",null,"Agenor Leocádio Siqueira","043.755.137-72","Servidor Público Civil Inativo","Diferença de remuneração - 3,17%","Alimentar",null,"Josilma Saraiva Advogados Associados","09.384.741/0001-98","-","-",null,"Dedução de Honorários Contratuais","IPCA-e","2016-06-01",3.1289131487231199,14052.01,0,14052.01,0,0,1405.2,0,0,0,14052.01,0,12646.81,0,0,0,85,0,null,null,null,null,null,null,null,null,null,null,null,null,null,null,null,null,null,"Não","Não","Não","-","-","Não informado","Não informado","Não",0,10,9,"2016-06-01","2018-03-01",1.0609777244711127,13417.98,1490.88,0,14908.86,1,14908.86,1,14908.86,0,0,null,null,1,14052.01,1,14052.01,0,0,null,null,0,0,0,0,0,0,0,null,"",0,0,0,0,0,0,0]
[{"$f":"#REF!","v":{"$error":"#REF!"}},5530,"RPV",5530,"2017/0233854-0","2017-09-12",null,"Paga","Paga - ABR/2018 - 2ª remessa","2018-04-01","NÃO",null,null,"MS 11.371/DF",null,"2006-01-09","2006-08-07",null,"Administrativo - Servidor Público Civil - Sistema Remuneratório e Benefícios -Gratificação Incorporada/Quintos e Décimos/VPNI","Ministério do Planejamento, Orçamento e Gestão","UNIÃO",null,"Mandado de Segurança 11.371/DF","2007/0245541-7","2014-05-06",null,"Raimunda Tavares Marques","080.723.882-15","Servidor Público Civil Inativo","Gratificação Específica de Atividade Docente - GEAD","Alimentar",null,"Fernando Jorge Araújo dos Santos","090.078.062-20","-","-",null,"Dedução de Honorários Contratuais","IPCA-e","2014-10-01",2.6679860180390902,0,304.76,304.76,0,30.47,30.47,0,0,0,0,274.28999999999996,274.28999999999996,304.76,33.520000000000003,0,6,33.520000000000003,null,null,null,null,null,null,null,null,null,null,null,null,null,null,null,null,null,"Não","Não","Não","-","-","Não informado","Não informado","Não",0,11,9,"2014-10-01","2018-04-01",1.2455188435141615,341.63,37.950000000000003,0,379.58,1,379.58,1,379.58,0,0,null,null,1,304.76,1,304.76,0,0,null,null,0,0,0,0,0,0,0,null,"",0,0,0,0,0,0,0]
[{"$f":"#REF!","v":{"$error":"#REF!"}},5590,"RPV",5590,"2017/0247044-9","2017-09-22",null,"Paga","Paga - abr/2018 - 1ª Remessa","2018-04-01","NÃO",null,null,"MS 11.371/DF",null,"2006-01-09","2006-08-07",null,"Administrativo - Servidor Público Civil - Sistema Remuneratório e Benefícios -Gratificação Incorporada/Quintos e Décimos/VPNI","Ministério do Planejamento, Orçamento e Gestão","UNIÃO",null,"Mandado de Segurança 11.371/DF","2007/0245163-0","2014-05-06",null,"Leticia Mendes Ferreira","023.432.582-87","Servidor Público Civil Inativo","Gratificação Específica de Atividade Docente - GEAD","Alimentar",null,"Fernando Jorge Araújo dos Santos","090.078.062-20","-","-",null,"Dedução de Honorários Contratuais","IPCA-e","2014-10-01",2.6679860180390902,0,304.76,304.76,0,30.47,30.47,0,0,0,0,274.28999999999996,274.28999999999996,304.76,33.520000000000003,0,6,33.520000000000003,null,null,null,null,null,null,null,null,null,null,null,null,null,null,null,null,null,"Não","Não","Não","-","-","Não informado","Não informado","Não",0,20,9,"2014-10-01","2018-04-01",1.2455188435141615,341.63,37.950000000000003,0,379.58,1,379.58,1,379.58,0,0,null,null,1,304.76,1,304.76,0,0,null,null,0,0,0,0,0,0,0,null,"",0,0,0,0,0,0,0]
[{"$f":"#REF!","v":{"$error":"#REF!"}},5628,"RPV",5628,"2017/0247459-1","2017-09-22",null,"Paga","Paga - mar/2018 - 1ª remessa","2018-03-01","NÃO",null,null,"MS 11.371/DF",null,"2006-01-09","2006-08-07",null,"Administrativo - Servidor Público Civil - Sistema Remuneratório e Benefícios -Gratificação Incorporada/Quintos e Décimos/VPNI","Ministério do Planejamento, Orçamento e Gestão","UNIÃO",null,"Mandado de Segurança 11.371/DF","2007/0246393-6","2014-06-27",null,"Walfrido Pereira dos Santos","012.327.622-53","Servidor Público Civil Inativo","Gratificação Específica de Atividade Docente - GEAD","Alimentar",null,"Fernando Jorge Araújo dos Santos","090.078.062-20","-","-",null,"Dedução de Honorários Contratuais","IPCA-e","2014-11-01",2.6807923509256799,0,306.20999999999998,306.20999999999998,0,30.62,30.62,0,0,0,0,275.58999999999997,275.58999999999997,306.20999999999998,33.68,0,6,33.68,null,null,null,null,null,null,null,null,null,null,null,null,null,null,null,null,null,"Não","Não","Não","-","-","Não informado","Não informado","Não",0,20,9,"2014-11-01","2018-03-01",1.2383305821704924,341.27,37.909999999999997,0,379.17999999999995,1,379.17999999999995,1,379.17999999999995,0,0,null,null,1,306.20999999999998,1,306.20999999999998,0,0,null,null,0,0,0,0,0,0,0,null,"",0,0,0,0,0,0,0]
[{"$f":"#REF!","v":{"$error":"#REF!"}},5672,"RPV",5672,"2017/0249493-9","2017-09-25",null,"Paga","Paga - mar/2018 - 2ª remessa","2018-03-01","NÃO",null,null,"MS 4.149/DF",null,"1995-07-21","1998-09-23",null,"Administrativo - Servidor Público Civil - Sistema Remuneratório e Benefícios","INCRA","UNIÃO",null,"Mandado de Segurança 4.149/DF","2008/0063297-9","2014-09-26",null,"Hugo Silveira Heredia","003.285.021-20","Servidor Público Civil Ativo","Diferença de remuneração - 3,17%","Alimentar",null,"Josilma Saraiva Advogados Associados","09.384.741/0001-98","-","-",null,"Dedução de Honorários Contratuais","IPCA-e","2015-03-01",2.7727708322354001,19704.22,0,19704.22,0,0,1970.42,0,0,0,19704.22,0,17733.800000000003,8022.68,882.49,1764.98,85,882.49,null,null,null,null,null,null,null,null,null,null,null,null,null,null,null,null,null,"Não","Não","Não","-","-","Não informado","Não informado","Não",0,20,9,"2015-03-01","2018-03-01",1.1972526232626521,21231.83,2359.09,0,23590.920000000002,1,23590.920000000002,1,23590.920000000002,0,0,null,null,1,19704.22,1,19704.22,0,0,null,null,0,0,0,0,0,0,0,null,"",0,0,0,0,0,0,0]
[{"$f":"#REF!","v":{"$error":"#REF!"}},5706,"RPV",5706,"2017/0259866-0","2017-10-04",null,"Paga","Paga - mar/2018 - 3ª remessa","2018-03-01","NÃO",null,null,"MS 4.149/DF",null,"1995-07-20","1998-09-23",null,"Administrativo - Servidor Público Civil - Sistema Remuneratório e Benefícios","INCRA","UNIÃO",null,"Mandado de Segurança 4.149/DF","2008/0066564-7","2014-09-26",null,"Isabel Lima Cavalcanti","080.356.955-68","Servidor Público Civil Ativo","Diferença de remuneração - 3,17%","Alimentar",null,"Josilma Saraiva Advogados Associados","09.384.741/0001-98","-","-",null,"Dedução de Honorários Contratuais","IPCA-e","2016-08-01",3.1583925168451299,11889.19,0,11889.19,0,0,1188.9100000000001,0,0,0,11889.19,0,10700.28,3961.46,435.76,871.52,85,435.76,null,null,null,null,null,null,null,null,null,null,null,null,null,null,null,null,null,"Não","Não","Não","-","-","Não informado","Não informado","Não",0,20,10,"2016-08-01","2018-03-01",1.0510749170327964,11246.79,1249.6300000000001,0,12496.420000000002,1,12496.420000000002,1,12496.420000000002,0,0,null,null,1,11889.19,1,11889.19,0,0,null,null,0,0,0,0,0,0,0,null,"",0,0,0,0,0,0,0]
[{"$f":"#REF!","v":{"$error":"#REF!"}},5765,"RPV",5765,"2017/0294913-8","2017-11-10",null,"Paga","Paga - ABR/2018 - 2ª remessa","2018-04-01","NÃO",null,null,"MS 4.149/DF",null,"1995-07-21","1998-09-23",null,"Administrativo - Servidor Público Civil - Sistema Remuneratório e Benefícios","INCRA","UNIÃO",null,"Mandado de Segurança 4.149/DF","2008/0048649-4","2014-09-26",null,"Jarbas Franco Bonilha","070.237.237-49","Servidor Público Civil Inativo","Diferença de remuneração - 3,17%","Alimentar",null,"Josilma Saraiva Advogados Associados","09.384.741/0001-98","-","-",null,"Dedução de Honorários Contratuais","IPCA-e","2017-03-01",3.2275526704784401,5130.1099999999997,0,5130.1099999999997,0,0,513.01,0,0,0,5130.1099999999997,0,4617.0999999999995,0,0,0,85,0,null,null,null,null,null,null,null,null,null,null,null,null,null,null,null,null,null,"Não","Não","Não","-","-","Não informado","Não informado","Não",0,20,11,"2017-03-01","2018-04-01",1.0295809856473719,4753.67,528.17999999999995,0,5281.85,1,5281.85,1,5281.85,0,0,null,null,1,5130.1099999999997,1,5130.1099999999997,0,0,null,null,0,0,0,0,0,0,0,null,"",0,0,0,0,0,0,0]
[{"$f":"#REF!","v":{"$error":"#REF!"}},5786,"RPV",5786,"2017/0297693-2","2017-11-13",null,"Paga","Paga - jun/2018 - 1ª remessa","2018-06-01","NÃO",null,null,"AR 1.169/CE",null,"1999-10-18","2004-06-07",null,"Administrativo - Servidor Público Civil - Sistema Remuneratório e Benefícios","Instituto Nacional do Seguro Social - INSS","Instituto Nacional do Seguro Social - INSS",null,"Ação Rescisória 1.169/CE","2009/0055149-1","2013-06-27",null,"Livia Maria Borges de Castro","065.612.513-69","Pensionista Civil","Anuênios","Alimentar",null,"Glayddes Sindeaux Advogados","17.291.820/0001-82","-","-",null,"Dedução de Honorários Contratuais","IPCA-e","2014-10-01",2.6679860180390902,1701.69,0,1701.69,0,0,340.33,0,0,0,1701.69,0,1361.3600000000001,1701.69,187.18,374.36,111,187.18,null,null,null,null,null,null,null,null,null,null,null,null,null,null,null,null,null,"Não","Não","Não","-","-","Não informado","Não informado","Não",0,10,11,"2014-10-01","2018-06-01",1.2498818212888931,1701.53,425.37,0,2126.9,1,2126.9,1,2126.9,0,0,null,null,1,1701.69,1,1701.69,0,0,null,null,0,0,0,0,0,0,0,null,"",0,0,0,0,0,0,0]
[{"$f":"#REF!","v":{"$error":"#REF!"}},5824,"RPV",5824,"2017/0314563-4","2017-11-29",null,"Paga","Paga - mai/2018 - 2ª remessa","2018-05-01","NÃO",null,null,"MS 4.149/DF",null,"1995-07-20","1998-09-23",null,"Administrativo - Servidor Público Civil - Sistema Remuneratório e Benefícios","INCRA","UNIÃO",null,"Mandado de Segurança 4.149/DF","2008/0047494-6","2014-09-26",null,"Edne Gomes Marinho","119.298.391-20","Servidor Público Civil Ativo","Diferença de remuneração - 3,17%","Alimentar",null,"Josilma Saraiva Advogados Associados","09.384.741/0001-98","-","-",null,"Dedução de Honorários Contratuais","IPCA-e","2017-08-01",3.2462973213013799,5796.52,0,5796.52,0,0,579.65,0,0,0,5796.52,0,5216.8700000000008,1404.63,154.5,309,85,154.5,null,null,null,null,null,null,null,null,null,null,null,null,null,null,null,null,null,"Não","Não","Não","-","-","Não informado","Não informado","Não",0,10,11,"2017-08-01","2018-05-01",1.0257856525492444,5351.39,594.59,0,5945.9800000000005,1,5945.9800000000005,1,5945.9800000000005,0,0,null,null,1,5796.52,1,5796.52,0,0,null,null,0,0,0,0,0,0,0,null,"",0,0,0,0,0,0,0]
[{"$f":"#REF!","v":{"$error":"#REF!"}},5848,"RPV",5848,"2017/0314758-9","2017-11-29",null,"Paga","Paga - mai/2017 - 1ª remessa","2018-05-01","NÃO",null,null,"AR 1.169/CE",null,"1999-10-18","2004-06-07",null,"Administrativo - Servidor Público Civil - Sistema Remuneratório e Benefícios","Instituto Nacional do Seguro Social - INSS","Instituto Nacional do Seguro Social - INSS",null,"Ação Rescisória 1.169/CE","2009/0057510-0","2014-09-30",null,"Tereza Costa Da Silva ","058.873.803-49","Servidor Público Civil Ativo","Anuênios","Alimentar",null,"Glayddes Sindeaux Advogados","17.291.820/0001-82","-","-",null,"Dedução de Honorários Contratuais","IPCA-e","2016-05-01",3.1022339368660701,6676.36,5941.96,12618.32,0,0,1261.83,0,0,0,6676.36,5941.96,11356.49,6676.36,734.39,1468.78,47,734.39,null,null,null,null,null,null,null,null,null,null,null,null,null,null,null,null,null,"Não","Não","Não","-","-","Não informado","Não informado","Não",0,10,11,"2016-05-01","2018-05-01",1.0734216967093166,12190.3,1354.47,0,13544.769999999999,1,13544.769999999999,1,13544.769999999999,0,0,null,null,1,12618.32,1,12618.32,0,0,null,null,0,0,0,0,0,0,0,null,"",0,0,0,0,0,0,0]
[{"$f":"#REF!","v":{"$error":"#REF!"}},5884,"RPV",5884,"2017/0315488-4","2017-11-30",null,"Paga","Paga - mai/2017 - 1ª remessa","2018-05-01","NÃO",null,null,"MS 4.149/DF",null,"1995-07-20","1998-09-23",null,"Administrativo - Servidor Público Civil - Sistema Remuneratório e Benefícios","INCRA","UNIÃO",null,"Mandado de Segurança 4.149/DF","2008/0092267-8","2014-09-26",null,"Raimunda Araújo Ferreira de Souza","027.626.503-30","Servidor Público Civil Ativo","Diferença de remuneração - 3,17%","Alimentar",null,"Josilma Saraiva Advogados Associados","09.384.741/0001-98","-","-",null,"Dedução de Honorários Contratuais","IPCA-e","2017-06-01",3.2469560637499999,5212.67,0,5212.67,0,0,521.26,0,0,0,5212.67,0,4691.41,979.2,107.71,215.42,59,107.71,null,null,null,null,null,null,null,null,null,null,null,null,null,null,null,null,null,"Não","Não","Não","-","-","Não informado","Não informado","Não",0,20,11,"2017-06-01","2018-05-01",1.025577541155295,4811.3999999999996,534.59,0,5345.99,1,5345.99,1,5345.99,0,0,null,null,1,5212.67,1,5212.67,0,0,null,null,0,0,0,0,0,0,0,null,"",0,0,0,0,0,0,0]
[{"$f":"#REF!","v":{"$error":"#REF!"}},5912,"RPV",5912,"2017/0315639-8","2017-11-30",null,"Paga","Paga - mai/2017 - 1ª remessa","2018-05-01","NÃO",null,null,"MS 4.149/DF",null,"1995-07-20","1998-09-23",null,"Administrativo - Servidor Público Civil - Sistema Remuneratório e Benefícios","INCRA","UNIÃO",null,"Mandado de Segurança 4.149/DF","2008/0090920-4","2014-09-26",null,"Olga Regina Hamu Nogueira","189.789.671-91","Servidor Público Civil Ativo","Diferença de remuneração - 3,17%","Alimentar",null,"Josilma Saraiva Advogados Associados","09.384.741/0001-98","-","-",null,"Dedução de Honorários Contratuais","IPCA-e","2017-06-01",3.2469560637499999,7432.66,0,7432.66,0,0,743.26,0,0,0,7432.66,0,6689.4,1758.45,193.42,386.84,59,193.42,null,null,null,null,null,null,null,null,null,null,null,null,null,null,null,null,null,"Não","Não","Não","-","-","Não informado","Não informado","Não",0,10,11,"2017-06-01","2018-05-01",1.025577541155295,6860.49,762.27,0,7622.76,1,7622.76,1,7622.76,0,0,null,null,1,7432.66,1,7432.66,0,0,null,null,0,0,0,0,0,0,0,null,"",0,0,0,0,0,0,0]
[{"$f":"#REF!","v":{"$error":"#REF!"}},5941,"RPV",5941,"2017/0315857-2","2017-11-30",null,"Paga","Paga - jun/2018 - 1ª remessa","2018-06-01","NÃO",null,null,"MS 4.149/DF",null,"1995-07-20","1998-09-23",null,"Administrativo - Servidor Público Civil - Sistema Remuneratório e Benefícios","INCRA","UNIÃO",null,"Mandado de Segurança 4.149/DF","2008/0048576-3","2014-09-26",null,"José Paschoal Correa dos Santos","066.752.987-04","Servidor Público Civil Inativo","Diferença de remuneração - 3,17%","Alimentar",null,"Josilma Saraiva Advogados Associados","09.384.741/0001-98","-","-",null,"Dedução de Honorários Contratuais","IPCA-e","2017-06-01",3.2469560637499999,4421.18,0,4421.18,0,0,442.11,0,0,0,4421.18,0,3979.07,0,0,0,59,0,null,null,null,null,null,null,null,null,null,null,null,null,null,null,null,null,null,"Não","Não","Não","-","-","Não informado","Não informado","Não",0,10,11,"2017-06-01","2018-06-01",1.0270133497121301,4086.55,454.05,0,4540.6000000000004,1,4540.6000000000004,1,4540.6000000000004,0,0,null,null,1,4421.18,1,4421.18,0,0,null,null,0,0,0,0,0,0,0,null,"",0,0,0,0,0,0,0]
[{"$f":"#REF!","v":{"$error":"#REF!"}},5971,"RPV",5971,"2018/0043592-4","2018-02-28",null,"Paga","Paga - jun/2018 - 2ª remessa","2018-06-01","NÃO",null,null,"MS 10.424/DF",null,"2005-02-17","2005-10-27",null,"Administrativo - Servidor Público Civil - Sistema Remuneratório e Benefícios - Gratificações","Ministério do Planejamento, Orçamento e Gestão","UNIÃO",null,"Mandado de Segurança 10.424/DF","2006/0199681-0","2015-04-08",null,"Raimunda Maria Rodrigues De Aquino","258.642.549-91","Servidor Público Civil Ativo","Gratificação Específica de Atividade Docente - GEAD","Alimentar",null,"Fonseca e Assis Advogados Associados","01.971.231/0001-05","-","-",null,"Dedução de Honorários Contratuais","IPCA-e","2018-02-01",3.3071400204999999,7437.5,5642.76,13080.26,0,0,1438.82,0,0,0,7437.5,5642.76,11641.44,7437.5,818.12,1636.24,9,818.12,null,null,null,null,null,null,null,null,null,null,null,null,null,null,null,null,null,"Não","Não","Não","-","-","Não informado","Não informado","Não",0,11,2,"2018-02-01","2018-06-01",1.0083235674115298,11738.33,1450.79,0,13189.119999999999,1,13189.119999999999,1,13189.119999999999,0,0,null,null,1,13080.26,1,13080.26,0,0,null,null,0,0,0,0,0,0,0,null,"",0,0,0,0,0,0,0]
[{"$f":"#REF!","v":{"$error":"#REF!"}},5999,"RPV",5999,"2018/0046898-1","2018-03-02",null,"Paga","Paga - jun/2018 - 2ª remessa","2018-06-01","NÃO",null,null,"MS 4.149/DF",null,"1995-07-20","1998-09-23",null,"Administrativo - Servidor Público Civil - Sistema Remuneratório e Benefícios","x x x","UNIÃO",null,"Mandado de Segurança 4.149/DF","2008/0092108-6","2014-09-26",null,"Josilma Saraiva Advogados Associados","09.384.741/0001-98","x . x . x","Honorários de Sucumbência","Alimentar",null,"Josilma Batista Saraiva","244.443.401-34","-","-",null,"Honorários sucumbenciais, art 23, Lei 8.906/94","IPCA-e","2017-08-01",3.2462973213013799,2627.45,0,2627.45,0,0,0,0,0,0,2627.45,0,2627.45,0,0,0,0,0,null,null,null,null,null,null,null,null,null,null,null,null,null,null,null,null,null,"Não","Não","Não","-","-","Não informado","Não informado","Não",0,10,3,"2017-08-01","2018-06-01",1.0272217524620308,2698.97,0,0,2698.97,1,2698.97,1,2698.97,0,0,null,null,1,2627.45,1,2627.45,0,0,null,null,0,0,0,0,0,0,0,null,"",0,0,0,0,0,0,0]
[{"$f":"#REF!","v":{"$error":"#REF!"}},6020,"RPV",6020,"2018/0054944-0","2018-03-12",null,"Paga","Paga - jul/2018 - 1ª Remessa","2018-07-01","NÃO",null,null,"AR 1.169/CE",null,"1999-10-18","2004-06-07",null,"Administrativo - Servidor Público Civil - Sistema Remuneratório e Benefícios","Instituto Nacional do Seguro Social - INSS","Instituto Nacional do Seguro Social - INSS",null,"Ação Rescisória 1.169/CE","2009/0056173-0","2014-09-30",null,"Zilma Maria Feijó De Sousa ","113.140.363-00","Servidor Público Civil Ativo","Anuênios","Alimentar",null,"Glayddes Sindeaux Advogados","17.291.820/0001-82","-","-",null,"Dedução de Honorários Contratuais","IPCA-e","2015-08-01",2.89947614596139,3086.83,2747.2700000000004,5834.1,308.68,274.72999999999996,583.41,0,0,0,2778.15,2472.5400000000004,5250.6900000000005,3086.83,339.55,679.1,47,339.55,null,null,null,null,null,null,null,null,null,null,null,null,null,null,null,null,null,"Não","Não","Não","-","-","Não informado","Não informado","Não",10,20,3,"2015-08-01","2018-07-01",1.1628590337935127,6105.81,678.42,0,6784.2300000000005,1,6784.2300000000005,1,6784.2300000000005,0,0,null,null,1,5834.1,1,5834.1,0,0,null,null,0,0,0,0,0,0,0,null,"",0,0,0,0,0,0,0]
[{"$f":"#REF!","v":{"$error":"#REF!"}},6058,"RPV",6058,"2018/0069890-1","2018-03-27",null,"Paga","Paga - jul/2018 - 1ª Remessa","2018-07-01","NÃO",null,null,"MS 11.371/DF",null,"2006-01-09","2006-08-07",null,"Administrativo - Servidor Público Civil - Sistema Remuneratório e Benefícios -Gratificação Incorporada/Quintos e Décimos/VPNI","Ministério do Planejamento, Orçamento e Gestão","UNIÃO",null,"Mandado de Segurança 11.371/DF","2007/0243262-1","2014-05-06",null,"Maria Isolina Abreu Silva","021.360.582-15","Servidor Público Civil Inativo","Gratificação Específica de Atividade Docente - GEAD","Alimentar",null,"Fernando Jorge Araújo dos Santos","090.078.062-20","-","-",null,"Dedução de Honorários Contratuais","IPCA-e","2014-10-01",2.6679860180390902,0,304.76,304.76,0,0,0,0,0,0,0,304.76,304.76,304.76,33.520000000000003,0,6,33.520000000000003,null,null,null,null,null,null,null,null,null,null,null,null,null,null,null,null,null,"Não","Não","Não","-","-","Não informado","Não informado","Não",0,11,3,"2014-10-01","2018-07-01",1.2637555095127937,385.14,0,0,385.14,1,385.14,1,385.14,0,0,null,null,1,304.76,1,304.76,0,0,null,null,0,0,0,0,0,0,0,null,"",0,0,0,0,0,0,0]
[{"$f":"#REF!","v":{"$error":"#REF!"}},6086,"RPV",6086,"2018/0069999-6","2018-03-27",null,"Paga","Paga - ago/2018 - 1ª remessa","2018-08-01","NÃO",null,null,"MS 11.371/DF",null,"2006-01-09","2006-08-07",null,"Administrativo - Servidor Público Civil - Sistema Remuneratório e Benefícios -Gratificação Incorporada/Quintos e Décimos/VPNI","Ministério do Planejamento, Orçamento e Gestão","UNIÃO",null,"Mandado de Segurança 11.371/DF","2007/0243604-2","2014-05-06",null,"Maria de Lourdes Nunes Ferreira","066.752.552-15","Servidor Público Civil Inativo","Gratificação Específica de Atividade Docente - GEAD","Alimentar",null,"Fernando Jorge Araújo dos Santos","090.078.062-20","-","-",null,"Dedução de Honorários Contratuais","IPCA-e","2014-10-01",2.6679860180390902,0,304.76,304.76,0,30.47,30.47,0,0,0,0,274.28999999999996,274.28999999999996,304.76,33.520000000000003,0,6,33.520000000000003,null,null,null,null,null,null,null,null,null,null,null,null,null,null,null,null,null,"Não","Não","Não","-","-","Não informado","Não informado","Não",0,11,3,"2014-10-01","2018-08-01",1.2718435447776337,348.85,38.75,0,387.6,1,387.6,1,387.6,0,0,null,null,1,304.76,1,304.76,0,0,null,null,0,0,0,0,0,0,0,null,"",0,0,0,0,0,0,0]
[{"$f":"#REF!","v":{"$error":"#REF!"}},6113,"RPV",6113,"2018/0070314-1","2018-03-27",null,"Paga","Paga - ago/2018 - 1ª remessa","2018-08-01","NÃO",null,null,"MS 11.371/DF",null,"2006-01-09","2006-08-07",null,"Administrativo - Servidor Público Civil - Sistema Remuneratório e Benefícios -Gratificação Incorporada/Quintos e Décimos/VPNI","Ministério do Planejamento, Orçamento e Gestão","UNIÃO",null,"Mandado de Segurança 11.371/DF","2007/0244132-8","2014-05-06",null,"Iladir Maria Pereira da Cruz","080.539.442-72","Servidor Público Civil Inativo","Gratificação Específica de Atividade Docente - GEAD","Alimentar",null,"Fernando Jorge Araújo dos Santos","090.078.062-20","-","-",null,"Dedução de Honorários Contratuais","IPCA-e","2014-10-01",2.6679860180390902,0,304.76,304.76,0,30.47,30.47,0,0,0,0,274.28999999999996,274.28999999999996,304.76,33.520000000000003,0,6,33.520000000000003,null,null,null,null,null,null,null,null,null,null,null,null,null,null,null,null,null,"Não","Não","Não","-","-","Não informado","Não informado","Não",0,11,3,"2014-10-01","2018-08-01",1.2718435447776337,348.85,38.75,0,387.6,1,387.6,1,387.6,0,0,null,null,1,304.76,1,304.76,0,0,null,null,0,0,0,0,0,0,0,null,"",0,0,0,0,0,0,0]
[{"$f":"#REF!","v":{"$error":"#REF!"}},6145,"RPV",6145,"2018/0080467-6","2018-04-10",null,"Paga","Paga - set/2018 - 2ª remessa","2018-09-01","NÃO",null,null,"AR 1.169/CE",null,"1999-10-18","2004-06-07",null,"Administrativo - Servidor Público Civil - Sistema Remuneratório e Benefícios","Instituto Nacional do Seguro Social - INSS","Instituto Nacional do Seguro Social - INSS",null,"Ação Rescisória 1.169/CE","2009/0055155-5","2014-09-30",null,"Francisco Antonio Lima ","010.011.243-91","Servidor Público Civil Ativo","Anuênios","Alimentar",null,"Glayddes Sindeaux Advogados","17.291.820/0001-82","-","-",null,"Dedução de Honorários Contratuais","IPCA-e","2015-08-01",2.89947614596139,16909.54,0,16909.54,1690.95,0,1690.95,0,0,0,15218.59,0,15218.59,4659.6000000000004,512.54999999999995,1025.0999999999999,47,512.54999999999995,null,null,null,null,null,null,null,null,null,null,null,null,null,null,null,null,null,"Não","Não","Não","-","-","Não informado","Não informado","Não",10,11,4,"2015-08-01","2018-09-01",1.1718227233331562,17833.48,1981.49,0,19814.97,1,19814.97,1,19814.97,0,0,null,null,1,16909.54,1,16909.54,0,0,null,null,0,0,0,0,0,0,0,null,"",0,0,0,0,0,0,0]
[{"$f":"#REF!","v":{"$error":"#REF!"}},6190,"RPV",6190,"2018/0080596-5","2018-04-10",null,"Paga","Paga - ago/2018 - 1ª remessa","2018-08-01","NÃO",null,null,"AR 1.169/CE",null,"1999-10-18","2004-06-07",null,"Administrativo - Servidor Público Civil - Sistema Remuneratório e Benefícios","Instituto Nacional do Seguro Social - INSS","Instituto Nacional do Seguro Social - INSS",null,"Ação Rescisória 1.169/CE","2009/0056264-0","2013-09-06",null,"Edilson Rodrigues De Oliveira ","285.029.817-49","Servidor Público Civil Ativo","Anuênios","Alimentar",null,"Glayddes Sindeaux Advogados","17.291.820/0001-82","-","-",null,"Dedução de Honorários Contratuais","IPCA-e","2016-02-01",3.0302482047236299,7462.58,6193.93,13656.51,746.25,619.40000000000009,1365.65,0,0,0,6716.33,5574.5300000000007,12290.86,7462.58,820.88,1641.76,47,820.88,null,null,null,null,null,null,null,null,null,null,null,null,null,null,null,null,null,"Não","Não","Não","-","-","Não informado","Não informado","Não",10,11,4,"2016-02-01","2018-08-01",1.1197963220671154,13763.25,1529.24,0,15292.49,1,15292.49,1,15292.49,0,0,null,null,1,13656.51,1,13656.51,0,0,null,null,0,0,0,0,0,0,0,null,"",0,0,0,0,0,0,0]
[{"$f":"#REF!","v":{"$error":"#REF!"}},6204,"RPV",6204,"2018/0109601-6","2018-05-10",null,"Paga","Paga - set/2018 - 2ª remessa","2018-09-01","NÃO",null,null,"AR 1.169/CE",null,"1999-10-18","2004-06-07",null,"Administrativo - Servidor Público Civil - Sistema Remuneratório e Benefícios","Instituto Nacional do Seguro Social - INSS","Instituto Nacional do Seguro Social - INSS",null,"Ação Rescisória 1.169/CE","2009/0057549-9","2014-11-04",null,"Edmilson Queiroz Dos Santos ","053.705.583-53","Servidor Público Civil Ativo","Anuênios","Alimentar",null,"Glayddes Sindeaux Advogados","17.291.820/0001-82","-","-",null,"Dedução de Honorários Contratuais","IPCA-e","2016-05-01",3.1022339368660701,9671.58,8704.1799999999985,18375.759999999998,967.15,870.42,1837.57,0,0,0,8704.43,7833.7599999999984,16538.189999999999,9671.58,1063.8699999999999,2127.7399999999998,109,1063.8699999999999,null,null,null,null,null,null,null,null,null,null,null,null,null,null,null,null,null,"Não","Não","Não","-","-","Não informado","Não informado","Não",10,11,5,"2016-05-01","2018-09-01",1.0952339838794964,18113.18,2012.56,0,20125.740000000002,1,20125.740000000002,1,20125.740000000002,0,0,null,null,1,18375.759999999998,1,18375.759999999998,0,0,null,null,0,0,0,0,0,0,0,null,"",0,0,0,0,0,0,0]
[{"$f":"#REF!","v":{"$error":"#REF!"}},6232,"RPV",6232,"2018/0124973-7","2018-05-25",null,"Paga","Paga - ABR/2019 - 2ª remessa","2019-04-01","SIM",null,null,"MS 10.424/DF",null,"2005-02-17","2005-10-27",null,"Administrativo - Servidor Público Civil - Sistema Remuneratório e Benefícios - Gratificações","Ministério do Planejamento, Orçamento e Gestão","UNIÃO",null,"Mandado de Segurança 10.424/DF","2006/0151258-4","2016-02-12",null,"Sonia Maria Pinheiro Soares","080.112.222-87","Servidor Público Civil Ativo","Gratificação Específica de Atividade Docente - GEAD","Alimentar",null,"Fonseca e Assis Advogados Associados","01.971.231/0001-05","-","-",null,"Dedução de Honorários Contratuais","IPCA-e","2018-05-01",3.3300052161,12767.45,9879.25,22646.7,1404.41,1086.72,2491.13,0,0,0,11363.04,8792.5300000000007,20155.57,12767.45,1404.41,2808.82,9,1404.41,null,null,null,null,null,null,null,null,null,null,null,null,null,null,null,null,null,"Não","Não","Não","-","-","Não informado","Não informado","Não",11,20,5,"2018-05-01","2019-04-01",1.0396369867115656,20954.47,2589.87,0,23544.34,1,23544.34,1,23544.34,0,0,null,null,1,22646.7,1,22646.7,0,0,null,null,0,0,0,0,0,0,0,null,"",0,0,0,0,0,0,0]
[{"$f":"#REF!","v":{"$error":"#REF!"}},6283,"RPV",6283,"2018/0125067-7","2018-05-25",null,"Paga","Paga - out/2018 - 1ª remessa","2018-10-01","NÃO",null,null,"MS 10.424/DF",null,"2005-02-17","2005-10-27",null,"Administrativo - Servidor Público Civil - Sistema Remuneratório e Benefícios - Gratificações","Ministério do Planejamento, Orçamento e Gestão","UNIÃO",null,"Mandado de Segurança 10.424/DF","2006/0155572-9","2016-02-12",null,"Maria Das Dores Zacarias","586.769.102-00","Servidor Público Civil Ativo","Gratificação Específica de Atividade Docente - GEAD","Alimentar",null,"Fonseca e Assis Advogados Associados","01.971.231/0001-05","-","-",null,"Dedução de Honorários Contratuais","IPCA-e","2018-05-01",3.3300052161,12767.45,9879.25,22646.7,1404.41,1086.72,2491.13,0,0,0,11363.04,8792.5300000000007,20155.57,12767.45,1404.41,2808.82,9,1404.41,null,null,null,null,null,null,null,null,null,null,null,null,null,null,null,null,null,"Não","Não","Não","-","-","Não informado","Não informado","Não",11,20,5,"2018-05-01","2018-10-01",1.0212386221072742,20583.64,2544.0300000000002,0,23127.67,1,23127.67,1,23127.67,0,0,null,null,1,22646.7,1,22646.7,0,0,null,null,0,0,0,0,0,0,0,null,"",0,0,0,0,0,0,0]
[{"$f":"#REF!","v":{"$error":"#REF!"}},6291,"RPV",6291,"2018/0125089-2","2018-05-25",null,"Paga","Paga - nov/2018 - 1ª remessa","2018-11-01","NÃO",null,null,"MS 10.424/DF",null,"2005-02-17","2005-10-27",null,"Administrativo - Servidor Público Civil - Sistema Remuneratório e Benefícios - Gratificações","Ministério do Planejamento, Orçamento e Gestão","UNIÃO",null,"Mandado de Segurança 10.424/DF","2006/0155572-9","2016-02-12",null,"Maria De Lourdes Lima De Brito","051.828.162-00","Servidor Público Civil Ativo","Gratificação Específica de Atividade Docente - GEAD","Alimentar",null,"Fonseca e Assis Advogados Associados","01.971.231/0001-05","-","-",null,"Dedução de Honorários Contratuais","IPCA-e","2018-05-01",3.3300052161,12767.45,9879.25,22646.7,1404.41,1086.72,2491.13,0,0,0,11363.04,8792.5300000000007,20155.57,12767.45,1404.41,2808.82,9,1404.41,null,null,null,null,null,null,null,null,null,null,null,null,null,null,null,null,null,"Não","Não","Não","-","-","Não informado","Não informado","Não",11,6,5,"2018-05-01","2018-11-01",1.0271618061024934,20703.03,2558.79,0,23261.82,1,23261.82,1,23261.82,0,0,null,null,1,22646.7,1,22646.7,0,0,null,null,0,0,0,0,0,0,0,null,"",0,0,0,0,0,0,0]
[{"$f":"#REF!","v":{"$error":"#REF!"}},6319,"RPV",6319,"2018/0125157-4","2018-05-25",null,"Paga","Paga - nov/2018 - 1ª remessa","2018-11-01","NÃO",null,null,"MS 10.424/DF",null,"2005-02-17","2005-10-27",null,"Administrativo - Servidor Público Civil - Sistema Remuneratório e Benefícios - Gratificações","Ministério do Planejamento, Orçamento e Gestão","UNIÃO",null,"Mandado de Segurança 10.424/DF","2006/0161978-0","2016-02-12",null,"Aracy Batista De Farias","052.123.752-15","Servidor Público Civil Ativo","Gratificação Específica de Atividade Docente - GEAD","Alimentar",null,"Fonseca e Assis Advogados Associados","01.971.231/0001-05","-","-",null,"Dedução de Honorários Contratuais","IPCA-e","2018-05-01",3.3300052161,12767.45,9879.25,22646.7,1404.41,1086.72,2491.13,0,0,0,11363.04,8792.5300000000007,20155.57,12767.45,1404.41,2808.82,9,1404.41,null,null,null,null,null,null,null,null,null,null,null,null,null,null,null,null,null,"Não","Não","Não","-","-","Não informado","Não informado","Não",11,6,5,"2018-05-01","2018-11-01",1.0271618061024934,20703.03,2558.79,0,23261.82,1,23261.82,1,23261.82,0,0,null,null,1,22646.7,1,22646.7,0,0,null,null,0,0,0,0,0,0,0,null,"",0,0,0,0,0,0,0]
[{"$f":"#REF!","v":{"$error":"#REF!"}},6376,"RPV",6376,"2018/0125349-3","2018-05-25",null,"paga","Paga - nov/2018 - 2ª remessa","2018-11-01","NÃO",null,null,"MS 10.424/DF",null,"2005-02-17","2005-10-27",null,"Administrativo - Servidor Público Civil - Sistema Remuneratório e Benefícios - Gratificações","Ministério do Planejamento, Orçamento e Gestão","UNIÃO",null,"Mandado de Segurança 10.424/DF","2006/0151231-0","2016-02-12",null,"Cesinilce Oliveira De Souza","106.800.712-53","Servidor Público Civil Ativo","Gratificação Específica de Atividade Docente - GEAD","Alimentar",null,"Fonseca e Assis Advogados Associados","01.971.231/0001-05","-","-",null,"Dedução de Honorários Contratuais","IPCA-e","2018-05-01",3.3300052161,12767.45,9879.25,22646.7,1404.41,1086.72,2491.13,0,0,0,11363.04,8792.5300000000007,20155.57,12767.45,1404.41,2808.82,9,1404.41,null,null,null,null,null,null,null,null,null,null,null,null,null,null,null,null,null,"Não","Não","Não","-","-","Não informado","Não informado","Não",11,6,5,"2018-05-01","2018-11-01",1.0271618061024934,20703.03,2558.79,0,23261.82,1,23261.82,1,23261.82,0,0,null,null,1,22646.7,1,22646.7,0,0,null,null,0,0,0,0,0,0,0,null,"",0,0,0,0,0,0,0]
[{"$f":"#REF!","v":{"$error":"#REF!"}},6409,"RPV",6409,"2018/0136641-7","2018-06-08",null,"paga","Paga - NOV/2018 - 3ª remessa","2018-11-01","NÃO",null,null,"MS 4.149/DF","1995/0038042-0","1995-07-20","1998-09-23",null,"Administrativo - Servidor Público Civil - Sistema Remuneratório e Benefícios","INCRA","UNIÃO",null,"Mandado de Segurança 4.149/DF","2008/0066404-3","2014-09-26",null,"João Oscar Henriques","003.240.511-15","Servidor Público Civil Inativo","Diferença de remuneração - 3,17%","Alimentar",null,"Josilma Saraiva Advogados Associados","09.384.741/0001-98","-","-",null,"Dedução de Honorários Contratuais","IPCA-e","2016-06-01",3.1289131487231199,21491.16,29307.140000000003,50798.3,2149.11,2930.72,5079.83,0,0,0,19342.05,26376.420000000002,45718.47,0,0,0,77,0,null,null,null,null,null,null,null,null,null,null,null,null,null,null,null,null,null,"Não","Não","Não","-","-","Não informado","Não informado","Não",10,10,6,"2016-06-01","2018-11-01",1.0931764512210431,49978.35,5553.15,0,55531.5,1,55531.5,1,55531.5,0,0,null,null,1,50798.3,1,50798.3,0,0,null,null,0,0,0,0,0,0,0,null,"",0,0,0,0,0,0,0]
[{"$f":"#REF!","v":{"$error":"#REF!"}},6423,"RPV",6423,"2018/0136760-5","2018-06-08",null,"paga","Paga - MAI/2019 - 3ª remessa","2019-05-01","SIM",null,null,"MS 4.149/DF","1995/0038042-0","1995-07-20","1998-09-23",null,"Administrativo - Servidor Público Civil - Sistema Remuneratório e Benefícios","INCRA","UNIÃO",null,"Mandado de Segurança 4.149/DF","2008/0066404-3","2014-09-26",null,"Milton Ferreira Furtado","150.689.941-20","Servidor Público Civil Ativo","Diferença de remuneração - 3,17%","Alimentar",null,"Josilma Saraiva Advogados Associados","09.384.741/0001-98","-","-",null,"Dedução de Honorários Contratuais","IPCA-e","2016-06-01",3.1289131487231199,11175.78,15956.6,27132.38,1117.57,1595.66,2713.23,0,0,0,10058.210000000001,14360.94,24419.15,11175.78,1229.33,2458.66,85,1229.33,null,null,null,null,null,null,null,null,null,null,null,null,null,null,null,null,null,"Não","Não","Não","-","-","Não informado","Não informado","Não",10,10,6,"2016-06-01","2019-05-01",1.1144198634669615,27213.18,3023.67,0,30236.85,1,30236.85,1,30236.85,0,0,null,null,1,27132.38,1,27132.38,0,0,null,null,0,0,0,0,0,0,0,null,"",0,0,0,0,0,0,0]
[{"$f":"#REF!","v":{"$error":"#REF!"}},6468,"RPV",6468,"2018/0137557-8","2018-06-08",null,"paga","Paga - nov/2018 - 2ª remessa","2018-11-01","NÃO",null,null,"MS 10.424/DF","2005/0021065-5","2005-02-17","2005-10-27",null,"Administrativo - Servidor Público Civil - Sistema Remuneratório e Benefícios - Gratificações","Ministério do Planejamento, Orçamento e Gestão","UNIÃO",null,"Mandado de Segurança 10.424/DF","2006/0180711-0","2016-02-12",null,"Josefina Roquetti Dresch","204.954.049-34","Servidor Público Civil Ativo","Gratificação Específica de Atividade Docente - GEAD","Alimentar",null,"Fonseca e Assis Advogados Associados","01.971.231/0001-05","-","-",null,"Dedução de Honorários Contratuais","IPCA-e","2018-06-01",3.3346672233999999,12785.32,9957,22742.32,1406.38,1095.27,2501.65,0,0,0,11378.939999999999,8861.73,20240.669999999998,12785.32,1406.38,2812.76,9,1406.38,null,null,null,null,null,null,null,null,null,null,null,null,null,null,null,null,null,"Não","Não","Não","-","-","Não informado","Não informado","Não",11,10,6,"2018-06-01","2018-11-01",1.0257257899972796,20761.37,2566,0,23327.37,1,23327.37,1,23327.37,0,0,null,null,1,22742.32,1,22742.32,0,0,null,null,0,0,0,0,0,0,0,null,"",0,0,0,0,0,0,0]
[{"$f":"#REF!","v":{"$error":"#REF!"}},6496,"RPV",6496,"2018/0138251-0","2018-06-11",null,"Paga","Paga - ABR/2019 - 3ª remessa","2019-04-01","SIM",null,null,"MS 10.424/DF","2005/0021065-5","2005-02-17","2005-10-27",null,"Administrativo - Servidor Público Civil - Sistema Remuneratório e Benefícios - Gratificações","Ministério do Planejamento, Orçamento e Gestão","UNIÃO",null,"Mandado de Segurança 10.424/DF","2006/0180733-6","2016-02-12",null,"Maria Da Gloria Oliveira Dos Santos","604.396.027-34","Servidor Público Civil Ativo","Gratificação Específica de Atividade Docente - GEAD","Alimentar",null,"Fonseca e Assis Advogados Associados","01.971.231/0001-05","-","-",null,"Dedução de Honorários Contratuais","IPCA-e","2018-06-01",3.3346672233999999,12785.32,9957,22742.32,1406.38,1095.27,2501.65,0,0,0,11378.939999999999,8861.73,20240.669999999998,12785.32,1406.38,2812.76,9,1406.38,null,null,null,null,null,null,null,null,null,null,null,null,null,null,null,null,null,"Não","Não","Não","-","-","Não informado","Não informado","Não",11,10,6,"2018-06-01","2019-04-01",1.0381835297706785,21013.53,2597.17,0,23610.699999999997,1,23610.699999999997,1,23610.699999999997,0,0,null,null,1,22742.32,1,22742.32,0,0,null,null,0,0,0,0,0,0,0,null,"",0,0,0,0,0,0,0]
[{"$f":"#REF!","v":{"$error":"#REF!"}},6516,"RPV",6516,"2018/0138336-5","2018-06-11",null,"Paga","Paga - ABR/2019 - 4ª remessa","2019-04-01","SIM",null,null,"MS 10.424/DF","2005/0021065-5","2005-02-17","2005-10-27",null,"Administrativo - Servidor Público Civil - Sistema Remuneratório e Benefícios - Gratificações","Ministério do Planejamento, Orçamento e Gestão","UNIÃO",null,"Mandado de Segurança 10.424/DF","2006/0180768-8","2016-02-12",null,"Jose Dos Santos Cruz","090.757.712-15","Servidor Público Civil Ativo","Gratificação Específica de Atividade Docente - GEAD","Alimentar",null,"Fonseca e Assis Advogados Associados","01.971.231/0001-05","-","-",null,"Dedução de Honorários Contratuais","IPCA-e","2018-06-01",3.3346672233999999,12785.32,9957,22742.32,1406.38,1095.27,2501.65,0,0,0,11378.939999999999,8861.73,20240.669999999998,12785.32,1406.38,2812.76,9,1406.38,null,null,null,null,null,null,null,null,null,null,null,null,null,null,null,null,null,"Não","Não","Não","-","-","Não informado","Não informado","Não",11,10,6,"2018-06-01","2019-04-01",1.0381835297706785,21013.53,2597.17,0,23610.699999999997,1,23610.699999999997,1,23610.699999999997,0,0,null,null,1,22742.32,1,22742.32,0,0,null,null,0,0,0,0,0,0,0,null,"",0,0,0,0,0,0,0]
[{"$f":"#REF!","v":{"$error":"#REF!"}},6555,"RPV",6555,"2018/0138596-7","2018-06-11",null,"paga","Paga - NOV/2018 - 3ª remessa","2018-11-01","NÃO",null,null,"MS 10.424/DF","2005/0021065-5","2005-02-17","2005-10-27",null,"Administrativo - Servidor Público Civil - Sistema Remuneratório e Benefícios - Gratificações","Ministério do Planejamento, Orçamento e Gestão","UNIÃO",null,"Mandado de Segurança 10.424/DF","2006/0180802-0","2016-02-12",null,"Luzia Fandinho Campos","021.837.222-15","Servidor Público Civil Ativo","Gratificação Específica de Atividade Docente - GEAD","Alimentar",null,"Fonseca e Assis Advogados Associados","01.971.231/0001-05","-","-",null,"Dedução de Honorários Contratuais","IPCA-e","2018-06-01",3.3346672233999999,12785.32,9957,22742.32,1406.38,1095.27,2501.65,0,0,0,11378.939999999999,8861.73,20240.669999999998,12785.32,1406.38,2812.76,9,1406.38,null,null,null,null,null,null,null,null,null,null,null,null,null,null,null,null,null,"Não","Não","Não","-","-","Não informado","Não informado","Não",11,6,6,"2018-06-01","2018-11-01",1.0257257899972796,20761.37,2566,0,23327.37,1,23327.37,1,23327.37,0,0,null,null,1,22742.32,1,22742.32,0,0,null,null,0,0,0,0,0,0,0,null,"",0,0,0,0,0,0,0]
[{"$f":"#REF!","v":{"$error":"#REF!"}},6583,"RPV",6583,"2018/0138821-6","2018-06-11",null,"Paga","Paga - MAI/2019 - 2ª remessa","2019-05-01","SIM",null,null,"MS 10.424/DF","2005/0021065-5","2005-02-17","2005-10-27",null,"Administrativo - Servidor Público Civil - Sistema Remuneratório e Benefícios - Gratificações","Ministério do Planejamento, Orçamento e Gestão","UNIÃO",null,"Mandado de Segurança 10.424/DF","2006/0180809-2","2016-02-12",null,"Maria Luiza Da Silva Clymaco ","106.611.742-04","Servidor Público Civil Ativo","Gratificação Específica de Atividade Docente - GEAD","Alimentar",null,"Fonseca e Assis Advogados Associados","01.971.231/0001-05","-","-",null,"Dedução de Honorários Contratuais","IPCA-e","2018-06-01",3.3346672233999999,12785.32,9957,22742.32,1406.38,1095.27,2501.65,0,0,0,11378.939999999999,8861.73,20240.669999999998,12785.32,1406.38,2812.76,9,1406.38,null,null,null,null,null,null,null,null,null,null,null,null,null,null,null,null,null,"Não","Não","Não","-","-","Não informado","Não informado","Não",11,20,6,"2018-06-01","2019-05-01",1.045658451173656,21164.82,2615.87,0,23780.69,1,23780.69,1,23780.69,0,0,null,null,1,22742.32,1,22742.32,0,0,null,null,0,0,0,0,0,0,0,null,"",0,0,0,0,0,0,0]
[{"$f":"#REF!","v":{"$error":"#REF!"}},6609,"RPV",6609,"2018/0138891-2","2018-06-11",null,"Paga","Paga - MAI/2019 - 4ª remessa","2019-05-01","SIM",null,null,"MS 10.424/DF","2005/0021065-5","2005-02-17","2005-10-27",null,"Administrativo - Servidor Público Civil - Sistema Remuneratório e Benefícios - Gratificações","Ministério do Planejamento, Orçamento e Gestão","UNIÃO",null,"Mandado de Segurança 10.424/DF","2006/0199686-0","2016-02-12",null,"Maria De Lourdes Nunes Oliveira ","142.891.482-04","Servidor Público Civil Inativo","Gratificação Específica de Atividade Docente - GEAD","Alimentar",null,"Fonseca e Assis Advogados Associados","01.971.231/0001-05","-","-",null,"Dedução de Honorários Contratuais","IPCA-e","2018-06-01",3.3346672233999999,12785.32,9957,22742.32,1406.38,1095.27,2501.65,0,0,0,11378.939999999999,8861.73,20240.669999999998,12785.32,1406.38,0,9,1406.38,null,null,null,null,null,null,null,null,null,null,null,null,null,null,null,null,null,"Não","Não","Não","-","-","Não informado","Não informado","Não",11,20,6,"2018-06-01","2019-05-01",1.045658451173656,21164.82,2615.87,0,23780.69,1,23780.69,1,23780.69,0,0,null,null,1,22742.32,1,22742.32,0,0,null,null,0,0,0,0,0,0,0,null,"",0,0,0,0,0,0,0]
[{"$f":"#REF!","v":{"$error":"#REF!"}},6642,"RPV",6642,"2018/0157529-1","2018-06-28",null,"Paga","Paga - MAI/2019 - 2ª remessa","2019-05-01","SIM",null,null,"MS 10.424/DF","2005/0021065-5","2005-02-17","2005-10-27",null,"Administrativo - Servidor Público Civil - Sistema Remuneratório e Benefícios - Gratificações","Ministério do Planejamento, Orçamento e Gestão","UNIÃO",null,"Mandado de Segurança 10.424/DF","2006/0180808-0","2016-02-12",null,"Jasson Alves Da Silva","507.819.527-00","Servidor Público Civil Ativo","Gratificação Específica de Atividade Docente - GEAD","Alimentar",null,"Fonseca e Assis Advogados Associados","01.971.231/0001-05","-","-",null,"Dedução de Honorários Contratuais","IPCA-e","2018-06-01",3.3346672233999999,12785.32,9957,22742.32,1406.38,1095.27,2501.65,0,0,0,11378.939999999999,8861.73,20240.669999999998,12785.32,1406.38,2812.76,9,1406.38,null,null,null,null,null,null,null,null,null,null,null,null,null,null,null,null,null,"Não","Não","Não","-","-","Não informado","Não informado","Não",11,20,6,"2018-06-01","2019-05-01",1.045658451173656,21164.82,2615.87,0,23780.69,1,23780.69,1,23780.69,0,0,null,null,1,22742.32,1,22742.32,0,0,null,null,0,0,0,0,0,0,0,null,"",0,0,0,0,0,0,0]
[{"$f":"#REF!","v":{"$error":"#REF!"}},6674,"RPV",6674,"2018/0157636-5","2018-06-28",null,"Paga","Paga - ABR/2019 - 5ª remessa","2019-04-01","SIM",null,null,"MS 10.424/DF","2005/0021065-5","2005-02-17","2005-10-27",null,"Administrativo - Servidor Público Civil - Sistema Remuneratório e Benefícios - Gratificações","Ministério do Planejamento, Orçamento e Gestão","UNIÃO",null,"Mandado de Segurança 10.424/DF","2006/0199680-9","2016-02-12",null,"Isabel Da Silva ","037.129.152-68","Servidor Público Civil Inativo","Gratificação Específica de Atividade Docente - GEAD","Alimentar",null,"Fonseca e Assis Advogados Associados","01.971.231/0001-05","-","-",null,"Dedução de Honorários Contratuais","IPCA-e","2018-06-01",3.3346672233999999,12785.32,9957,22742.32,1406.38,1095.27,2501.65,0,0,0,11378.939999999999,8861.73,20240.669999999998,12785.32,1406.38,0,9,1406.38,null,null,null,null,null,null,null,null,null,null,null,null,null,null,null,null,null,"Não","Não","Não","-","-","Não informado","Não informado","Não",11,20,6,"2018-06-01","2019-04-01",1.0381835297706785,21013.53,2597.17,0,23610.699999999997,1,23610.699999999997,1,23610.699999999997,0,0,null,null,1,22742.32,1,22742.32,0,0,null,null,0,0,0,0,0,0,0,null,"",0,0,0,0,0,0,0]
[{"$f":"#REF!","v":{"$error":"#REF!"}},6702,"RPV",6702,"2018/0157875-3","2018-06-28",null,"Paga","Paga - MAI/2019 - 4ª remessa","2019-05-01","SIM",null,null,"MS 10.424/DF","2005/0021065-5","2005-02-17","2005-10-27",null,"Administrativo - Servidor Público Civil - Sistema Remuneratório e Benefícios - Gratificações","Ministério do Planejamento, Orçamento e Gestão","UNIÃO",null,"Mandado de Segurança 10.424/DF","2006/0199684-6","2016-02-12",null,"Rosa Maria Do Nascimento","028.395.122-20","Servidor Público Civil Inativo","Gratificação Específica de Atividade Docente - GEAD","Alimentar",null,"Fonseca e Assis Advogados Associados","01.971.231/0001-05","-","-",null,"Dedução de Honorários Contratuais","IPCA-e","2018-06-01",3.3346672233999999,12785.32,9957,22742.32,1406.38,1095.27,2501.65,0,0,0,11378.939999999999,8861.73,20240.669999999998,12785.32,1406.38,0,9,1406.38,null,null,null,null,null,null,null,null,null,null,null,null,null,null,null,null,null,"Não","Não","Não","-","-","Não informado","Não informado","Não",11,6,6,"2018-06-01","2019-05-01",1.045658451173656,21164.82,2615.87,0,23780.69,1,23780.69,1,23780.69,0,0,null,null,1,22742.32,1,22742.32,0,0,null,null,0,0,0,0,0,0,0,null,"",0,0,0,0,0,0,0]
[{"$f":"#REF!","v":{"$error":"#REF!"}},6729,"RPV",6729,"2018/0157985-2","2018-06-28",null,"Paga","Paga - JUL/2019 - 2ª remessa","2019-07-01","SIM",null,null,"MS 10.424/DF","2005/0021065-5","2005-02-17","2005-10-27",null,"Administrativo - Servidor Público Civil - Sistema Remuneratório e Benefícios - Gratificações","Ministério do Planejamento, Orçamento e Gestão","UNIÃO",null,"Mandado de Segurança 10.424/DF","2006/0199687-1","2016-02-12",null,"Francisca Bezerra De Souza","013.739.862-04","Servidor Público Civil Inativo","Gratificação Específica de Atividade Docente - GEAD","Alimentar",null,"Fonseca e Assis Advogados Associados","01.971.231/0001-05","-","-",null,"Dedução de Honorários Contratuais","IPCA-e","2018-06-01",3.3346672233999999,12785.32,9957,22742.32,1406.38,1095.27,2501.65,0,0,0,11378.939999999999,8861.73,20240.669999999998,12785.32,1406.38,0,9,1406.38,null,null,null,null,null,null,null,null,null,null,null,null,null,null,null,null,null,"Não","Não","Não","-","-","Não informado","Não informado","Não",11,11,6,"2018-06-01","2019-07-01",1.0499478467090271,21251.64,2626.6,0,23878.239999999998,1,23878.239999999998,1,23878.239999999998,0,0,null,null,1,22742.32,1,22742.32,0,0,null,null,0,0,0,0,0,0,0,null,"",0,0,0,0,0,0,0]
[{"$f":"#REF!","v":{"$error":"#REF!"}},6749,"RPV",6749,"2018/0158047-6","2018-06-28",null,"Paga","Paga - ABR/2019 - 5ª remessa","2019-04-01","SIM",null,null,"MS 10.424/DF","2005/0021065-5","2005-02-17","2005-10-27",null,"Administrativo - Servidor Público Civil - Sistema Remuneratório e Benefícios - Gratificações","Ministério do Planejamento, Orçamento e Gestão","UNIÃO",null,"Mandado de Segurança 10.424/DF","2006/0199689-5","2016-02-12",null,"Aurea Dulce Feitosa Bezerra","085.132.102-00","Servidor Público Civil Inativo","Gratificação Específica de Atividade Docente - GEAD","Alimentar",null,"Fonseca e Assis Advogados Associados","01.971.231/0001-05","-","-",null,"Dedução de Honorários Contratuais","IPCA-e","2018-06-01",3.3346672233999999,12785.32,9957,22742.32,1406.38,1095.27,2501.65,0,0,0,11378.939999999999,8861.73,20240.669999999998,12785.32,1406.38,0,9,1406.38,null,null,null,null,null,null,null,null,null,null,null,null,null,null,null,null,null,"Não","Não","Não","-","-","Não informado","Não informado","Não",11,10,6,"2018-06-01","2019-04-01",1.0381835297706785,21013.53,2597.17,0,23610.699999999997,1,23610.699999999997,1,23610.699999999997,0,0,null,null,1,22742.32,1,22742.32,0,0,null,null,0,0,0,0,0,0,0,null,"",0,0,0,0,0,0,0]
[{"$f":"#REF!","v":{"$error":"#REF!"}},6788,"RPV",6788,"2018/0158172-8","2018-06-28",null,"Paga","Paga - ABR/2019 - 6ª remessa","2019-04-01","SIM",null,null,"MS 10.424/DF","2005/0021065-5","2005-02-17","2005-10-27",null,"Administrativo - Servidor Público Civil - Sistema Remuneratório e Benefícios - Gratificações","Ministério do Planejamento, Orçamento e Gestão","UNIÃO",null,"Mandado de Segurança 10.424/DF","2006/0199700-0","2016-02-12",null,"Maria Lina Braga Dias Araujo","024.989.362-20","Servidor Público Civil Inativo","Gratificação Específica de Atividade Docente - GEAD","Alimentar",null,"Fonseca e Assis Advogados Associados","01.971.231/0001-05","-","-",null,"Dedução de Honorários Contratuais","IPCA-e","2018-06-01",3.3346672233999999,12785.32,9957,22742.32,1406.38,1095.27,2501.65,0,0,0,11378.939999999999,8861.73,20240.669999999998,12785.32,1406.38,0,9,1406.38,null,null,null,null,null,null,null,null,null,null,null,null,null,null,null,null,null,"Não","Não","Não","-","-","Não informado","Não informado","Não",11,10,6,"2018-06-01","2019-04-01",1.0381835297706785,21013.53,2597.17,0,23610.699999999997,1,23610.699999999997,1,23610.699999999997,0,0,null,null,1,22742.32,1,22742.32,0,0,null,null,0,0,0,0,0,0,0,null,"",0,0,0,0,0,0,0]
[{"$f":"#REF!","v":{"$error":"#REF!"}},6820,"RPV",6820,"2018/0204322-4","2018-08-13",null,"Paga","Paga - ABR/2019 - 6ª remessa","2019-04-01","SIM",null,null,"MS 10.424/DF","2005/0021065-5","2005-02-17","2005-10-27",null,"Administrativo - Servidor Público Civil - Sistema Remuneratório e Benefícios - Gratificações","Ministério do Planejamento, Orçamento e Gestão","UNIÃO",null,"Mandado de Segurança 10.424/DF","2006/0199703-5","2016-02-12",null,"Maria Hilario Da Costa","225.219.259-34","Servidor Público Civil Inativo","Gratificação Específica de Atividade Docente - GEAD","Alimentar",null,"Fonseca e Assis Advogados Associados","01.971.231/0001-05","-","-",null,"Dedução de Honorários Contratuais","IPCA-e","2018-08-01",3.3932607946000002,13009.97,10262.07,23272.04,1431.09,1128.83,2559.92,0,0,0,11578.88,9133.24,20712.120000000003,13009.97,1431.09,0,9,1431.09,null,null,null,null,null,null,null,null,null,null,null,null,null,null,null,null,null,"Não","Não","Não","-","-","Não informada","Não informada","Não",0,10,8,"2018-08-01","2019-04-01",{"$error":"#REF!"},{"$error":"#REF!"},{"$error":"#REF!"},{"$error":"#REF!"},{"$error":"#REF!"},1,{"$error":"#REF!"},1,{"$error":"#REF!"},0,0,null,null,1,23272.04,1,23272.04,0,0,null,null,0,0,0,0,0,0,0,null,"",0,0,0,0,0,0,0]
[{"$f":"#REF!","v":{"$error":"#REF!"}},6842,"RPV",6842,"2018/0204356-4","2018-08-13",null,"Paga","Paga - ABR/2019 - 6ª remessa","2019-04-01","SIM",null,null,"MS 10.424/DF","2005/0021065-5","2005-02-17","2005-10-27",null,"Administrativo - Servidor Público Civil - Sistema Remuneratório e Benefícios - Gratificações","Ministério do Planejamento, Orçamento e Gestão","UNIÃO",null,"Mandado de Segurança 10.424/DF","2006/0199706-0","2016-02-12",null,"Olivia Monteiro Da Costa ","498.974.202-82","Servidor Público Civil Inativo","Gratificação Específica de Atividade Docente - GEAD","Alimentar",null,"Fonseca e Assis Advogados Associados","01.971.231/0001-05","-","-",null,"Dedução de Honorários Contratuais","IPCA-e","2018-08-01",3.3932607946000002,13009.97,10262.07,23272.04,1431.09,1128.83,2559.92,0,0,0,11578.88,9133.24,20712.120000000003,13009.97,1431.09,0,9,1431.09,null,null,null,null,null,null,null,null,null,null,null,null,null,null,null,null,null,"Não","Não","Não","-","-","Não informada","Não informada","Não",0,10,8,"2018-08-01","2019-04-01",{"$error":"#REF!"},{"$error":"#REF!"},{"$error":"#REF!"},{"$error":"#REF!"},{"$error":"#REF!"},1,{"$error":"#REF!"},1,{"$error":"#REF!"},0,0,null,null,1,23272.04,1,23272.04,0,0,null,null,0,0,0,0,0,0,0,null,"",0,0,0,0,0,0,0]
[{"$f":"#REF!","v":{"$error":"#REF!"}},6875,"RPV",6875,"2018/0204501-7","2018-08-13",null,"Paga","Paga - ABR/2019 - 6ª remessa","2019-04-01","SIM",null,null,"MS 10.424/DF","2005/0021065-5","2005-02-17","2005-10-27",null,"Administrativo - Servidor Público Civil - Sistema Remuneratório e Benefícios - Gratificações","Ministério do Planejamento, Orçamento e Gestão","UNIÃO",null,"Mandado de Segurança 10.424/DF","2006/0199714-8","2016-02-12",null,"Neci Matias Da Silva","080.253.041-91","Servidor Público Civil Inativo","Gratificação Específica de Atividade Docente - GEAD","Alimentar",null,"Fonseca e Assis Advogados Associados","01.971.231/0001-05","-","-",null,"Dedução de Honorários Contratuais","IPCA-e","2018-08-01",3.3932607946000002,13009.97,10262.07,23272.04,1431.09,1128.83,2559.92,0,0,0,11578.88,9133.24,20712.120000000003,13009.97,1431.09,0,9,1431.09,null,null,null,null,null,null,null,null,null,null,null,null,null,null,null,null,null,"Não","Não","Não","-","-","Não informada","Não informada","Não",0,10,8,"2018-08-01","2019-04-01",{"$error":"#REF!"},{"$error":"#REF!"},{"$error":"#REF!"},{"$error":"#REF!"},{"$error":"#REF!"},1,{"$error":"#REF!"},1,{"$error":"#REF!"},0,0,null,null,1,23272.04,1,23272.04,0,0,null,null,0,0,0,0,0,0,0,null,"",0,0,0,0,0,0,0]
[{"$f":"#REF!","v":{"$error":"#REF!"}},6907,"RPV",6907,"2018/0204767-0","2018-08-13",null,"Paga","Paga - ABR/2019 - 7ª remessa","2019-04-01","SIM",null,null,"MS 10.424/DF","2005/0021065-5","2005-02-17","2005-10-27",null,"Administrativo - Servidor Público Civil - Sistema Remuneratório e Benefícios - Gratificações","Ministério do Planejamento, Orçamento e Gestão","UNIÃO",null,"Mandado de Segurança 10.424/DF","2006/0235248-5","2016-02-12",null,"Maria De Lourdes Oliveira Da Silva","564.795.812-53","Servidor Público Civil Inativo","Gratificação Específica de Atividade Docente - GEAD","Alimentar",null,"Fonseca e Assis Advogados Associados","01.971.231/0001-05","-","-",null,"Dedução de Honorários Contratuais","IPCA-e","2018-08-01",3.3932607946000002,5478.46,4321.3,9799.76,602.63,475.34,1077.97,0,0,0,4875.83,3845.96,8721.7900000000009,5478.46,602.63,0,9,602.63,null,null,null,null,null,null,null,null,null,null,null,null,null,null,null,null,null,"Não","Não","Não","-","-","Não informada","Não informada","Não",0,10,8,"2018-08-01","2019-04-01",{"$error":"#REF!"},{"$error":"#REF!"},{"$error":"#REF!"},{"$error":"#REF!"},{"$error":"#REF!"},1,{"$error":"#REF!"},1,{"$error":"#REF!"},0,0,null,null,1,9799.76,1,9799.76,0,0,null,null,0,0,0,0,0,0,0,null,"",0,0,0,0,0,0,0]
[{"$f":"#REF!","v":{"$error":"#REF!"}},6935,"RPV",6935,"2018/0204916-0","2018-08-13",null,"Paga","Paga - ABR/2019 - 7ª remessa","2019-04-01","SIM",null,null,"MS 10.424/DF","2005/0021065-5","2005-02-17","2005-10-27",null,"Administrativo - Servidor Público Civil - Sistema Remuneratório e Benefícios - Gratificações","Ministério do Planejamento, Orçamento e Gestão","UNIÃO",null,"Mandado de Segurança 10.424/DF","2006/0235250-1","2016-02-12",null,"Lendina Dubke Frederico","040.304.512-68","Servidor Público Civil Inativo","Gratificação Específica de Atividade Docente - GEAD","Alimentar",null,"Fonseca e Assis Advogados Associados","01.971.231/0001-05","-","-",null,"Dedução de Honorários Contratuais","IPCA-e","2018-08-01",3.3932607946000002,5478.46,4321.3,9799.76,602.63,475.34,1077.97,0,0,0,4875.83,3845.96,8721.7900000000009,5478.46,602.63,0,9,602.63,null,null,null,null,null,null,null,null,null,null,null,null,null,null,null,null,null,"Não","Não","Não","-","-","Não informada","Não informada","Não",0,10,8,"2018-08-01","2019-04-01",{"$error":"#REF!"},{"$error":"#REF!"},{"$error":"#REF!"},{"$error":"#REF!"},{"$error":"#REF!"},1,{"$error":"#REF!"},1,{"$error":"#REF!"},0,0,null,null,1,9799.76,1,9799.76,0,0,null,null,0,0,0,0,0,0,0,null,"",0,0,0,0,0,0,0]
[{"$f":"#REF!","v":{"$error":"#REF!"}},6962,"RPV",6962,"2018/0205048-0","2018-08-13",null,"Paga","Paga - ABR/2019 - 7ª remessa","2019-04-01","SIM",null,null,"MS 10.424/DF","2005/0021065-5","2005-02-17","2005-10-27",null,"Administrativo - Servidor Público Civil - Sistema Remuneratório e Benefícios - Gratificações","Ministério do Planejamento, Orçamento e Gestão","UNIÃO",null,"Mandado de Segurança 10.424/DF","2006/0235253-7","2016-02-12",null,"Maria Lenida Ferreira","153.609.202-97","Servidor Público Civil Ativo","Gratificação Específica de Atividade Docente - GEAD","Alimentar",null,"Fonseca e Assis Advogados Associados","01.971.231/0001-05","-","-",null,"Dedução de Honorários Contratuais","IPCA-e","2018-08-01",3.3932607946000002,5478.46,4321.3,9799.76,602.63,475.34,1077.97,0,0,0,4875.83,3845.96,8721.7900000000009,5478.46,602.63,1205.26,9,602.63,null,null,null,null,null,null,null,null,null,null,null,null,null,null,null,null,null,"Não","Não","Não","-","-","Não informada","Não informada","Não",0,10,8,"2018-08-01","2019-04-01",{"$error":"#REF!"},{"$error":"#REF!"},{"$error":"#REF!"},{"$error":"#REF!"},{"$error":"#REF!"},1,{"$error":"#REF!"},1,{"$error":"#REF!"},0,0,null,null,1,9799.76,1,9799.76,0,0,null,null,0,0,0,0,0,0,0,null,"",0,0,0,0,0,0,0]
[{"$f":"#REF!","v":{"$error":"#REF!"}},7012,"RPV",7012,"2018/0216238-9","2018-08-23",null,"Paga","Paga - dez/2018 - 1ª remessa","2018-12-01","NÃO",null,null,"AR 1.169/CE","1999/0096834-4","1999-10-18","2004-06-07",null,"Administrativo - Servidor Público Civil - Sistema Remuneratório e Benefícios","Instituto Nacional do Seguro Social - INSS","Instituto Nacional do Seguro Social - INSS",null,"Ação Rescisória 1.169/CE","2009/0056192-0","2014-12-09",null,"Josina Adamir Silva The De Oliveira ","204.374.473-91","Servidor Público Civil Ativo","Anuênios","Alimentar",null,"Glayddes Sindeaux Advogados","17.291.820/0001-82","-","-",null,"Dedução de Honorários Contratuais","IPCA-e","2018-08-01",3.3932607946000002,6466.94,6167.2,12634.14,1293.3800000000001,1233.44,2526.8200000000002,0,0,0,5173.5599999999995,4933.76,10107.32,6466.94,711.36,1422.72,60,711.36,null,null,null,null,null,null,null,null,null,null,null,null,null,null,null,null,null,"Não","Não","Não","-","-","Não informada","Não informada","Não",0,10,8,"2018-08-01","2018-12-01",{"$error":"#REF!"},{"$error":"#REF!"},{"$error":"#REF!"},{"$error":"#REF!"},{"$error":"#REF!"},1,{"$error":"#REF!"},1,{"$error":"#REF!"},0,0,null,null,1,12634.14,1,12634.14,0,0,null,null,0,0,0,0,0,0,0,null,"",0,0,0,0,0,0,0]
[{"$f":"#REF!","v":{"$error":"#REF!"}},7052,"RPV",7052,"2018/0231720-0","2018-09-05",null,"Paga","Paga - ABR/2019 - 8ª remessa","2019-04-01","SIM",null,null,"MS 10.424/DF","2005/0021065-5","2005-02-17","2005-10-27",null,"Administrativo - Servidor Público Civil - Sistema Remuneratório e Benefícios - Gratificações","Ministério do Planejamento, Orçamento e Gestão","UNIÃO",null,"Mandado de Segurança 10.424/DF","2006/0235257-4","2016-02-12",null,"Bernadete Botelho Dos Santos","051.543.322-53","Servidor Público Civil Ativo","Gratificação Específica de Atividade Docente - GEAD","Alimentar",null,"Fonseca e Assis Advogados Associados","01.971.231/0001-05","-","-",null,"Dedução de Honorários Contratuais","IPCA-e","2018-09-01",3.3976720336000001,5485.59,4234.37,9719.9599999999991,603.41,465.78,1069.19,0,0,0,4882.18,3768.59,8650.7699999999986,5485.59,603.41,1206.82,9,603.41,null,null,null,null,null,null,null,null,null,null,null,null,null,null,null,null,null,"Não","Não","Não","-","-","Não informada","Não informada","Não",0,10,9,"2018-09-01","2019-04-01",{"$error":"#REF!"},{"$error":"#REF!"},{"$error":"#REF!"},{"$error":"#REF!"},{"$error":"#REF!"},1,{"$error":"#REF!"},1,{"$error":"#REF!"},0,0,null,null,1,9719.9599999999991,1,9719.9599999999991,0,0,null,null,0,0,0,0,0,0,0,null,"",0,0,0,0,0,0,0]
[{"$f":"#REF!","v":{"$error":"#REF!"}},7084,"RPV",7084,"2018/0232315-3","2018-09-05",null,"Paga","Paga - ABR/2019 - 8ª remessa","2019-04-01","SIM",null,null,"MS 10.424/DF","2005/0021065-5","2005-02-17","2005-10-27",null,"Administrativo - Servidor Público Civil - Sistema Remuneratório e Benefícios - Gratificações","Ministério do Planejamento, Orçamento e Gestão","UNIÃO",null,"Mandado de Segurança 10.424/DF","2006/0235264-0","2016-02-12",null,"Maria Queiroz Corci","468.847.502-00","Servidor Público Civil Ativo","Gratificação Específica de Atividade Docente - GEAD","Alimentar",null,"Fonseca e Assis Advogados Associados","01.971.231/0001-05","-","-",null,"Dedução de Honorários Contratuais","IPCA-e","2018-09-01",3.3976720336000001,5485.59,4234.37,9719.9599999999991,603.41,465.78,1069.19,0,0,0,4882.18,3768.59,8650.7699999999986,5485.59,603.41,1206.82,9,603.41,null,null,null,null,null,null,null,null,null,null,null,null,null,null,null,null,null,"Não","Não","Não","-","-","Não informada","Não informada","Não",0,0,9,"2018-09-01","2019-04-01",{"$error":"#REF!"},{"$error":"#REF!"},{"$error":"#REF!"},{"$error":"#REF!"},{"$error":"#REF!"},1,{"$error":"#REF!"},1,{"$error":"#REF!"},0,0,null,null,1,9719.9599999999991,1,9719.9599999999991,0,0,null,null,0,0,0,0,0,0,0,null,"",0,0,0,0,0,0,0]
[{"$f":"#REF!","v":{"$error":"#REF!"}},7105,"RPV",7105,"2018/0232443-0","2018-09-05",null,"Paga","Paga - ABR/2019 - 8ª remessa","2019-04-01","SIM",null,null,"MS 10.424/DF","2005/0021065-5","2005-02-17","2005-10-27",null,"Administrativo - Servidor Público Civil - Sistema Remuneratório e Benefícios - Gratificações","Ministério do Planejamento, Orçamento e Gestão","UNIÃO",null,"Mandado de Segurança 10.424/DF","2006/0235267-5","2016-02-12",null,"Nadir Augusto Povodeniak","602.354.622-68","Servidor Público Civil Ativo","Gratificação Específica de Atividade Docente - GEAD","Alimentar",null,"Fonseca e Assis Advogados Associados","01.971.231/0001-05","-","-",null,"Dedução de Honorários Contratuais","IPCA-e","2018-09-01",3.3976720336000001,5485.59,4234.37,9719.9599999999991,603.41,465.78,1069.19,0,0,0,4882.18,3768.59,8650.7699999999986,5485.59,603.41,1206.82,9,603.41,null,null,null,null,null,null,null,null,null,null,null,null,null,null,null,null,null,"Não","Não","Não","-","-","Não informada","Não informada","Não",0,6,9,"2018-09-01","2019-04-01",{"$error":"#REF!"},{"$error":"#REF!"},{"$error":"#REF!"},{"$error":"#REF!"},{"$error":"#REF!"},1,{"$error":"#REF!"},1,{"$error":"#REF!"},0,0,null,null,1,9719.9599999999991,1,9719.9599999999991,0,0,null,null,0,0,0,0,0,0,0,null,"",0,0,0,0,0,0,0]
[{"$f":"#REF!","v":{"$error":"#REF!"}},7139,"RPV",7139,"2018/0232617-1","2018-09-05",null,"Paga","Paga - MAI/2019 - 2ª remessa","2019-05-01","SIM",null,null,"MS 10.424/DF","2005/0021065-5","2005-02-17","2005-10-27",null,"Administrativo - Servidor Público Civil - Sistema Remuneratório e Benefícios - Gratificações","-","UNIÃO",null,"Mandado de Segurança 10.424/DF","2006/0235318-0","2016-02-12",null,"Fonseca e Assis Advogados Associados","01.971.231/0001-05","-","Honorários de sucumbência","Alimentar",null,"Tiago Pimentel Souza","033.794.626-40","-","-",null,"X  X  X","IPCA-e","2018-09-01",3.3976720336000001,192.3,0,192.3,0,0,0,0,0,0,192.3,0,192.3,0,0,0,0,0,null,null,null,null,null,null,null,null,null,null,null,null,null,null,null,null,null,"Não","Não","Não","-","-","Não informada","Não informada","Não",0,6,9,"2018-09-01","2019-05-01",{"$error":"#REF!"},{"$error":"#REF!"},{"$error":"#REF!"},{"$error":"#REF!"},{"$error":"#REF!"},1,{"$error":"#REF!"},1,{"$error":"#REF!"},0,0,null,null,1,192.3,1,192.3,0,0,null,null,0,0,0,0,0,0,0,null,"",0,0,0,0,0,0,0]
[{"$f":"#REF!","v":{"$error":"#REF!"}},7171,"RPV",7171,"2018/0238786-8","2018-09-12",null,"Paga","Paga - MAI/2019 - 4ª remessa","2019-05-01","SIM",null,null,"MS 10.424/DF","2005/0021065-5","2005-02-17","2005-10-27",null,"Administrativo - Servidor Público Civil - Sistema Remuneratório e Benefícios - Gratificações","Ministério do Planejamento, Orçamento e Gestão","UNIÃO",null,"Mandado de Segurança 10.424/DF","2006/0235325-6","2016-02-12",null,"Lea Coutinho Evangelista","152.055.922-49","Servidor Público Civil Ativo","Gratificação Específica de Atividade Docente - GEAD","Alimentar",null,"Fonseca e Assis Advogados Associados","01.971.231/0001-05","-","-",null,"Dedução de Honorários Contratuais","IPCA-e","2018-09-01",3.3976720336000001,5485.59,4234.37,9719.9599999999991,603.41,465.78,1069.19,0,0,0,4882.18,3768.59,8650.7699999999986,5485.59,603.41,1206.82,9,603.41,null,null,null,null,null,null,null,null,null,null,null,null,null,null,null,null,null,"Não","Não","Não","-","-","Não informada","Não informada","Não",0,10,9,"2018-09-01","2019-05-01",{"$error":"#REF!"},{"$error":"#REF!"},{"$error":"#REF!"},{"$error":"#REF!"},{"$error":"#REF!"},1,{"$error":"#REF!"},1,{"$error":"#REF!"},0,0,null,null,1,9719.9599999999991,1,9719.9599999999991,0,0,null,null,0,0,0,0,0,0,0,null,"",0,0,0,0,0,0,0]
[{"$f":"#REF!","v":{"$error":"#REF!"}},7198,"RPV",7198,"2018/0238892-0","2018-09-12",null,"Paga","Paga - MAI/2019 - 5ª remessa","2019-05-01","SIM",null,null,"MS 10.424/DF","2005/0021065-5","2005-02-17","2005-10-27",null,"Administrativo - Servidor Público Civil - Sistema Remuneratório e Benefícios - Gratificações","Ministério do Planejamento, Orçamento e Gestão","UNIÃO",null,"Mandado de Segurança 10.424/DF","2006/0235374-9","2016-02-12",null,"Marly Barreto Dos Santos","085.545.102-59","Servidor Público Civil Inativo","Gratificação Específica de Atividade Docente - GEAD","Alimentar",null,"Fonseca e Assis Advogados Associados","01.971.231/0001-05","-","-",null,"Dedução de Honorários Contratuais","IPCA-e","2018-09-01",3.3976720336000001,5485.59,4234.37,9719.9599999999991,603.41,465.78,1069.19,0,0,0,4882.18,3768.59,8650.7699999999986,5485.59,603.41,0,9,603.41,null,null,null,null,null,null,null,null,null,null,null,null,null,null,null,null,null,"Não","Não","Não","-","-","Não informada","Não informada","Não",0,10,9,"2018-09-01","2019-05-01",{"$error":"#REF!"},{"$error":"#REF!"},{"$error":"#REF!"},{"$error":"#REF!"},{"$error":"#REF!"},1,{"$error":"#REF!"},1,{"$error":"#REF!"},0,0,null,null,1,9719.9599999999991,1,9719.9599999999991,0,0,null,null,0,0,0,0,0,0,0,null,"",0,0,0,0,0,0,0]
[{"$f":"#REF!","v":{"$error":"#REF!"}},7230,"RPV",7230,"2018/0239020-1","2018-09-12",null,"Paga","Paga - MAI/2019 - 5ª remessa","2019-05-01","SIM",null,null,"MS 10.424/DF","2005/0021065-5","2005-02-17","2005-10-27",null,"Administrativo - Servidor Público Civil - Sistema Remuneratório e Benefícios - Gratificações","-","UNIÃO",null,"Mandado de Segurança 10.424/DF","2006/0235375-0","2016-02-12",null,"Fonseca e Assis Advogados Associados","01.971.231/0001-05","-","Honorários de sucumbência","Alimentar",null,"Tiago Pimentel Souza","033.794.626-40","-","-",null,"X  X  X","IPCA-e","2018-09-01",3.3976720336000001,192.3,0,192.3,0,0,0,0,0,0,192.3,0,192.3,0,0,0,0,0,null,null,null,null,null,null,null,null,null,null,null,null,null,null,null,null,null,"Não","Não","Não","-","-","Não informada","Não informada","Não",0,10,9,"2018-09-01","2019-05-01",{"$error":"#REF!"},{"$error":"#REF!"},{"$error":"#REF!"},{"$error":"#REF!"},{"$error":"#REF!"},1,{"$error":"#REF!"},1,{"$error":"#REF!"},0,0,null,null,1,192.3,1,192.3,0,0,null,null,0,0,0,0,0,0,0,null,"",0,0,0,0,0,0,0]
[{"$f":"#REF!","v":{"$error":"#REF!"}},7258,"RPV",7258,"2018/0239137-3","2018-09-12",null,"Paga","Paga - MAI/2019 - 5ª remessa","2019-05-01","SIM",null,null,"MS 10.424/DF","2005/0021065-5","2005-02-17","2005-10-27",null,"Administrativo - Servidor Público Civil - Sistema Remuneratório e Benefícios - Gratificações","Ministério do Planejamento, Orçamento e Gestão","UNIÃO",null,"Mandado de Segurança 10.424/DF","2006/0235322-0","2016-02-12",null,"Odorisa Barroso Brito","052.136.812-04","Servidor Público Civil Ativo","Gratificação Específica de Atividade Docente - GEAD","Alimentar",null,"Fonseca e Assis Advogados Associados","01.971.231/0001-05","-","-",null,"Dedução de Honorários Contratuais","IPCA-e","2018-09-01",3.3976720336000001,5485.59,4234.37,9719.9599999999991,603.41,465.78,1069.19,0,0,0,4882.18,3768.59,8650.7699999999986,5485.59,603.41,1206.82,9,603.41,null,null,null,null,null,null,null,null,null,null,null,null,null,null,null,null,null,"Não","Não","Não","-","-","Não informada","Não informada","Não",0,10,9,"2018-09-01","2019-05-01",{"$error":"#REF!"},{"$error":"#REF!"},{"$error":"#REF!"},{"$error":"#REF!"},{"$error":"#REF!"},1,{"$error":"#REF!"},1,{"$error":"#REF!"},0,0,null,null,1,9719.9599999999991,1,9719.9599999999991,0,0,null,null,0,0,0,0,0,0,0,null,"",0,0,0,0,0,0,0]
[{"$f":"#REF!","v":{"$error":"#REF!"}},7291,"RPV",7291,"2018/0239799-1","2018-09-13",null,"Paga","Paga - MAI/2019 - 6ª remessa","2019-05-01","SIM",null,null,"MS 10.424/DF","2005/0021065-5","2005-02-17","2005-10-27",null,"Administrativo - Servidor Público Civil - Sistema Remuneratório e Benefícios - Gratificações","Ministério do Planejamento, Orçamento e Gestão","UNIÃO",null,"Mandado de Segurança 10.424/DF","2006/0235329-3","2016-02-12",null,"Maria Marques Lenk","051.764.092-91","Servidor Público Civil Inativo","Gratificação Específica de Atividade Docente - GEAD","Alimentar",null,"Fonseca e Assis Advogados Associados","01.971.231/0001-05","-","-",null,"Dedução de Honorários Contratuais","IPCA-e","2018-09-01",3.3976720336000001,5485.59,4234.37,9719.9599999999991,603.41,465.78,1069.19,0,0,0,4882.18,3768.59,8650.7699999999986,5485.59,603.41,0,9,603.41,null,null,null,null,null,null,null,null,null,null,null,null,null,null,null,null,null,"Não","Não","Não","-","-","Não informada","Não informada","Não",0,10,9,"2018-09-01","2019-05-01",{"$error":"#REF!"},{"$error":"#REF!"},{"$error":"#REF!"},{"$error":"#REF!"},{"$error":"#REF!"},1,{"$error":"#REF!"},1,{"$error":"#REF!"},0,0,null,null,1,9719.9599999999991,1,9719.9599999999991,0,0,null,null,0,0,0,0,0,0,0,null,"",0,0,0,0,0,0,0]
[{"$f":"#REF!","v":{"$error":"#REF!"}},7317,"RPV",7317,"2018/0239913-0","2018-09-13",null,"Paga","Paga - MAI/2019 - 6ª remessa","2019-05-01","SIM",null,null,"MS 10.424/DF","2005/0021065-5","2005-02-17","2005-10-27",null,"Administrativo - Servidor Público Civil - Sistema Remuneratório e Benefícios - Gratificações","Ministério do Planejamento, Orçamento e Gestão","UNIÃO",null,"Mandado de Segurança 10.424/DF","2006/0235330-8","2016-02-12",null,"Delmira Chaustz E Schaustz","485.868.382-68","Servidor Público Civil Ativo","Gratificação Específica de Atividade Docente - GEAD","Alimentar",null,"Fonseca e Assis Advogados Associados","01.971.231/0001-05","-","-",null,"Dedução de Honorários Contratuais","IPCA-e","2018-09-01",3.3976720336000001,5485.59,4234.37,9719.9599999999991,603.41,465.78,1069.19,0,0,0,4882.18,3768.59,8650.7699999999986,5485.59,603.41,1206.82,9,603.41,null,null,null,null,null,null,null,null,null,null,null,null,null,null,null,null,null,"Não","Não","Não","-","-","Não informada","Não informada","Não",0,11,9,"2018-09-01","2019-05-01",{"$error":"#REF!"},{"$error":"#REF!"},{"$error":"#REF!"},{"$error":"#REF!"},{"$error":"#REF!"},1,{"$error":"#REF!"},1,{"$error":"#REF!"},0,0,null,null,1,9719.9599999999991,1,9719.9599999999991,0,0,null,null,0,0,0,0,0,0,0,null,"",0,0,0,0,0,0,0]
[{"$f":"#REF!","v":{"$error":"#REF!"}},7338,"RPV",7338,"2018/0239995-0","2018-09-13",null,"Aguardando pagamento","sem verba para pgto",null,null,null,null,"MS 10.424/DF","2005/0021065-5","2005-02-17","2005-10-27",null,"Administrativo - Servidor Público Civil - Sistema Remuneratório e Benefícios - Gratificações","Ministério do Planejamento, Orçamento e Gestão","UNIÃO",null,"Mandado de Segurança 10.424/DF","2006/0180797-9","2017-05-11",null,"Vera Lúcia Gomes Belém","040.496.242-49","Servidor Público Civil Ativo","Gratificação Específica de Atividade Docente - GEAD","Alimentar",null,"Fonseca e Assis Advogados Associados","01.971.231/0001-05","-","-",null,"Dedução de Honorários Contratuais","IPCA-e","2018-09-01",3.3976720336000001,7437.5,5903.08,13340.58,818.12,649.34,1467.46,0,0,0,6619.38,5253.74,11873.119999999999,7437.5,818.12,1636.24,9,818.12,null,null,null,null,null,null,null,null,null,null,null,null,null,null,null,null,null,"Não","Não","Não","-","-","Não informada","Não informada","Não",0,10,9,"","","",0,0,0,0,0,0,0,0,0,0,null,null,1,{"$f":"IF(CX1941=1,AR1941,0)","v":13340.58},1,13340.58,0,0,null,null,0,{"$f":"IF(DF1941=0,0,CO1941)","v":0},0,0,0,0,0,null,"2020-01-03",{"$f":"IF(AN1941=\"\",0,IF(DN1941=\"\",0,AR1941*(1/VLOOKUP(AN1941,indice,3)*DN$10)))","v":{"$error":"#REF!"}},1,{"$error":"#REF!"},{"$error":"#REF!"},{"$error":"#REF!"},{"$error":"#REF!"},0]
[{"$f":"#REF!","v":{"$error":"#REF!"}},7372,"RPV",7372,"2018/0271407-2","2018-10-10",null,"Paga","Paga - MAR/2019 - 1ª remessa","2019-03-01","NÃO",null,null,"AR 1.169/CE","1999/0096834-4","1999-10-18","2004-06-07",null,"Administrativo - Servidor Público Civil - Sistema Remuneratório e Benefícios","Instituto Nacional do Seguro Social - INSS","Instituto Nacional do Seguro Social - INSS",null,"Ação Rescisória 1.169/CE","2009/0056446-8","2014-10-17",null,"Airton Braz Sabino ","528.043.998-34","Servidor Público Civil Ativo","Anuênios","Alimentar",null,"Glayddes Sindeaux Advogados","17.291.820/0001-82","-","-",null,"Dedução de Honorários Contratuais","IPCA-e","2018-10-01",3.4007299385,8322.26,8622.56,16944.82,1664.45,1724.51,3388.96,0,0,0,6657.81,6898.0499999999993,13555.86,5882.16,647.03,1294.06,47,647.03,null,null,null,null,null,null,null,null,null,null,null,null,null,null,null,null,null,"Não","Não","Não","-","-","Não informada","Não informada","Não",0,0,10,"2018-10-01","2019-03-01",{"$error":"#REF!"},{"$error":"#REF!"},{"$error":"#REF!"},{"$error":"#REF!"},{"$error":"#REF!"},1,{"$error":"#REF!"},1,{"$error":"#REF!"},0,0,null,null,1,16944.82,1,16944.82,0,0,null,null,0,0,0,0,0,0,0,null,"",0,0,0,0,0,0,0]
[{"$f":"#REF!","v":{"$error":"#REF!"}},7405,"RPV",7405,"2018/0292804-0","2018-10-30",null,"Paga","Paga - MAR/2019 - 1ª remessa","2019-03-01","NÃO",null,null,"MS 6.864/DF","2000/0024867-3","2000-04-04","2006-05-03",null,"Administrativo - Servidor Público Civil - Sistema Remuneratório e Benefícios","Ministério do Planejamento, Orçamento e Gestão","Instituto Nacional do Seguro Social - INSS",null,"Mandado de Segurança 6.864/DF","2007/0257965-0","2014-09-24",null,"Marlene Theresinha Cezar Andriotti","484.780.320-53","Pensionista Civil","Reajuste  3,17% - Lei 8.880/94","Alimentar",null,"Mota & Advogados Associados","03.996.810/0001-38","-","-",null,"Dedução de Honorários Contratuais","IPCA-e","2015-03-01",2.7727708322354001,18428.439999999999,27790.11,46218.55,1105.7,1667.41,2773.11,0,0,0,17322.739999999998,26122.7,43445.440000000002,0,0,0,47,0,null,null,null,null,null,null,null,null,null,null,null,null,null,null,null,null,null,"Não","Não","Não","-","-","Não informada","Não informada","Não",0,10,10,"2015-03-01","2019-03-01",{"$error":"#REF!"},{"$error":"#REF!"},{"$error":"#REF!"},{"$error":"#REF!"},{"$error":"#REF!"},1,{"$error":"#REF!"},1,{"$error":"#REF!"},0,0,null,null,1,46218.55,1,46218.55,0,0,null,null,0,0,0,0,0,0,0,null,"",0,0,0,0,0,0,0]
[{"$f":"#REF!","v":{"$error":"#REF!"}},7432,"RPV",7432,"2018/0318593-0","2018-11-26",null,"paga","Paga - ABR/2019 - 1ª remessa","2019-05-01","NÃO",null,null,"AR 1.169/CE","1999/0096834-4","1999-10-18","2004-06-07",null,"Administrativo - Servidor Público Civil - Sistema Remuneratório e Benefícios","Instituto Nacional do Seguro Social - INSS","Instituto Nacional do Seguro Social - INSS",null,"Ação Rescisória 1.169/CE","2009/0056490-1","2014-09-30",null,"Maria Das Graças Magalhães ","220.105.303-06","Servidor Público Civil Ativo","Anuênios","Alimentar",null,"Glayddes Sindeaux Advogados","17.291.820/0001-82","-","-",null,"Dedução de Honorários Contratuais","IPCA-e","2018-11-01",3.4204541720999999,1693.68,1744.14,3437.82,169.36,174.42,343.78,0,0,0,1524.32,1569.72,3094.04,1693.68,186.3,372.6,47,186.3,null,null,null,null,null,null,null,null,null,null,null,null,null,null,null,null,null,"Não","Não","Não","-","-","Não informada","Não informada","Não",0,10,11,"2018-11-01","2019-05-01",{"$error":"#REF!"},{"$error":"#REF!"},{"$error":"#REF!"},{"$error":"#REF!"},{"$error":"#REF!"},1,{"$error":"#REF!"},1,{"$error":"#REF!"},0,0,null,null,1,3437.82,1,3437.82,0,0,null,null,0,0,0,0,0,0,0,null,"",0,0,0,0,0,0,0]
[{"$f":"#REF!","v":{"$error":"#REF!"}},7465,"RPV",7465,"2018/0320336-1","2018-11-27",null,"Paga","Paga - JUL/2019 - 1ª remessa","2019-06-01","NÃO",null,null,"MS 7.868/DF","2001/0102715-3","2001-08-17","2002-08-23",null,"Administrativo - Servidor Público Civil - Reajustes de Remuneração, Proventos ou Pensão","IBAMA","UNIÃO",null,"Mandado de Segurança 7.868/DF","2005/0131273-0","2012-03-20",null,"Luis Antonio Gonçalves de Lima","029.496.428-29","Servidor Público Civil Ativo","Reajuste  3,17% - Lei 8.880/94","Alimentar",null,"Mariana Prado Garcia de Queiroz Velho","876.057.161-68","-","-",null,"Dedução de Honorários Contratuais","IPCA-e","2014-10-01",2.6679860180390902,747.67,535.1,1282.77,0,0,0,0,0,0,747.67,535.1,1282.77,747.67,82.24,164.48,6,82.24,null,null,null,null,null,null,null,null,null,null,null,null,null,null,null,null,null,"Não","Não","Não","-","-","Não informada","Não informada","Não",0,10,11,"2014-10-01","2019-06-01",{"$error":"#REF!"},{"$error":"#REF!"},{"$error":"#REF!"},{"$error":"#REF!"},{"$error":"#REF!"},1,{"$error":"#REF!"},1,{"$error":"#REF!"},0,0,null,null,1,1282.77,1,1282.77,0,0,null,null,0,0,0,0,0,0,0,null,"",0,0,0,0,0,0,0]
[{"$f":"#REF!","v":{"$error":"#REF!"}},7494,"RPV",7494,"2019/0060144-5","2019-02-27",null,"Paga","Paga - JUN/2019 - 1ª remessa","2019-06-01","NÃO",null,null,"AR 5.280/SC","2013/0352413-8","2013-10-07","2018-05-16",null,"Previdenciário - Benefícios em Espécie - Aposentadoria por Tempo de Serviço (Art. 52/4)","-","Instituto Nacional do Seguro Social - INSS",null,"Ação Rescisória 5.280/SC","2018/0130847-0","2018-12-18",null,"Isleb & Pinto Advogados","04.688.146/0001-22","-","Honorários de Sucumbência","Alimentar",null,"Richart José Jennrich","006.585.859-08",null,null,null,"Não há destaque de Honorários","IPCA-e","2018-03-01",3.3197071525999999,2000,0,2000,0,0,0,0,0,0,2000,0,2000,0,0,0,0,0,null,"","","",null,null,null,null,null,null,null,null,null,null,null,null,null,"Não","Não","Não","-","-","Não informada","Não informada","Não",0,10,2,"2018-03-01","2019-06-01",{"$error":"#REF!"},{"$error":"#REF!"},{"$error":"#REF!"},{"$error":"#REF!"},{"$error":"#REF!"},1,{"$error":"#REF!"},1,{"$error":"#REF!"},0,0,null,null,1,2000,1,2000,0,0,null,null,0,0,0,0,0,0,0,null,"",0,0,0,0,0,0,0]
[{"$f":"#REF!","v":{"$error":"#REF!"}},7527,"RPV",7527,"2019/0081402-2","2019-03-22",null,"Paga","Paga - SET/2019 - 2ª remessa","2019-09-01","SIM",null,null,"MS 4.149/DF","1995/0038042-0","1995-07-20","1998-09-23",null,"Administrativo - Servidor Público Civil - Sistema Remuneratório e Benefícios","INCRA","UNIÃO",null,"Mandado de Segurança 4.149/DF","2008/0066521-8","2014-09-26",null,"Lucimar Vasconcelos Costa","116.740.751-20","Servidor Público Civil Ativo","Diferença de remuneração - 3,17%","Alimentar",null,"Josilma Saraiva - Advocacia E Consultoria - Sociedade Individual De Advocacia","09.384.741/0001-98",null,null,null,"Dedução de Honorários Contratuais","IPCA-e","2019-03-01",3.4434022166,3779.78,9165.5300000000007,12945.31,377.97,916.56,1294.53,0,0,0,3401.81,8248.9699999999993,11650.78,3779.78,415.77,831.54,85,415.77,"Decisão de fls 635/636 da ExeMS 4.149/DF - Registro 2008/0066521-8",209.69,508.46,718.15,20.96,50.85,71.81,0,0,0,188.73,457.61,646.34,209.69,23.06,46.12,23.06,"Não","Não","Não","-","-","Não informada","Não informada","Não",0,10,4,"2016-02-01","2018-08-01",1.1197963220671154,6059.13,673.23,0,6732.3600000000006,1,6732.3600000000006,1,6732.3600000000006,0,0,null,null,1,6012.14,1,6012.14,0,0,null,null,0,0,0,0,0,0,0,null,"",0,0,0,0,0,0,0]
[{"$f":"#REF!","v":{"$error":"#REF!"}},7553,"RPV",7553,"2019/0115264-5","2019-04-24",null,"Paga","Paga - ago/2019 - 1ª Remessa","2019-08-01","NÃO",null,null,"AR 1.169/CE","1999/0096834-4","1999-10-18","2004-06-07",null,"Administrativo - Servidor Público Civil - Sistema Remuneratório e Benefícios","Instituto Nacional do Seguro Social - INSS","Instituto Nacional do Seguro Social - INSS",null,"Ação Rescisória 1.169/CE","2009/0055389-1","2014-09-30",null,"Luiz Carlos Pereira De Sousa ","073.063.423-04","Servidor Público Civil Ativo","Anuênios","Alimentar",null,"Glayddes Sindeaux Advogados","17.291.820/0001-82",null,null,null,"Dedução de Honorários Contratuais","IPCA-e","2019-04-01",3.4619965885999999,2000.74,2147.5300000000002,4148.2700000000004,200.07,214.75,414.82,0,0,0,1800.67,1932.78,3733.45,2000.74,220.08,440.16,47,220.08,null,0,0,0,0,0,0,null,null,null,0,0,0,null,null,null,null,"Não","Não","Não","-","-","Não informada","Não informada","Não",0,20,5,"","","",0,0,0,0,0,0,0,0,0,0,null,null,1,11670.02,1,11670.02,0,0,null,null,0,0,0,0,0,0,0,null,"",0,0,0,0,0,0,0]
[{"$f":"#REF!","v":{"$error":"#REF!"}},7604,"RPV",7604,"2019/0115628-1","2019-04-24",null,"paga","Paga - OUT/2019 - 3ª remessa","2019-10-01","SIM",null,null,"MS 4.149/DF","1995/0038042-0","1995-07-20","1998-09-23",null,"Administrativo - Servidor Público Civil - Sistema Remuneratório e Benefícios","INCRA","UNIÃO",null,"Mandado de Segurança 4.149/DF","2008/0231901-4","2014-09-26",null,"Maria das Graças de Oliveira Petry","120.222.501-25","Servidor Público Civil Ativo","Diferença de remuneração - 3,17%","Alimentar",null,"Josilma Saraiva - Advocacia E Consultoria - Sociedade Individual De Advocacia","09.384.741/0001-98",null,null,null,"Dedução de Honorários Contratuais","IPCA-e","2019-04-01",3.4619965885999999,1539.42,6391.73,7931.15,153.94,639.16999999999996,793.11,0,0,0,1385.48,5752.56,7138.04,1539.42,169.33,338.66,66,169.33,"Despacho/Decisão de fls 805/807 da ExeMS 4.149/DF - Registro 2008/0231901-4",131.91999999999999,547.73,679.65,13.19,54.77,67.959999999999994,0,0,0,118.73,492.96,611.69000000000005,131.91999999999999,14.51,29.02,14.51,"Não","Não","Não","-","-","Não informada","Não informada","Não",0,11,4,"2019-04-01","2019-10-01",{"$error":"#REF!"},{"$error":"#REF!"},{"$error":"#REF!"},{"$error":"#REF!"},{"$error":"#REF!"},1,{"$error":"#REF!"},1,{"$error":"#REF!"},0,0,null,null,1,7931.15,1,7931.15,0,0,null,null,0,0,0,0,0,0,0,null,"",0,0,0,0,0,0,0]
[{"$f":"#REF!","v":{"$error":"#REF!"}},7608,"RPV",7608,"2019/0147578-1","2019-05-23",null,"paga","Paga - OUT/2019 - 2ª remessa","2019-10-01","NÃO",null,null,"AR 1.169/CE","1999/0096834-4","1999-10-18","2004-06-07",null,"Administrativo - Servidor Público Civil - Sistema Remuneratório e Benefícios","Instituto Nacional do Seguro Social - INSS","Instituto Nacional do Seguro Social - INSS",null,"Ação Rescisória 1.169/CE","2009/0055229-8","2014-09-30",null,"Edivaldo Rodrigues De Oliveira ","263.701.823-20","Servidor Público Civil Ativo","Anuênios","Alimentar",null,"Glayddes Sindeaux Advogados","17.291.820/0001-82",null,null,null,"Dedução de Honorários Contratuais","IPCA-e","2019-05-01",3.4869229640000001,1801.61,1940.48,3742.09,360.32,388.09,748.41,0,0,0,1441.29,1552.39,2993.68,1801.61,198.17,396.34,47,198.17,null,null,null,null,null,null,null,null,null,null,null,null,null,null,null,null,null,"Não","Não","Não","-","-","Não informada","Não Informada","Não",0,11,5,"2019-05-01","2019-10-01",{"$error":"#REF!"},{"$error":"#REF!"},{"$error":"#REF!"},{"$error":"#REF!"},{"$error":"#REF!"},1,{"$error":"#REF!"},1,{"$error":"#REF!"},0,0,null,null,1,3742.09,1,3742.09,0,0,null,null,0,0,0,0,0,0,0,null,"",0,0,0,0,0,0,0]
[{"$f":"#REF!","v":{"$error":"#REF!"}},7640,"RPV",7640,"2019/0148015-7","2019-05-23",null,"paga","Paga - OUT/2019 - 2ª remessa","2019-10-01","NÃO",null,null,"AR 1.169/CE","1999/0096834-4","1999-10-18","2004-06-07",null,"Administrativo - Servidor Público Civil - Sistema Remuneratório e Benefícios","Instituto Nacional do Seguro Social - INSS","Instituto Nacional do Seguro Social - INSS",null,"Ação Rescisória 1.169/CE","2009/0056156-4","2014-10-17",null,"Jefferson De Vasconcelos Silva ","243.310.823-34","Servidor Público Civil Ativo","Anuênios","Alimentar",null,"Glayddes Sindeaux Advogados","17.291.820/0001-82",null,null,null,"Dedução de Honorários Contratuais","IPCA-e","2019-05-01",3.4869229640000001,733.25,789.76,1523.01,73.319999999999993,78.98,152.30000000000001,0,0,0,659.93,710.78,1370.71,733.25,80.650000000000006,161.30000000000001,37,80.650000000000006,null,null,null,null,null,null,null,null,null,null,null,null,null,null,null,null,null,"Não","Não","Não","-","-","Não informada","Não Informada","Não",0,0,5,"2019-05-01","2019-10-01",{"$error":"#REF!"},{"$error":"#REF!"},{"$error":"#REF!"},{"$error":"#REF!"},{"$error":"#REF!"},1,{"$error":"#REF!"},1,{"$error":"#REF!"},0,0,null,null,1,1523.01,1,1523.01,0,0,null,null,0,0,0,0,0,0,0,null,"",0,0,0,0,0,0,0]
[{"$f":"#REF!","v":{"$error":"#REF!"}},7697,"RPV",7697,"2019/0149137-8","2019-05-24",null,"paga","Paga - OUT/2019 - 3ª remessa","2019-10-01","SIM",null,null,"MS 4.149/DF","1995/0038042-0","1995-07-20","1998-09-23",null,"Administrativo - Servidor Público Civil - Sistema Remuneratório e Benefícios","INCRA","UNIÃO",null,"Mandado de Segurança 4.149/DF","2009/0031543-1","2014-09-26",null,"Espólio de José Maria Gomes","096.865.501-78","Servidor Público Civil Ativo","Diferença de remuneração - 3,17%","Alimentar",null,"Josilma Saraiva - Advocacia E Consultoria - Sociedade Individual De Advocacia","09.384.741/0001-98",null,null,null,"Dedução de Honorários Contratuais","IPCA-e","2019-05-01",3.4869229640000001,352.08,5067.4399999999996,5419.52,35.200000000000003,506.75,541.95000000000005,0,0,0,316.88,4560.6899999999996,4877.57,352.08,38.72,77.44,59,38.72,"Decisão de fls. 390/392 da ExeMS 4.419/DF - Registro 2009/0031543-1",135.38,1948.51,2083.89,13.53,194.85,208.38,0,0,0,121.85,1753.66,1875.51,135.38,14.89,29.78,14.89,"Não","Não","Não","-","-","Não informada","Não Informada","Não",0,11,5,"2019-05-01","2019-10-01",{"$error":"#REF!"},{"$error":"#REF!"},{"$error":"#REF!"},{"$error":"#REF!"},{"$error":"#REF!"},1,{"$error":"#REF!"},1,{"$error":"#REF!"},0,0,null,null,1,5419.52,1,5419.52,0,0,null,null,0,0,0,0,0,0,0,null,"",0,0,0,0,0,0,{"$f":"IF(AND(B2298=\"\",B2297>0),B2297,0)","v":0}]
[{"$f":"#REF!","v":{"$error":"#REF!"}},7730,"RPV",7730,"2019/0149360-4","2019-05-24",null,"Paga","Paga - NOV/2019 - 2ª remessa","2019-11-01","SIM",null,null,"MS 4.149/DF","1995/0038042-0","1995-07-20","1998-09-23",null,"Administrativo - Servidor Público Civil - Sistema Remuneratório e Benefícios","INCRA","UNIÃO",null,"Mandado de Segurança 4.149/DF","2008/0048534-6","2014-09-26",null,"Emilson Roloff","233.322.719-20","Servidor Público Civil Ativo","Diferença de remuneração - 3,17%","Alimentar",null,"Josilma Saraiva - Advocacia E Consultoria - Sociedade Individual De Advocacia","09.384.741/0001-98",null,null,null,"Dedução de Honorários Contratuais","IPCA-e","2019-05-01",3.4869229640000001,13195.04,26906.61,40101.65,1319.5,2690.66,4010.16,0,0,0,11875.54,24215.95,36091.49,13195.04,1451.45,2902.9,85,1451.45,"Decisão de fls. 500/502 da ExeMS 4.419/DF - Registro 2008/0048534-6",5073.68,10345.99,15419.67,507.36,1034.5999999999999,1541.96,0,0,0,4566.32,9311.39,13877.71,5073.68,558.1,1116.2,558.1,"Não","Não","Não","-","-","Não informada","Não Informada","Não",0,11,5,"2019-05-01","2019-11-01",{"$error":"#REF!"},{"$error":"#REF!"},{"$error":"#REF!"},{"$error":"#REF!"},{"$error":"#REF!"},1,{"$error":"#REF!"},1,{"$error":"#REF!"},0,0,null,null,1,40101.65,1,40101.65,0,0,null,null,0,0,0,0,0,0,0,null,"",0,0,0,0,0,0,0]
[{"$f":"#REF!","v":{"$error":"#REF!"}},7758,"RPV",7758,"2019/0175157-0","2019-06-14",null,"Aguardando pagamento","sem verba para pgto",null,null,null,null,"MS 6.864/DF","2000/0024867-3","2000-04-04","2006-05-03",null,"Administrativo - Servidor Público Civil - Sistema Remuneratório e Benefícios","Ministério do Planejamento, Orçamento e Gestão","Instituto Nacional do Seguro Social - INSS",null,"Mandado de Segurança 6.864/DF","2007/0151050-7","2015-03-31",null,"Denise Paschoetti Nunes","679.405.878-20","Servidor Público Civil Inativo","Reajuste  3,17% - Lei 8.880/94","Alimentar",null,"Mota & Advogados Associados","03.996.810/0001-38",null,null,null,"Dedução de Honorários Contratuais","IPCA-e","2019-06-01",3.4991271944000002,12418.06,25775.38,38193.440000000002,745.08,1546.52,2291.6,0,0,0,11672.98,24228.86,35901.839999999997,0,0,0,47,0,null,null,null,null,null,null,null,null,null,null,null,null,null,null,null,null,null,"Não","Não","Não","-","-","Não informada","Não Informada","Não",0,10,6,"","","",0,0,0,0,0,0,0,0,0,0,null,null,1,38193.440000000002,1,38193.440000000002,0,0,null,null,{"$f":"IF(J2358=DK$7,1/AO2358*DF$10,0)","v":0},0,{"$f":"IF(DF2358=0,0,1)","v":0},0,0,0,0,null,"2020-01-03",{"$error":"#REF!"},1,{"$error":"#REF!"},{"$error":"#REF!"},{"$error":"#REF!"},{"$error":"#REF!"},0]
[{"$f":"#REF!","v":{"$error":"#REF!"}},7790,"RPV",7790,"2019/0188175-6","2019-06-28",null,"Aguardando Pagamento","sem verba para pgto",null,null,null,null,"AR 1.169/CE","1999/0096834-4","1999-10-18","2004-06-07",null,"Administrativo - Servidor Público Civil - Sistema Remuneratório e Benefícios","Instituto Nacional do Seguro Social - INSS","Instituto Nacional do Seguro Social - INSS",null,"Ação Rescisória 1.169/CE","2009/0057594-4","2014-09-30",null,"Heldiso Melo Cesídio Gomes ","256.565.543-68","Servidor Público Civil Ativo","Anuênios","Alimentar",null,"Glayddes Sindeaux Advogados","17.291.820/0001-82",null,null,null,"Dedução de Honorários Contratuais","IPCA-e","2019-06-01",3.4991271944000002,1341.13,1530.97,2872.1,134.11000000000001,153.1,287.20999999999998,0,0,0,1207.02,1377.87,2584.89,1341.13,147.52000000000001,295.04000000000002,47,147.52000000000001,null,null,null,null,null,null,null,null,null,null,null,null,null,null,null,null,null,"Não","Não","Não","-","-","Não informada","Não Informada","Não",0,11,6,"","","",0,0,0,0,0,0,0,0,0,0,null,null,1,2872.1,1,2872.1,0,0,null,null,0,0,0,0,0,0,0,null,"2020-01-03",{"$error":"#REF!"},1,{"$error":"#REF!"},{"$error":"#REF!"},{"$error":"#REF!"},{"$error":"#REF!"},0]
[{"$f":"#REF!","v":{"$error":"#REF!"}},7817,"RPV",7817,"2019/0188331-1","2019-06-28",null,"Aguardando pagamento","sem verba para pgto",null,null,null,null,"MS 10.424/DF","2005/0021065-5","2005-02-17","2005-10-27",null,"Administrativo - Servidor Público Civil - Sistema Remuneratório e Benefícios - Gratificações","Ministério do Planejamento, Orçamento e Gestão","UNIÃO",null,"Mandado de Segurança 10.424/DF","2006/0235411-6","2016-02-12",null,"Marly Siqueira Da Silva ","312.346.662-00","Servidor Público Civil Ativo","Gratificação Específica de Atividade Docente - GEAD","Alimentar",null,"Fonseca e Assis Advogados Associados","01.971.231/0001-05",null,null,null,"Dedução de Honorários Contratuais","IPCA-e","2019-06-01",3.4991271944000002,5649.37,4549.68,10199.049999999999,621.42999999999995,500.46,1121.8900000000001,0,0,0,5027.9399999999996,4049.22,9077.16,5649.37,621.42999999999995,1242.8599999999999,9,621.42999999999995,"Decisão de fls. 278/279 da ExeMS 10.424/DF - Registro 2006/0235411-6",2184.41,1759.21,3943.62,240.28,193.51,433.79,0,0,0,1944.13,1565.7,3509.83,2184.41,240.28,480.56,240.28,"Não","Não","Não","-","-","Não informada","Não Informada","Não",0,11,6,"","","",0,0,0,0,0,0,0,0,0,0,null,null,1,10199.049999999999,1,10199.049999999999,0,0,null,null,0,0,0,0,0,0,0,null,"2020-01-03",{"$error":"#REF!"},1,{"$error":"#REF!"},{"$error":"#REF!"},{"$error":"#REF!"},{"$error":"#REF!"},0]
[{"$f":"#REF!","v":{"$error":"#REF!"}},{"$f":"IF(D2445=\"\",\"\",D2445)","v":7845},"RPV",7845,"2019/0189453-2","2019-07-01",null,"Paga","Paga - NOV/2019 - 4ª remessa","2019-11-01","SIM",null,null,"MS 6.377/DF","1999/0047589-5","1999-05-31","2001-08-03",null,"Administrativo - Servidor Público Civil - Aposentadoria","Ministério da Agricultura","UNIÃO",null,"Mandado de Segurança 6.377/DF","2005/0148887-5","2019-03-20",null,"Yedda Nepomuceno Mayer  ","239.888.001-04","Servidor Público Civil Inativo","Diferença de proventos por enquadramento","Alimentar",null,"Marcello Lavenère Machado Advocacia S/C","04.480.253/0001-60",null,null,null,"Dedução de Honorários Contratuais","IPCA-e","2019-06-01",3.4991271944000002,21419.93,26232.14,47652.07,2570.39,3147.85,5718.24,0,0,0,18849.54,23084.29,41933.83,0,0,0,31,0,"Decisão de fls. 1121/1131 dos embargos Registro 2005/0148888-7",8282.27,10142.969999999999,18425.240000000002,993.87,1217.1500000000001,2211.02,0,0,0,7288.4,8925.82,16214.22,0,0,0,0,"Não","Não","Não","-","-","Não informada","Não Informada","Não",0,11,7,"2019-06-01","2019-11-01",{"$error":"#REF!"},{"$error":"#REF!"},{"$error":"#REF!"},{"$error":"#REF!"},{"$error":"#REF!"},1,{"$error":"#REF!"},1,{"$error":"#REF!"},0,0,null,null,1,47652.07,1,47652.07,0,0,null,null,0,0,0,0,0,0,0,null,"",0,0,0,0,0,0,0]
[{"$f":"#REF!","v":{"$error":"#REF!"}},7869,"RPV",7869,"2019/0189594-6","2019-07-01",null,"Aguardando pagamento","sem verba para pgto",null,null,null,null,"MS 4.149/DF","1995/0038042-0","1995-07-20","1998-09-23",null,"Administrativo - Servidor Público Civil - Sistema Remuneratório e Benefícios","INCRA","UNIÃO",null,"Mandado de Segurança 4.149/DF","2008/0092086-1","2014-09-26",null,"Enoque Daniel de Souza","008.380.391-20","Servidor Público Civil Inativo","Diferença de remuneração - 3,17%","Alimentar",null,"Josilma Saraiva - Advocacia E Consultoria - Sociedade Individual De Advocacia","09.384.741/0001-98",null,null,null,"Dedução de Honorários Contratuais","IPCA-e","2019-06-01",3.4991271944000002,10115.75,17869.59,27985.34,1011.57,1786.96,2798.53,0,0,0,9104.18,16082.63,25186.81,0,0,0,85,0,"Decisão de fls. 341/342 da execução (Reg. 2007/0260950-5)",1676.15,2960.94,4637.09,167.61,296.08999999999997,463.7,0,0,0,1508.54,2664.85,4173.3900000000003,0,0,0,0,"Não","Não","Não","-","-","Não informada","Não Informada","Não",0,11,7,"","","",0,0,0,0,0,0,0,0,0,0,null,null,1,27985.34,1,27985.34,0,0,null,null,0,0,0,0,0,0,0,null,"2020-01-03",{"$error":"#REF!"},1,{"$error":"#REF!"},{"$error":"#REF!"},{"$error":"#REF!"},{"$error":"#REF!"},0]
[{"$f":"#REF!","v":{"$error":"#REF!"}},7904,"RPV",7904,"2019/0240918-3","2019-08-14",null,"Aguardando Pagamento","sem verba para pgto",null,null,null,null,"AR 4.175/SP","2009/0003031-1","2009-01-07","2016-12-07",null,"Administrativo - Servidor Público Civil - Reajustes de Remuneração, Proventos ou Pensão","-","Município de Santos",null,"Ação Rescisória 4.175/SP","2018/0064208-2","2019-04-25",null,"Jair Caetano de Carvalho","037.128.648-41","-","Honorários de sucumbência","Alimentar",0,"Jair Caetano de Carvalho","037.128.648-41",null,null,0,"X  X  X","IPCA-e","2018-03-01",{"$error":"#REF!"},5329.59,0,5329.59,0,0,0,0,0,0,5329.59,0,5329.59,0,0,0,0,0,null,null,null,null,null,null,null,null,null,null,null,null,null,0,null,null,null,{"$f":"IF($D2504=\"\",\"\",BX2503)","v":"Não"},"Não","Não","-","-","Não informada","Não Informada","Não",0,null,8,"","","",0,0,0,0,0,0,0,0,0,0,null,null,1,5329.59,1,5329.59,0,0,null,null,0,0,0,0,0,0,0,null,"2020-01-03",{"$error":"#REF!"},1,{"$error":"#REF!"},{"$error":"#REF!"},{"$error":"#REF!"},{"$error":"#REF!"},0]
[{"$f":"#REF!","v":{"$error":"#REF!"}},7930,"RPV",7930,"2019/0276638-3","2019-09-13",null,"Aguardando pagamento","sem verba para pgto",null,null,null,null,"MS 10.424/DF","2005/0021065-5","2005-02-17","2005-10-27",null,"Administrativo - Servidor Público Civil - Sistema Remuneratório e Benefícios - Gratificações","Ministério do Planejamento, Orçamento e Gestão","UNIÃO",null,"Mandado de Segurança 10.424/DF","2006/0199699-6","2016-02-12",null,"Francisca Feitosa Maia ","286.771.372-20","Servidor Público Civil Inativo","Gratificação Específica de Atividade Docente - GEAD","Alimentar",11,"Fonseca e Assis Advogados Associados","01.971.231/0001-05",null,null,0,"Dedução de Honorários Contratuais","IPCA-e","2019-08-01",{"$error":"#REF!"},13436.02,10916.75,24352.77,1477.96,1200.8399999999999,2678.8,0,0,0,11958.06,9715.91,21673.97,13436.02,1477.96,0,9,1477.96,"Decisão de fls. 288/289 da ExeMS 10.424/DF - Registro 2006/0199699-6",5207.57,4231.17,9438.74,572.83000000000004,465.43,1038.26,0,0,0,4634.74,3765.74,8400.48,5207.57,572.83000000000004,0,572.83000000000004,{"$f":"IF($D2530=\"\",\"\",BX2529)","v":"Não"},"Não","Não","-","-","Não informada","Não Informada","Não",11,null,9,"","","",0,0,0,0,0,0,0,0,0,0,null,null,1,24352.77,1,24352.77,0,0,null,null,0,0,0,0,0,0,0,null,"2020-01-03",{"$error":"#REF!"},1,{"$error":"#REF!"},{"$error":"#REF!"},{"$error":"#REF!"},{"$error":"#REF!"},0]
[{"$f":"#REF!","v":{"$error":"#REF!"}},7963,"RPV",7963,"2019/0278339-5","2019-09-16",null,"Aguardando Pagamento","sem verba para pgto",null,null,null,null,"MS 10.424/DF","2005/0021065-5","2005-02-17","2005-10-27",null,"Administrativo - Servidor Público Civil - Sistema Remuneratório e Benefícios - Gratificações","Ministério do Planejamento, Orçamento e Gestão","UNIÃO",null,"Mandado de Segurança 10.424/DF","2006/0199713-6","2016-02-12",null,"Maria De Fátima Magalhães ","385.443.932-68","Servidor Público Civil Inativo","Gratificação Específica de Atividade Docente - GEAD","Alimentar",11,"Fonseca e Assis Advogados Associados","01.971.231/0001-05",null,null,0,"Dedução de Honorários Contratuais","IPCA-e","2019-08-01",{"$error":"#REF!"},13436.02,10916.75,24352.77,1477.96,1200.8399999999999,2678.8,0,0,0,11958.06,9715.91,21673.97,13436.02,1477.96,0,9,1477.96,"Decisão de fls. 290/291 da ExeMS 10.424/DF - Registro 2006/0199713-6",5207.57,4231.17,9438.74,572.83000000000004,465.43,1038.26,0,0,0,4634.74,3765.74,8400.48,5207.57,572.83000000000004,0,572.83000000000004,{"$f":"IF($D2563=\"\",\"\",BX2562)","v":"Não"},"Não","Não","-","-","Não informada","Não Informada","Não",11,null,9,"","","",0,0,0,0,0,0,0,0,0,0,null,null,1,24352.77,1,24352.77,0,0,null,null,0,0,0,0,0,0,0,null,"2020-01-03",{"$error":"#REF!"},1,{"$error":"#REF!"},{"$error":"#REF!"},{"$error":"#REF!"},{"$error":"#REF!"},0]
[{"$f":"#REF!","v":{"$error":"#REF!"}},7991,"RPV",7991,"2019/0279559-0","2019-09-17",null,"Aguardando pagamento","sem verba para pgto",null,null,null,null,"MS 10.424/DF","2005/0021065-5","2005-02-17","2005-10-27",null,"Administrativo - Servidor Público Civil - Sistema Remuneratório e Benefícios - Gratificações","Ministério do Planejamento, Orçamento e Gestão","UNIÃO",null,"Mandado de Segurança 10.424/DF","2006/0235379-8","2016-02-12",null,"Raimunda Venita De Brito","028.264.022-34","Servidor Público Civil Inativo","Gratificação Específica de Atividade Docente - GEAD","Alimentar",11,"Fonseca e Assis Advogados Associados","01.971.231/0001-05",null,null,0,"Dedução de Honorários Contratuais","IPCA-e","2019-08-01",{"$error":"#REF!"},5657.86,4596.9799999999996,10254.84,622.36,505.67,1128.03,0,0,0,5035.5,4091.31,9126.81,5657.86,622.36,0,9,622.36,"Decisão de fls. 263/264 da ExeMS 10.424/DF - Registro 2006/0235379-8",2192.9,1781.74,3974.64,241.21,196,437.21,0,0,0,1951.69,1585.74,3537.43,2192.9,241.21,0,241.21,{"$f":"IF($D2591=\"\",\"\",BX2590)","v":"Não"},"Não","Não","-","-","Não informada","Não Informada","Não",11,null,9,"","","",0,0,0,0,0,0,0,0,0,0,null,null,1,10254.84,1,10254.84,0,0,null,null,0,0,0,0,0,0,0,null,"2020-01-03",{"$error":"#REF!"},1,{"$error":"#REF!"},{"$error":"#REF!"},{"$error":"#REF!"},{"$error":"#REF!"},0]
[{"$f":"#REF!","v":{"$error":"#REF!"}},8023,"RPV",8023,"2019/0279760-1","2019-09-17",null,"Aguardando pagamento","sem verba para pgto",null,null,null,null,"MS 10.424/DF","2005/0021065-5","2005-02-17","2005-10-27",null,"Administrativo - Servidor Público Civil - Sistema Remuneratório e Benefícios - Gratificações","-","UNIÃO",null,"Mandado de Segurança 10.424/DF","2006/0235391-5","2016-02-12",null,"Fonseca e Assis Advogados Associados","01.971.231/0001-05","-","Honorários de sucumbência","Alimentar",0,"Fonseca e Assis Advogados Associados","01.971.231/0001-05",null,null,0,"X  X  X","IPCA-e","2019-08-01",{"$error":"#REF!"},198.34,0,198.34,0,0,0,0,0,0,198.34,0,198.34,0,0,0,0,0,"Decisão de fls. 300/301 da ExeMS 10.424/DF - Registro 2006/0235391-5",76.87,0,76.87,0,0,0,0,0,0,76.87,0,76.87,0,0,0,0,{"$f":"IF($D2623=\"\",\"\",BX2622)","v":"Não"},"Não","Não","-","-","Não informada","Não Informada","Não",0,null,9,"","","",0,0,0,0,0,0,0,0,0,0,null,null,1,198.34,1,198.34,0,0,null,null,0,0,0,0,0,0,0,null,"2020-01-03",{"$error":"#REF!"},1,{"$error":"#REF!"},{"$error":"#REF!"},{"$error":"#REF!"},{"$error":"#REF!"},0]
[{"$f":"#REF!","v":{"$error":"#REF!"}},8050,"RPV",8050,"2019/0280973-5","2019-09-18",null,"Aguardando pagamento","sem verba para pgto",null,null,null,null,"MS 10.424/DF","2005/0021065-5","2005-02-17","2005-10-27",null,"Administrativo - Servidor Público Civil - Sistema Remuneratório e Benefícios - Gratificações","Ministério do Planejamento, Orçamento e Gestão","UNIÃO",null,"Mandado de Segurança 10.424/DF","2006/0235407-6","2016-02-12",null,"Aldacir Maria De Azevedo Couceiro ","191.290.502-78","Servidor Público Civil Inativo","Gratificação Específica de Atividade Docente - GEAD","Alimentar",11,"Fonseca e Assis Advogados Associados","01.971.231/0001-05",null,null,0,"Dedução de Honorários Contratuais","IPCA-e","2019-08-01",{"$error":"#REF!"},5657.86,4596.9799999999996,10254.84,622.36,505.67,1128.03,0,0,0,5035.5,4091.31,9126.81,5657.86,622.36,0,9,622.36,"Decisão de fls. 286/287 da ExeMS 10.424/DF - Registro 2006/0235407-6",2192.9,1781.74,3974.64,241.21,196,437.21,0,0,0,1951.69,1585.74,3537.43,2192.9,241.21,0,241.21,{"$f":"IF($D2650=\"\",\"\",BX2649)","v":"Não"},"Não","Não","-","-","Não informada","Não Informada","Não",11,null,9,"","","",0,0,0,0,0,0,0,0,0,0,null,null,1,10254.84,1,10254.84,0,0,null,null,0,0,0,0,0,0,0,null,"2020-01-03",{"$error":"#REF!"},1,{"$error":"#REF!"},{"$error":"#REF!"},{"$error":"#REF!"},{"$error":"#REF!"},0]
[{"$f":"#REF!","v":{"$error":"#REF!"}},8078,"RPV",8078,"2019/0282431-1","2019-09-18",null,"Aguardando pagamento","sem verba para pgto",null,null,null,null,"MS 10.424/DF","2005/0021065-5","2005-02-17","2005-10-27",null,"Administrativo - Servidor Público Civil - Sistema Remuneratório e Benefícios - Gratificações","Ministério do Planejamento, Orçamento e Gestão","UNIÃO",null,"Mandado de Segurança 10.424/DF","2006/0199670-8","2016-02-12",null,"Maria Nunes Do Nascimento "," 009.243.932-20 ","Servidor Público Civil Inativo","Gratificação Específica de Atividade Docente - GEAD","Alimentar",11,"Fonseca e Assis Advogados Associados","01.971.231/0001-05",null,null,0,"Dedução de Honorários Contratuais","IPCA-e","2019-08-01",{"$error":"#REF!"},13436.02,10916.75,24352.77,1477.96,1200.8399999999999,2678.8,0,0,0,11958.06,9715.91,21673.97,13436.02,1477.96,0,9,1477.96,"Decisão de fls. 280 da ExeMS 10.424/DF - Registro 2006/0199670-8",5207.57,4231.17,9438.74,572.83000000000004,465.43,1038.26,0,0,0,4634.74,3765.74,8400.48,5207.57,572.83000000000004,0,572.83000000000004,{"$f":"IF($D2678=\"\",\"\",BX2677)","v":"Não"},"Não","Não","-","-","Não informada","Não Informada","Não",11,null,9,"","","",0,0,0,0,0,0,0,0,0,0,null,null,1,24352.77,1,24352.77,0,0,null,null,{"$f":"IF(J2678=DK$7,1/AO2678*DF$10,0)","v":0},0,0,0,0,0,0,null,"2020-01-03",{"$error":"#REF!"},1,{"$error":"#REF!"},{"$error":"#REF!"},{"$error":"#REF!"},{"$error":"#REF!"},0]
[{"$f":"#REF!","v":{"$error":"#REF!"}},8102,"RPV",8102,"2019/0282512-0","2019-09-19",null,"Aguardando Pagamento","sem verba para pgto",null,null,null,null,"MS 10.424/DF","2005/0021065-5","2005-02-17","2005-10-27",null,"Administrativo - Servidor Público Civil - Sistema Remuneratório e Benefícios - Gratificações","Ministério do Planejamento, Orçamento e Gestão","UNIÃO",null,"Mandado de Segurança 10.424/DF","2006/0199685-8","2016-02-12",null,"Laura Da Costa Coelho ","342.470.172-68","Servidor Público Civil Inativo","Gratificação Específica de Atividade Docente - GEAD","Alimentar",11,"Fonseca e Assis Advogados Associados","01.971.231/0001-05",null,null,0,"Dedução de Honorários Contratuais","IPCA-e","2019-08-01",{"$error":"#REF!"},13436.02,10916.75,24352.77,1477.96,1200.8399999999999,2678.8,0,0,0,11958.06,9715.91,21673.97,13436.02,1477.96,0,9,1477.96,"Decisão de fls. 274/275 da ExeMS 10.424/DF - Registro 2006/0199685-8",5207.57,4231.17,9438.74,572.83000000000004,465.43,1038.26,0,0,0,4634.74,3765.74,8400.48,5207.57,572.83000000000004,0,572.83000000000004,{"$f":"IF($D2702=\"\",\"\",BX2701)","v":"Não"},"Não","Não","-","-","Não informada","Não Informada","Não",11,null,9,"","","",0,0,0,0,0,0,0,0,0,0,null,null,1,24352.77,1,24352.77,0,0,null,null,0,0,0,0,0,0,0,null,"2020-01-03",{"$error":"#REF!"},1,{"$error":"#REF!"},{"$error":"#REF!"},{"$error":"#REF!"},{"$error":"#REF!"},0]
[{"$f":"#REF!","v":{"$error":"#REF!"}},8137,"RPV",8137,"2019/0283129-8","2019-09-19",null,"Aguardando pagamento","sem verba para pgto",null,null,null,null,"MS 10.424/DF","2005/0021065-5","2005-02-17","2005-10-27",null,"Administrativo - Servidor Público Civil - Sistema Remuneratório e Benefícios - Gratificações","Ministério do Planejamento, Orçamento e Gestão","UNIÃO",null,"Mandado de Segurança 10.424/DF","2006/0180797-9","2016-02-12",null,"Terezinha Nardis Carneiro ","571.255.202-78","Servidor Público Civil Ativo","Gratificação Específica de Atividade Docente - GEAD","Alimentar",11,"Fonseca e Assis Advogados Associados","01.971.231/0001-05",null,null,0,"Dedução de Honorários Contratuais","IPCA-e","2019-08-01",{"$error":"#REF!"},13436.02,10916.75,24352.77,1477.96,1200.8399999999999,2678.8,0,0,0,11958.06,9715.91,21673.97,13436.02,1477.96,2955.92,9,1477.96,"Decisão de fls. 285/286 da ExeMS 10.424/DF - Registro 2006/0180797-9",5207.57,4231.17,9438.74,572.83000000000004,465.43,1038.26,0,0,0,4634.74,3765.74,8400.48,5207.57,572.83000000000004,1145.6600000000001,572.83000000000004,{"$f":"IF($D2737=\"\",\"\",BX2736)","v":"Não"},"Não","Não","-","-","Não informada","Não Informada","Não",11,null,9,"","","",0,0,0,0,0,0,0,0,0,0,null,null,1,24352.77,1,24352.77,0,0,null,null,0,0,0,0,0,0,0,null,"2020-01-03",{"$error":"#REF!"},1,{"$error":"#REF!"},{"$error":"#REF!"},{"$error":"#REF!"},{"$error":"#REF!"},0]
[{"$f":"#REF!","v":{"$error":"#REF!"}},8163,"RPV",8163,"2019/0283301-8","2019-09-19",null,"Aguardando Pagamento","sem verba para pgto",null,null,null,null,"MS 10.424/DF","2005/0021065-5","2005-02-17","2005-10-27",null,"Administrativo - Servidor Público Civil - Sistema Remuneratório e Benefícios - Gratificações","Ministério do Planejamento, Orçamento e Gestão","UNIÃO",null,"Mandado de Segurança 10.424/DF","2006/0235413-0","2016-02-12",null,"Nilson Vieira","116.615.349-53","Servidor Público Civil Inativo","Gratificação Específica de Atividade Docente - GEAD","Alimentar",11,"Fonseca e Assis Advogados Associados","01.971.231/0001-05",null,null,0,"Dedução de Honorários Contratuais","IPCA-e","2019-08-01",{"$error":"#REF!"},5657.86,4596.9799999999996,10254.84,622.36,505.67,1128.03,0,0,0,5035.5,4091.31,9126.81,5657.86,622.36,0,9,622.36,"Decisão de fls. 270/271 da ExeMS 10.424/DF - Registro 2006/0235413-0",2192.9,1781.74,3974.64,241.21,196,437.21,0,0,0,1951.69,1585.74,3537.43,2192.9,241.21,0,241.21,{"$f":"IF($D2763=\"\",\"\",BX2762)","v":"Não"},"Não","Não","-","-","Não informada","Não Informada","Não",11,null,9,"","","",0,0,0,0,0,0,0,0,0,0,null,null,1,10254.84,1,10254.84,0,0,null,null,0,0,0,0,0,0,0,null,"2020-01-03",{"$error":"#REF!"},1,{"$error":"#REF!"},{"$error":"#REF!"},{"$error":"#REF!"},{"$error":"#REF!"},0]
[{"$f":"#REF!","v":{"$error":"#REF!"}},8196,"RPV",8196,"2019/0284307-6","2019-09-20",null,"Aguardando Pagamento","sem verba para pgto",null,null,null,null,"MS 4.149/DF","1995/0038042-0","1995-07-20","1998-09-23",null,"Administrativo - Servidor Público Civil - Sistema Remuneratório e Benefícios","INCRA","UNIÃO",null,"Mandado de Segurança 4.149/DF","2008/0066440-0","2014-09-26",null,"Francoise Rodrigues Batista","210.168.791-72","Servidor Público Civil Ativo","Diferença de remuneração - 3,17%","Alimentar",10,"Josilma Saraiva - Advocacia E Consultoria - Sociedade Individual De Advocacia","09.384.741/0001-98",null,null,0,"Dedução de Honorários Contratuais","IPCA-e","2019-08-01",{"$error":"#REF!"},673.2,4532.46,5205.66,67.319999999999993,453.24,520.55999999999995,0,0,0,605.88,4079.22,4685.1000000000004,673.16,74.040000000000006,148.08000000000001,59,74.040000000000006,null,null,null,null,null,null,null,null,null,null,null,null,null,null,null,null,null,{"$f":"IF($D2796=\"\",\"\",BX2795)","v":"Não"},"Não","Não","-","-","Não informada","Não Informada","Não",10,null,9,"","","",0,0,0,0,0,0,0,0,0,0,null,null,1,5205.66,1,5205.66,0,0,null,null,0,0,0,0,0,0,0,null,"2020-01-03",{"$error":"#REF!"},1,{"$error":"#REF!"},{"$error":"#REF!"},{"$error":"#REF!"},{"$error":"#REF!"},0]
[{"$f":"#REF!","v":{"$error":"#REF!"}},8224,"RPV",8224,"2019/0284822-0","2019-09-20",null,"Aguardando Pagamento","sem verba para pgto",null,null,null,null,"AR 1.169/CE","1999/0096834-4","1999-10-18","2004-06-07",null,"Administrativo - Servidor Público Civil - Sistema Remuneratório e Benefícios","Instituto Nacional do Seguro Social - INSS","Instituto Nacional do Seguro Social - INSS",null,"Ação Rescisória 1.169/CE","2009/0056492-5","2014-09-30",null,"José Geraldo De Sousa ","015.842.273-20","Servidor Público Civil Ativo","Anuênios","Alimentar",20,"Glayddes Sindeaux Advogados","17.291.820/0001-82",null,null,0,"Dedução de Honorários Contratuais","IPCA-e","2019-08-01",{"$error":"#REF!"},2630.68,3021.89,5652.57,526.13,604.38,1130.51,0,0,0,2104.5500000000002,2417.5100000000002,4522.0600000000004,2344.91,257.94,515.88,47,257.94,null,null,null,null,null,null,null,null,null,null,null,null,null,null,null,null,null,{"$f":"IF($D2824=\"\",\"\",BX2823)","v":"Não"},"Não","Não","-","-","Não informada","Não Informada","Não",20,null,9,"","","",0,0,0,0,0,0,0,0,0,0,null,null,1,5652.57,1,5652.57,0,0,null,null,0,0,0,0,0,0,0,null,"2020-01-03",{"$error":"#REF!"},1,{"$error":"#REF!"},{"$error":"#REF!"},{"$error":"#REF!"},{"$error":"#REF!"},0]
[{"$f":"#REF!","v":{"$error":"#REF!"}},8256,"RPV",8256,"2019/0285958-9","2019-09-23",null,"Aguardando Pagamento","sem verba para pgto",null,null,null,null,"AR 1.169/CE","1999/0096834-4","1999-10-18","2004-06-07",null,"Administrativo - Servidor Público Civil - Sistema Remuneratório e Benefícios","Instituto Nacional do Seguro Social - INSS","Instituto Nacional do Seguro Social - INSS",null,"Ação Rescisória 1.169/CE","2009/0057579-1","2014-10-17",null,"Júlia Maria Primo Montenegro ","169.282.883-53","Servidor Público Civil Ativo","Anuênios","Alimentar",20,"Glayddes Sindeaux Advogados","17.291.820/0001-82",null,null,0,"Dedução de Honorários Contratuais","IPCA-e","2019-08-01",{"$error":"#REF!"},2711.58,3114.81,5826.39,542.30999999999995,622.96,1165.27,0,0,0,2169.27,2491.85,4661.12,2711.58,298.27,596.54,47,298.27,null,null,null,null,null,null,null,null,null,null,null,null,null,null,null,null,null,{"$f":"IF($D2856=\"\",\"\",BX2855)","v":"Não"},"Não","Não","-","-","Não informada","Não Informada","Não",20,null,9,"","","",0,0,0,0,0,0,0,0,0,0,null,null,1,5826.39,1,5826.39,0,0,null,null,0,0,0,0,0,0,0,null,"2020-01-03",{"$error":"#REF!"},1,{"$error":"#REF!"},{"$error":"#REF!"},{"$error":"#REF!"},{"$error":"#REF!"},0]
[{"$f":"#REF!","v":{"$error":"#REF!"}},8283,"RPV",8283,"2019/0286072-3","2019-09-23",null,"Aguardando Pagamento","sem verba para pgto",null,null,null,null,"AR 1.169/CE","1999/0096834-4","1999-10-18","2004-06-07",null,"Administrativo - Servidor Público Civil - Sistema Remuneratório e Benefícios","-","Instituto Nacional do Seguro Social - INSS",null,"Ação Rescisória 1.169/CE","2009/0057575-4","2014-09-30",null,"Glayddes Sindeaux Advogados","17.291.820/0001-82","Servidor Público Civil Ativo","Honorários de sucumbência","Alimentar",0,"Glayddes Sindeaux Advogados","17.291.820/0001-82",null,null,0,"X  X  X","IPCA-e","2019-08-01",{"$error":"#REF!"},26240.48,0,26240.48,0,0,0,0,0,0,26240.48,0,26240.48,0,0,0,0,0,null,null,null,null,null,null,null,null,null,null,null,null,null,0,null,null,null,{"$f":"IF($D2883=\"\",\"\",BX2882)","v":"Não"},"Não","Não","-","-","Não informada","Não Informada","Não",0,null,9,"","","",0,0,0,0,0,0,0,0,0,0,null,null,1,26240.48,1,26240.48,0,0,null,null,0,0,0,0,0,0,0,null,"2020-01-03",{"$error":"#REF!"},1,{"$error":"#REF!"},{"$error":"#REF!"},{"$error":"#REF!"},{"$error":"#REF!"},0]
[{"$f":"#REF!","v":{"$error":"#REF!"}},8342,"RPV",8342,"2019/0287453-3","2019-09-24",null,"Aguardando Pagamento","sem verba para pgto",null,null,null,null,"MS 10.424/DF","2005/0021065-5","2005-02-17","2005-10-27",null,"Administrativo - Servidor Público Civil - Sistema Remuneratório e Benefícios - Gratificações","Ministério do Planejamento, Orçamento e Gestão","UNIÃO",null,"Mandado de Segurança 10.424/DF","2006/0199681-0","2016-02-12",null,"Raimunda Vieira De Carvalho ","115.108.892-72","Servidor Público Civil Inativo","Gratificação Específica de Atividade Docente - GEAD","Alimentar",11,"Fonseca e Assis Advogados Associados","01.971.231/0001-05",null,null,0,"Dedução de Honorários Contratuais","IPCA-e","2019-09-01",{"$error":"#REF!"},13446.76,10971.65,24418.41,1479.14,1206.8800000000001,2686.02,0,0,0,11967.62,9764.77,21732.39,13446.76,1479.14,0,9,1479.14,"Decisão de Fls. 252/253 - ExeMS 10.424/DF   (2006/0199681-0)",5218.3100000000004,4257.8,9476.11,574.01,468.36,1042.3699999999999,0,0,0,4644.3,3789.44,8433.74,5218.3100000000004,574.01,0,574.01,{"$f":"IF($D2942=\"\",\"\",BX2941)","v":"Não"},"Não","Não","-","-","Não informada","Não Informada","Não",11,null,9,"","","",0,0,0,0,0,0,0,0,0,0,null,null,1,24418.41,1,24418.41,0,0,null,null,0,0,0,0,0,0,0,null,"2020-01-03",{"$error":"#REF!"},1,{"$error":"#REF!"},{"$error":"#REF!"},{"$error":"#REF!"},{"$error":"#REF!"},0]
[{"$f":"#REF!","v":{"$error":"#REF!"}},8365,"RPV",8365,"2019/0287572-1","2019-09-24",null,"Aguardando Pagamento","sem verba para pgto",null,null,null,null,"MS 10.424/DF","2005/0021065-5","2005-02-17","2005-10-27",null,"Administrativo - Servidor Público Civil - Sistema Remuneratório e Benefícios - Gratificações","Ministério do Planejamento, Orçamento e Gestão","UNIÃO",null,"Mandado de Segurança 10.424/DF","2006/0199688-3","2016-02-12",null,"Celina Saraiva Carvalho ","086.405.051-87","Servidor Público Civil Inativo","Gratificação Específica de Atividade Docente - GEAD","Alimentar",11,"Fonseca e Assis Advogados Associados","01.971.231/0001-05",null,null,0,"Dedução de Honorários Contratuais","IPCA-e","2019-09-01",{"$error":"#REF!"},13446.76,10971.65,24418.41,1479.14,1206.8800000000001,2686.02,0,0,0,11967.62,9764.77,21732.39,13446.76,1479.14,0,9,1479.14,"Decisão de Fls. 262/263 - ExeMS 10.424/DF   (2006/0199688-3)",5218.3100000000004,4257.8,9476.11,574.01,468.36,1042.3699999999999,0,0,0,4644.3,3789.44,8433.74,5218.3100000000004,574.01,0,574.01,{"$f":"IF($D2965=\"\",\"\",BX2964)","v":"Não"},"Não","Não","-","-","Não informada","Não Informada","Não",11,null,9,"","","",0,0,0,0,0,0,0,0,0,0,null,null,1,24418.41,1,24418.41,0,0,null,null,0,0,0,0,0,0,0,null,"2020-01-03",{"$error":"#REF!"},1,{"$error":"#REF!"},{"$error":"#REF!"},{"$error":"#REF!"},{"$error":"#REF!"},0]
[{"$f":"#REF!","v":{"$error":"#REF!"}},8401,"RPV",8401,"2019/0288849-3","2019-09-24",null,"Aguardando Pagamento","sem verba para pgto",null,null,null,null,"MS 10.424/DF","2005/0021065-5","2005-02-17","2005-10-27",null,"Administrativo - Servidor Público Civil - Sistema Remuneratório e Benefícios - Gratificações","Ministério do Planejamento, Orçamento e Gestão","UNIÃO",null,"Mandado de Segurança 10.424/DF","2006/0199702-3","2016-02-12",null,"Moacir Suriano ","145.238.769-91","Servidor Público Civil Inativo","Gratificação Específica de Atividade Docente - GEAD","Alimentar",11,"Fonseca e Assis Advogados Associados","01.971.231/0001-05",null,null,0,"Dedução de Honorários Contratuais","IPCA-e","2019-09-01",{"$error":"#REF!"},13446.76,10971.65,24418.41,1479.14,1206.8800000000001,2686.02,0,0,0,11967.62,9764.77,21732.39,13446.76,1479.14,0,9,1479.14,"Decisão de Fls. 275/276 - ExeMS 10.424/DF   (2006/0199702-3)",5218.3100000000004,4257.8,9476.11,574.01,468.36,1042.3699999999999,0,0,0,4644.3,3789.44,8433.74,5218.3100000000004,574.01,0,574.01,{"$f":"IF($D3001=\"\",\"\",BX3000)","v":"Não"},"Não","Não","-","-","Não informada","Não Informada","Não",11,null,9,"","","",0,0,0,0,0,0,0,0,0,0,null,null,1,24418.41,1,24418.41,0,0,null,null,0,0,0,0,0,0,0,null,"2020-01-03",{"$error":"#REF!"},1,{"$error":"#REF!"},{"$error":"#REF!"},{"$error":"#REF!"},{"$error":"#REF!"},{"$f":"IF(AND(B3002=\"\",B3001>0),B3001,0)","v":0}]
[{"$f":"#REF!","v":{"$error":"#REF!"}},8430,"RPV",8430,"2019/0289234-1","2019-09-25",null,"Aguardando Pagamento","sem verba para pgto",null,null,null,null,"AR 1.169/CE","1999/0096834-4","1999-10-18","2004-06-07",null,"Administrativo - Servidor Público Civil - Sistema Remuneratório e Benefícios","Instituto Nacional do Seguro Social - INSS","Instituto Nacional do Seguro Social - INSS",null,"Ação Rescisória 1.169/CE","2009/0056186-7","2014-10-04",null,"Maria Antonieta Veras Froes ","045.265.203-06","Servidor Público Civil Ativo","Anuênios","Alimentar",10,"Glayddes Sindeaux Advogados","17.291.820/0001-82",null,null,0,"Dedução de Honorários Contratuais","IPCA-e","2019-09-01",{"$error":"#REF!"},10591.87,12203.39,22795.26,1059.18,1220.3399999999999,2279.52,0,0,0,9532.69,10983.05,20515.740000000002,936,102.96,205.92,47,102.96,null,null,null,null,null,null,null,null,null,null,null,null,null,null,null,null,null,{"$f":"IF($D3029=\"\",\"\",BX3028)","v":"Não"},"Não","Não","-","-","Não informada","Não Informada","Não",10,null,9,"","","",0,0,0,0,0,0,0,0,0,0,null,null,1,22795.26,1,22795.26,0,0,null,null,0,0,0,0,0,0,0,null,"2020-01-03",{"$error":"#REF!"},1,{"$error":"#REF!"},{"$error":"#REF!"},{"$error":"#REF!"},{"$error":"#REF!"},0]
[{"$f":"#REF!","v":{"$error":"#REF!"}},8459,"RPV",8459,"2019/0290097-7","2019-09-25",null,"Aguardando Pagamento","sem verba para pgto",null,null,null,null,"AR 1.169/CE","1999/0096834-4","1999-10-18","2004-06-07",null,"Administrativo - Servidor Público Civil - Sistema Remuneratório e Benefícios","Instituto Nacional do Seguro Social - INSS","Instituto Nacional do Seguro Social - INSS",null,"Ação Rescisória 1.169/CE","2009/0056226-0","2014-11-18",null,"Espólio de Francisco Soares De Freitas ","037.316.503-04","Servidor Público Civil Ativo","Anuênios","Alimentar",10,"Glayddes Sindeaux Advogados","17.291.820/0001-82",null,null,0,"Dedução de Honorários Contratuais","IPCA-e","2019-09-01",{"$error":"#REF!"},2170.86,2501.14,4672,217.08,250.12,467.2,0,0,0,1953.78,2251.02,4204.8,2170.86,238.79,477.58,47,238.79,null,null,null,null,null,null,null,null,null,null,null,null,null,null,null,null,null,{"$f":"IF($D3058=\"\",\"\",BX3057)","v":"Não"},"Não","Não","-","-","Não informada","Não Informada","Não",10,null,9,"","","",0,0,0,0,0,0,0,0,0,0,null,null,1,4672,1,4672,0,0,null,null,0,0,0,0,0,0,0,null,"2020-01-03",{"$error":"#REF!"},1,{"$error":"#REF!"},{"$error":"#REF!"},{"$error":"#REF!"},{"$error":"#REF!"},0]
[{"$f":"#REF!","v":{"$error":"#REF!"}},8489,"RPV",8489,"2019/0290722-9","2019-09-26",null,"Aguardando Pagamento","sem verba para pgto",null,null,null,null,"AR 1.169/CE","1999/0096834-4","1999-10-18","2004-06-07",null,"Administrativo - Servidor Público Civil - Sistema Remuneratório e Benefícios","Instituto Nacional do Seguro Social - INSS","Instituto Nacional do Seguro Social - INSS",null,"Ação Rescisória 1.169/CE","2009/0056233-5","2014-09-30",null,"José Maurício Eduardo Lins ","061.400.173-00","Servidor Público Civil Ativo","Anuênios","Alimentar",10,"Glayddes Sindeaux Advogados","17.291.820/0001-82",null,null,0,"Dedução de Honorários Contratuais","IPCA-e","2019-09-01",{"$error":"#REF!"},2233.2399999999998,2573.0100000000002,4806.25,223.32,257.3,480.62,0,0,0,2009.92,2315.71,4325.63,2233.2399999999998,245.65,491.3,47,245.65,null,null,null,null,null,null,null,null,null,null,null,null,null,null,null,null,null,{"$f":"IF($D3088=\"\",\"\",BX3087)","v":"Não"},"Não","Não","-","-","Não informada","Não Informada","Não",10,null,9,"","","",0,0,0,0,0,0,0,0,0,0,null,null,1,4806.25,1,4806.25,0,0,null,null,0,0,0,0,0,0,0,null,"2020-01-03",{"$error":"#REF!"},1,{"$error":"#REF!"},{"$error":"#REF!"},{"$error":"#REF!"},{"$error":"#REF!"},0]
[{"$f":"#REF!","v":{"$error":"#REF!"}},8506,"RPV",8506,"2019/0291712-5","2019-09-26",null,"Aguardando Pagamento","sem verba para pgto",null,null,null,null,"MS 10.424/DF","2005/0021065-5","2005-02-17","2005-10-27",null,"Administrativo - Servidor Público Civil - Sistema Remuneratório e Benefícios - Gratificações","Ministério do Planejamento, Orçamento e Gestão","UNIÃO",null,"Mandado de Segurança 10.424/DF","2006/0235389-9","2016-02-12",null,"Clausa Pereira Moutinho ","471.572.402-20","Servidor Público Civil Ativo","Gratificação Específica de Atividade Docente - GEAD","Alimentar",11,"Fonseca e Assis Advogados Associados","01.971.231/0001-05",null,null,0,"Dedução de Honorários Contratuais","IPCA-e","2019-09-01",{"$error":"#REF!"},5662.38,4620.09,10282.469999999999,622.86,508.21,1131.07,0,0,0,5039.5200000000004,4111.88,9151.4,5662.38,622.86,1245.72,9,622.86,"Decisão de Fls. 297/298 - ExeMS 10.424/DF   (2006/0235389-9)",2197.42,1792.95,3990.37,241.71,197.23,438.94,0,0,0,1955.71,1595.72,3551.43,2197.42,241.71,483.42,241.71,{"$f":"IF($D3105=\"\",\"\",BX3104)","v":"Não"},"Não","Não","-","-","Não informada","Não Informada","Não",11,null,9,"","","",0,0,0,0,0,0,0,0,0,0,null,null,1,10282.469999999999,1,10282.469999999999,0,0,null,null,0,0,0,0,0,0,0,null,"2020-01-03",{"$error":"#REF!"},1,{"$error":"#REF!"},{"$error":"#REF!"},{"$error":"#REF!"},{"$error":"#REF!"},0]
[{"$f":"#REF!","v":{"$error":"#REF!"}},8549,"RPV",8549,"2019/0293492-2","2019-09-28",null,"Aguardando pagamento","sem verba para pgto",null,null,null,null,"AR 1.169/CE","1999/0096834-4","1999-10-18","2004-06-07",null,"Administrativo - Servidor Público Civil - Sistema Remuneratório e Benefícios","Instituto Nacional do Seguro Social - INSS","Instituto Nacional do Seguro Social - INSS",null,"Ação Rescisória 1.169/CE","2009/0056330-8","2015-05-18",null,"Francisco Moreira Montoril ","038.742.574-87","Servidor Público Civil Ativo","Anuênios","Alimentar",10,"Glayddes Sindeaux Advogados","17.291.820/0001-82",null,null,0,"Dedução de Honorários Contratuais","IPCA-e","2019-09-01",{"$error":"#REF!"},5819.54,6704.95,12524.49,581.95000000000005,670.49,1252.44,0,0,0,5237.59,6034.46,11272.05,5819.54,640.14,1280.28,47,640.14,null,null,null,null,null,null,null,null,null,null,null,null,null,null,null,null,null,{"$f":"IF($D3147=\"\",\"\",BX3146)","v":"Não"},"Não","Não","-","-","Não informada","Não Informada","Não",10,null,9,"","","",0,0,0,0,0,0,0,0,0,0,null,null,1,12524.49,1,12524.49,0,0,null,null,0,0,0,0,0,0,0,null,"2020-01-03",{"$error":"#REF!"},1,{"$error":"#REF!"},{"$error":"#REF!"},{"$error":"#REF!"},{"$error":"#REF!"},0]
[{"$f":"#REF!","v":{"$error":"#REF!"}},8579,"RPV",8579,"2019/0293777-4","2019-09-29",null,"Aguardando Pagamento","sem verba para pgto",null,null,null,null,"AR 1.169/CE","1999/0096834-4","1999-10-18","2004-06-07",null,"Administrativo - Servidor Público Civil - Sistema Remuneratório e Benefícios","Instituto Nacional do Seguro Social - INSS","Instituto Nacional do Seguro Social - INSS",null,"Ação Rescisória 1.169/CE","2009/0056443-2","2014-09-30",null,"Aurineide Nascimento ","023.935.903-82","Servidor Público Civil Ativo","Anuênios","Alimentar",20,"Glayddes Sindeaux Advogados","17.291.820/0001-82",null,null,0,"Dedução de Honorários Contratuais","IPCA-e","2019-09-01",{"$error":"#REF!"},9182.42,10579.48,19761.900000000001,1836.48,2115.9,3952.38,0,0,0,7345.94,8463.58,15809.52,9182.42,1010.06,2020.12,47,1010.06,null,null,null,null,null,null,null,null,null,null,null,null,null,null,null,null,null,{"$f":"IF($D3175=\"\",\"\",BX3174)","v":"Não"},"Não","Não","-","-","Não informada","Não Informada","Não",20,null,9,"","","",0,0,0,0,0,0,0,0,0,0,null,null,1,19761.900000000001,1,19761.900000000001,0,0,null,null,0,0,0,0,0,0,0,null,"2020-01-03",{"$error":"#REF!"},1,{"$error":"#REF!"},{"$error":"#REF!"},{"$error":"#REF!"},{"$error":"#REF!"},0]
[{"$f":"#REF!","v":{"$error":"#REF!"}},8602,"RPV",8602,"2019/0294242-9","2019-09-30",null,"Aguardando Pagamento","sem verba para pgto",null,null,null,null,"AR 1.169/CE","1999/0096834-4","1999-10-18","2004-06-07",null,"Administrativo - Servidor Público Civil - Sistema Remuneratório e Benefícios","Instituto Nacional do Seguro Social - INSS","Instituto Nacional do Seguro Social - INSS",null,"Ação Rescisória 1.169/CE","2009/0056458-2","2014-09-30",null,"Maria Vilma Lima ","061.817.163-00","Servidor Público Civil Ativo","Anuênios","Alimentar",10,"Glayddes Sindeaux Advogados","17.291.820/0001-82",null,null,0,"Dedução de Honorários Contratuais","IPCA-e","2019-09-01",{"$error":"#REF!"},6755.57,7783.39,14538.96,675.55,778.34,1453.89,0,0,0,6080.02,7005.05,13085.07,6755.57,743.11,1486.22,47,743.11,null,null,null,null,null,null,null,null,null,null,null,null,null,null,null,null,null,{"$f":"IF($D3198=\"\",\"\",BX3197)","v":"Não"},"Não","Não","-","-","Não informada","Não Informada","Não",10,null,9,"","","",0,0,0,0,0,0,0,0,0,0,null,null,1,14538.96,1,14538.96,0,0,null,null,0,0,0,0,0,0,0,null,"2020-01-03",{"$error":"#REF!"},1,{"$error":"#REF!"},{"$error":"#REF!"},{"$error":"#REF!"},{"$error":"#REF!"},0]
[{"$f":"#REF!","v":{"$error":"#REF!"}},8638,"RPV",8638,"2019/0294542-3","2019-09-30",null,"Aguardando Pagamento","sem verba para pgto",null,null,null,null,"AR 1.169/CE","1999/0096834-4","1999-10-18","2004-06-07",null,"Administrativo - Servidor Público Civil - Sistema Remuneratório e Benefícios","-","Instituto Nacional do Seguro Social - INSS",null,"Ação Rescisória 1.169/CE","2009/0056466-0","2014-10-21",null,"Glayddes Sindeaux Advogados","17.291.820/0001-82","-","Honorários de sucumbência","Alimentar",0,"Glayddes Sindeaux Advogados","17.291.820/0001-82",null,null,0,"X  X  X","IPCA-e","2019-09-01",{"$error":"#REF!"},30652.89,0,30652.89,0,0,0,0,0,0,30652.89,0,30652.89,0,0,0,0,0,null,null,null,null,null,null,null,null,null,null,null,null,null,0,null,null,null,{"$f":"IF($D3234=\"\",\"\",BX3233)","v":"Não"},"Não","Não","-","-","Não informada","Não Informada","Não",0,null,9,"","","",0,0,0,0,0,0,0,0,0,0,null,null,1,30652.89,1,30652.89,0,0,null,null,0,0,0,0,0,0,0,null,"2020-01-03",{"$error":"#REF!"},1,{"$error":"#REF!"},{"$error":"#REF!"},{"$error":"#REF!"},{"$error":"#REF!"},0]
[{"$f":"#REF!","v":{"$error":"#REF!"}},8666,"RPV",8666,"2019/0295749-0","2019-10-01",null,"Aguardando Pagamento","sem verba para pgto",null,null,null,null,"AR 1.169/CE","1999/0096834-4","1999-10-18","2004-06-07",null,"Administrativo - Servidor Público Civil - Sistema Remuneratório e Benefícios","Instituto Nacional do Seguro Social - INSS","Instituto Nacional do Seguro Social - INSS",null,"Ação Rescisória 1.169/CE","2009/0057560-4","2014-09-30",null,"Espólio de Raimundo Martiniano Do Nascimento","031.568.423-20","Servidor Público Civil Ativo","Anuênios","Alimentar",20,"Glayddes Sindeaux Advogados","17.291.820/0001-82",null,null,0,"Dedução de Honorários Contratuais","IPCA-e","2019-09-01",{"$error":"#REF!"},1241.0899999999999,1429.9,2670.99,248.21,285.98,534.19000000000005,0,0,0,992.88,1143.92,2136.8000000000002,1241.0899999999999,136.51,273.02,47,136.51,null,null,null,null,null,null,null,null,null,null,null,null,null,null,null,null,null,{"$f":"IF($D3262=\"\",\"\",BX3261)","v":"Não"},"Não","Não","-","-","Não informada","Não Informada","Não",20,null,10,"","","",0,0,0,0,0,0,0,0,0,0,null,null,1,2670.99,1,2670.99,0,0,null,null,0,0,0,0,0,0,0,null,"2020-01-03",{"$error":"#REF!"},1,{"$error":"#REF!"},{"$error":"#REF!"},{"$error":"#REF!"},{"$error":"#REF!"},0]
[{"$f":"#REF!","v":{"$error":"#REF!"}},8695,"RPV",8695,"2019/0297439-9","2019-10-02",null,"Aguardando Pagamento","sem verba para pgto",null,null,null,null,"MS 10.424/DF","2005/0021065-5","2005-02-17","2005-10-27",null,"Administrativo - Servidor Público Civil - Sistema Remuneratório e Benefícios - Gratificações","Ministério do Planejamento, Orçamento e Gestão","UNIÃO",null,"Mandado de Segurança 10.424/DF","2006/0151236-9","2016-02-12",null,"Maria Helena Carniel ","174.596.139-91","Servidor Público Civil Ativo","Gratificação Específica de Atividade Docente - GEAD","Alimentar",11,"Fonseca e Assis Advogados Associados","01.971.231/0001-05",null,null,0,"Dedução de Honorários Contratuais","IPCA-e","2019-09-01",{"$error":"#REF!"},13446.76,10971.65,24418.41,1479.14,1206.8800000000001,2686.02,0,0,0,11967.62,9764.77,21732.39,13446.76,1479.14,2958.28,9,1479.14,"Decisão de Fls. 294/296 - ExeMS 10.424/DF   (2006/0151236-9)",5218.3100000000004,4257.8,9476.11,574.01,468.36,1042.3699999999999,0,0,0,4644.3,3789.44,8433.74,5218.3100000000004,574.01,1148.02,574.01,{"$f":"IF($D3291=\"\",\"\",BX3290)","v":"Não"},"Não","Não","-","-","Não informada","Não Informada","Não",11,null,10,"","","",0,0,0,0,0,0,0,0,0,0,null,null,1,24418.41,1,24418.41,0,0,null,null,0,0,0,0,0,0,0,null,"2020-01-03",{"$error":"#REF!"},1,{"$error":"#REF!"},{"$error":"#REF!"},{"$error":"#REF!"},{"$error":"#REF!"},0]
[{"$f":"#REF!","v":{"$error":"#REF!"}},8725,"RPV",8725,"2019/0300896-9","2019-10-04",null,"Aguardando Pagamento","sem verba para pgto",null,null,null,null,"MS 10.424/DF","2005/0021065-5","2005-02-17","2005-10-27",null,"Administrativo - Servidor Público Civil - Sistema Remuneratório e Benefícios - Gratificações","Ministério do Planejamento, Orçamento e Gestão","UNIÃO",null,"Mandado de Segurança 10.424/DF","2006/0180765-2","2016-02-12",null,"Ercilia Ernestina De Mendonça Castro ","138.881.022-00","Servidor Público Civil Ativo","Gratificação Específica de Atividade Docente - GEAD","Alimentar",11,"Fonseca e Assis Advogados Associados","01.971.231/0001-05",null,null,0,"Dedução de Honorários Contratuais","IPCA-e","2019-09-01",{"$error":"#REF!"},13446.76,10971.65,24418.41,1479.14,1206.8800000000001,2686.02,0,0,0,11967.62,9764.77,21732.39,13446.76,1479.14,2958.28,9,1479.14,"Decisão de Fls. 315/316 - ExeMs 10.424/DF  (2006/0180765-2)",5218.3100000000004,4257.8,9476.11,574.01,468.36,1042.3699999999999,0,0,0,4644.3,3789.44,8433.74,5218.3100000000004,574.01,1148.02,574.01,{"$f":"IF($D3321=\"\",\"\",BX3320)","v":"Não"},"Não","Não","-","-","Não informada","Não Informada","Não",11,null,10,"","","",0,0,0,0,0,0,0,0,0,0,null,null,1,24418.41,1,24418.41,0,0,null,null,0,0,0,0,0,0,0,null,"2020-01-03",{"$error":"#REF!"},1,{"$error":"#REF!"},{"$error":"#REF!"},{"$error":"#REF!"},{"$error":"#REF!"},{"$f":"IF(AND(B3322=\"\",B3321>0),B3321,0)","v":0}]
[{"$f":"#REF!","v":{"$error":"#REF!"}},8772,"RPV",8772,"2019/0313861-5","2019-10-17",null,"Aguardando Pagamento","sem verba para pgto",null,null,null,null,"AR 1.169/CE","1999/0096834-4","1999-10-18","2004-06-07",null,"Administrativo - Servidor Público Civil - Sistema Remuneratório e Benefícios","Instituto Nacional do Seguro Social - INSS","Instituto Nacional do Seguro Social - INSS",null,"Ação Rescisória 1.169/CE","2009/0055162-0","2014-09-30",null,"Vera Lucia Cunha Ribeiro ","071.258.443-91","Servidor Público Civil Ativo","Anuênios","Alimentar",10,"Glayddes Sindeaux Advogados","17.291.820/0001-82",null,null,0,"Dedução de Honorários Contratuais","IPCA-e","2019-10-01",{"$error":"#REF!"},6401.93,7396.14,13798.07,640.19000000000005,739.61,1379.8,0,0,0,5761.74,6656.53,12418.27,6401.93,704.21,1408.42,47,704.21,null,null,null,null,null,null,null,null,null,null,null,null,null,null,null,null,null,{"$f":"IF($D3368=\"\",\"\",BX3367)","v":"Não"},"Não","Não","-","-","Não informada","Não Informada","Não",10,null,10,"","","",0,0,0,0,0,0,0,0,0,0,null,null,1,13798.07,1,13798.07,0,0,null,null,0,0,0,0,0,0,0,null,"2020-01-03",{"$error":"#REF!"},1,{"$error":"#REF!"},{"$error":"#REF!"},{"$error":"#REF!"},{"$error":"#REF!"},0]
[{"$f":"#REF!","v":{"$error":"#REF!"}},8784,"RPV",8784,"2019/0313950-0","2019-10-17",null,"Aguardando Pagamento","sem verba para pgto",null,null,null,null,"MS 10.424/DF","2005/0021065-5","2005-02-17","2005-10-27",null,"Administrativo - Servidor Público Civil - Sistema Remuneratório e Benefícios - Gratificações","Ministério do Planejamento, Orçamento e Gestão","UNIÃO",null,"Mandado de Segurança 10.424/DF","2006/0180810-7","2015-04-08",null,"Sulamita Belarmino Dos Santos ","152.092.292-20","Servidor Público Civil Ativo","Gratificação Específica de Atividade Docente - GEAD","Alimentar",11,"Fonseca e Assis Advogados Associados","01.971.231/0001-05",null,null,0,"Dedução de Honorários Contratuais","IPCA-e","2019-10-01",{"$error":"#REF!"},7437.5,6386.51,13824.01,818.12,702.52,1520.64,0,0,0,6619.38,5683.99,12303.37,7437.5,818.12,1636.24,9,818.12,null,null,null,null,null,null,null,null,null,null,null,null,null,null,null,null,null,{"$f":"IF($D3380=\"\",\"\",BX3379)","v":"Não"},"Não","Não","-","-","Não informada","Não Informada","Não",11,null,10,"","","",0,0,0,0,0,0,0,0,0,0,null,null,1,13824.01,1,13824.01,0,0,null,null,0,0,0,0,0,0,0,null,"2020-01-03",{"$error":"#REF!"},1,{"$error":"#REF!"},{"$error":"#REF!"},{"$error":"#REF!"},{"$error":"#REF!"},0]
[{"$f":"#REF!","v":{"$error":"#REF!"}},8812,"RPV",8812,"2019/0314126-0","2019-10-17",null,"Aguardando Pagamento","sem verba para pgto",null,null,null,null,"AR 1.169/CE","1999/0096834-4","1999-10-18","2004-06-07",null,"Administrativo - Servidor Público Civil - Sistema Remuneratório e Benefícios","Instituto Nacional do Seguro Social - INSS","Instituto Nacional do Seguro Social - INSS",null,"Ação Rescisória 1.169/CE","2009/0055166-8","2014-09-30",null,"Maristor De Carvalho Barbosa ","204.179.423-20","Servidor Público Civil Ativo","Anuênios","Alimentar",10,"Glayddes Sindeaux Advogados","17.291.820/0001-82",null,null,0,"Dedução de Honorários Contratuais","IPCA-e","2019-10-01",{"$error":"#REF!"},3165.07,3656.58,6821.65,316.5,365.66,682.16,0,0,0,2848.57,3290.92,6139.49,3165.07,348.15,696.3,47,348.15,null,null,null,null,null,null,null,null,null,null,null,null,null,null,null,null,null,{"$f":"IF($D3408=\"\",\"\",BX3407)","v":"Não"},"Não","Não","-","-","Não informada","Não Informada","Não",10,null,10,"","","",0,0,0,0,0,0,0,0,0,0,null,null,1,6821.65,1,6821.65,0,0,null,null,0,0,0,0,0,0,0,null,"2020-01-03",{"$error":"#REF!"},1,{"$error":"#REF!"},{"$error":"#REF!"},{"$error":"#REF!"},{"$error":"#REF!"},0]
[{"$f":"#REF!","v":{"$error":"#REF!"}},8865,"RPV",8865,"2019/0322630-3","2019-10-25",null,"Aguardando Pagamento","sem verba para pgto",null,null,null,null,"AR 1.169/CE","1999/0096834-4","1999-10-18","2004-06-07",null,"Administrativo - Servidor Público Civil - Sistema Remuneratório e Benefícios","Instituto Nacional do Seguro Social - INSS","Instituto Nacional do Seguro Social - INSS",null,"Ação Rescisória 1.169/CE","2009/0055188-3","2014-09-30",null,"Maria Marta De Castro ","046.960.263-53","Servidor Público Civil Ativo","Anuênios","Alimentar",20,"Glayddes Sindeaux Advogados","17.291.820/0001-82",null,null,0,"Dedução de Honorários Contratuais","IPCA-e","2019-10-01",{"$error":"#REF!"},4216.03,4870.76,9086.7900000000009,843.2,974.15,1817.35,0,0,0,3372.83,3896.61,7269.44,812.41,89.36,178.72,47,89.36,null,null,null,null,null,null,null,null,null,null,null,null,null,null,null,null,null,{"$f":"IF($D3461=\"\",\"\",BX3460)","v":"Não"},"Não","Não","-","-","Não informada","Não Informada","Não",20,null,10,"","","",0,0,0,0,0,0,0,0,0,0,null,null,1,9086.7900000000009,1,9086.7900000000009,0,0,null,null,0,0,0,0,0,0,0,null,"2020-01-03",{"$error":"#REF!"},1,{"$error":"#REF!"},{"$error":"#REF!"},{"$error":"#REF!"},{"$error":"#REF!"},0]
[{"$f":"#REF!","v":{"$error":"#REF!"}},8871,"RPV",8871,"2019/0322655-4","2019-10-25",null,"Aguardando Pagamento","sem verba para pgto",null,null,null,null,"AR 1.169/CE","1999/0096834-4","1999-10-18","2004-06-07",null,"Administrativo - Servidor Público Civil - Sistema Remuneratório e Benefícios","Instituto Nacional do Seguro Social - INSS","Instituto Nacional do Seguro Social - INSS",null,"Ação Rescisória 1.169/CE","2009/0055280-7","2014-09-30",null,"Maria José Dos Santos Pereira ","153.964.953-91","Servidor Público Civil Ativo","Anuênios","Alimentar",10,"Glayddes Sindeaux Advogados","17.291.820/0001-82",null,null,0,"Dedução de Honorários Contratuais","IPCA-e","2019-10-01",{"$error":"#REF!"},1696.69,1960.16,3656.85,169.66,196.02,365.68,0,0,0,1527.03,1764.14,3291.17,1696.69,186.63,373.26,47,186.63,null,null,null,null,null,null,null,null,null,null,null,null,null,null,null,null,null,{"$f":"IF($D3467=\"\",\"\",BX3466)","v":"Não"},"Não","Não","-","-","Não informada","Não Informada","Não",10,null,10,"","","",0,0,0,0,0,0,0,0,0,0,null,null,1,3656.85,1,3656.85,0,0,null,null,0,0,0,0,0,0,0,null,"2020-01-03",{"$error":"#REF!"},1,{"$error":"#REF!"},{"$error":"#REF!"},{"$error":"#REF!"},{"$error":"#REF!"},0]
[{"$f":"#REF!","v":{"$error":"#REF!"}},8904,"RPV",8904,"2019/0324442-6","2019-10-28",null,"Aguardando Pagamento","sem verba para pgto",null,null,null,null,"AR 1.169/CE","1999/0096834-4","1999-10-18","2004-06-07",null,"Administrativo - Servidor Público Civil - Sistema Remuneratório e Benefícios","Instituto Nacional do Seguro Social - INSS","Instituto Nacional do Seguro Social - INSS",null,"Ação Rescisória 1.169/CE","2009/0055679-5","2014-09-30",null,"Sebastião Hugo Teixeira Júnior ","224.035.903-04","Servidor Público Civil Ativo","Anuênios","Alimentar",10,"Glayddes Sindeaux Advogados","17.291.820/0001-82",null,null,0,"Dedução de Honorários Contratuais","IPCA-e","2019-10-01",{"$error":"#REF!"},1975.27,2282.02,4257.29,197.52,228.2,425.72,0,0,0,1777.75,2053.8200000000002,3831.57,1975.27,217.27,434.54,47,217.27,null,null,null,null,null,null,null,null,null,null,null,null,null,null,null,null,null,{"$f":"IF($D3499=\"\",\"\",BX3498)","v":"Não"},"Não","Não","-","-","Não informada","Não Informada","Não",10,null,10,"","","",0,0,0,0,0,0,0,0,0,0,null,null,1,4257.29,1,4257.29,0,0,null,null,0,0,0,0,0,0,0,null,"2020-01-03",{"$error":"#REF!"},1,{"$error":"#REF!"},{"$error":"#REF!"},{"$error":"#REF!"},{"$error":"#REF!"},0]
[{"$f":"#REF!","v":{"$error":"#REF!"}},8959,"RPV",8959,"2019/0325668-2","2019-10-28",null,"Aguardando Pagamento","sem verba para pgto",null,null,null,null,"AR 1.169/CE","1999/0096834-4","1999-10-18","2004-06-07",null,"Administrativo - Servidor Público Civil - Sistema Remuneratório e Benefícios","Instituto Nacional do Seguro Social - INSS","Instituto Nacional do Seguro Social - INSS",null,"Ação Rescisória 1.169/CE","2009/0055292-1","2014-09-30",null,"Janildo Temoteo De Sousa ","276.154.214-20","Servidor Público Civil Ativo","Anuênios","Alimentar",10,"Glayddes Sindeaux Advogados","17.291.820/0001-82",null,null,0,"Dedução de Honorários Contratuais","IPCA-e","2019-10-01",{"$error":"#REF!"},2418.5,2794.08,5212.58,241.85,279.39999999999998,521.25,0,0,0,2176.65,2514.6799999999998,4691.33,2418.5,266.02999999999997,532.05999999999995,47,266.02999999999997,null,null,null,null,null,null,null,null,null,null,null,null,null,null,null,null,null,{"$f":"IF($D3554=\"\",\"\",BX3553)","v":"Não"},"Não","Não","-","-","Não informada","Não Informada","Não",10,null,10,"","","",0,0,0,0,0,0,0,0,0,0,null,null,1,5212.58,1,5212.58,0,0,null,null,0,0,0,0,0,0,0,null,"2020-01-03",{"$error":"#REF!"},1,{"$error":"#REF!"},{"$error":"#REF!"},{"$error":"#REF!"},{"$error":"#REF!"},0]
[{"$f":"#REF!","v":{"$error":"#REF!"}},8990,"RPV",8990,"2019/0327440-4","2019-10-30",null,"Aguardando Pagamento","sem verba para pgto",null,null,null,null,"AR 1.169/CE","1999/0096834-4","1999-10-18","2004-06-07",null,"Administrativo - Servidor Público Civil - Sistema Remuneratório e Benefícios","Instituto Nacional do Seguro Social - INSS","Instituto Nacional do Seguro Social - INSS",null,"Ação Rescisória 1.169/CE","2009/0056149-9","2015-03-26",null,"Antônio Arruda De Sousa ","212.372.713-04","Servidor Público Civil Ativo","Anuênios","Alimentar",10,"Glayddes Sindeaux Advogados","17.291.820/0001-82",null,null,0,"Dedução de Honorários Contratuais","IPCA-e","2019-10-01",{"$error":"#REF!"},1853.62,2141.4699999999998,3995.09,185.36,214.14,399.5,0,0,0,1668.26,1927.33,3595.59,1853.62,203.89,407.78,47,203.89,null,null,null,null,null,null,null,null,null,null,null,null,null,null,null,null,null,{"$f":"IF($D3585=\"\",\"\",BX3584)","v":"Não"},"Não","Não","-","-","Não informada","Não Informada","Não",10,null,10,"","","",0,0,0,0,0,0,0,0,0,0,null,null,1,3995.09,1,3995.09,0,0,null,null,0,0,0,0,0,0,0,null,"2020-01-03",{"$error":"#REF!"},1,{"$error":"#REF!"},{"$error":"#REF!"},{"$error":"#REF!"},{"$error":"#REF!"},0]
[{"$f":"#REF!","v":{"$error":"#REF!"}},9022,"RPV",9022,"2019/0336476-7","2019-11-07",null,"Aguardando Pagamento","sem verba para pgto",null,null,null,null,"MS 6.019/DF","1998/0079215-5","1998-10-22","2007-12-10",null,"Administrativo - Servidor Público Civil - Sistema Remuneratório e Benefícios","Instituto Nacional do Seguro Social - INSS","Instituto Nacional do Seguro Social - INSS",null,"Mandado de Segurança 6.019/DF","2013/0199230-3","2019-10-04",null,"Dulce Helena de Mello Nogueira","131.098.717-34","Pensionista Civil","Reajuste Salarial - Resíduo de 3,17%","Alimentar",6.5,"Mota & Advogados Associados","03.996.810/0001-38"," x x x "," x x x ",0,"Dedução de Honorários Contratuais","IPCA-e","2019-10-01",{"$error":"#REF!"},8183.42,11511.24,19694.66,531.91999999999996,748.23,1280.1500000000001,0,0,0,7651.5,10763.01,18414.509999999998,0,0,0,23,0,null,null,null,null,null,null,null,null,null,null,null,null,null,0,null,null,null,{"$f":"IF($D3617=\"\",\"\",BX3616)","v":"Não"},"Não","Não","-","-","Não informada","Não Informada","Não",6.5,null,11,"","","",0,0,0,0,0,0,0,0,0,0,null,null,1,19694.66,1,19694.66,0,0,null,null,0,0,0,0,0,0,0,null,"2020-01-03",{"$error":"#REF!"},1,{"$error":"#REF!"},{"$error":"#REF!"},{"$error":"#REF!"},{"$error":"#REF!"},0]
[{"$f":"#REF!","v":{"$error":"#REF!"}},9054,{"$f":"IF(B3647=\"\",\"\",IF(B3647-B3646=1,\"RPV\",\"PULOUUU\"))","v":"RPV"},9054,"2019/0358713-8","2019-11-28",null,"Aguardando Pagamento","sem verba para pgto",null,null,null,null,"MS 7.386/DF","2001/0010437-1","2001-01-31","2003-12-04",null,"Administrativo - Servidor Público Civil - Sistema Remuneratório e Benefícios - Gratificações da Lei 8.112/1990","Ministério do Planejamento, Orçamento e Gestão","UNIÃO",null,"Mandado de Segurança 7.386/DF","2014/0104448-5","2012-06-13",null,"Cisina Araújo Braga","481.962.582-91","Pensionista de Servidor Público Civil Inativo","Gratificação de Operações Especiais - GOE","Alimentar",15,"Marcelo Lavocat Galvão","515.873.001-68","Paulo Sérgio Cunha","515.212.887-04",15,"Dedução de Honorários Contratuais",{"$f":"IF(AN3647=\"\",\"\",AM3646)","v":"IPCA-e"},"2019-11-01",{"$f":"IF(AM3647=\"\",\"\",VLOOKUP(AN3647,indice,3))","v":{"$error":"#REF!"}},6815.89,8925.3799999999992,15741.27,1022.38,1338.81,2361.19,1022.38,1338.81,2361.19,4771.13,6247.76,11018.89,0,0,0,50,0,"Deisão de fls. 803/805 da Execução - Registro 2014/0104448-5",6126.29,6753.91,12880.2,918.94,1013.09,1932.03,918.94,1013.09,1932.03,4288.41,4727.7299999999996,9016.14,0,0,0,0,{"$f":"IF($D3647=\"\",\"\",BX3646)","v":"Não"},"Não","Não","-","-","Não informada","Não Informada","Não",15,null,11,"","","",0,0,0,0,0,0,0,0,0,0,null,null,1,15741.27,1,15741.27,0,0,null,null,0,0,0,0,0,0,0,null,"2020-01-03",{"$error":"#REF!"},1,{"$error":"#REF!"},{"$error":"#REF!"},{"$error":"#REF!"},{"$error":"#REF!"},0]
[{"$f":"#REF!","v":{"$error":"#REF!"}},9079,"RPV",9079,"2019/0358788-3","2019-11-28",null,"Aguardando Pagamento","sem verba para pgto",null,null,null,null,"MS 10.424/DF","2005/0021065-5","2005-02-17","2005-10-27",null,"Administrativo - Servidor Público Civil - Sistema Remuneratório e Benefícios - Gratificações","Ministério do Planejamento, Orçamento e Gestão","UNIÃO",null,"Mandado de Segurança 10.424/DF","2006/0180782-9","2016-02-12",null,"Serys Fausta Marques Allyen ","115.570.442-87","Servidor Público Civil Ativo","Gratificação Específica de Atividade Docente - GEAD","Alimentar",11,"Fonseca e Assis Advogados Associados","01.971.231/0001-05"," x x x "," x x x ",0,"Dedução de Honorários Contratuais","IPCA-e","2019-11-01",{"$error":"#REF!"},8228.4500000000007,6763.4,14991.85,905.12,743.98,1649.1,0,0,0,7323.33,6019.42,13342.75,8228.4500000000007,905.12,1810.24,9,905.12,null,null,null,null,null,null,null,null,null,null,null,null,null,null,null,null,null,{"$f":"IF($D3672=\"\",\"\",BX3671)","v":"Não"},"Não","Não","-","-","Não informada","Não Informada","Não",11,null,11,"","","",0,0,0,0,0,0,0,0,0,0,null,null,1,14991.85,1,14991.85,0,0,null,null,0,0,0,0,0,0,0,null,"2020-01-03",{"$error":"#REF!"},1,{"$error":"#REF!"},{"$error":"#REF!"},{"$error":"#REF!"},{"$error":"#REF!"},0]
[{"$f":"#REF!","v":{"$error":"#REF!"}},9101,"RPV",9101,"2019/0359939-4","2019-11-29",null,"Aguardando Pagamento","sem verba para pgto",null,null,null,null,"MS 10.424/DF","2005/0021065-5","2005-02-17","2005-10-27",null,"Administrativo - Servidor Público Civil - Sistema Remuneratório e Benefícios - Gratificações","Ministério do Planejamento, Orçamento e Gestão","UNIÃO",null,"Mandado de Segurança 10.424/DF","2006/0199674-5","2018-12-07",null,"Terezinha De Jesus Beira Pantoja ","007.823.708-45","Servidor Público Civil Inativo","Gratificação Específica de Atividade Docente - GEAD","Alimentar",11,"Fonseca e Assis Advogados Associados","01.971.231/0001-05"," x x x "," x x x ",0,"Dedução de Honorários Contratuais","IPCA-e","2019-11-01",{"$error":"#REF!"},8228.4500000000007,6763.4,14991.85,905.12,743.98,1649.1,0,0,0,7323.33,6019.42,13342.75,8228.4500000000007,905.12,0,9,905.12,null,null,null,null,null,null,null,null,null,null,null,null,null,null,null,null,null,{"$f":"IF($D3694=\"\",\"\",BX3693)","v":"Não"},"Não","Não","-","-","Não informada","Não Informada","Não",11,null,11,"","","",0,0,0,0,0,0,0,0,0,0,null,null,1,14991.85,1,14991.85,0,0,null,null,0,0,0,0,0,0,0,null,"2020-01-03",{"$error":"#REF!"},1,{"$error":"#REF!"},{"$error":"#REF!"},{"$error":"#REF!"},{"$error":"#REF!"},0]
[{"$f":"#REF!","v":{"$error":"#REF!"}},9138,"RPV",9138,"2019/0361443-1","2019-12-02",null,"Aguardando Pagamento","sem verba para pgto",null,null,null,null,"MS 10.424/DF","2005/0021065-5","2005-02-17","2005-10-27",null,"Administrativo - Servidor Público Civil - Sistema Remuneratório e Benefícios - Gratificações","Ministério do Planejamento, Orçamento e Gestão","UNIÃO",null,"Mandado de Segurança 10.424/DF","2006/0199678-2","2019-02-27",null,"Eutalia Costa Pinheiro ","030.686.172-00","Servidor Público Civil Inativo","Gratificação Específica de Atividade Docente - GEAD","Alimentar",11,"Fonseca e Assis Advogados Associados","01.971.231/0001-05"," x x x "," x x x ",0,"Dedução de Honorários Contratuais","IPCA-e","2019-11-01",{"$error":"#REF!"},8228.4500000000007,6763.4,14991.85,905.12,743.98,1649.1,0,0,0,7323.33,6019.42,13342.75,8228.4500000000007,905.12,0,9,905.12,null,"","","",null,null,null,null,null,null,null,null,null,null,null,null,null,{"$f":"IF($D3731=\"\",\"\",BX3730)","v":"Não"},"Não","Não","-","-","Não informada","Não Informada","Não",11,null,12,"","","",0,0,0,0,0,0,0,0,0,0,null,null,1,14991.85,1,14991.85,0,0,null,null,0,0,0,0,0,0,0,null,"2020-01-03",{"$error":"#REF!"},1,{"$error":"#REF!"},{"$error":"#REF!"},{"$error":"#REF!"},{"$error":"#REF!"},0]
[{"$f":"#REF!","v":{"$error":"#REF!"}},"","",null,null,null,null,null,"",null,null,null,null,null,null,null,null,null,null,null,null,null,null,null,null,null,null,null,null,null,null,null,null,null,null,null,null,null,"",null,"",null,"",null,"","",null,"","",null,null,"",null,null,null,null,null,null,null,"","","",null,null,null,null,null,null,null,null,null,null,null,null,null,{"$f":"IF($D3763=\"\",\"\",BX3762)","v":""},"","","","","","","","",null,"","","","",0,0,0,0,0,0,0,0,0,0,null,null,0,0,0,0,0,0,null,null,0,0,0,0,0,0,0,null,"",0,0,0,0,0,0,""]
[{"$f":"#REF!","v":{"$error":"#REF!"}},"","",null,null,null,null,null,"",null,null,null,null,null,null,null,null,null,null,null,null,null,null,null,null,null,null,null,null,null,null,null,null,null,null,null,null,null,"",null,"",null,"",null,"","",null,"","",null,null,"",null,null,null,null,null,null,null,"","","",null,null,null,null,null,null,null,null,null,null,null,null,null,{"$f":"IF($D3787=\"\",\"\",BX3786)","v":""},"","","","","","","","",null,"","","","",0,0,0,0,0,0,0,0,0,0,null,null,0,0,0,0,0,0,null,null,0,0,0,0,0,0,0,null,"",0,0,0,0,0,0,""]
[{"$f":"#REF!","v":{"$error":"#REF!"}},"","",null,null,null,null,null,"",null,null,null,null,null,null,null,null,null,null,null,null,null,null,null,null,null,null,null,null,null,null,null,null,null,null,null,null,null,"",null,"",null,"",null,"","",null,"","",null,null,"",null,null,null,null,null,null,null,"","","",null,null,null,null,null,null,null,null,null,null,null,null,null,{"$f":"IF($D3818=\"\",\"\",BX3817)","v":""},"","","","","","","","",null,"","","","",0,0,0,0,0,0,0,0,0,0,null,null,0,0,0,0,0,0,null,null,0,0,0,0,0,0,0,null,"",0,0,0,0,0,0,""]
[{"$f":"#REF!","v":{"$error":"#REF!"}},"","",null,null,null,null,null,"",null,null,null,null,null,null,null,null,null,null,null,null,null,null,null,null,null,null,null,null,null,null,null,null,null,null,null,null,null,"",null,"",null,"",null,"","",null,"","",null,null,"",null,null,null,null,null,null,null,"","","",null,null,null,null,null,null,null,null,null,null,null,null,null,{"$f":"IF($D3850=\"\",\"\",BX3849)","v":""},"","","","","","","","",null,"","","","",0,0,0,0,0,0,0,0,0,0,null,null,0,0,0,0,0,0,null,null,0,0,0,0,0,0,0,null,"",0,0,0,0,0,0,""]
[{"$f":"#REF!","v":{"$error":"#REF!"}},"","",null,null,null,null,null,"",null,null,null,null,null,null,null,null,null,null,null,null,null,null,null,null,null,null,null,null,null,null,null,null,null,null,null,null,null,"",null,"",null,"",null,"","",null,"","",null,null,"",null,null,null,null,null,null,null,"","","",null,null,null,null,null,null,null,null,null,null,null,null,null,{"$f":"IF($D3880=\"\",\"\",BX3879)","v":""},"","","","","","","","",null,"","","","",0,0,0,0,0,0,0,0,0,0,null,null,0,0,0,0,0,0,null,null,0,0,0,0,0,0,0,null,"",0,0,0,0,0,0,""]
[{"$f":"#REF!","v":{"$error":"#REF!"}},"","",null,null,null,null,null,"",null,null,null,null,null,null,null,null,null,null,null,null,null,null,null,null,null,null,null,null,null,null,null,null,null,null,null,null,null,"",null,"",null,"",null,"","",null,"","",null,null,"",null,null,null,null,null,null,null,"","","",null,null,null,null,null,null,null,null,null,null,null,null,null,{"$f":"IF($D3905=\"\",\"\",BX3904)","v":""},"","","","","","","","",null,"","","","",0,0,0,0,0,0,0,0,0,0,null,null,0,0,0,0,0,0,null,null,0,0,0,0,0,0,0,null,"",0,0,0,0,0,0,""]
[{"$f":"#REF!","v":{"$error":"#REF!"}},"","",null,null,null,null,null,"",null,null,null,null,null,null,null,null,null,null,null,null,null,null,null,null,null,null,null,null,null,null,null,null,null,null,null,null,null,"",null,"",null,"",null,"","",null,"","",null,null,"",null,null,null,null,null,null,null,"","","",null,null,null,null,null,null,null,null,null,null,null,null,null,{"$f":"IF($D3937=\"\",\"\",BX3936)","v":""},"","","","","","","","",null,"","","","",0,0,0,0,0,0,0,0,0,0,null,null,0,0,0,0,0,0,null,null,0,0,0,0,0,0,0,null,"",0,0,0,0,0,0,""]
[{"$f":"#REF!","v":{"$error":"#REF!"}},"","",null,null,null,null,null,"",null,null,null,null,null,null,null,null,null,null,null,null,null,null,null,null,null,null,null,null,null,null,null,null,null,null,null,null,null,"",null,"",null,"",null,"","",null,"","",null,null,"",null,null,null,null,null,null,null,"","","",null,null,null,null,null,null,null,null,null,null,null,null,null,{"$f":"IF($D3955=\"\",\"\",BX3954)","v":""},"","","","","","","","",null,"","","","",0,0,0,0,0,0,0,0,0,0,null,null,0,0,0,0,0,0,null,null,0,0,0,0,0,0,0,null,"",0,0,0,0,0,0,""]
[{"$f":"#REF!","v":{"$error":"#REF!"}},"","",null,null,null,null,null,"",null,null,null,null,null,null,null,null,null,null,null,null,null,null,null,null,null,null,null,null,null,null,null,null,null,null,null,null,null,"",null,"",null,"",null,"","",null,"","",null,null,"",null,null,null,null,null,null,null,"","","",null,null,null,null,null,null,null,null,null,null,null,null,null,{"$f":"IF($D3956=\"\",\"\",BX3955)","v":""},"","","","","","","","",null,"","","","",0,0,0,0,0,0,0,0,0,0,null,null,0,0,0,0,0,0,null,null,0,0,0,0,0,0,0,null,"",0,0,0,0,0,0,""]
[{"$f":"#REF!","v":{"$error":"#REF!"}},"",{"$f":"IF(B3957=\"\",\"\",IF(B3957-B3956=1,\"RPV\",\"PULOUUU\"))","v":""},null,null,null,null,null,{"$f":"IF(B3957=\"\",\"\",\"sem verba para pgto\")","v":""},null,null,null,null,null,null,null,null,null,null,null,null,null,null,null,null,null,null,null,null,null,null,null,null,null,null,null,null,null,{"$f":"IF(AN3957=\"\",\"\",AM3956)","v":""},null,{"$f":"IF(AM3957=\"\",\"\",VLOOKUP(AN3957,indice,3))","v":""},null,{"$f":"IF(AP3957=\"\",\"\",IF(N3957=\"MS 11.371/DF\",AR3957,AR3957-AP3957))","v":""},null,{"$f":"IF(AY3957=\"\",\"\",IF(AX3957=0,TRUNC(AP3957*CF3957/100,2),AV3957))","v":""},{"$f":"IF(AY3957=\"\",\"\",IF(N3957=\"MS 11.371/DF\",AU3957,IF(CF3957=0,0,AU3957-AS3957)))","v":""},null,{"$f":"IF(AY3957=\"\",\"\",IF(AX3957=0,0,TRUNC(AP3957*CF3957/100/2,2)))","v":""},{"$f":"IF(AY3957=\"\",\"\",IF(AX3957=0,0,AX3957-AV3957))","v":""},null,null,{"$f":"IF(AY3957=\"\",\"\",IF(N3957=\"MS 11.371/DF\",BA3957,BA3957-AY3957))","v":""},null,null,null,null,null,null,null,{"$f":"IF(BQ3957=\"\",\"\",IF(BQ3957=0,0,BQ3957+BK3957+BN3957))","v":""},{"$f":"IF(BR3957=\"\",\"\",IF(BR3957=0,0,BR3957+BL3957+BO3957))","v":""},{"$f":"IF(BS3957=\"\",\"\",IF(BS3957=0,0,BS3957+BM3957+BP3957))","v":""},null,null,null,null,null,null,null,null,null,null,null,null,null,{"$f":"IF($D3957=\"\",\"\",BX3956)","v":""},"","","","","","","",{"$f":"IF(AU3957=\"\",\"\",IF(AU3957=0,0,ROUND(AU3957*100/AR3957,1)))","v":""},null,{"$f":"IF(F3957=\"\",\"\",MONTH(F3957))","v":""},{"$f":"IF(H3957=\"paga\",AN3957,\"\")","v":""},{"$f":"IF(CI3957=\"\",\"\",J3957)","v":""},{"$f":"IF(CJ3957=\"\",\"\",1/VLOOKUP($CI3957,indice,3)*VLOOKUP($CJ3957,indice,3))","v":""},0,{"$f":"IF($CK3957=\"\",0,TRUNC($AU3957*CK3957,2))","v":0},0,{"$f":"IF($CK3957=\"\",0,CL3957+CM3957+CN3957)","v":0},0,{"$f":"IF(H3957=\"PAGA\",CO3957,0)","v":0},{"$f":"IF(AND(CP3957=1,AE3957=\"ALIMENTAR\"),1,0)","v":0},{"$f":"IF(CR3957=1,CO3957,0)","v":0},{"$f":"IF(AND(CP3957=1,AE3957=\"COMUM\"),1,0)","v":0},{"$f":"IF(CT3957=1,CO3957,0)","v":0},null,null,{"$f":"IF(AE3957=\"\",0,IF(AE3957=\"\",0,1))","v":0},{"$f":"IF(CX3957=1,AR3957,0)","v":0},{"$f":"IF(AE3957=\"alimentar\",1,0)","v":0},{"$f":"IF(AE3957=\"alimentar\",AR3957,0)","v":0},{"$f":"IF(AE3957=\"comum\",1,0)","v":0},{"$f":"IF(AE3957=\"comum\",AR3957,0)","v":0},null,null,{"$f":"IF(J3957=DK$7,1/AO3957*DF$10,0)","v":0},{"$f":"IF(DF3957=0,0,CO3957)","v":0},{"$f":"IF(DF3957=0,0,1)","v":0},{"$f":"IF(DG3957=0,0,IF(AE3957=\"ALIMENTAR\",1,0))","v":0},{"$f":"IF(DI3957=0,0,DG3957)","v":0},{"$f":"IF(DG3957=0,0,IF(AE3957=\"comum\",1,0))","v":0},{"$f":"IF(DK3957=1,DG3957,0)","v":0},null,{"$f":"IF(H3957=\"aguardando pagamento\",DS$7,\"\")","v":""},{"$f":"IF(AN3957=\"\",0,IF(DN3957=\"\",0,AR3957*(1/VLOOKUP(AN3957,indice,3)*DN$10)))","v":0},{"$f":"IF(DN3957=\"\",0,1)","v":0},{"$f":"IF(DO3957=0,0,IF(AE3957=\"ALIMENTAR\",1,0))","v":0},{"$f":"IF(DQ3957=0,0,DO3957)","v":0},{"$f":"IF(DO3957=0,0,IF(AE3957=\"comum\",1,0))","v":0},{"$f":"IF(DS3957=1,DO3957,0)","v":0},{"$f":"IF(AND(B3958=\"\",B3957>0),B3957,0)","v":""}]
[{"$f":"#REF!","v":{"$error":"#REF!"}},"","",null,null,null,null,null,"",null,null,null,null,null,null,null,null,null,null,null,null,null,null,null,null,null,null,null,null,null,null,null,null,null,null,null,null,null,"",null,"",null,"",null,"","",null,"","",null,null,"",null,null,null,null,null,null,null,"","","",null,null,null,null,null,null,null,null,null,null,null,null,null,{"$f":"IF($D3958=\"\",\"\",BX3957)","v":""},"","","","","","","","",null,"","","","",0,0,0,0,0,0,0,0,0,0,null,null,0,0,0,0,0,0,null,null,0,0,0,0,0,0,0,null,"",0,0,0,0,0,0,""]
[{"$f":"#REF!","v":{"$error":"#REF!"}},"","",null,null,null,null,null,"",null,null,null,null,null,null,null,null,null,null,null,null,null,null,null,null,null,null,null,null,null,null,null,null,null,null,null,null,null,"",null,"",null,"",null,"","",null,"","",null,null,"",null,null,null,null,null,null,null,"","","",null,null,null,null,null,null,null,null,null,null,null,null,null,{"$f":"IF($D3959=\"\",\"\",BX3958)","v":""},"","","","","","","","",null,"","","","",0,0,0,0,0,0,0,0,0,0,null,null,0,0,0,0,0,0,null,null,0,0,0,0,0,0,0,null,"",0,0,0,0,0,0,""]
[{"$f":"#REF!","v":{"$error":"#REF!"}},"","",null,null,null,null,null,"",null,null,null,null,null,null,null,null,null,null,null,null,null,null,null,null,null,null,null,null,null,null,null,null,null,null,null,null,null,"",null,"",null,"",null,"","",null,"","",null,null,"",null,null,null,null,null,null,null,"","","",null,null,null,null,null,null,null,null,null,null,null,null,null,{"$f":"IF($D3960=\"\",\"\",BX3959)","v":""},"","","","","","","","",null,"","","","",0,0,0,0,0,0,0,0,0,0,null,null,0,0,0,0,0,0,null,null,0,0,0,0,0,0,0,null,"",0,0,0,0,0,0,""]
[{"$f":"#REF!","v":{"$error":"#REF!"}},"","",null,null,null,null,null,"",null,null,null,null,null,null,null,null,null,null,null,null,null,null,null,null,null,null,null,null,null,null,null,null,null,null,null,null,null,"",null,"",null,"",null,"","",null,"","",null,null,"",null,null,null,null,null,null,null,"","","",null,null,null,null,null,null,null,null,null,null,null,null,null,{"$f":"IF($D3961=\"\",\"\",BX3960)","v":""},"","","","","","","","",null,"","","","",0,0,0,0,0,0,0,0,0,0,null,null,0,0,0,0,0,0,null,null,0,0,0,0,0,0,0,null,"",0,0,0,0,0,0,""]
[{"$f":"#REF!","v":{"$error":"#REF!"}},"","",null,null,null,null,null,"",null,null,null,null,null,null,null,null,null,null,null,null,null,null,null,null,null,null,null,null,null,null,null,null,null,null,null,null,null,"",null,"",null,"",null,"","",null,"","",null,null,"",null,null,null,null,null,null,null,"","","",null,null,null,null,null,null,null,null,null,null,null,null,null,{"$f":"IF($D3962=\"\",\"\",BX3961)","v":""},"","","","","","","","",null,"","","","",0,0,0,0,0,0,0,0,0,0,null,null,0,0,0,0,0,0,null,null,0,0,0,0,0,0,0,null,"",0,0,0,0,0,0,""]
[{"$f":"#REF!","v":{"$error":"#REF!"}},"","",null,null,null,null,null,"",null,null,null,null,null,null,null,null,null,null,null,null,null,null,null,null,null,null,null,null,null,null,null,null,null,null,null,null,null,"",null,"",null,"",null,"","",null,"","",null,null,"",null,null,null,null,null,null,null,"","","",null,null,null,null,null,null,null,null,null,null,null,null,null,{"$f":"IF($D3963=\"\",\"\",BX3962)","v":""},"","","","","","","","",null,"","","","",0,0,0,0,0,0,0,0,0,0,null,null,0,0,0,0,0,0,null,null,0,0,0,0,0,0,0,null,"",0,0,0,0,0,0,""]
[{"$f":"#REF!","v":{"$error":"#REF!"}},"","",null,null,null,null,null,"",null,null,null,null,null,null,null,null,null,null,null,null,null,null,null,null,null,null,null,null,null,null,null,null,null,null,null,null,null,"",null,"",null,"",null,"","",null,"","",null,null,"",null,null,null,null,null,null,null,"","","",null,null,null,null,null,null,null,null,null,null,null,null,null,{"$f":"IF($D3964=\"\",\"\",BX3963)","v":""},"","","","","","","","",null,"","","","",0,0,0,0,0,0,0,0,0,0,null,null,0,0,0,0,0,0,null,null,0,0,0,0,0,0,0,null,"",0,0,0,0,0,0,""]
[{"$f":"#REF!","v":{"$error":"#REF!"}},"","",null,null,null,null,null,"",null,null,null,null,null,null,null,null,null,null,null,null,null,null,null,null,null,null,null,null,null,null,null,null,null,null,null,null,null,"",null,"",null,"",null,"","",null,"","",null,null,"",null,null,null,null,null,null,null,"","","",null,null,null,null,null,null,null,null,null,null,null,null,null,{"$f":"IF($D3965=\"\",\"\",BX3964)","v":""},"","","","","","","","",null,"","","","",0,0,0,0,0,0,0,0,0,0,null,null,0,0,0,0,0,0,null,null,0,0,0,0,0,0,0,null,"",0,0,0,0,0,0,""]
[{"$f":"#REF!","v":{"$error":"#REF!"}},"","",null,null,null,null,null,"",null,null,null,null,null,null,null,null,null,null,null,null,null,null,null,null,null,null,null,null,null,null,null,null,null,null,null,null,null,"",null,"",null,"",null,"","",null,"","",null,null,"",null,null,null,null,null,null,null,"","","",null,null,null,null,null,null,null,null,null,null,null,null,null,{"$f":"IF($D3966=\"\",\"\",BX3965)","v":""},"","","","","","","","",null,"","","","",0,0,0,0,0,0,0,0,0,0,null,null,0,0,0,0,0,0,null,null,0,0,0,0,0,0,0,null,"",0,0,0,0,0,0,""]
[{"$f":"#REF!","v":{"$error":"#REF!"}},"","",null,null,null,null,null,"",null,null,null,null,null,null,null,null,null,null,null,null,null,null,null,null,null,null,null,null,null,null,null,null,null,null,null,null,null,"",null,"",null,"",null,"","",null,"","",null,null,"",null,null,null,null,null,null,null,"","","",null,null,null,null,null,null,null,null,null,null,null,null,null,{"$f":"IF($D3967=\"\",\"\",BX3966)","v":""},"","","","","","","","",null,"","","","",0,0,0,0,0,0,0,0,0,0,null,null,0,0,0,0,0,0,null,null,0,0,0,0,0,0,0,null,"",0,0,0,0,0,0,""]
[{"$f":"#REF!","v":{"$error":"#REF!"}},"","",null,null,null,null,null,"",null,null,null,null,null,null,null,null,null,null,null,null,null,null,null,null,null,null,null,null,null,null,null,null,null,null,null,null,null,"",null,"",null,"",null,"","",null,"","",null,null,"",null,null,null,null,null,null,null,"","","",null,null,null,null,null,null,null,null,null,null,null,null,null,{"$f":"IF($D3968=\"\",\"\",BX3967)","v":""},"","","","","","","","",null,"","","","",0,0,0,0,0,0,0,0,0,0,null,null,0,0,0,0,0,0,null,null,0,0,0,0,0,0,0,null,"",0,0,0,0,0,0,""]
[{"$f":"#REF!","v":{"$error":"#REF!"}},"",{"$f":"IF(B3969=\"\",\"\",IF(B3969-B3968=1,\"RPV\",\"PULOUUU\"))","v":""},null,null,null,null,null,{"$f":"IF(B3969=\"\",\"\",\"sem verba para pgto\")","v":""},null,null,null,null,null,null,null,null,null,null,null,null,null,null,null,null,null,null,null,null,null,null,null,null,null,null,null,null,null,{"$f":"IF(AN3969=\"\",\"\",AM3968)","v":""},null,{"$f":"IF(AM3969=\"\",\"\",VLOOKUP(AN3969,indice,3))","v":""},null,{"$f":"IF(AP3969=\"\",\"\",IF(N3969=\"MS 11.371/DF\",AR3969,AR3969-AP3969))","v":""},null,{"$f":"IF(AY3969=\"\",\"\",IF(AX3969=0,TRUNC(AP3969*CF3969/100,2),AV3969))","v":""},{"$f":"IF(AY3969=\"\",\"\",IF(N3969=\"MS 11.371/DF\",AU3969,IF(CF3969=0,0,AU3969-AS3969)))","v":""},null,{"$f":"IF(AY3969=\"\",\"\",IF(AX3969=0,0,TRUNC(AP3969*CF3969/100/2,2)))","v":""},{"$f":"IF(AY3969=\"\",\"\",IF(AX3969=0,0,AX3969-AV3969))","v":""},null,null,{"$f":"IF(AY3969=\"\",\"\",IF(N3969=\"MS 11.371/DF\",BA3969,BA3969-AY3969))","v":""},null,null,null,null,null,null,null,{"$f":"IF(BQ3969=\"\",\"\",IF(BQ3969=0,0,BQ3969+BK3969+BN3969))","v":""},"","",null,null,null,null,null,null,null,null,null,null,null,null,null,{"$f":"IF($D3969=\"\",\"\",BX3968)","v":""},"","","","","","","",{"$f":"IF(AU3969=\"\",\"\",IF(AU3969=0,0,ROUND(AU3969*100/AR3969,1)))","v":""},null,{"$f":"IF(F3969=\"\",\"\",MONTH(F3969))","v":""},{"$f":"IF(H3969=\"paga\",AN3969,\"\")","v":""},{"$f":"IF(CI3969=\"\",\"\",J3969)","v":""},{"$f":"IF(CJ3969=\"\",\"\",1/VLOOKUP($CI3969,indice,3)*VLOOKUP($CJ3969,indice,3))","v":""},0,{"$f":"IF($CK3969=\"\",0,TRUNC($AU3969*CK3969,2))","v":0},0,{"$f":"IF($CK3969=\"\",0,CL3969+CM3969+CN3969)","v":0},0,{"$f":"IF(H3969=\"PAGA\",CO3969,0)","v":0},{"$f":"IF(AND(CP3969=1,AE3969=\"ALIMENTAR\"),1,0)","v":0},{"$f":"IF(CR3969=1,CO3969,0)","v":0},{"$f":"IF(AND(CP3969=1,AE3969=\"COMUM\"),1,0)","v":0},{"$f":"IF(CT3969=1,CO3969,0)","v":0},null,null,{"$f":"IF(AE3969=\"\",0,IF(AE3969=\"\",0,1))","v":0},{"$f":"IF(CX3969=1,AR3969,0)","v":0},{"$f":"IF(AE3969=\"alimentar\",1,0)","v":0},{"$f":"IF(AE3969=\"alimentar\",AR3969,0)","v":0},{"$f":"IF(AE3969=\"comum\",1,0)","v":0},{"$f":"IF(AE3969=\"comum\",AR3969,0)","v":0},null,null,{"$f":"IF(J3969=DK$7,1/AO3969*DF$10,0)","v":0},{"$f":"IF(DF3969=0,0,CO3969)","v":0},{"$f":"IF(DF3969=0,0,1)","v":0},{"$f":"IF(DG3969=0,0,IF(AE3969=\"ALIMENTAR\",1,0))","v":0},{"$f":"IF(DI3969=0,0,DG3969)","v":0},{"$f":"IF(DG3969=0,0,IF(AE3969=\"comum\",1,0))","v":0},{"$f":"IF(DK3969=1,DG3969,0)","v":0},null,{"$f":"IF(H3969=\"aguardando pagamento\",DS$7,\"\")","v":""},{"$f":"IF(AN3969=\"\",0,IF(DN3969=\"\",0,AR3969*(1/VLOOKUP(AN3969,indice,3)*DN$10)))","v":0},{"$f":"IF(DN3969=\"\",0,1)","v":0},{"$f":"IF(DO3969=0,0,IF(AE3969=\"ALIMENTAR\",1,0))","v":0},{"$f":"IF(DQ3969=0,0,DO3969)","v":0},{"$f":"IF(DO3969=0,0,IF(AE3969=\"comum\",1,0))","v":0},{"$f":"IF(DS3969=1,DO3969,0)","v":0},{"$f":"IF(AND(B3970=\"\",B3969>0),B3969,0)","v":""}]
[{"$f":"#REF!","v":{"$error":"#REF!"}},"",{"$f":"IF(B3970=\"\",\"\",IF(B3970-B3969=1,\"RPV\",\"PULOUUU\"))","v":""},null,null,null,null,null,{"$f":"IF(B3970=\"\",\"\",\"sem verba para pgto\")","v":""},null,null,null,null,null,null,null,null,null,null,null,null,null,null,null,null,null,null,null,null,null,null,null,null,null,null,null,null,null,{"$f":"IF(AN3970=\"\",\"\",AM3969)","v":""},null,{"$f":"IF(AM3970=\"\",\"\",VLOOKUP(AN3970,indice,3))","v":""},null,{"$f":"IF(AP3970=\"\",\"\",IF(N3970=\"MS 11.371/DF\",AR3970,AR3970-AP3970))","v":""},null,{"$f":"IF(AY3970=\"\",\"\",IF(AX3970=0,TRUNC(AP3970*CF3970/100,2),AV3970))","v":""},{"$f":"IF(AY3970=\"\",\"\",IF(N3970=\"MS 11.371/DF\",AU3970,IF(CF3970=0,0,AU3970-AS3970)))","v":""},null,{"$f":"IF(AY3970=\"\",\"\",IF(AX3970=0,0,TRUNC(AP3970*CF3970/100/2,2)))","v":""},{"$f":"IF(AY3970=\"\",\"\",IF(AX3970=0,0,AX3970-AV3970))","v":""},null,null,{"$f":"IF(AY3970=\"\",\"\",IF(N3970=\"MS 11.371/DF\",BA3970,BA3970-AY3970))","v":""},null,null,null,null,null,null,null,"","","",null,null,null,null,null,null,null,null,null,null,null,null,null,{"$f":"IF($D3970=\"\",\"\",BX3969)","v":""},"","","","","","","",{"$f":"IF(AU3970=\"\",\"\",IF(AU3970=0,0,ROUND(AU3970*100/AR3970,1)))","v":""},null,{"$f":"IF(F3970=\"\",\"\",MONTH(F3970))","v":""},{"$f":"IF(H3970=\"paga\",AN3970,\"\")","v":""},{"$f":"IF(CI3970=\"\",\"\",J3970)","v":""},{"$f":"IF(CJ3970=\"\",\"\",1/VLOOKUP($CI3970,indice,3)*VLOOKUP($CJ3970,indice,3))","v":""},0,{"$f":"IF($CK3970=\"\",0,TRUNC($AU3970*CK3970,2))","v":0},0,{"$f":"IF($CK3970=\"\",0,CL3970+CM3970+CN3970)","v":0},0,{"$f":"IF(H3970=\"PAGA\",CO3970,0)","v":0},{"$f":"IF(AND(CP3970=1,AE3970=\"ALIMENTAR\"),1,0)","v":0},{"$f":"IF(CR3970=1,CO3970,0)","v":0},{"$f":"IF(AND(CP3970=1,AE3970=\"COMUM\"),1,0)","v":0},{"$f":"IF(CT3970=1,CO3970,0)","v":0},null,null,{"$f":"IF(AE3970=\"\",0,IF(AE3970=\"\",0,1))","v":0},{"$f":"IF(CX3970=1,AR3970,0)","v":0},{"$f":"IF(AE3970=\"alimentar\",1,0)","v":0},{"$f":"IF(AE3970=\"alimentar\",AR3970,0)","v":0},{"$f":"IF(AE3970=\"comum\",1,0)","v":0},{"$f":"IF(AE3970=\"comum\",AR3970,0)","v":0},null,null,{"$f":"IF(J3970=DK$7,1/AO3970*DF$10,0)","v":0},{"$f":"IF(DF3970=0,0,CO3970)","v":0},{"$f":"IF(DF3970=0,0,1)","v":0},{"$f":"IF(DG3970=0,0,IF(AE3970=\"ALIMENTAR\",1,0))","v":0},{"$f":"IF(DI3970=0,0,DG3970)","v":0},{"$f":"IF(DG3970=0,0,IF(AE3970=\"comum\",1,0))","v":0},{"$f":"IF(DK3970=1,DG3970,0)","v":0},null,{"$f":"IF(H3970=\"aguardando pagamento\",DS$7,\"\")","v":""},{"$f":"IF(AN3970=\"\",0,IF(DN3970=\"\",0,AR3970*(1/VLOOKUP(AN3970,indice,3)*DN$10)))","v":0},{"$f":"IF(DN3970=\"\",0,1)","v":0},{"$f":"IF(DO3970=0,0,IF(AE3970=\"ALIMENTAR\",1,0))","v":0},{"$f":"IF(DQ3970=0,0,DO3970)","v":0},{"$f":"IF(DO3970=0,0,IF(AE3970=\"comum\",1,0))","v":0},{"$f":"IF(DS3970=1,DO3970,0)","v":0},{"$f":"IF(AND(B3971=\"\",B3970>0),B3970,0)","v":""}]
[{"$f":"#REF!","v":{"$error":"#REF!"}},"",{"$f":"IF(B3971=\"\",\"\",IF(B3971-B3970=1,\"RPV\",\"PULOUUU\"))","v":""},null,null,null,null,null,{"$f":"IF(B3971=\"\",\"\",\"sem verba para pgto\")","v":""},null,null,null,null,null,null,null,null,null,null,null,null,null,null,null,null,null,null,null,null,null,null,null,null,null,null,null,null,null,{"$f":"IF(AN3971=\"\",\"\",AM3970)","v":""},null,{"$f":"IF(AM3971=\"\",\"\",VLOOKUP(AN3971,indice,3))","v":""},null,{"$f":"IF(AP3971=\"\",\"\",IF(N3971=\"MS 11.371/DF\",AR3971,AR3971-AP3971))","v":""},null,{"$f":"IF(AY3971=\"\",\"\",IF(AX3971=0,TRUNC(AP3971*CF3971/100,2),AV3971))","v":""},{"$f":"IF(AY3971=\"\",\"\",IF(N3971=\"MS 11.371/DF\",AU3971,IF(CF3971=0,0,AU3971-AS3971)))","v":""},null,{"$f":"IF(AY3971=\"\",\"\",IF(AX3971=0,0,TRUNC(AP3971*CF3971/100/2,2)))","v":""},{"$f":"IF(AY3971=\"\",\"\",IF(AX3971=0,0,AX3971-AV3971))","v":""},null,null,{"$f":"IF(AY3971=\"\",\"\",IF(N3971=\"MS 11.371/DF\",BA3971,BA3971-AY3971))","v":""},null,null,null,null,null,null,null,"","","",null,null,null,null,null,null,null,null,null,null,null,null,null,{"$f":"IF($D3971=\"\",\"\",BX3970)","v":""},"","","","","","","",{"$f":"IF(AU3971=\"\",\"\",IF(AU3971=0,0,ROUND(AU3971*100/AR3971,1)))","v":""},null,{"$f":"IF(F3971=\"\",\"\",MONTH(F3971))","v":""},{"$f":"IF(H3971=\"paga\",AN3971,\"\")","v":""},{"$f":"IF(CI3971=\"\",\"\",J3971)","v":""},{"$f":"IF(CJ3971=\"\",\"\",1/VLOOKUP($CI3971,indice,3)*VLOOKUP($CJ3971,indice,3))","v":""},0,{"$f":"IF($CK3971=\"\",0,TRUNC($AU3971*CK3971,2))","v":0},0,{"$f":"IF($CK3971=\"\",0,CL3971+CM3971+CN3971)","v":0},0,{"$f":"IF(H3971=\"PAGA\",CO3971,0)","v":0},{"$f":"IF(AND(CP3971=1,AE3971=\"ALIMENTAR\"),1,0)","v":0},{"$f":"IF(CR3971=1,CO3971,0)","v":0},{"$f":"IF(AND(CP3971=1,AE3971=\"COMUM\"),1,0)","v":0},{"$f":"IF(CT3971=1,CO3971,0)","v":0},null,null,{"$f":"IF(AE3971=\"\",0,IF(AE3971=\"\",0,1))","v":0},{"$f":"IF(CX3971=1,AR3971,0)","v":0},{"$f":"IF(AE3971=\"alimentar\",1,0)","v":0},{"$f":"IF(AE3971=\"alimentar\",AR3971,0)","v":0},{"$f":"IF(AE3971=\"comum\",1,0)","v":0},{"$f":"IF(AE3971=\"comum\",AR3971,0)","v":0},null,null,{"$f":"IF(J3971=DK$7,1/AO3971*DF$10,0)","v":0},{"$f":"IF(DF3971=0,0,CO3971)","v":0},{"$f":"IF(DF3971=0,0,1)","v":0},{"$f":"IF(DG3971=0,0,IF(AE3971=\"ALIMENTAR\",1,0))","v":0},{"$f":"IF(DI3971=0,0,DG3971)","v":0},{"$f":"IF(DG3971=0,0,IF(AE3971=\"comum\",1,0))","v":0},{"$f":"IF(DK3971=1,DG3971,0)","v":0},null,{"$f":"IF(H3971=\"aguardando pagamento\",DS$7,\"\")","v":""},{"$f":"IF(AN3971=\"\",0,IF(DN3971=\"\",0,AR3971*(1/VLOOKUP(AN3971,indice,3)*DN$10)))","v":0},{"$f":"IF(DN3971=\"\",0,1)","v":0},{"$f":"IF(DO3971=0,0,IF(AE3971=\"ALIMENTAR\",1,0))","v":0},{"$f":"IF(DQ3971=0,0,DO3971)","v":0},{"$f":"IF(DO3971=0,0,IF(AE3971=\"comum\",1,0))","v":0},{"$f":"IF(DS3971=1,DO3971,0)","v":0},{"$f":"IF(AND(B3972=\"\",B3971>0),B3971,0)","v":""}]
[{"$f":"#REF!","v":{"$error":"#REF!"}},"",{"$f":"IF(B3972=\"\",\"\",IF(B3972-B3971=1,\"RPV\",\"PULOUUU\"))","v":""},null,null,null,null,null,{"$f":"IF(B3972=\"\",\"\",\"sem verba para pgto\")","v":""},null,null,null,null,null,null,null,null,null,null,null,null,null,null,null,null,null,null,null,null,null,null,null,null,null,null,null,null,null,{"$f":"IF(AN3972=\"\",\"\",AM3971)","v":""},null,{"$f":"IF(AM3972=\"\",\"\",VLOOKUP(AN3972,indice,3))","v":""},null,{"$f":"IF(AP3972=\"\",\"\",IF(N3972=\"MS 11.371/DF\",AR3972,AR3972-AP3972))","v":""},null,{"$f":"IF(AY3972=\"\",\"\",IF(AX3972=0,TRUNC(AP3972*CF3972/100,2),AV3972))","v":""},{"$f":"IF(AY3972=\"\",\"\",IF(N3972=\"MS 11.371/DF\",AU3972,IF(CF3972=0,0,AU3972-AS3972)))","v":""},null,{"$f":"IF(AY3972=\"\",\"\",IF(AX3972=0,0,TRUNC(AP3972*CF3972/100/2,2)))","v":""},{"$f":"IF(AY3972=\"\",\"\",IF(AX3972=0,0,AX3972-AV3972))","v":""},null,null,{"$f":"IF(AY3972=\"\",\"\",IF(N3972=\"MS 11.371/DF\",BA3972,BA3972-AY3972))","v":""},null,null,null,null,null,null,null,"","","",null,null,null,null,null,null,null,null,null,null,null,null,null,{"$f":"IF($D3972=\"\",\"\",BX3971)","v":""},"","","","","","","",{"$f":"IF(AU3972=\"\",\"\",IF(AU3972=0,0,ROUND(AU3972*100/AR3972,1)))","v":""},null,{"$f":"IF(F3972=\"\",\"\",MONTH(F3972))","v":""},{"$f":"IF(H3972=\"paga\",AN3972,\"\")","v":""},{"$f":"IF(CI3972=\"\",\"\",J3972)","v":""},{"$f":"IF(CJ3972=\"\",\"\",1/VLOOKUP($CI3972,indice,3)*VLOOKUP($CJ3972,indice,3))","v":""},0,{"$f":"IF($CK3972=\"\",0,TRUNC($AU3972*CK3972,2))","v":0},0,{"$f":"IF($CK3972=\"\",0,CL3972+CM3972+CN3972)","v":0},0,{"$f":"IF(H3972=\"PAGA\",CO3972,0)","v":0},{"$f":"IF(AND(CP3972=1,AE3972=\"ALIMENTAR\"),1,0)","v":0},{"$f":"IF(CR3972=1,CO3972,0)","v":0},{"$f":"IF(AND(CP3972=1,AE3972=\"COMUM\"),1,0)","v":0},{"$f":"IF(CT3972=1,CO3972,0)","v":0},null,null,{"$f":"IF(AE3972=\"\",0,IF(AE3972=\"\",0,1))","v":0},{"$f":"IF(CX3972=1,AR3972,0)","v":0},{"$f":"IF(AE3972=\"alimentar\",1,0)","v":0},{"$f":"IF(AE3972=\"alimentar\",AR3972,0)","v":0},{"$f":"IF(AE3972=\"comum\",1,0)","v":0},{"$f":"IF(AE3972=\"comum\",AR3972,0)","v":0},null,null,{"$f":"IF(J3972=DK$7,1/AO3972*DF$10,0)","v":0},{"$f":"IF(DF3972=0,0,CO3972)","v":0},{"$f":"IF(DF3972=0,0,1)","v":0},{"$f":"IF(DG3972=0,0,IF(AE3972=\"ALIMENTAR\",1,0))","v":0},{"$f":"IF(DI3972=0,0,DG3972)","v":0},{"$f":"IF(DG3972=0,0,IF(AE3972=\"comum\",1,0))","v":0},{"$f":"IF(DK3972=1,DG3972,0)","v":0},null,{"$f":"IF(H3972=\"aguardando pagamento\",DS$7,\"\")","v":""},{"$f":"IF(AN3972=\"\",0,IF(DN3972=\"\",0,AR3972*(1/VLOOKUP(AN3972,indice,3)*DN$10)))","v":0},{"$f":"IF(DN3972=\"\",0,1)","v":0},{"$f":"IF(DO3972=0,0,IF(AE3972=\"ALIMENTAR\",1,0))","v":0},{"$f":"IF(DQ3972=0,0,DO3972)","v":0},{"$f":"IF(DO3972=0,0,IF(AE3972=\"comum\",1,0))","v":0},{"$f":"IF(DS3972=1,DO3972,0)","v":0},{"$f":"IF(AND(B3973=\"\",B3972>0),B3972,0)","v":0}]
["XX","XX","XX","XX","XX","XX","XX","XX","XX","XX","XX","XX",null,"XX","XX","XX","XX","XX","XX","XX","XX","XX","XX","XX","XX","XX","XX","XX","XX","XX","XX",null,"XX","XX","XX","XX",null,"XX","XX","XX","XX",null,null,"XX",null,null,"XX",null,null,"XX",null,null,"XX","XX","XX","XX","XX","XX","XX","XX","XX","XX","XX","XX","XX","XX","XX","XX","XX","XX","XX","XX","XX","XX","XX","XX","XX","XX","XX","XX","XX","XX","XX","XX","XX","XX","XX","XX","XX","XX","XX","XX","XX","XX","XX","XX","XX","XX","XX","XX","XX","XX","XX","XX","XX","XX","XX","XX","XX","XX","XX","XX","XX","XX","XX","XX","XX","XX","XX","XX","XX","XX","XX","XX","XX","XX"]
[]
[]
[]
[]
[]
[]
[]
[]
[]
[]
[]
[null,null,null,null,null,null,null,null,null,null,null,null,null,null,null,null,null,null,null,null,null,null,"'''"]

{"sheet":"rel.EXPEDIDAS.portal","index":2,"n_rows":127,"n_cols":38,"rows_kept":127,"cut":false,"hidden":false,"merged":[[126,16,126,23],[126,24,126,25],[126,26,126,27],[126,28,126,29],[6,16,6,28],[7,16,8,16],[7,17,7,19],[7,20,7,22],[7,23,7,25],[7,26,7,28],[124,24,124,25],[124,26,124,27],[124,28,124,29],[125,24,125,25],[125,26,125,27],[125,28,125,29],[6,7,8,7],[6,6,8,6],[6,5,8,5],[6,32,6,34],[5,0,5,7],[6,0,8,0],[6,29,6,31],[6,9,8,9],[6,15,8,15],[6,14,8,14],[6,2,8,2],[6,1,8,1],[6,4,8,4],[6,3,8,3],[6,13,8,13],[6,12,8,12],[6,11,8,11],[6,10,8,10],[6,8,8,8]]}
[]
["Superior Tribunal de Justiça"]
["Secretaria dos Órgãos Julgadores"]
["Coordenadoria de Execução Judicial"]
[]
["RELAÇÃO DAS REQUISIÇÕES DE PEQUENO VALOR AUTUADAS EM NOVEMBRO/2019"]
["tipo","Nº","data da autuação","processo de origem","ajuizada em","trânsito proc de origem","tipo de causa","órgão de origem","enidade devedora","natureza do crédito","requerente beneficiário","situação funcional","origem do crédito reqte","advogado beneficiário I","advogado beneficiário II","origem do crédito advogado(s)","VALORES DE FACE DA RPV",null,null,null,null,null,null,null,null,null,null,null,null,"PSS   /   CONTRIBUIÇÃO PATRONAL *",null,null,"TRIBUATAÇÃO  R R A"]
[null,null,null,null,null,null,null,null,null,null,null,null,null,null,null,null,"DATA BASE","TOTAL REQUISITADO",null,null,"REQUERENTE",null,null,"ADV  I",null,null,"ADV  II"]
[null,null,null,null,null,null,null,null,null,null,null,null,null,null,null,null,null,"principal","juros","total","principal","juros","total","principal","juros","total","principal","juros","total","Base desconto","Valor desconto","Patronal","Nº EA","Nº EC","Dedução"]
[]
["RPV",9020,"2019-11-07","MS 6.019/DF","1998-10-22","2007-12-10","Administrativo - Servidor Público Civil - Sistema Remuneratório e Benefícios","Instituto Nacional do Seguro Social - INSS","Instituto Nacional do Seguro Social - INSS","Alimentar","Dolarice Maria Violardi Lopes","Pensionista Civil","Reajuste Salarial - Resíduo de 3,17%","Mota & Advogados Associados"," x x x ","Dedução de Honorários Contratuais","2019-10-01",3207.81,4679.13,7886.94,2999.31,4374.9799999999996,7374.29,208.5,304.14999999999998,512.65,0,0,0,0,0,0,23,"-",0,1,1,0]
["RPV",9021,"2019-11-07","MS 6.019/DF","1998-10-22","2007-12-10","Administrativo - Servidor Público Civil - Sistema Remuneratório e Benefícios","Instituto Nacional do Seguro Social - INSS","Instituto Nacional do Seguro Social - INSS","Alimentar","Doralice Maria da Conceição Lima","Pensionista Civil","Reajuste Salarial - Resíduo de 3,17%","Mota & Advogados Associados"," x x x ","Dedução de Honorários Contratuais","2019-10-01",3856.72,5505.9,9362.6200000000008,3606.04,5148.01,8754.0499999999993,250.68,357.89,608.57000000000005,0,0,0,0,0,0,23,"-",0,1,1,0]
["RPV",9022,"2019-11-07","MS 6.019/DF","1998-10-22","2007-12-10","Administrativo - Servidor Público Civil - Sistema Remuneratório e Benefícios","Instituto Nacional do Seguro Social - INSS","Instituto Nacional do Seguro Social - INSS","Alimentar","Dulce Helena de Mello Nogueira","Pensionista Civil","Reajuste Salarial - Resíduo de 3,17%","Mota & Advogados Associados"," x x x ","Dedução de Honorários Contratuais","2019-10-01",8183.42,11511.24,19694.66,7651.5,10763.01,18414.509999999998,531.91999999999996,748.23,1280.1500000000001,0,0,0,0,0,0,23,"-",0,1,1,0]
["RPV",9023,"2019-11-07","MS 6.019/DF","1998-10-22","2007-12-10","Administrativo - Servidor Público Civil - Sistema Remuneratório e Benefícios","Instituto Nacional do Seguro Social - INSS","Instituto Nacional do Seguro Social - INSS","Alimentar","Edith Glasner da Rocha","Pensionista Civil","Reajuste Salarial - Resíduo de 3,17%","Mota & Advogados Associados"," x x x ","Dedução de Honorários Contratuais","2019-10-01",7564.06,10121.11,17685.169999999998,7072.4,9463.24,16535.64,491.66,657.87,1149.53,0,0,0,0,0,0,23,"-",0,1,1,0]
["RPV",9025,"2019-11-07","MS 6.019/DF","1998-10-22","2007-12-10","Administrativo - Servidor Público Civil - Sistema Remuneratório e Benefícios","Instituto Nacional do Seguro Social - INSS","Instituto Nacional do Seguro Social - INSS","Alimentar","Eliane Mesquita e Castro","Pensionista Civil","Reajuste Salarial - Resíduo de 3,17%","Mota & Advogados Associados"," x x x ","Dedução de Honorários Contratuais","2019-10-01",2123.1799999999998,3035.14,5158.32,1985.18,2837.85,4823.03,138,197.29,335.29,0,0,0,0,0,0,23,"-",0,1,1,0]
["RPV",9026,"2019-11-07","MS 6.019/DF","1998-10-22","2007-12-10","Administrativo - Servidor Público Civil - Sistema Remuneratório e Benefícios","Instituto Nacional do Seguro Social - INSS","Instituto Nacional do Seguro Social - INSS","Alimentar","Elis Develly de Castro Lombardelli","Pensionista Civil","Reajuste Salarial - Resíduo de 3,17%","Mota & Advogados Associados"," x x x ","Dedução de Honorários Contratuais","2019-10-01",3107.04,4559.2700000000004,7666.31,2905.09,4262.91,7168,201.95,296.36,498.31,0,0,0,0,0,0,23,"-",0,1,1,0]
["RPV",9027,"2019-11-07","MS 6.019/DF","1998-10-22","2007-12-10","Administrativo - Servidor Público Civil - Sistema Remuneratório e Benefícios","Instituto Nacional do Seguro Social - INSS","Instituto Nacional do Seguro Social - INSS","Alimentar","Elisabete da Costa Figueira","Pensionista Civil","Reajuste Salarial - Resíduo de 3,17%","Mota & Advogados Associados"," x x x ","Dedução de Honorários Contratuais","2019-10-01",5656.67,8964.24,14620.91,5288.99,8381.57,13670.56,367.68,582.66999999999996,950.35,0,0,0,0,0,0,23,"-",0,1,1,0]
["RPV",9028,"2019-11-07","MS 6.019/DF","1998-10-22","2007-12-10","Administrativo - Servidor Público Civil - Sistema Remuneratório e Benefícios","Instituto Nacional do Seguro Social - INSS","Instituto Nacional do Seguro Social - INSS","Alimentar","Elizabeth Azeredo Dias Costa","Pensionista Civil","Reajuste Salarial - Resíduo de 3,17%","Mota & Advogados Associados"," x x x ","Dedução de Honorários Contratuais","2019-10-01",8191.64,11351.51,19543.150000000001,7659.19,10613.66,18272.849999999999,532.45000000000005,737.85,1270.3,0,0,0,0,0,0,23,"-",0,1,1,0]
["RPV",9030,"2019-11-07","MS 6.019/DF","1998-10-22","2007-12-10","Administrativo - Servidor Público Civil - Sistema Remuneratório e Benefícios","Instituto Nacional do Seguro Social - INSS","Instituto Nacional do Seguro Social - INSS","Alimentar","Angela Advincula","Pensionista Civil","Reajuste Salarial - Resíduo de 3,17%","Mota & Advogados Associados"," x x x ","Dedução de Honorários Contratuais","2019-10-01",3780.53,5074.29,8854.82,3534.8,4744.46,8279.26,245.73,329.83,575.55999999999995,0,0,0,0,0,0,23,"-",0,1,1,0]
["RPV",9031,"2019-11-07","MS 6.019/DF","1998-10-22","2007-12-10","Administrativo - Servidor Público Civil - Sistema Remuneratório e Benefícios","Instituto Nacional do Seguro Social - INSS","Instituto Nacional do Seguro Social - INSS","Alimentar","Angela Cristina Macedonio","Pensionista Civil","Reajuste Salarial - Resíduo de 3,17%","Mota & Advogados Associados"," x x x ","Dedução de Honorários Contratuais","2019-10-01",3965.27,5670.08,9635.35,3707.53,5301.53,9009.06,257.74,368.55,626.29,0,0,0,0,0,0,23,"-",0,1,1,0]
["RPV",9032,"2019-11-07","MS 6.019/DF","1998-10-22","2007-12-10","Administrativo - Servidor Público Civil - Sistema Remuneratório e Benefícios","Instituto Nacional do Seguro Social - INSS","Instituto Nacional do Seguro Social - INSS","Alimentar","Anna Paula Camara Araujo","Pensionista Civil","Reajuste Salarial - Resíduo de 3,17%","Mota & Advogados Associados"," x x x ","Dedução de Honorários Contratuais","2019-10-01",3557.56,5089.38,8646.94,3326.32,4758.57,8084.89,231.24,330.81,562.04999999999995,0,0,0,0,0,0,23,"-",0,1,1,0]
["RPV",9033,"2019-11-07","MS 6.019/DF","1998-10-22","2007-12-10","Administrativo - Servidor Público Civil - Sistema Remuneratório e Benefícios","Instituto Nacional do Seguro Social - INSS","Instituto Nacional do Seguro Social - INSS","Alimentar","Antonieta de Carvalho Cavalcanti","Pensionista Civil","Reajuste Salarial - Resíduo de 3,17%","Mota & Advogados Associados"," x x x ","Dedução de Honorários Contratuais","2019-10-01",2159.19,2850.3,5009.49,2018.85,2665.03,4683.88,140.34,185.27,325.61,0,0,0,0,0,0,23,"-",0,1,1,0]
["RPV",9034,"2019-11-07","MS 6.019/DF","1998-10-22","2007-12-10","Administrativo - Servidor Público Civil - Sistema Remuneratório e Benefícios","Instituto Nacional do Seguro Social - INSS","Instituto Nacional do Seguro Social - INSS","Alimentar","Arlete Vargas de Meneses","Pensionista Civil","Reajuste Salarial - Resíduo de 3,17%","Mota & Advogados Associados"," x x x ","Dedução de Honorários Contratuais","2019-10-01",3960.28,5689.72,9650,3702.87,5319.88,9022.75,257.41000000000003,369.84,627.25,0,0,0,0,0,0,23,"-",0,1,1,0]
["RPV",9035,"2019-11-07","MS 6.019/DF","1998-10-22","2007-12-10","Administrativo - Servidor Público Civil - Sistema Remuneratório e Benefícios","Instituto Nacional do Seguro Social - INSS","Instituto Nacional do Seguro Social - INSS","Alimentar","Astrea Veronica de Coirolo Rodrigues","Pensionista Civil","Reajuste Salarial - Resíduo de 3,17%","Mota & Advogados Associados"," x x x ","Dedução de Honorários Contratuais","2019-10-01",3433.13,4510.75,7943.88,3209.98,4217.55,7427.53,223.15,293.2,516.35,0,0,0,0,0,0,23,"-",0,1,1,0]
["RPV",9036,"2019-11-07","MS 6.019/DF","1998-10-22","2007-12-10","Administrativo - Servidor Público Civil - Sistema Remuneratório e Benefícios","Instituto Nacional do Seguro Social - INSS","Instituto Nacional do Seguro Social - INSS","Alimentar","Barbara Macedo e Silva","Pensionista Civil","Reajuste Salarial - Resíduo de 3,17%","Mota & Advogados Associados"," x x x ","Dedução de Honorários Contratuais","2019-10-01",8935.65,11928.82,20864.47,8354.84,11153.44,19508.28,580.80999999999995,775.38,1356.19,0,0,0,0,0,0,23,"-",0,1,1,0]
["RPV",9037,"2019-11-07","MS 6.019/DF","1998-10-22","2007-12-10","Administrativo - Servidor Público Civil - Sistema Remuneratório e Benefícios","Instituto Nacional do Seguro Social - INSS","Instituto Nacional do Seguro Social - INSS","Alimentar","Bertha Renee Lima Piffero","Pensionista Civil","Reajuste Salarial - Resíduo de 3,17%","Mota & Advogados Associados"," x x x ","Dedução de Honorários Contratuais","2019-10-01",3736.83,4967.38,8704.2099999999991,3493.94,4644.5,8138.44,242.89,322.88,565.77,0,0,0,0,0,0,23,"-",0,1,1,0]
["RPV",9038,"2019-11-07","MS 6.019/DF","1998-10-22","2007-12-10","Administrativo - Servidor Público Civil - Sistema Remuneratório e Benefícios","Instituto Nacional do Seguro Social - INSS","Instituto Nacional do Seguro Social - INSS","Alimentar","Carmelita Coelho de Souza","Pensionista Civil","Reajuste Salarial - Resíduo de 3,17%","Mota & Advogados Associados"," x x x ","Dedução de Honorários Contratuais","2019-10-01",3957.52,5659.32,9616.84,3700.29,5291.46,8991.75,257.23,367.86,625.09,0,0,0,0,0,0,23,"-",0,1,1,0]
["RPV",9039,"2019-11-07","MS 6.019/DF","1998-10-22","2007-12-10","Administrativo - Servidor Público Civil - Sistema Remuneratório e Benefícios","Instituto Nacional do Seguro Social - INSS","Instituto Nacional do Seguro Social - INSS","Alimentar","Cecilia Correa da Costa Pizzi","Pensionista Civil","Reajuste Salarial - Resíduo de 3,17%","Mota & Advogados Associados"," x x x ","Dedução de Honorários Contratuais","2019-10-01",3367.26,4645.9799999999996,8013.24,3148.39,4343.99,7492.38,218.87,301.99,520.86,0,0,0,0,0,0,23,"-",0,1,1,0]
["RPV",9040,"2019-11-08","MS 6.019/DF","1998-10-22","2007-12-10","Administrativo - Servidor Público Civil - Sistema Remuneratório e Benefícios","Instituto Nacional do Seguro Social - INSS","Instituto Nacional do Seguro Social - INSS","Alimentar","Sérgio Meirelles Canavieira Neves","Pensionista Civil","Reajuste Salarial - Resíduo de 3,17%","Mota & Advogados Associados"," x x x ","Dedução de Honorários Contratuais","2019-10-01",4225.79,5874.88,10100.67,3951.12,5493.01,9444.1299999999992,274.67,381.87,656.54,0,0,0,0,0,0,23,"-",0,1,1,0]
["RPV",9041,"2019-11-08","MS 6.019/DF","1998-10-22","2007-12-10","Administrativo - Servidor Público Civil - Sistema Remuneratório e Benefícios","Instituto Nacional do Seguro Social - INSS","Instituto Nacional do Seguro Social - INSS","Alimentar","Roza Paciello de Oliveira","Pensionista Civil","Reajuste Salarial - Resíduo de 3,17%","Mota & Advogados Associados"," x x x ","Dedução de Honorários Contratuais","2019-10-01",7660.13,10957.52,18617.650000000001,7162.23,10245.280000000001,17407.509999999998,497.9,712.24,1210.1400000000001,0,0,0,0,0,0,23,"-",0,1,1,0]
["RPV",9042,"2019-11-08","MS 6.019/DF","1998-10-22","2007-12-10","Administrativo - Servidor Público Civil - Sistema Remuneratório e Benefícios","Instituto Nacional do Seguro Social - INSS","Instituto Nacional do Seguro Social - INSS","Alimentar","Silvana Palmeira Junqueira Ayres","Pensionista Civil","Reajuste Salarial - Resíduo de 3,17%","Mota & Advogados Associados"," x x x ","Dedução de Honorários Contratuais","2019-10-01",3202.59,4418.51,7621.1,2994.43,4131.3,7125.73,208.16,287.20999999999998,495.37,0,0,0,0,0,0,23,"-",0,1,1,0]
["RPV",9043,"2019-11-08","MS 6.019/DF","1998-10-22","2007-12-10","Administrativo - Servidor Público Civil - Sistema Remuneratório e Benefícios","Instituto Nacional do Seguro Social - INSS","Instituto Nacional do Seguro Social - INSS","Alimentar","Silvia Cristina Coelho da Silva","Pensionista Civil","Reajuste Salarial - Resíduo de 3,17%","Mota & Advogados Associados"," x x x ","Dedução de Honorários Contratuais","2019-10-01",3553.91,4981.5600000000004,8535.4699999999993,3322.91,4657.76,7980.67,231,323.8,554.79999999999995,0,0,0,0,0,0,23,"-",0,1,1,0]
["RPV",9044,"2019-11-08","MS 6.019/DF","1998-10-22","2007-12-10","Administrativo - Servidor Público Civil - Sistema Remuneratório e Benefícios","Instituto Nacional do Seguro Social - INSS","Instituto Nacional do Seguro Social - INSS","Alimentar","Silvia Melo Soares","Pensionista Civil","Reajuste Salarial - Resíduo de 3,17%","Mota & Advogados Associados"," x x x ","Dedução de Honorários Contratuais","2019-10-01",7811.72,11190.83,19002.55,7303.96,10463.43,17767.39,507.76,727.4,1235.1600000000001,0,0,0,0,0,0,23,"-",0,1,1,0]
["RPV",9045,"2019-11-08","MS 6.019/DF","1998-10-22","2007-12-10","Administrativo - Servidor Público Civil - Sistema Remuneratório e Benefícios","Instituto Nacional do Seguro Social - INSS","Instituto Nacional do Seguro Social - INSS","Alimentar","Silvia de Oliveira Calmon","Pensionista Civil","Reajuste Salarial - Resíduo de 3,17%","Mota & Advogados Associados"," x x x ","Dedução de Honorários Contratuais","2019-10-01",7920.89,11285.31,19206.2,7406.04,10551.76,17957.8,514.85,733.55,1248.4000000000001,0,0,0,0,0,0,23,"-",0,1,1,0]
["RPV",9046,"2019-11-08","MS 6.019/DF","1998-10-22","2007-12-10","Administrativo - Servidor Público Civil - Sistema Remuneratório e Benefícios","Instituto Nacional do Seguro Social - INSS","Instituto Nacional do Seguro Social - INSS","Alimentar","Simone Dubeux Berardo Carneiro da Cunha","Pensionista Civil","Reajuste Salarial - Resíduo de 3,17%","Mota & Advogados Associados"," x x x ","Dedução de Honorários Contratuais","2019-10-01",1955.54,2612.13,4567.67,1828.43,2442.35,4270.78,127.11,169.78,296.89,0,0,0,0,0,0,23,"-",0,1,1,0]
["RPV",9047,"2019-11-08","MS 6.019/DF","1998-10-22","2007-12-10","Administrativo - Servidor Público Civil - Sistema Remuneratório e Benefícios","Instituto Nacional do Seguro Social - INSS","Instituto Nacional do Seguro Social - INSS","Alimentar","Solange Maria Salem Luz","Pensionista Civil","Reajuste Salarial - Resíduo de 3,17%","Mota & Advogados Associados"," x x x ","Dedução de Honorários Contratuais","2019-10-01",3960.28,5689.72,9650,3702.87,5319.88,9022.75,257.41000000000003,369.84,627.25,0,0,0,0,0,0,23,"-",0,1,1,0]
["RPV",9048,"2019-11-08","MS 6.019/DF","1998-10-22","2007-12-10","Administrativo - Servidor Público Civil - Sistema Remuneratório e Benefícios","Instituto Nacional do Seguro Social - INSS","Instituto Nacional do Seguro Social - INSS","Alimentar","Sônia Maria de Albuquerque Paula Antunes","Pensionista Civil","Reajuste Salarial - Resíduo de 3,17%","Mota & Advogados Associados"," x x x ","Dedução de Honorários Contratuais","2019-10-01",7938.53,11392.14,19330.669999999998,7422.53,10651.65,18074.18,516,740.49,1256.49,0,0,0,0,0,0,23,"-",0,1,1,0]
["RPV",9049,"2019-11-08","MS 6.019/DF","1998-10-22","2007-12-10","Administrativo - Servidor Público Civil - Sistema Remuneratório e Benefícios","Instituto Nacional do Seguro Social - INSS","Instituto Nacional do Seguro Social - INSS","Alimentar","Soraya Vargas Menezes","Pensionista Civil","Reajuste Salarial - Resíduo de 3,17%","Mota & Advogados Associados"," x x x ","Dedução de Honorários Contratuais","2019-10-01",3960.28,5689.72,9650,3702.87,5319.88,9022.75,257.41000000000003,369.84,627.25,0,0,0,0,0,0,23,"-",0,1,1,0]
["RPV",9050,"2019-11-08","MS 6.019/DF","1998-10-22","2007-12-10","Administrativo - Servidor Público Civil - Sistema Remuneratório e Benefícios","Instituto Nacional do Seguro Social - INSS","Instituto Nacional do Seguro Social - INSS","Alimentar","Stella Cintra Bastos Tigre","Pensionista Civil","Reajuste Salarial - Resíduo de 3,17%","Mota & Advogados Associados"," x x x ","Dedução de Honorários Contratuais","2019-10-01",7885.97,11306.66,19192.63,7373.39,10571.72,17945.11,512.58000000000004,734.94,1247.52,0,0,0,0,0,0,23,"-",0,1,1,0]
["RPV",9051,"2019-11-08","MS 6.019/DF","1998-10-22","2007-12-10","Administrativo - Servidor Público Civil - Sistema Remuneratório e Benefícios","Instituto Nacional do Seguro Social - INSS","Instituto Nacional do Seguro Social - INSS","Alimentar","Stella Ramos Couto","Pensionista Civil","Reajuste Salarial - Resíduo de 3,17%","Mota & Advogados Associados"," x x x ","Dedução de Honorários Contratuais","2019-10-01",6327.28,9150.07,15477.35,5916.01,8555.32,14471.33,411.27,594.75,1006.02,0,0,0,0,0,0,23,"-",0,1,1,0]
["RPV",9052,"2019-11-08","AR 3.457/AL","2005-12-01","2013-09-02","Administrativo - Militar - Regime - Ex-combatentes","-","UNIÃO","Alimentar","Advocacia Narita S/S","-","Honorários de Sucumbência","Advocacia Narita S/S"," x x x ","Dedução de Honorários Contratuais","2019-10-01",5224.16,0,5224.16,5224.16,0,5224.16,0,0,0,0,0,0,0,0,0,0,"-",0,1,1,0]
["RPV",9053,"2019-11-11","AR 1.169/CE","1999-10-18","2004-06-07","Administrativo - Servidor Público Civil - Sistema Remuneratório e Benefícios","Instituto Nacional do Seguro Social - INSS","Instituto Nacional do Seguro Social - INSS","Alimentar","Francisco Lúcio De Oliveira ","Servidor Público Civil Ativo","Anuênios","Glayddes Sindeaux Advogados","","Dedução de Honorários Contratuais","2019-09-01",6755.57,7783.4,14538.97,6080.02,7005.06,13085.08,675.55,778.34,1453.89,0,0,0,6755.57,743.11,1486.22,47,"-",743.11,1,1,0]
["RPV",9054,"2019-11-28","MS 7.386/DF","2001-01-31","2003-12-04","Administrativo - Servidor Público Civil - Sistema Remuneratório e Benefícios - Gratificações da Lei 8.112/1990","Ministério do Planejamento, Orçamento e Gestão","UNIÃO","Alimentar","Cisina Araújo Braga","Pensionista de Servidor Público Civil Inativo","Gratificação de Operações Especiais - GOE","Marcelo Lavocat Galvão","Paulo Sérgio Cunha","Dedução de Honorários Contratuais","2019-11-01",6815.89,8925.3799999999992,15741.27,4771.13,6247.76,11018.89,1022.38,1338.81,2361.19,1022.38,1338.81,2361.19,0,0,0,50,"-",0,1,1,0]
["RPV",9055,"2019-11-28","MS 7.386/DF","2001-01-31","2003-12-04","Administrativo - Servidor Público Civil - Sistema Remuneratório e Benefícios - Gratificações da Lei 8.112/1990","Ministério do Planejamento, Orçamento e Gestão","UNIÃO","Alimentar","Cleandro dos Santos Rodrigues","Pensionista de Servidor Público Civil Inativo","Gratificação de Operações Especiais - GOE","Marcelo Lavocat Galvão","Paulo Sérgio Cunha","Dedução de Honorários Contratuais","2019-11-01",7452.67,9727.32,17179.990000000002,5216.87,6809.14,12026.01,1117.9000000000001,1459.09,2576.9899999999998,1117.9000000000001,1459.09,2576.9899999999998,0,0,0,50,"-",0,1,1,0]
["RPV",9056,"2019-11-28","MS 10.424/DF","2005-02-17","2005-10-27","Administrativo - Servidor Público Civil - Sistema Remuneratório e Benefícios - Gratificações","Ministério do Planejamento, Orçamento e Gestão","UNIÃO","Alimentar","Dorotéa Dias ","Servidor Público Civil Inativo","Gratificação Específica de Atividade Docente - GEAD","Fonseca e Assis Advogados Associados"," x x x ","Dedução de Honorários Contratuais","2019-11-01",8228.4500000000007,6763.4,14991.85,7323.33,6019.42,13342.75,905.12,743.98,1649.1,0,0,0,8228.4500000000007,905.12,0,9,"-",905.12,1,1,0]
["RPV",9057,"2019-11-28","MS 10.424/DF","2005-02-17","2005-10-27","Administrativo - Servidor Público Civil - Sistema Remuneratório e Benefícios - Gratificações","Ministério do Planejamento, Orçamento e Gestão","UNIÃO","Alimentar","Dulce Maria Cruz Da Silva ","Servidor Público Civil Inativo","Gratificação Específica de Atividade Docente - GEAD","Fonseca e Assis Advogados Associados"," x x x ","Dedução de Honorários Contratuais","2019-11-01",8228.4500000000007,6763.4,14991.85,7323.33,6019.42,13342.75,905.12,743.98,1649.1,0,0,0,8228.4500000000007,905.12,0,9,"-",905.12,1,1,0]
["RPV",9058,"2019-11-28","MS 10.424/DF","2005-02-17","2005-10-27","Administrativo - Servidor Público Civil - Sistema Remuneratório e Benefícios - Gratificações","Ministério do Planejamento, Orçamento e Gestão","UNIÃO","Alimentar","Dulce Monteiro Da Silva Maia ","Servidor Público Civil Inativo","Gratificação Específica de Atividade Docente - GEAD","Fonseca e Assis Advogados Associados"," x x x ","Dedução de Honorários Contratuais","2019-11-01",8228.4500000000007,6763.4,14991.85,7323.33,6019.42,13342.75,905.12,743.98,1649.1,0,0,0,8228.4500000000007,905.12,0,9,"-",905.12,1,1,0]
["RPV",9059,"2019-11-28","MS 10.424/DF","2005-02-17","2005-10-27","Administrativo - Servidor Público Civil - Sistema Remuneratório e Benefícios - Gratificações","Ministério do Planejamento, Orçamento e Gestão","UNIÃO","Alimentar","Dulce Strabelli Freire ","Servidor Público Civil Inativo","Gratificação Específica de Atividade Docente - GEAD","Fonseca e Assis Advogados Associados"," x x x ","Dedução de Honorários Contratuais","2019-11-01",8228.4500000000007,6763.4,14991.85,7323.33,6019.42,13342.75,905.12,743.98,1649.1,0,0,0,8228.4500000000007,905.12,0,9,"-",905.12,1,1,0]
["RPV",9060,"2019-11-28","MS 10.424/DF","2005-02-17","2005-10-27","Administrativo - Servidor Público Civil - Sistema Remuneratório e Benefícios - Gratificações","Ministério do Planejamento, Orçamento e Gestão","UNIÃO","Alimentar","Edina Maria Lampire ","Servidor Público Civil Inativo","Gratificação Específica de Atividade Docente - GEAD","Fonseca e Assis Advogados Associados"," x x x ","Dedução de Honorários Contratuais","2019-11-01",8228.4500000000007,6763.4,14991.85,7323.33,6019.42,13342.75,905.12,743.98,1649.1,0,0,0,8228.4500000000007,905.12,0,9,"-",905.12,1,1,0]
["RPV",9061,"2019-11-28","MS 10.424/DF","2005-02-17","2005-10-27","Administrativo - Servidor Público Civil - Sistema Remuneratório e Benefícios - Gratificações","Ministério do Planejamento, Orçamento e Gestão","UNIÃO","Alimentar","Edmar Eduardo Da Silva ","Servidor Público Civil Ativo","Gratificação Específica de Atividade Docente - GEAD","Fonseca e Assis Advogados Associados"," x x x ","Dedução de Honorários Contratuais","2019-11-01",8228.4500000000007,6763.4,14991.85,7323.33,6019.42,13342.75,905.12,743.98,1649.1,0,0,0,8228.4500000000007,905.12,1810.24,9,"-",905.12,1,1,0]
["RPV",9062,"2019-11-28","MS 10.424/DF","2005-02-17","2005-10-27","Administrativo - Servidor Público Civil - Sistema Remuneratório e Benefícios - Gratificações","Ministério do Planejamento, Orçamento e Gestão","UNIÃO","Alimentar","Edmo Pacheco Da Silva ","Servidor Público Civil Inativo","Gratificação Específica de Atividade Docente - GEAD","Fonseca e Assis Advogados Associados"," x x x ","Dedução de Honorários Contratuais","2019-11-01",8228.4500000000007,6763.4,14991.85,7323.33,6019.42,13342.75,905.12,743.98,1649.1,0,0,0,8228.4500000000007,905.12,0,9,"-",905.12,1,1,0]
["RPV",9063,"2019-11-28","MS 10.424/DF","2005-02-17","2005-10-27","Administrativo - Servidor Público Civil - Sistema Remuneratório e Benefícios - Gratificações","Ministério do Planejamento, Orçamento e Gestão","UNIÃO","Alimentar","Edna Lúcia Da Costa ","Servidor Público Civil Inativo","Gratificação Específica de Atividade Docente - GEAD","Fonseca e Assis Advogados Associados"," x x x ","Dedução de Honorários Contratuais","2019-11-01",8228.4500000000007,6763.4,14991.85,7323.33,6019.42,13342.75,905.12,743.98,1649.1,0,0,0,8228.4500000000007,905.12,0,9,"-",905.12,1,1,0]
["RPV",9064,"2019-11-28","MS 10.424/DF","2005-02-17","2005-10-27","Administrativo - Servidor Público Civil - Sistema Remuneratório e Benefícios - Gratificações","Ministério do Planejamento, Orçamento e Gestão","UNIÃO","Alimentar","Elce Machado Romero ","Servidor Público Civil Inativo","Gratificação Específica de Atividade Docente - GEAD","Fonseca e Assis Advogados Associados"," x x x ","Dedução de Honorários Contratuais","2019-11-01",8228.4500000000007,6763.4,14991.85,7323.33,6019.42,13342.75,905.12,743.98,1649.1,0,0,0,8228.4500000000007,905.12,0,9,"-",905.12,1,1,0]
["RPV",9065,"2019-11-28","MS 10.424/DF","2005-02-17","2005-10-27","Administrativo - Servidor Público Civil - Sistema Remuneratório e Benefícios - Gratificações","Ministério do Planejamento, Orçamento e Gestão","UNIÃO","Alimentar","Eleide Costa De Lima ","Servidor Público Civil Inativo","Gratificação Específica de Atividade Docente - GEAD","Fonseca e Assis Advogados Associados"," x x x ","Dedução de Honorários Contratuais","2019-11-01",8228.4500000000007,6763.4,14991.85,7323.33,6019.42,13342.75,905.12,743.98,1649.1,0,0,0,8228.4500000000007,905.12,0,9,"-",905.12,1,1,0]
["RPV",9066,"2019-11-28","MS 10.424/DF","2005-02-17","2005-10-27","Administrativo - Servidor Público Civil - Sistema Remuneratório e Benefícios - Gratificações","Ministério do Planejamento, Orçamento e Gestão","UNIÃO","Alimentar","Elena Negrisoli Ferreira ","Servidor Público Civil Inativo","Gratificação Específica de Atividade Docente - GEAD","Fonseca e Assis Advogados Associados"," x x x ","Dedução de Honorários Contratuais","2019-11-01",8228.4500000000007,6763.4,14991.85,7323.33,6019.42,13342.75,905.12,743.98,1649.1,0,0,0,8228.4500000000007,905.12,0,9,"-",905.12,1,1,0]
["RPV",9067,"2019-11-28","MS 10.424/DF","2005-02-17","2005-10-27","Administrativo - Servidor Público Civil - Sistema Remuneratório e Benefícios - Gratificações","Ministério do Planejamento, Orçamento e Gestão","UNIÃO","Alimentar","Eleonor Antunes Pereira ","Servidor Público Civil Inativo","Gratificação Específica de Atividade Docente - GEAD","Fonseca e Assis Advogados Associados"," x x x ","Dedução de Honorários Contratuais","2019-11-01",8228.4500000000007,6763.4,14991.85,7323.33,6019.42,13342.75,905.12,743.98,1649.1,0,0,0,8228.4500000000007,905.12,0,9,"-",905.12,1,1,0]
["RPV",9068,"2019-11-28","MS 10.424/DF","2005-02-17","2005-10-27","Administrativo - Servidor Público Civil - Sistema Remuneratório e Benefícios - Gratificações","Ministério do Planejamento, Orçamento e Gestão","UNIÃO","Alimentar","Elia Oliveira Da Silva Torres ","Servidor Público Civil Ativo","Gratificação Específica de Atividade Docente - GEAD","Fonseca e Assis Advogados Associados"," x x x ","Dedução de Honorários Contratuais","2019-11-01",8228.4500000000007,6763.4,14991.85,7323.33,6019.42,13342.75,905.12,743.98,1649.1,0,0,0,8228.4500000000007,905.12,1810.24,9,"-",905.12,1,1,0]
["RPV",9069,"2019-11-28","MS 10.424/DF","2005-02-17","2005-10-27","Administrativo - Servidor Público Civil - Sistema Remuneratório e Benefícios - Gratificações","Ministério do Planejamento, Orçamento e Gestão","UNIÃO","Alimentar","Eliene Alves Mendonça ","Servidor Público Civil Ativo","Gratificação Específica de Atividade Docente - GEAD","Fonseca e Assis Advogados Associados"," x x x ","Dedução de Honorários Contratuais","2019-11-01",8228.4500000000007,6763.4,14991.85,7323.33,6019.42,13342.75,905.12,743.98,1649.1,0,0,0,8228.4500000000007,905.12,1810.24,9,"-",905.12,1,1,0]
["RPV",9070,"2019-11-28","MS 10.424/DF","2005-02-17","2005-10-27","Administrativo - Servidor Público Civil - Sistema Remuneratório e Benefícios - Gratificações","Ministério do Planejamento, Orçamento e Gestão","UNIÃO","Alimentar","Eliete Rodrigues De Lima ","Servidor Público Civil Inativo","Gratificação Específica de Atividade Docente - GEAD","Fonseca e Assis Advogados Associados"," x x x ","Dedução de Honorários Contratuais","2019-11-01",8228.4500000000007,6763.4,14991.85,7323.33,6019.42,13342.75,905.12,743.98,1649.1,0,0,0,8228.4500000000007,905.12,0,9,"-",905.12,1,1,0]
["RPV",9071,"2019-11-28","MS 10.424/DF","2005-02-17","2005-10-27","Administrativo - Servidor Público Civil - Sistema Remuneratório e Benefícios - Gratificações","Ministério do Planejamento, Orçamento e Gestão","UNIÃO","Alimentar","Elisabete De Jesus Moreira ","Servidor Público Civil Inativo","Gratificação Específica de Atividade Docente - GEAD","Fonseca e Assis Advogados Associados"," x x x ","Dedução de Honorários Contratuais","2019-11-01",8228.4500000000007,6763.4,14991.85,7323.33,6019.42,13342.75,905.12,743.98,1649.1,0,0,0,8228.4500000000007,905.12,0,9,"-",905.12,1,1,0]
["RPV",9072,"2019-11-28","MS 10.424/DF","2005-02-17","2005-10-27","Administrativo - Servidor Público Civil - Sistema Remuneratório e Benefícios - Gratificações","Ministério do Planejamento, Orçamento e Gestão","UNIÃO","Alimentar","Elisabeth Gsellmann ","Servidor Público Civil Inativo","Gratificação Específica de Atividade Docente - GEAD","Fonseca e Assis Advogados Associados"," x x x ","Dedução de Honorários Contratuais","2019-11-01",8228.4500000000007,6763.4,14991.85,7323.33,6019.42,13342.75,905.12,743.98,1649.1,0,0,0,8228.4500000000007,905.12,0,9,"-",905.12,1,1,0]
["RPV",9073,"2019-11-28","MS 10.424/DF","2005-02-17","2005-10-27","Administrativo - Servidor Público Civil - Sistema Remuneratório e Benefícios - Gratificações","Ministério do Planejamento, Orçamento e Gestão","UNIÃO","Alimentar","Elisabeth Maria Esteves Badocha ","Servidor Público Civil Inativo","Gratificação Específica de Atividade Docente - GEAD","Fonseca e Assis Advogados Associados"," x x x ","Dedução de Honorários Contratuais","2019-11-01",8228.4500000000007,6763.4,14991.85,7323.33,6019.42,13342.75,905.12,743.98,1649.1,0,0,0,8228.4500000000007,905.12,0,9,"-",905.12,1,1,0]
["RPV",9074,"2019-11-28","MS 10.424/DF","2005-02-17","2005-10-27","Administrativo - Servidor Público Civil - Sistema Remuneratório e Benefícios - Gratificações","Ministério do Planejamento, Orçamento e Gestão","UNIÃO","Alimentar","Elisabeth Rodrigues Lima ","Servidor Público Civil Inativo","Gratificação Específica de Atividade Docente - GEAD","Fonseca e Assis Advogados Associados"," x x x ","Dedução de Honorários Contratuais","2019-11-01",8228.4500000000007,6763.4,14991.85,7323.33,6019.42,13342.75,905.12,743.98,1649.1,0,0,0,8228.4500000000007,905.12,0,9,"-",905.12,1,1,0]
["RPV",9075,"2019-11-28","MS 10.424/DF","2005-02-17","2005-10-27","Administrativo - Servidor Público Civil - Sistema Remuneratório e Benefícios - Gratificações","Ministério do Planejamento, Orçamento e Gestão","UNIÃO","Alimentar","Eliza Barbosa De Carvalho ","Servidor Público Civil Inativo","Gratificação Específica de Atividade Docente - GEAD","Fonseca e Assis Advogados Associados"," x x x ","Dedução de Honorários Contratuais","2019-11-01",8228.4500000000007,6763.4,14991.85,7323.33,6019.42,13342.75,905.12,743.98,1649.1,0,0,0,8228.4500000000007,905.12,0,9,"-",905.12,1,1,0]
["RPV",9076,"2019-11-28","MS 10.424/DF","2005-02-17","2005-10-27","Administrativo - Servidor Público Civil - Sistema Remuneratório e Benefícios - Gratificações","Ministério do Planejamento, Orçamento e Gestão","UNIÃO","Alimentar","Elizabete Nascimento Da Costa ","Servidor Público Civil Ativo","Gratificação Específica de Atividade Docente - GEAD","Fonseca e Assis Advogados Associados"," x x x ","Dedução de Honorários Contratuais","2019-11-01",8228.4500000000007,6763.4,14991.85,7323.33,6019.42,13342.75,905.12,743.98,1649.1,0,0,0,8228.4500000000007,905.12,1810.24,9,"-",905.12,1,1,0]
["RPV",9077,"2019-11-28","MS 10.424/DF","2005-02-17","2005-10-27","Administrativo - Servidor Público Civil - Sistema Remuneratório e Benefícios - Gratificações","Ministério do Planejamento, Orçamento e Gestão","UNIÃO","Alimentar","Elizabete Paes De Azevedo ","Servidor Público Civil Inativo","Gratificação Específica de Atividade Docente - GEAD","Fonseca e Assis Advogados Associados"," x x x ","Dedução de Honorários Contratuais","2019-11-01",8228.4500000000007,6763.4,14991.85,7323.33,6019.42,13342.75,905.12,743.98,1649.1,0,0,0,8228.4500000000007,905.12,0,9,"-",905.12,1,1,0]
["RPV",9078,"2019-11-28","MS 10.424/DF","2005-02-17","2005-10-27","Administrativo - Servidor Público Civil - Sistema Remuneratório e Benefícios - Gratificações","-","UNIÃO","Alimentar","Fonseca e Assis Advogados Associados","-","Honorários de sucumbência","Fonseca e Assis Advogados Associados"," x x x ","X  X  X","2019-11-01",123.55,0,123.55,123.55,0,123.55,0,0,0,0,0,0,0,0,0,0,"-",0,1,1,0]
["RPV",9079,"2019-11-28","MS 10.424/DF","2005-02-17","2005-10-27","Administrativo - Servidor Público Civil - Sistema Remuneratório e Benefícios - Gratificações","Ministério do Planejamento, Orçamento e Gestão","UNIÃO","Alimentar","Serys Fausta Marques Allyen ","Servidor Público Civil Ativo","Gratificação Específica de Atividade Docente - GEAD","Fonseca e Assis Advogados Associados"," x x x ","Dedução de Honorários Contratuais","2019-11-01",8228.4500000000007,6763.4,14991.85,7323.33,6019.42,13342.75,905.12,743.98,1649.1,0,0,0,8228.4500000000007,905.12,1810.24,9,"-",905.12,1,1,0]
["RPV",9080,"2019-11-28","MS 10.424/DF","2005-02-17","2005-10-27","Administrativo - Servidor Público Civil - Sistema Remuneratório e Benefícios - Gratificações","Ministério do Planejamento, Orçamento e Gestão","UNIÃO","Alimentar","Severino Silva Castro ","Servidor Público Civil Ativo","Gratificação Específica de Atividade Docente - GEAD","Fonseca e Assis Advogados Associados"," x x x ","Dedução de Honorários Contratuais","2019-11-01",8228.4500000000007,6763.4,14991.85,7323.33,6019.42,13342.75,905.12,743.98,1649.1,0,0,0,8228.4500000000007,905.12,1810.24,9,"-",905.12,1,1,0]
["RPV",9081,"2019-11-28","MS 10.424/DF","2005-02-17","2005-10-27","Administrativo - Servidor Público Civil - Sistema Remuneratório e Benefícios - Gratificações","Ministério do Planejamento, Orçamento e Gestão","UNIÃO","Alimentar","Sheila Xavier De Lira ","Servidor Público Civil Ativo","Gratificação Específica de Atividade Docente - GEAD","Fonseca e Assis Advogados Associados"," x x x ","Dedução de Honorários Contratuais","2019-11-01",8228.4500000000007,6763.4,14991.85,7323.33,6019.42,13342.75,905.12,743.98,1649.1,0,0,0,8228.4500000000007,905.12,1810.24,9,"-",905.12,1,1,0]
["RPV",9082,"2019-11-28","MS 10.424/DF","2005-02-17","2005-10-27","Administrativo - Servidor Público Civil - Sistema Remuneratório e Benefícios - Gratificações","Ministério do Planejamento, Orçamento e Gestão","UNIÃO","Alimentar","Siglia Socorro Basque Pereira ","Servidor Público Civil Ativo","Gratificação Específica de Atividade Docente - GEAD","Fonseca e Assis Advogados Associados"," x x x ","Dedução de Honorários Contratuais","2019-11-01",8228.4500000000007,6763.4,14991.85,7323.33,6019.42,13342.75,905.12,743.98,1649.1,0,0,0,8228.4500000000007,905.12,1810.24,9,"-",905.12,1,1,0]
["RPV",9083,"2019-11-28","MS 10.424/DF","2005-02-17","2005-10-27","Administrativo - Servidor Público Civil - Sistema Remuneratório e Benefícios - Gratificações","Ministério do Planejamento, Orçamento e Gestão","UNIÃO","Alimentar","Solange Silva Nascimento ","Servidor Público Civil Ativo","Gratificação Específica de Atividade Docente - GEAD","Fonseca e Assis Advogados Associados"," x x x ","Dedução de Honorários Contratuais","2019-11-01",8228.4500000000007,6763.4,14991.85,7323.33,6019.42,13342.75,905.12,743.98,1649.1,0,0,0,8228.4500000000007,905.12,1810.24,9,"-",905.12,1,1,0]
["RPV",9084,"2019-11-28","MS 10.424/DF","2005-02-17","2005-10-27","Administrativo - Servidor Público Civil - Sistema Remuneratório e Benefícios - Gratificações","Ministério do Planejamento, Orçamento e Gestão","UNIÃO","Alimentar","Sonia Maria Da Silva Araujo ","Servidor Público Civil Ativo","Gratificação Específica de Atividade Docente - GEAD","Fonseca e Assis Advogados Associados"," x x x ","Dedução de Honorários Contratuais","2019-11-01",8228.4500000000007,6763.4,14991.85,7323.33,6019.42,13342.75,905.12,743.98,1649.1,0,0,0,8228.4500000000007,905.12,1810.24,9,"-",905.12,1,1,0]
["RPV",9085,"2019-11-28","MS 10.424/DF","2005-02-17","2005-10-27","Administrativo - Servidor Público Civil - Sistema Remuneratório e Benefícios - Gratificações","-","UNIÃO","Alimentar","Fonseca e Assis Advogados Associados","-","Honorários de sucumbência","Fonseca e Assis Advogados Associados"," x x x ","X  X  X","2019-11-01",123.91,0,123.91,123.91,0,123.91,0,0,0,0,0,0,0,0,0,0,"-",0,1,1,0]
["RPV",9086,"2019-11-29","MS 7.386/DF","2001-01-31","2003-12-04","Administrativo - Servidor Público Civil - Sistema Remuneratório e Benefícios - Gratificações da Lei 8.112/1990","Ministério do Planejamento, Orçamento e Gestão","UNIÃO","Alimentar","Clelciane dos Santos Rodrigues","Pensionista de Servidor Público Civil Inativo","Gratificação de Operações Especiais - GOE","Marcelo Lavocat Galvão","Paulo Sérgio Cunha","Dedução de Honorários Contratuais","2019-11-01",6113.4,8198.92,14312.32,4279.38,5739.26,10018.64,917.01,1229.83,2146.84,917.01,1229.83,2146.84,0,0,0,35,"-",0,1,1,0]
["RPV",9087,"2019-11-29","MS 7.386/DF","2001-01-31","2003-12-04","Administrativo - Servidor Público Civil - Sistema Remuneratório e Benefícios - Gratificações da Lei 8.112/1990","Ministério do Planejamento, Orçamento e Gestão","UNIÃO","Alimentar","Clelcimar dos Santos Rodrigues","Pensionista de Servidor Público Civil Inativo","Gratificação de Operações Especiais - GOE","Marcelo Lavocat Galvão","Paulo Sérgio Cunha","Dedução de Honorários Contratuais","2019-11-01",7452.65,9727.31,17179.96,5216.87,6809.11,12025.98,1117.8900000000001,1459.1,2576.9899999999998,1117.8900000000001,1459.1,2576.9899999999998,0,0,0,50,"-",0,1,1,0]
["RPV",9088,"2019-11-29","MS 7.386/DF","2001-01-31","2003-12-04","Administrativo - Servidor Público Civil - Sistema Remuneratório e Benefícios - Gratificações da Lei 8.112/1990","Ministério do Planejamento, Orçamento e Gestão","UNIÃO","Alimentar","Cristiana Ferreira Leite","Pensionista de Servidor Público Civil Inativo","Gratificação de Operações Especiais - GOE","Marcelo Lavocat Galvão","Paulo Sérgio Cunha","Dedução de Honorários Contratuais","2019-11-01",3268.18,4366.32,7634.5,2287.7399999999998,3056.42,5344.16,490.22,654.95000000000005,1145.17,490.22,654.95000000000005,1145.17,0,0,0,28,"-",0,1,1,0]
["RPV",9089,"2019-11-29","MS 7.386/DF","2001-01-31","2003-12-04","Administrativo - Servidor Público Civil - Sistema Remuneratório e Benefícios - Gratificações da Lei 8.112/1990","Ministério do Planejamento, Orçamento e Gestão","UNIÃO","Alimentar","Delfino Ferreira Leite","Pensionista de Servidor Público Civil Inativo","Gratificação de Operações Especiais - GOE","Marcelo Lavocat Galvão","Paulo Sérgio Cunha","Dedução de Honorários Contratuais","2019-11-01",4673.91,6146.91,10820.82,3271.75,4302.83,7574.58,701.08,922.04,1623.12,701.08,922.04,1623.12,0,0,0,50,"-",0,1,1,0]
["RPV",9090,"2019-11-29","MS 7.386/DF","2001-01-31","2003-12-04","Administrativo - Servidor Público Civil - Sistema Remuneratório e Benefícios - Gratificações da Lei 8.112/1990","Ministério do Planejamento, Orçamento e Gestão","UNIÃO","Alimentar","Eduardo Henrique da Silva Braga","Pensionista de Servidor Público Civil Inativo","Gratificação de Operações Especiais - GOE","Marcelo Lavocat Galvão","Paulo Sérgio Cunha","Dedução de Honorários Contratuais","2019-11-01",8189.27,10799.72,18988.990000000002,5732.49,7559.82,13292.31,1228.3900000000001,1619.95,2848.34,1228.3900000000001,1619.95,2848.34,0,0,0,50,"-",0,1,1,0]
["RPV",9091,"2019-11-29","MS 10.424/DF","2005-02-17","2005-10-27","Administrativo - Servidor Público Civil - Sistema Remuneratório e Benefícios - Gratificações","Ministério do Planejamento, Orçamento e Gestão","UNIÃO","Alimentar","Tereza Rodrigues Do Nascimento ","Servidor Público Civil Ativo","Gratificação Específica de Atividade Docente - GEAD","Fonseca e Assis Advogados Associados"," x x x ","Dedução de Honorários Contratuais","2019-11-01",8228.4500000000007,6763.4,14991.85,7323.33,6019.42,13342.75,905.12,743.98,1649.1,0,0,0,8228.4500000000007,905.12,1810.24,9,"-",905.12,1,1,0]
["RPV",9092,"2019-11-29","MS 10.424/DF","2005-02-17","2005-10-27","Administrativo - Servidor Público Civil - Sistema Remuneratório e Benefícios - Gratificações","Ministério do Planejamento, Orçamento e Gestão","UNIÃO","Alimentar","Tereza De Brito Cangirana ","Servidor Público Civil Inativo","Gratificação Específica de Atividade Docente - GEAD","Fonseca e Assis Advogados Associados"," x x x ","Dedução de Honorários Contratuais","2019-11-01",8228.4500000000007,6763.4,14991.85,7323.33,6019.42,13342.75,905.12,743.98,1649.1,0,0,0,8228.4500000000007,905.12,0,9,"-",905.12,1,1,0]
["RPV",9093,"2019-11-29","MS 10.424/DF","2005-02-17","2005-10-27","Administrativo - Servidor Público Civil - Sistema Remuneratório e Benefícios - Gratificações","Ministério do Planejamento, Orçamento e Gestão","UNIÃO","Alimentar","Tereza Martins Damacena ","Servidor Público Civil Inativo","Gratificação Específica de Atividade Docente - GEAD","Fonseca e Assis Advogados Associados"," x x x ","Dedução de Honorários Contratuais","2019-11-01",8228.4500000000007,6763.4,14991.85,7323.33,6019.42,13342.75,905.12,743.98,1649.1,0,0,0,8228.4500000000007,905.12,0,9,"-",905.12,1,1,0]
["RPV",9094,"2019-11-29","MS 10.424/DF","2005-02-17","2005-10-27","Administrativo - Servidor Público Civil - Sistema Remuneratório e Benefícios - Gratificações","Ministério do Planejamento, Orçamento e Gestão","UNIÃO","Alimentar","Terezina Conceição Costa Lessa ","Servidor Público Civil Inativo","Gratificação Específica de Atividade Docente - GEAD","Fonseca e Assis Advogados Associados"," x x x ","Dedução de Honorários Contratuais","2019-11-01",8228.4500000000007,6763.4,14991.85,7323.33,6019.42,13342.75,905.12,743.98,1649.1,0,0,0,8228.4500000000007,905.12,0,9,"-",905.12,1,1,0]
["RPV",9095,"2019-11-29","MS 10.424/DF","2005-02-17","2005-10-27","Administrativo - Servidor Público Civil - Sistema Remuneratório e Benefícios - Gratificações","Ministério do Planejamento, Orçamento e Gestão","UNIÃO","Alimentar","Terezinha Botelho Da Silva ","Servidor Público Civil Inativo","Gratificação Específica de Atividade Docente - GEAD","Fonseca e Assis Advogados Associados"," x x x ","Dedução de Honorários Contratuais","2019-11-01",8228.4500000000007,6763.4,14991.85,7323.33,6019.42,13342.75,905.12,743.98,1649.1,0,0,0,8228.4500000000007,905.12,0,9,"-",905.12,1,1,0]
["RPV",9096,"2019-11-29","MS 10.424/DF","2005-02-17","2005-10-27","Administrativo - Servidor Público Civil - Sistema Remuneratório e Benefícios - Gratificações","Ministério do Planejamento, Orçamento e Gestão","UNIÃO","Alimentar","Terezinha Cardoso Cunha ","Servidor Público Civil Inativo","Gratificação Específica de Atividade Docente - GEAD","Fonseca e Assis Advogados Associados"," x x x ","Dedução de Honorários Contratuais","2019-11-01",8228.4500000000007,6763.4,14991.85,7323.33,6019.42,13342.75,905.12,743.98,1649.1,0,0,0,8228.4500000000007,905.12,0,9,"-",905.12,1,1,0]
["RPV",9097,"2019-11-29","MS 10.424/DF","2005-02-17","2005-10-27","Administrativo - Servidor Público Civil - Sistema Remuneratório e Benefícios - Gratificações","Ministério do Planejamento, Orçamento e Gestão","UNIÃO","Alimentar","Terezinha Da Silva Carvalho ","Servidor Público Civil Inativo","Gratificação Específica de Atividade Docente - GEAD","Fonseca e Assis Advogados Associados"," x x x ","Dedução de Honorários Contratuais","2019-11-01",8228.4500000000007,6763.4,14991.85,7323.33,6019.42,13342.75,905.12,743.98,1649.1,0,0,0,8228.4500000000007,905.12,0,9,"-",905.12,1,1,0]
["RPV",9098,"2019-11-29","MS 10.424/DF","2005-02-17","2005-10-27","Administrativo - Servidor Público Civil - Sistema Remuneratório e Benefícios - Gratificações","Ministério do Planejamento, Orçamento e Gestão","UNIÃO","Alimentar","Terezinha Da Silva Monteiro ","Servidor Público Civil Inativo","Gratificação Específica de Atividade Docente - GEAD","Fonseca e Assis Advogados Associados"," x x x ","Dedução de Honorários Contratuais","2019-11-01",8228.4500000000007,6763.4,14991.85,7323.33,6019.42,13342.75,905.12,743.98,1649.1,0,0,0,8228.4500000000007,905.12,0,9,"-",905.12,1,1,0]
["RPV",9099,"2019-11-29","MS 10.424/DF","2005-02-17","2005-10-27","Administrativo - Servidor Público Civil - Sistema Remuneratório e Benefícios - Gratificações","Ministério do Planejamento, Orçamento e Gestão","UNIÃO","Alimentar","Terezinha Dantas De Lira ","Servidor Público Civil Inativo","Gratificação Específica de Atividade Docente - GEAD","Fonseca e Assis Advogados Associados"," x x x ","Dedução de Honorários Contratuais","2019-11-01",8228.4500000000007,6763.4,14991.85,7323.33,6019.42,13342.75,905.12,743.98,1649.1,0,0,0,8228.4500000000007,905.12,0,9,"-",905.12,1,1,0]
["RPV",9100,"2019-11-29","MS 10.424/DF","2005-02-17","2005-10-27","Administrativo - Servidor Público Civil - Sistema Remuneratório e Benefícios - Gratificações","Ministério do Planejamento, Orçamento e Gestão","UNIÃO","Alimentar","Terezinha De Jesus Araújo Ferreira ","Servidor Público Civil Inativo","Gratificação Específica de Atividade Docente - GEAD","Fonseca e Assis Advogados Associados"," x x x ","Dedução de Honorários Contratuais","2019-11-01",8228.4500000000007,6763.4,14991.85,7323.33,6019.42,13342.75,905.12,743.98,1649.1,0,0,0,8228.4500000000007,905.12,0,9,"-",905.12,1,1,0]
["RPV",9101,"2019-11-29","MS 10.424/DF","2005-02-17","2005-10-27","Administrativo - Servidor Público Civil - Sistema Remuneratório e Benefícios - Gratificações","Ministério do Planejamento, Orçamento e Gestão","UNIÃO","Alimentar","Terezinha De Jesus Beira Pantoja ","Servidor Público Civil Inativo","Gratificação Específica de Atividade Docente - GEAD","Fonseca e Assis Advogados Associados"," x x x ","Dedução de Honorários Contratuais","2019-11-01",8228.4500000000007,6763.4,14991.85,7323.33,6019.42,13342.75,905.12,743.98,1649.1,0,0,0,8228.4500000000007,905.12,0,9,"-",905.12,1,1,0]
["RPV",9102,"2019-11-29","MS 10.424/DF","2005-02-17","2005-10-27","Administrativo - Servidor Público Civil - Sistema Remuneratório e Benefícios - Gratificações","Ministério do Planejamento, Orçamento e Gestão","UNIÃO","Alimentar","Terezinha Flaviana Vieira ","Servidor Público Civil Inativo","Gratificação Específica de Atividade Docente - GEAD","Fonseca e Assis Advogados Associados"," x x x ","Dedução de Honorários Contratuais","2019-11-01",8228.4500000000007,6763.4,14991.85,7323.33,6019.42,13342.75,905.12,743.98,1649.1,0,0,0,8228.4500000000007,905.12,0,9,"-",905.12,1,1,0]
["RPV",9103,"2019-11-29","MS 10.424/DF","2005-02-17","2005-10-27","Administrativo - Servidor Público Civil - Sistema Remuneratório e Benefícios - Gratificações","Ministério do Planejamento, Orçamento e Gestão","UNIÃO","Alimentar","Terezinha Leite De Oliveira ","Servidor Público Civil Inativo","Gratificação Específica de Atividade Docente - GEAD","Fonseca e Assis Advogados Associados"," x x x ","Dedução de Honorários Contratuais","2019-11-01",8228.4500000000007,6763.4,14991.85,7323.33,6019.42,13342.75,905.12,743.98,1649.1,0,0,0,8228.4500000000007,905.12,0,9,"-",905.12,1,1,0]
["RPV",9104,"2019-11-29","MS 10.424/DF","2005-02-17","2005-10-27","Administrativo - Servidor Público Civil - Sistema Remuneratório e Benefícios - Gratificações","Ministério do Planejamento, Orçamento e Gestão","UNIÃO","Alimentar","Terezinha Marques De Souza Dalazoana ","Servidor Público Civil Inativo","Gratificação Específica de Atividade Docente - GEAD","Fonseca e Assis Advogados Associados"," x x x ","Dedução de Honorários Contratuais","2019-11-01",8228.4500000000007,6763.4,14991.85,7323.33,6019.42,13342.75,905.12,743.98,1649.1,0,0,0,8228.4500000000007,905.12,0,9,"-",905.12,1,1,0]
["RPV",9105,"2019-11-29","MS 10.424/DF","2005-02-17","2005-10-27","Administrativo - Servidor Público Civil - Sistema Remuneratório e Benefícios - Gratificações","Ministério do Planejamento, Orçamento e Gestão","UNIÃO","Alimentar","Terezinha Nobre De Souza ","Servidor Público Civil Inativo","Gratificação Específica de Atividade Docente - GEAD","Fonseca e Assis Advogados Associados"," x x x ","Dedução de Honorários Contratuais","2019-11-01",8228.4500000000007,6763.4,14991.85,7323.33,6019.42,13342.75,905.12,743.98,1649.1,0,0,0,8228.4500000000007,905.12,0,9,"-",905.12,1,1,0]
["RPV",9106,"2019-11-29","MS 10.424/DF","2005-02-17","2005-10-27","Administrativo - Servidor Público Civil - Sistema Remuneratório e Benefícios - Gratificações","Ministério do Planejamento, Orçamento e Gestão","UNIÃO","Alimentar","Valdivia Ferreira De Araújo ","Servidor Público Civil Ativo","Gratificação Específica de Atividade Docente - GEAD","Fonseca e Assis Advogados Associados"," x x x ","Dedução de Honorários Contratuais","2019-11-01",8228.4500000000007,6763.4,14991.85,7323.33,6019.42,13342.75,905.12,743.98,1649.1,0,0,0,8228.4500000000007,905.12,1810.24,9,"-",905.12,1,1,0]
["RPV",9107,"2019-11-29","MS 10.424/DF","2005-02-17","2005-10-27","Administrativo - Servidor Público Civil - Sistema Remuneratório e Benefícios - Gratificações","Ministério do Planejamento, Orçamento e Gestão","UNIÃO","Alimentar","Vera Lúcia Araújo Da Costa ","Servidor Público Civil Ativo","Gratificação Específica de Atividade Docente - GEAD","Fonseca e Assis Advogados Associados"," x x x ","Dedução de Honorários Contratuais","2019-11-01",8228.4500000000007,6763.4,14991.85,7323.33,6019.42,13342.75,905.12,743.98,1649.1,0,0,0,8228.4500000000007,905.12,1810.24,9,"-",905.12,1,1,0]
["RPV",9108,"2019-11-29","MS 10.424/DF","2005-02-17","2005-10-27","Administrativo - Servidor Público Civil - Sistema Remuneratório e Benefícios - Gratificações","Ministério do Planejamento, Orçamento e Gestão","UNIÃO","Alimentar","Verginia De Azevedo Guimarães ","Servidor Público Civil Ativo","Gratificação Específica de Atividade Docente - GEAD","Fonseca e Assis Advogados Associados"," x x x ","Dedução de Honorários Contratuais","2019-11-01",8228.4500000000007,6763.4,14991.85,7323.33,6019.42,13342.75,905.12,743.98,1649.1,0,0,0,8228.4500000000007,905.12,1810.24,9,"-",905.12,1,1,0]
["RPV",9109,"2019-11-29","MS 10.424/DF","2005-02-17","2005-10-27","Administrativo - Servidor Público Civil - Sistema Remuneratório e Benefícios - Gratificações","Ministério do Planejamento, Orçamento e Gestão","UNIÃO","Alimentar","Vilma De Araújo Rocha ","Servidor Público Civil Ativo","Gratificação Específica de Atividade Docente - GEAD","Fonseca e Assis Advogados Associados"," x x x ","Dedução de Honorários Contratuais","2019-11-01",8228.4500000000007,6763.4,14991.85,7323.33,6019.42,13342.75,905.12,743.98,1649.1,0,0,0,8228.4500000000007,905.12,1810.24,9,"-",905.12,1,1,0]
["RPV",9110,"2019-11-29","MS 10.424/DF","2005-02-17","2005-10-27","Administrativo - Servidor Público Civil - Sistema Remuneratório e Benefícios - Gratificações","Ministério do Planejamento, Orçamento e Gestão","UNIÃO","Alimentar","Walquiria Reis Cordeiro ","Servidor Público Civil Ativo","Gratificação Específica de Atividade Docente - GEAD","Fonseca e Assis Advogados Associados"," x x x ","Dedução de Honorários Contratuais","2019-11-01",8228.4500000000007,6763.4,14991.85,7323.33,6019.42,13342.75,905.12,743.98,1649.1,0,0,0,8228.4500000000007,905.12,1810.24,9,"-",905.12,1,1,0]
["RPV",9111,"2019-11-29","MS 10.424/DF","2005-02-17","2005-10-27","Administrativo - Servidor Público Civil - Sistema Remuneratório e Benefícios - Gratificações","Ministério do Planejamento, Orçamento e Gestão","UNIÃO","Alimentar","Zuleide Rodrigues Lamarao ","Servidor Público Civil Ativo","Gratificação Específica de Atividade Docente - GEAD","Fonseca e Assis Advogados Associados"," x x x ","Dedução de Honorários Contratuais","2019-11-01",8228.4500000000007,6763.4,14991.85,7323.33,6019.42,13342.75,905.12,743.98,1649.1,0,0,0,8228.4500000000007,905.12,1810.24,9,"-",905.12,1,1,0]
["RPV",9112,"2019-11-29","MS 10.424/DF","2005-02-17","2005-10-27","Administrativo - Servidor Público Civil - Sistema Remuneratório e Benefícios - Gratificações","Ministério do Planejamento, Orçamento e Gestão","UNIÃO","Alimentar","Ana Maria De Andrade Silva ","Servidor Público Civil Ativo","Gratificação Específica de Atividade Docente - GEAD","Fonseca e Assis Advogados Associados"," x x x ","Dedução de Honorários Contratuais","2019-11-01",8228.4500000000007,6763.4,14991.85,7323.33,6019.42,13342.75,905.12,743.98,1649.1,0,0,0,8228.4500000000007,905.12,1810.24,9,"-",905.12,1,1,0]
["RPV",9113,"2019-11-29","MS 10.424/DF","2005-02-17","2005-10-27","Administrativo - Servidor Público Civil - Sistema Remuneratório e Benefícios - Gratificações","Ministério do Planejamento, Orçamento e Gestão","UNIÃO","Alimentar","Maria Aurea Guedes Coutinho ","Servidor Público Civil Ativo","Gratificação Específica de Atividade Docente - GEAD","Fonseca e Assis Advogados Associados"," x x x ","Dedução de Honorários Contratuais","2019-11-01",8228.4500000000007,6763.4,14991.85,7323.33,6019.42,13342.75,905.12,743.98,1649.1,0,0,0,8228.4500000000007,905.12,1810.24,9,"-",905.12,1,1,0]
["RPV",9114,"2019-11-29","MS 10.424/DF","2005-02-17","2005-10-27","Administrativo - Servidor Público Civil - Sistema Remuneratório e Benefícios - Gratificações","Ministério do Planejamento, Orçamento e Gestão","UNIÃO","Alimentar","Odila De Oliveira Leal Malta ","Servidor Público Civil Inativo","Gratificação Específica de Atividade Docente - GEAD","Fonseca e Assis Advogados Associados"," x x x ","Dedução de Honorários Contratuais","2019-11-01",8228.4500000000007,6763.4,14991.85,7323.33,6019.42,13342.75,905.12,743.98,1649.1,0,0,0,8228.4500000000007,905.12,0,9,"-",905.12,1,1,0]
["RPV",9115,"2019-11-29","MS 10.424/DF","2005-02-17","2005-10-27","Administrativo - Servidor Público Civil - Sistema Remuneratório e Benefícios - Gratificações","Ministério do Planejamento, Orçamento e Gestão","UNIÃO","Alimentar","Olga Ana Herek Bonaldo ","Servidor Público Civil Inativo","Gratificação Específica de Atividade Docente - GEAD","Fonseca e Assis Advogados Associados"," x x x ","Dedução de Honorários Contratuais","2019-11-01",8228.4500000000007,6763.4,14991.85,7323.33,6019.42,13342.75,905.12,743.98,1649.1,0,0,0,8228.4500000000007,905.12,0,9,"-",905.12,1,1,0]
["RPV",9116,"2019-11-29","MS 10.424/DF","2005-02-17","2005-10-27","Administrativo - Servidor Público Civil - Sistema Remuneratório e Benefícios - Gratificações","-","UNIÃO","Alimentar","Fonseca e Assis Advogados Associados","-","Honorários de sucumbência","Fonseca e Assis Advogados Associados"," x x x ","X  X  X","2019-11-01",123.55,0,123.55,123.55,0,123.55,0,0,0,0,0,0,0,0,0,0,"-",0,1,1,0]
["RPV",9117,"2019-11-29","MS 10.424/DF","2005-02-17","2005-10-27","Administrativo - Servidor Público Civil - Sistema Remuneratório e Benefícios - Gratificações","Ministério do Planejamento, Orçamento e Gestão","UNIÃO","Alimentar","Eronilde Farias Antunes ","Servidor Público Civil Inativo","Gratificação Específica de Atividade Docente - GEAD","Fonseca e Assis Advogados Associados"," x x x ","Dedução de Honorários Contratuais","2019-11-01",8228.4500000000007,6763.4,14991.85,7323.33,6019.42,13342.75,905.12,743.98,1649.1,0,0,0,8228.4500000000007,905.12,0,9,"-",905.12,1,1,0]
["RPV",9118,"2019-11-29","MS 10.424/DF","2005-02-17","2005-10-27","Administrativo - Servidor Público Civil - Sistema Remuneratório e Benefícios - Gratificações","Ministério do Planejamento, Orçamento e Gestão","UNIÃO","Alimentar","Esmeralda Vaz Da Silva ","Servidor Público Civil Inativo","Gratificação Específica de Atividade Docente - GEAD","Fonseca e Assis Advogados Associados"," x x x ","Dedução de Honorários Contratuais","2019-11-01",8228.4500000000007,6763.4,14991.85,7323.33,6019.42,13342.75,905.12,743.98,1649.1,0,0,0,8228.4500000000007,905.12,0,9,"-",905.12,1,1,0]
["RPV",9119,"2019-11-29","MS 10.424/DF","2005-02-17","2005-10-27","Administrativo - Servidor Público Civil - Sistema Remuneratório e Benefícios - Gratificações","Ministério do Planejamento, Orçamento e Gestão","UNIÃO","Alimentar","Esmeralda Velasques Morais ","Servidor Público Civil Inativo","Gratificação Específica de Atividade Docente - GEAD","Fonseca e Assis Advogados Associados"," x x x ","Dedução de Honorários Contratuais","2019-11-01",8228.4500000000007,6763.4,14991.85,7323.33,6019.42,13342.75,905.12,743.98,1649.1,0,0,0,8228.4500000000007,905.12,0,9,"-",905.12,1,1,0]
["RPV",9120,"2019-11-29","MS 10.424/DF","2005-02-17","2005-10-27","Administrativo - Servidor Público Civil - Sistema Remuneratório e Benefícios - Gratificações","Ministério do Planejamento, Orçamento e Gestão","UNIÃO","Alimentar","Esperendeus Ferreira De Pinho ","Servidor Público Civil Ativo","Gratificação Específica de Atividade Docente - GEAD","Fonseca e Assis Advogados Associados"," x x x ","Dedução de Honorários Contratuais","2019-11-01",8228.4500000000007,6763.4,14991.85,7323.33,6019.42,13342.75,905.12,743.98,1649.1,0,0,0,8228.4500000000007,905.12,1810.24,9,"-",905.12,1,1,0]
["RPV",9121,"2019-11-29","MS 10.424/DF","2005-02-17","2005-10-27","Administrativo - Servidor Público Civil - Sistema Remuneratório e Benefícios - Gratificações","Ministério do Planejamento, Orçamento e Gestão","UNIÃO","Alimentar","Ester Da Silva Vieira ","Servidor Público Civil Inativo","Gratificação Específica de Atividade Docente - GEAD","Fonseca e Assis Advogados Associados"," x x x ","Dedução de Honorários Contratuais","2019-11-01",8228.4500000000007,6763.4,14991.85,7323.33,6019.42,13342.75,905.12,743.98,1649.1,0,0,0,8228.4500000000007,905.12,0,9,"-",905.12,1,1,0]
["RPV",9122,"2019-11-29","MS 10.424/DF","2005-02-17","2005-10-27","Administrativo - Servidor Público Civil - Sistema Remuneratório e Benefícios - Gratificações","Ministério do Planejamento, Orçamento e Gestão","UNIÃO","Alimentar","Ester Gomes De Souza Nasser ","Servidor Público Civil Inativo","Gratificação Específica de Atividade Docente - GEAD","Fonseca e Assis Advogados Associados"," x x x ","Dedução de Honorários Contratuais","2019-11-01",8228.4500000000007,6763.4,14991.85,7323.33,6019.42,13342.75,905.12,743.98,1649.1,0,0,0,8228.4500000000007,905.12,0,9,"-",905.12,1,1,0]
["RPV",9123,"2019-11-29","MS 10.424/DF","2005-02-17","2005-10-27","Administrativo - Servidor Público Civil - Sistema Remuneratório e Benefícios - Gratificações","Ministério do Planejamento, Orçamento e Gestão","UNIÃO","Alimentar","Ester Saraiva Da Silva ","Servidor Público Civil Inativo","Gratificação Específica de Atividade Docente - GEAD","Fonseca e Assis Advogados Associados"," x x x ","Dedução de Honorários Contratuais","2019-11-01",8228.4500000000007,6763.4,14991.85,7323.33,6019.42,13342.75,905.12,743.98,1649.1,0,0,0,8228.4500000000007,905.12,0,9,"-",905.12,1,1,0]
["RPV",9124,"2019-11-29","MS 10.424/DF","2005-02-17","2005-10-27","Administrativo - Servidor Público Civil - Sistema Remuneratório e Benefícios - Gratificações","Ministério do Planejamento, Orçamento e Gestão","UNIÃO","Alimentar","Esther Mariano Massaroto ","Servidor Público Civil Inativo","Gratificação Específica de Atividade Docente - GEAD","Fonseca e Assis Advogados Associados"," x x x ","Dedução de Honorários Contratuais","2019-11-01",8228.4500000000007,6763.4,14991.85,7323.33,6019.42,13342.75,905.12,743.98,1649.1,0,0,0,8228.4500000000007,905.12,0,9,"-",905.12,1,1,0]
["RPV",9125,"2019-11-29","MS 10.424/DF","2005-02-17","2005-10-27","Administrativo - Servidor Público Civil - Sistema Remuneratório e Benefícios - Gratificações","Ministério do Planejamento, Orçamento e Gestão","UNIÃO","Alimentar","Etineth Da Silva Magalhães ","Servidor Público Civil Inativo","Gratificação Específica de Atividade Docente - GEAD","Fonseca e Assis Advogados Associados"," x x x ","Dedução de Honorários Contratuais","2019-11-01",8228.4500000000007,6763.4,14991.85,7323.33,6019.42,13342.75,905.12,743.98,1649.1,0,0,0,8228.4500000000007,905.12,0,9,"-",905.12,1,1,0]
["RPV",9126,"2019-11-29","MS 10.424/DF","2005-02-17","2005-10-27","Administrativo - Servidor Público Civil - Sistema Remuneratório e Benefícios - Gratificações","Ministério do Planejamento, Orçamento e Gestão","UNIÃO","Alimentar","Euclides Borghetti ","Servidor Público Civil Inativo","Gratificação Específica de Atividade Docente - GEAD","Fonseca e Assis Advogados Associados"," x x x ","Dedução de Honorários Contratuais","2019-11-01",8228.4500000000007,6763.4,14991.85,7323.33,6019.42,13342.75,905.12,743.98,1649.1,0,0,0,8228.4500000000007,905.12,0,9,"-",905.12,1,1,0]
["RPV",9127,"2019-11-29","MS 10.424/DF","2005-02-17","2005-10-27","Administrativo - Servidor Público Civil - Sistema Remuneratório e Benefícios - Gratificações","Ministério do Planejamento, Orçamento e Gestão","UNIÃO","Alimentar","Eunice Alves Chui ","Servidor Público Civil Inativo","Gratificação Específica de Atividade Docente - GEAD","Fonseca e Assis Advogados Associados"," x x x ","Dedução de Honorários Contratuais","2019-11-01",8228.4500000000007,6763.4,14991.85,7323.33,6019.42,13342.75,905.12,743.98,1649.1,0,0,0,8228.4500000000007,905.12,0,9,"-",905.12,1,1,0]
["RPV",9128,"2019-11-29","MS 10.424/DF","2005-02-17","2005-10-27","Administrativo - Servidor Público Civil - Sistema Remuneratório e Benefícios - Gratificações","Ministério do Planejamento, Orçamento e Gestão","UNIÃO","Alimentar","Eunice Angela Pereira ","Servidor Público Civil Ativo","Gratificação Específica de Atividade Docente - GEAD","Fonseca e Assis Advogados Associados"," x x x ","Dedução de Honorários Contratuais","2019-11-01",8228.4500000000007,6763.4,14991.85,7323.33,6019.42,13342.75,905.12,743.98,1649.1,0,0,0,8228.4500000000007,905.12,1810.24,9,"-",905.12,1,1,0]
["RPV",9129,"2019-11-29","MS 10.424/DF","2005-02-17","2005-10-27","Administrativo - Servidor Público Civil - Sistema Remuneratório e Benefícios - Gratificações","Ministério do Planejamento, Orçamento e Gestão","UNIÃO","Alimentar","Eunice Bueno Silva De Souza ","Servidor Público Civil Inativo","Gratificação Específica de Atividade Docente - GEAD","Fonseca e Assis Advogados Associados"," x x x ","Dedução de Honorários Contratuais","2019-11-01",8228.4500000000007,6763.4,14991.85,7323.33,6019.42,13342.75,905.12,743.98,1649.1,0,0,0,8228.4500000000007,905.12,0,9,"-",905.12,1,1,0]
["RPV",9130,"2019-11-29","MS 10.424/DF","2005-02-17","2005-10-27","Administrativo - Servidor Público Civil - Sistema Remuneratório e Benefícios - Gratificações","Ministério do Planejamento, Orçamento e Gestão","UNIÃO","Alimentar","Eunice De Souza Bassalo ","Servidor Público Civil Inativo","Gratificação Específica de Atividade Docente - GEAD","Fonseca e Assis Advogados Associados"," x x x ","Dedução de Honorários Contratuais","2019-11-01",8228.4500000000007,6763.4,14991.85,7323.33,6019.42,13342.75,905.12,743.98,1649.1,0,0,0,8228.4500000000007,905.12,0,9,"-",905.12,1,1,0]
["RPV",9131,"2019-11-29","MS 10.424/DF","2005-02-17","2005-10-27","Administrativo - Servidor Público Civil - Sistema Remuneratório e Benefícios - Gratificações","Ministério do Planejamento, Orçamento e Gestão","UNIÃO","Alimentar","Eunice Dos Santos Esteves ","Servidor Público Civil Inativo","Gratificação Específica de Atividade Docente - GEAD","Fonseca e Assis Advogados Associados"," x x x ","Dedução de Honorários Contratuais","2019-11-01",8228.4500000000007,6763.4,14991.85,7323.33,6019.42,13342.75,905.12,743.98,1649.1,0,0,0,8228.4500000000007,905.12,0,9,"-",905.12,1,1,0]
["RPV",9132,"2019-11-29","MS 10.424/DF","2005-02-17","2005-10-27","Administrativo - Servidor Público Civil - Sistema Remuneratório e Benefícios - Gratificações","Ministério do Planejamento, Orçamento e Gestão","UNIÃO","Alimentar","Eunice Lamarao Brasil ","Servidor Público Civil Inativo","Gratificação Específica de Atividade Docente - GEAD","Fonseca e Assis Advogados Associados"," x x x ","Dedução de Honorários Contratuais","2019-11-01",8228.4500000000007,6763.4,14991.85,7323.33,6019.42,13342.75,905.12,743.98,1649.1,0,0,0,8228.4500000000007,905.12,0,9,"-",905.12,1,1,0]
["RPV",9133,"2019-11-29","MS 10.424/DF","2005-02-17","2005-10-27","Administrativo - Servidor Público Civil - Sistema Remuneratório e Benefícios - Gratificações","Ministério do Planejamento, Orçamento e Gestão","UNIÃO","Alimentar","Eunice Lobo De Lima ","Servidor Público Civil Inativo","Gratificação Específica de Atividade Docente - GEAD","Fonseca e Assis Advogados Associados"," x x x ","Dedução de Honorários Contratuais","2019-11-01",8228.4500000000007,6763.4,14991.85,7323.33,6019.42,13342.75,905.12,743.98,1649.1,0,0,0,8228.4500000000007,905.12,0,9,"-",905.12,1,1,0]
["RPV",9134,"2019-11-29","MS 10.424/DF","2005-02-17","2005-10-27","Administrativo - Servidor Público Civil - Sistema Remuneratório e Benefícios - Gratificações","Ministério do Planejamento, Orçamento e Gestão","UNIÃO","Alimentar","Eunice Luiza Johnson Batista ","Servidor Público Civil Inativo","Gratificação Específica de Atividade Docente - GEAD","Fonseca e Assis Advogados Associados"," x x x ","Dedução de Honorários Contratuais","2019-11-01",8228.4500000000007,6763.4,14991.85,7323.33,6019.42,13342.75,905.12,743.98,1649.1,0,0,0,8228.4500000000007,905.12,0,9,"-",905.12,1,1,0]
["RPV",9135,"2019-11-29","MS 10.424/DF","2005-02-17","2005-10-27","Administrativo - Servidor Público Civil - Sistema Remuneratório e Benefícios - Gratificações","Ministério do Planejamento, Orçamento e Gestão","UNIÃO","Alimentar","Eunice Marques Pereira ","Servidor Público Civil Inativo","Gratificação Específica de Atividade Docente - GEAD","Fonseca e Assis Advogados Associados"," x x x ","Dedução de Honorários Contratuais","2019-11-01",8228.4500000000007,6763.4,14991.85,7323.33,6019.42,13342.75,905.12,743.98,1649.1,0,0,0,8228.4500000000007,905.12,0,9,"-",905.12,1,1,0]
[]
[null,null,null,null,null,null,null,null,null,null,null,null,null,null,null,null,null,null,null,null,null,null,null,null,"Principal",null,"Juros",null,"Total"]
[null,null,null,null,null,null,null,null,null,null,null,null,null,null,null,null,"Valor total das Requisições de Pequeno Valor - RPV autuadas em  novembro/2019",null,null,null,null,null,null,null,797911.77999999898,null,763002.69000000157,null,1560914.4700000023]